{"text_format":"1","workbook":"xlsx","n_sheets":17,"sheets":["main","misc","price","repro","milk","cull","bw","cow","table","time","chart","input","notes","bio","res","resa","resb"],"not_rendered":{"charts":80,"images":4,"macros":1,"external_links":0,"defined_names":675,"comments":10,"pivot_tables":0},"unopened":[],"bounds":{"document_bytes":16777216,"sheet_cells":100000,"rows_first":2000,"rows_last":500,"rows_between":2000,"halvings":0,"cell_chars":16384,"cell_head_chars":4096},"cells_cut":0,"cells_raw":0,"read":"whole","date_system":"1900"}

{"sheet":"main","index":0,"n_rows":27,"n_cols":10891,"rows_kept":7,"cut":true,"hidden":false,"merged":[[3,12,3,14]],"bounds":{"rows_first":3,"rows_last":1,"rows_between":3,"halvings":9}}
[null,null,null,null,null,null,null,null,null,null,null,"v.dairyvip 1.4",null,null,null,null,null,null,null,null,null,null,null,null,null,null,null,null,null,null,null,null,null,null,null,null,null,null,null,null,null,null,null,null,null,null,null,null,null,null,null,null,null,null,null,null,null,null,null,null,null,null,null,null,null,null,null,null,null,null,null,null,null,null,null,null,null,null,null,null,null,null,null,null,null,null,null,null,null,null,null,null,null,null,null,null,null,null,null,null,null,null,null,null,null,null,null,null,null,null,null,null,null,null,null,null,null,null,null,null,null,null,null,null,null,null,null,null,null,null,null,null,null,null,null,null,null,null,null,null,null,null,null,null,null,null,null,null,null,null,null,null,null,null,null,null,null,null,null,null,null,null,null,null,null,null,null,null,null,null,null,null,null,null,null,null,null,null,null,null,null,null,null,null,null,null,null,null,null,null,null,null,null,null,null,null,null,null,null,null,null,null,null,null,null,null,null,null,null,null,null,null,null,null,null,null,null,null,null,null,null,null,null,null,null,null,null,null,null,null,null,null,null,null,null,null,null,null,null,null,null,null,null,null,null,null,null,null,null,null,null,null,null,null,null,null,null,null,null,null,null,null,null,null,null,null,null,null,null,null,null,null,null,null,null,null,null,null,null,null,null,null,null,null,null,null,null,null,null,null,null,null,null,null,null,null,null,null,null,null,null,null,null,null,null,null,null,null,null,null,null,null,null,null,null,null,null,null,null,null,null,null,null,null,null,null,null,null,null,null,null,null,null,null,null,null,null,null,null,null,null,null,null,null,null,null,null,null,null,null,null,null,null,null,null,null,null,null,null,null,null,null,null,null,null,null,null,null,null,null,null,null,null,null,null,null,null,null,null,null,null,null,null,null,null,null,null,null,null,null,null,null,null,null,null,null,null,null,null,null,null,null,null,null,null,null,null,null,null,null,null,null,null,null,null,null,null,null,null,null,null,null,null,null,null,null,null,null,null,null,null,null,null,null,null,null,null,null,null,null,null,null,null,null,null,null,null,null,null,null,null,null,null,null,null,null,null,null,null,null,null,null,null,null,null,null,null,null,null,null,null,null,null,null,null,null,null,null,null,null,null,null,null,null,null,null,null,null,null,null,null,null,null,null,null,null,null,null,null,null,null,null,null,null,null,null,null,null,null,null,null,null,null,null,null,null,null,null,null,null,null,null,null,null,null,null,null,null,null,null,null,null,null,null,null,null,null,null,null,null,null,null,null,null,null,null,null,null,null,null,null,null,null,null,null,null,null,null,null,null,null,null,null,null,null,null,null,null,null,null,null,null,null,null,null,null,null,null,null,null,null,null,null,null,null,null,null,null,null,null,null,null,null,null,null,null,null,null,null,null,null,null,null,null,null,null,null,null,null,null,null,null,null,null,null,null,null,null,null,null,null,null,null,null,null,null,null,null,null,null,null,null,null,null,null,null,null,null,null,null,null,null,null,null,null,null,null,null,null,null,null,null,null,null,null,null,null,null,null,null,null,null,null,null,null,null,null,null,null,null,null,null,null,null,null,null,null,null,null,null,null,null,null,null,null,null,null,null,null,null,null,null,null,null,null,null,null,null,null,null,null,null,null,null,null,null,null,null,null,null,null,null,null,null,null,null,null,null,null,null,null,null,null,null,null,null,null,null,null,null,null,null,null,null,null,null,null,null,null,null,null,null,null,null,null,null,null,null,null,null,null,null,null,null,null,null,null,null,null,null,null,null,null,null,null,null,null,null,null,null,null,null,null,null,null,null,null,null,null,null,null,null,null,null,null,null,null,null,null,null,null,null,null,null,null,null,null,null,null,null,null,null,null,null,null,null,null,null,null,null,null,null,null,null,null,null,null,null,null,null,null,null,null,null,null,null,null,null,null,null,null,null,null,null,null,null,null,null,null,null,null,null,null,null,null,null,null,null,null,null,null,null,null,null,null,null,null,null,null,null,null,null,null,null,null,null,null,null,null,null,null,null,null,null,null,null,null,null,null,null,null,null,null,null,null,null,null,null,null,null,null,null,null,null,null,null,null,null,null,null,null,null,null,null,null,null,null,null,null,null,null,null,null,null,null,null,null,null,null,null,null,null,null,null,null,null,null,null,null,null,null,null,null,null,null,null,null,null,null,null,null,null,null,null,null,null,null,null,null,null,null,null,null,null,null,null,null,null,null,null,null,null,null,null,null,null,null,null,null,null,null,null,null,null,null,null,null,null,null,null,null,null,null,null,null,null,null,null,null,null,null,null,null,null,null,null,null,null,null,null,null,null,null,null,null,null,null,null,null,null,null,null,null,null,null,null,null,null,null,null,null,null,null,null,null,null,null,null,null,null,null,null,null,null,null,null,null,null,null,null,null,null,null,null,null,null,null,null,null,null,null,null,null,null,null,null,null,null,null,null,null,null,null,null,null,null,null,null,null,null,null,null,null,null,null,null,null,null,null,null,null,null,null,null,null,null,null,null,null,null,null,null,null,null,null,null,null,null,null,null,null,null,null,null,null,null,null,null,null,null,null,null,null,null,null,null,null,null,null,null,null,null,null,null,null,null,null,null,null,null,null,null,null,null,null,null,null,null,null,null,null,null,null,null,null,null,null,null,null,null,null,null,null,null,null,null,null,null,null,null,null,null,null,null,null,null,null,null,null,null,null,null,null,null,null,null,null,null,null,null,null,null,null,null,null,null,null,null,null,null,null,null,null,null,null,null,null,null,null,null,null,null,null,null,null,null,null,null,null,null,null,null,null,null,null,null,null,null,null,null,null,null,null,null,null,null,null,null,null,null,null,null,null,null,null,null,null,null,null,null,null,null,null,null,null,null,null,null,null,null,null,null,null,null,null,null,null,null,null,null,null,null,null,null,null,null,null,null,null,null,null,null,null,null,null,null,null,null,null,null,null,null,null,null,null,null,null,null,null,null,null,null,null,null,null,null,null,null,null,null,null,null,null,null,null,null,null,null,null,null,null,null,null,null,null,null,null,null,null,null,null,null,null,null,null,null,null,null,null,null,null,null,null,null,null,null,null,null,null,null,null,null,null,null,null,null,null,null,null,null,null,null,null,null,null,null,null,null,null,null,null,null,null,null,null,null,null,null,null,null,null,null,null,null,null,null,null,null,null,null,null,null,null,null,null,null,null,null,null,null,null,null,null,null,null,null,null,null,null,null,null,null,null,null,null,null,null,null,null,null,null,null,null,null,null,null,null,null,null,null,null,null,null,null,null,null,null,null,null,null,null,null,null,null,null,null,null,null,null,null,null,null,null,null,null,null,null,null,null,null,null,null,null,null,null,null,null,null,null,null,null,null,null,null,null,null,null,null,null,null,null,null,null,null,null,null,null,null,null,null,null,null,null,null,null,null,null,null,null,null,null,null,null,null,null,null,null,null,null,null,null,null,null,null,null,null,null,null,null,null,null,null,null,null,null,null,null,null,null,null,null,null,null,null,null,null,null,null,null,null,null,null,null,null,null,null,null,null,null,null,null,null,null,null,null,null,null,null,null,null,null,null,null,null,null,null,null,null,null,null,null,null,null,null,null,null,null,null,null,null,null,null,null,null,null,null,null,null,null,null,null,null,null,null,null,null,null,null,null,null,null,null,null,null,null,null,null,null,null,null,null,null,null,null,null,null,null,null,null,null,null,null,null,null,null,null,null,null,null,null,null,null,null,null,null,null,null,null,null,null,null,null,null,null,null,null,null,null,null,null,null,null,null,null,null,null,null,null,null,null,null,null,null,null,null,null,null,null,null,null,null,null,null,null,null,null,null,null,null,null,null,null,null,null,null,null,null,null,null,null,null,null,null,null,null,null,null,null,null,null,null,null,null,null,null,null,null,null,null,null,null,null,null,null,null,null,null,null,null,null,null,null,null,null,null,null,null,null,null,null,null,null,null,null,null,null,null,null,null,null,null,null,null,null,null,null,null,null,null,null,null,null,null,null,null,null,null,null,null,null,null,null,null,null,null,null,null,null,null,null,null,null,null,null,null,null,null,null,null,null,null,null,null,null,null,null,null,null,null,null,null,null,null,null,null,null,null,null,null,null,null,null,null,null,null,null,null,null,null,null,null,null,null,null,null,null,null,null,null,null,null,null,null,null,null,null,null,null,null,null,null,null,null,null,null,null,null,null,null,null,null,null,null,null,null,null,null,null,null,null,null,null,null,null,null,null,null,null,null,null,null,null,null,null,null,null,null,null,null,null,null,null,null,null,null,null,null,null,null,null,null,null,null,null,null,null,null,null,null,null,null,null,null,null,null,null,null,null,null,null,null,null,null,null,null,null,null,null,null,null,null,null,null,null,null,null,null,null,null,null,null,null,null,null,null,null,null,null,null,null,null,null,null,null,null,null,null,null,null,null,null,null,null,null,null,null,null,null,null,null,null,null,null,null,null,null,null,null,null,null,null,null,null,null,null,null,null,null,null,null,null,null,null,null,null,null,null,null,null,null,null,null,null,null,null,null,null,null,null,null,null,null,null,null,null,null,null,null,null,null,null,null,null,null,null,null,null,null,null,null,null,null,null,null,null,null,null,null,null,null,null,null,null,null,null,null,null,null,null,null,null,null,null,null,null,null,null,null,null,null,null,null,null,null,null,null,null,null,null,null,null,null,null,null,null,null,null,null,null,null,null,null,null,null,null,null,null,null,null,null,null,null,null,null,null,null,null,null,null,null,null,null,null,null,null,null,null,null,null,null,null,null,null,null,null,null,null,null,null,null,null,null,null,null,null,null,null,null,null,null,null,null,null,null,null,null,null,null,null,null,null,null,null,null,null,null,null,null,null,null,null,null,null,null,null,null,null,null,null,null,null,null,null,null,null,null,null,null,null,null,null,null,null,null,null,null,null,null,null,null,null,null,null,null,null,null,null,null,null,null,null,null,null,null,null,null,null,null,null,null,null,null,null,null,null,null,null,null,null,null,null,null,null,null,null,null,null,null,null,null,null,null,null,null,null,null,null,null,null,null,null,null,null,null,null,null,null,null,null,null,null,null,null,null,null,null,null,null,null,null,null,null,null,null,null,null,null,null,null,null,null,null,null,null,null,null,null,null,null,null,null,null,null,null,null,null,null,null,null,null,null,null,null,null,null,null,null,null,null,null,null,null,null,null,null,null,null,null,null,null,null,null,null,null,null,null,null,null,null,null,null,null,null,null,null,null,null,null,null,null,null,null,null,null,null,null,null,null,null,null,null,null,null,null,null,null,null,null,null,null,null,null,null,null,null,null,null,null,null,null,null,null,null,null,null,null,null,null,null,null,null,null,null,null,null,null,null,null,null,null,null,null,null,null,null,null,null,null,null,null,null,null,null,null,null,null,null,null,null,null,null,null,null,null,null,null,null,null,null,null,null,null,null,null,null,null,null,null,null,null,null,null,null,null,null,null,null,null,null,null,null,null,null,null,null,null,null,null,null,null,null,null,null,null,null,null,null,null,null,null,null,null,null,null,null,null,null,null,null,null,null,null,null,null,null,null,null,null,null,null,null,null,null,null,null,null,null,null,null,null,null,null,null,null,null,null,null,null,null,null,null,null,null,null,null,null,null,null,null,null,null,null,null,null,null,null,null,null,null,null,null,null,null,null,null,null,null,null,null,null,null,null,null,null,null,null,null,null,null,null,null,null,null,null,null,null,null,null,null,null,null,null,null,null,null,null,null,null,null,null,null,null,null,null,null,null,null,null,null,null,null,null,null,null,null,null,null,null,null,null,null,null,null,null,null,null,null,null,null,null,null,null,null,null,null,null,null,null,null,null,null,null,null,null,null,null,null,null,null,null,null,null,null,null,null,null,null,null,null,null,null,null,null,null,null,null,null,null,null,null,null,null,null,null,null,null,null,null,null,null,null,null,null,null,null,null,null,null,null,null,null,null,null,null,null,null,null,null,null,null,null,null,null,null,null,null,null,null,null,null,null,null,null,null,null,null,null,null,null,null,null,null,null,null,null,null,null,null,null,null,null,null,null,null,null,null,null,null,null,null,null,null,null,null,null,null,null,null,null,null,null,null,null,null,null,null,null,null,null,null,null,null,null,null,null,null,null,null,null,null,null,null,null,null,null,null,null,null,null,null,null,null,null,null,null,null,null,null,null,null,null,null,null,null,null,null,null,null,null,null,null,null,null,null,null,null,null,null,null,null,null,null,null,null,null,null,null,null,null,null,null,null,null,null,null,null,null,null,null,null,null,null,null,null,null,null,null,null,null,null,null,null,null,null,null,null,null,null,null,null,null,null,null,null,null,null,null,null,null,null,null,null,null,null,null,null,null,null,null,null,null,null,null,null,null,null,null,null,null,null,null,null,null,null,null,null,null,null,null,null,null,null,null,null,null,null,null,null,null,null,null,null,null,null,null,null,null,null,null,null,null,null,null,null,null,null,null,null,null,null,null,null,null,null,null,null,null,null,null,null,null,null,null,null,null,null,null,null,null,null,null,null,null,null,null,null,null,null,null,null,null,null,null,null,null,null,null,null,null,null,null,null,null,null,null,null,null,null,null,null,null,null,null,null,null,null,null,null,null,null,null,null,null,null,null,null,null,null,null,null,null,null,null,null,null,null,null,null,null,null,null,null,null,null,null,null,null,null,null,null,null,null,null,null,null,null,null,null,null,null,null,null,null,null,null,null,null,null,null,null,null,null,null,null,null,null,null,null,null,null,null,null,null,null,null,null,null,null,null,null,null,null,null,null,null,null,null,null,null,null,null,null,null,null,null,null,null,null,null,null,null,null,null,null,null,null,null,null,null,null,null,null,null,null,null,null,null,null,null,null,null,null,null,null,null,null,null,null,null,null,null,null,null,null,null,null,null,null,null,null,null,null,null,null,null,null,null,null,null,null,null,null,null,null,null,null,null,null,null,null,null,null,null,null,null,null,null,null,null,null,null,null,null,null,null,null,null,null,null,null,null,null,null,null,null,null,null,null,null,null,null,null,null,null,null,null,null,null,null,null,null,null,null,null,null,null,null,null,null,null,null,null,null,null,null,null,null,null,null,null,null,null,null,null,null,null,null,null,null,null,null,null,null,null,null,null,null,null,null,null,null,null,null,null,null,null,null,null,null,null,null,null,null,null,null,null,null,null,null,null,null,null,null,null,null,null,null,null,null,null,null,null,null,null,null,null,null,null,null,null,null,null,null,null,null,null,null,null,null,null,null,null,null,null,null,null,null,null,null,null,null,null,null,null,null,null,null,null,null,null,null,null,null,null,null,null,null,null,null,null,null,null,null,null,null,null,null,null,null,null,null,null,null,null,null,null,null,null,null,null,null,null,null,null,null,null,null,null,null,null,null,null,null,null,null,null,null,null,null,null,null,null,null,null,null,null,null,null,null,null,null,null,null,null,null,null,null,null,null,null,null,null,null,null,null,null,null,null,null,null,null,null,null,null,null,null,null,null,null,null,null,null,null,null,null,null,null,null,null,null,null,null,null,null,null,null,null,null,null,null,null,null,null,null,null,null,null,null,null,null,null,null,null,null,null,null,null,null,null,null,null,null,null,null,null,null,null,null,null,null,null,null,null,null,null,null,null,null,null,null,null,null,null,null,null,null,null,null,null,null,null,null,null,null,null,null,null,null,null,null,null,null,null,null,null,null,null,null,null,null,null,null,null,null,null,null,null,null,null,null,null,null,null,null,null,null,null,null,null,null,null,null,null,null,null,null,null,null,null,null,null,null,null,null,null,null,null,null,null,null,null,null,null,null,null,null,null,null,null,null,null,null,null,null,null,null,null,null,null,null,null,null,null,null,null,null,null,null,null,null,null,null,null,null,null,null,null,null,null,null,null,null,null,null,null,null,null,null,null,null,null,null,null,null,null,null,null,null,null,null,null,null,null,null,null,null,null,null,null,null,null,null,null,null,null,null,null,null,null,null,null,null,null,null,null,null,null,null,null,null,null,null,null,null,null,null,null,null,null,null,null,null,null,null,null,null,null,null,null,null,null,null,null,null,null,null,null,null,null,null,null,null,null,null,null,null,null,null,null,null,null,null,null,null,null,null,null,null,null,null,null,null,null,null,null,null,null,null,null,null,null,null,null,null,null,null,null,null,null,null,null,null,null,null,null,null,null,null,null,null,null,null,null,null,null,null,null,null,null,null,null,null,null,null,null,null,null,null,null,null,null,null,null,null,null,null,null,null,null,null,null,null,null,null,null,null,null,null,null,null,null,null,null,null,null,null,null,null,null,null,null,null,null,null,null,null,null,null,null,null,null,null,null,null,null,null,null,null,null,null,null,null,null,null,null,null,null,null,null,null,null,null,null,null,null,null,null,null,null,null,null,null,null,null,null,null,null,null,null,null,null,null,null,null,null,null,null,null,null,null,null,null,null,null,null,null,null,null,null,null,null,null,null,null,null,null,null,null,null,null,null,null,null,null,null,null,null,null,null,null,null,null,null,null,null,null,null,null,null,null,null,null,null,null,null,null,null,null,null,null,null,null,null,null,null,null,null,null,null,null,null,null,null,null,null,null,null,null,null,null,null,null,null,null,null,null,null,null,null,null,null,null,null,null,null,null,null,null,null,null,null,null,null,null,null,null,null,null,null,null,null,null,null,null,null,null,null,null,null,null,null,null,null,null,null,null,null,null,null,null,null,null,null,null,null,null,null,null,null,null,null,null,null,null,null,null,null,null,null,null,null,null,null,null,null,null,null,null,null,null,null,null,null,null,null,null,null,null,null,null,null,null,null,null,null,null,null,null,null,null,null,null,null,null,null,null,null,null,null,null,null,null,null,null,null,null,null,null,null,null,null,null,null,null,null,null,null,null,null,null,null,null,null,null,null,null,null,null,null,null,null,null,null,null,null,null,null,null,null,null,null,null,null,null,null,null,null,null,null,null,null,null,null,null,null,null,null,null,null,null,null,null,null,null,null,null,null,null,null,null,null,null,null,null,null,null,null,null,null,null,null,null,null,null,null,null,null,null,null,null,null,null,null,null,null,null,null,null,null,null,null,null,null,null,null,null,null,null,null,null,null,null,null,null,null,null,null,null,null,null,null,null,null,null,null,null,null,null,null,null,null,null,null,null,null,null,null,null,null,null,null,null,null,null,null,null,null,null,null,null,null,null,null,null,null,null,null,null,null,null,null,null,null,null,null,null,null,null,null,null,null,null,null,null,null,null,null,null,null,null,null,null,null,null,null,null,null,null,null,null,null,null,null,null,null,null,null,null,null,null,null,null,null,null,null,null,null,null,null,null,null,null,null,null,null,null,null,null,null,null,null,null,null,null,null,null,null,null,null,null,null,null,null,null,null,null,null,null,null,null,null,null,null,null,null,null,null,null,null,null,null,null,null,null,null,null,null,null,null,null,null,null,null,null,null,null,null,null,null,null,null,null,null,null,null,null,null,null,null,null,null,null,null,null,null,null,null,null,null,null,null,null,null,null,null,null,null,null,null,null,null,null,null,null,null,null,null,null,null,null,null,null,null,null,null,null,null,null,null,null,null,null,null,null,null,null,null,null,null,null,null,null,null,null,null,null,null,null,null,null,null,null,null,null,null,null,null,null,null,null,null,null,null,null,null,null,null,null,null,null,null,null,null,null,null,null,null,null,null,null,null,null,null,null,null,null,null,null,null,null,null,null,null,null,null,null,null,null,null,null,null,null,null,null,null,null,null,null,null,null,null,null,null,null,null,null,null,null,null,null,null,null,null,null,null,null,null,null,null,null,null,null,null,null,null,null,null,null,null,null,null,null,null,null,null,null,null,null,null,null,null,null,null,null,null,null,null,null,null,null,null,null,null,null,null,null,null,null,null,null,null,null,null,null,null,null,null,null,null,null,null,null,null,null,null,null,null,null,null,null,null,null,null,null,null,null,null,null,null,null,null,null,null,null,null,null,null,null,null,null,null,null,null,null,null,null,null,null,null,null,null,null,null,null,null,null,null,null,null,null,null,null,null,null,null,null,null,null,null,null,null,null,null,null,null,null,null,null,null,null,null,null,null,null,null,null,null,null,null,null,null,null,null,null,null,null,null,null,null,null,null,null,null,null,null,null,null,null,null,null,null,null,null,null,null,null,null,null,null,null,null,null,null,null,null,null,null,null,null,null,null,null,null,null,null,null,null,null,null,null,null,null,null,null,null,null,null,null,null,null,null,null,null,null,null,null,null,null,null,null,null,null,null,null,null,null,null,null,null,null,null,null,null,null,null,null,null,null,null,null,null,null,null,null,null,null,null,null,null,null,null,null,null,null,null,null,null,null,null,null,null,null,null,null,null,null,null,null,null,null,null,null,null,null,null,null,null,null,null,null,null,null,null,null,null,null,null,null,null,null,null,null,null,null,null,null,null,null,null,null,null,null,null,null,null,null,null,null,null,null,null,null,null,null,null,null,null,null,null,null,null,null,null,null,null,null,null,null,null,null,null,null,null,null,null,null,null,null,null,null,null,null,null,null,null,null,null,null,null,null,null,null,null,null,null,null,null,null,null,null,null,null,null,null,null,null,null,null,null,null,null,null,null,null,null,null,null,null,null,null,null,null,null,null,null,null,null,null,null,null,null,null,null,null,null,null,null,null,null,null,null,null,null,null,null,null,null,null,null,null,null,null,null,null,null,null,null,null,null,null,null,null,null,null,null,null,null,null,null,null,null,null,null,null,null,null,null,null,null,null,null,null,null,null,null,null,null,null,null,null,null,null,null,null,null,null,null,null,null,null,null,null,null,null,null,null,null,null,null,null,null,null,null,null,null,null,null,null,null,null,null,null,null,null,null,null,null,null,null,null,null,null,null,null,null,null,null,null,null,null,null,null,null,null,null,null,null,null,null,null,null,null,null,null,null,null,null,null,null,null,null,null,null,null,null,null,null,null,null,null,null,null,null,null,null,null,null,null,null,null,null,null,null,null,null,null,null,null,null,null,null,null,null,null,null,null,null,null,null,null,null,null,null,null,null,null,null,null,null,null,null,null,null,null,null,null,null,null,null,null,null,null,null,null,null,null,null,null,null,null,null,null,null,null,null,null,null,null,null,null,null,null,null,null,null,null,null,null,null,null,null,null,null,null,null,null,null,null,null,null,null,null,null,null,null,null,null,null,null,null,null,null,null,null,null,null,null,null,null,null,null,null,null,null,null,null,null,null,null,null,null,null,null,null,null,null,null,null,null,null,null,null,null,null,null,null,null,null,null,null,null,null,null,null,null,null,null,null,null,null,null,null,null,null,null,null,null,null,null,null,null,null,null,null,null,null,null,null,null,null,null,null,null,null,null,null,null,null,null,null,null,null,null,null,null,null,null,null,null,null,null,null,null,null,null,null,null,null,null,null,null,null,null,null,null,null,null,null,null,null,null,null,null,null,null,null,null,null,null,null,null,null,null,null,null,null,null,null,null,null,null,null,null,null,null,null,null,null,null,null,null,null,null,null,null,null,null,null,null,null,null,null,null,null,null,null,null,null,null,null,null,null,null,null,null,null,null,null,null,null,null,null,null,null,null,null,null,null,null,null,null,null,null,null,null,null,null,null,null,null,null,null,null,null,null,null,null,null,null,null,null,null,null,null,null,null,null,null,null,null,null,null,null,null,null,null,null,null,null,null,null,null,null,null,null,null,null,null,null,null,null,null,null,null,null,null,null,null,null,null,null,null,null,null,null,null,null,null,null,null,null,null,null,null,null,null,null,null,null,null,null,null,null,null,null,null,null,null,null,null,null,null,null,null,null,null,null,null,null,null,null,null,null,null,null,null,null,null,null,null,null,null,null,null,null,null,null,null,null,null,null,null,null,null,null,null,null,null,null,null,null,null,null,null,null,null,null,null,null,null,null,null,null,null,null,null,null,null,null,null,null,null,null,null,null,null,null,null,null,null,null,null,null,null,null,null,null,null,null,null,null,null,null,null,null,null,null,null,null,null,null,null,null,null,null,null,null,null,null,null,null,null,null,null,null,null,null,null,null,null,null,null,null,null,null,null,null,null,null,null,null,null,null,null,null,null,null,null,null,null,null,null,null,null,null,null,null,null,null,null,null,null,null,null,null,null,null,null,null,null,null,null,null,null,null,null,null,null,null,null,null,null,null,null,null,null,null,null,null,null,null,null,null,null,null,null,null,null,null,null,null,null,null,null,null,null,null,null,null,null,null,null,null,null,null,null,null,null,null,null,null,null,null,null,null,null,null,null,null,null,null,null,null,null,null,null,null,null,null,null,null,null,null,null,null,null,null,null,null,null,null,null,null,null,null,null,null,null,null,null,null,null,null,null,null,null,null,null,null,null,null,null,null,null,null,null,null,null,null,null,null,null,null,null,null,null,null,null,null,null,null,null,null,null,null,null,null,null,null,null,null,null,null,null,null,null,null,null,null,null,null,null,null,null,null,null,null,null,null,null,null,null,null,null,null,null,null,null,null,null,null,null,null,null,null,null,null,null,null,null,null,null,null,null,null,null,null,null,null,null,null,null,null,null,null,null,null,null,null,null,null,null,null,null,null,null,null,null,null,null,null,null,null,null,null,null,null,null,null,null,null,null,null,null,null,null,null,null,null,null,null,null,null,null,null,null,null,null,null,null,null,null,null,null,null,null,null,null,null,null,null,null,null,null,null,null,null,null,null,null,null,null,null,null,null,null,null,null,null,null,null,null,null,null,null,null,null,null,null,null,null,null,null,null,null,null,null,null,null,null,null,null,null,null,null,null,null,null,null,null,null,null,null,null,null,null,null,null,null,null,null,null,null,null,null,null,null,null,null,null,null,null,null,null,null,null,null,null,null,null,null,null,null,null,null,null,null,null,null,null,null,null,null,null,null,null,null,null,null,null,null,null,null,null,null,null,null,null,null,null,null,null,null,null,null,null,null,null,null,null,null,null,null,null,null,null,null,null,null,null,null,null,null,null,null,null,null,null,null,null,null,null,null,null,null,null,null,null,null,null,null,null,null,null,null,null,null,null,null,null,null,null,null,null,null,null,null,null,null,null,null,null,null,null,null,null,null,null,null,null,null,null,null,null,null,null,null,null,null,null,null,null,null,null,null,null,null,null,null,null,null,null,null,null,null,null,null,null,null,null,null,null,null,null,null,null,null,null,null,null,null,null,null,null,null,null,null,null,null,null,null,null,null,null,null,null,null,null,null,null,null,null,null,null,null,null,null,null,null,null,null,null,null,null,null,null,null,null,null,null,null,null,null,null,null,null,null,null,null,null,null,null,null,null,null,null,null,null,null,null,null,null,null,null,null,null,null,null,null,null,null,null,null,null,null,null,null,null,null,null,null,null,null,null,null,null,null,null,null,null,null,null,null,null,null,null,null,null,null,null,null,null,null,null,null,null,null,null,null,null,null,null,null,null,null,null,null,null,null,null,null,null,null,null,null,null,null,null,null,null,null,null,null,null,null,null,null,null,null,null,null,null,null,null,null,null,null,null,null,null,null,null,null,null,null,null,null,null,null,null,null,null,null,null,null,null,null,null,null,null,null,null,null,null,null,null,null,null,null,null,null,null,null,null,null,null,null,null,null,null,null,null,null,null,null,null,null,null,null,null,null,null,null,null,null,null,null,null,null,null,null,null,null,null,null,null,null,null,null,null,null,null,null,null,null,null,null,null,null,null,null,null,null,null,null,null,null,null,null,null,null,null,null,null,null,null,null,null,null,null,null,null,null,null,null,null,null,null,null,null,null,null,null,null,null,null,null,null,null,null,null,null,null,null,null,null,null,null,null,null,null,null,null,null,null,null,null,null,null,null,null,null,null,null,null,null,null,null,null,null,null,null,null,null,null,null,null,null,null,null,null,null,null,null,null,null,null,null,null,null,null,null,null,null,null,null,null,null,null,null,null,null,null,null,null,null,null,null,null,null,null,null,null,null,null,null,null,null,null,null,null,null,null,null,null,null,null,null,null,null,null,null,null,null,null,null,null,null,null,null,null,null,null,null,null,null,null,null,null,null,null,null,null,null,null,null,null,null,null,null,null,null,null,null,null,null,null,null,null,null,null,null,null,null,null,null,null,null,null,null,null,null,null,null,null,null,null,null,null,null,null,null,null,null,null,null,null,null,null,null,null,null,null,null,null,null,null,null,null,null,null,null,null,null,null,null,null,null,null,null,null,null,null,null,null,null,null,null,null,null,null,null,null,null,null,null,null,null,null,null,null,null,null,null,null,null,null,null,null,null,null,null,null,null,null,null,null,null,null,null,null,null,null,null,null,null,null,null,null,null,null,null,null,null,null,null,null,null,null,null,null,null,null,null,null,null,null,null,null,null,null,null,null,null,null,null,null,null,null,null,null,null,null,null,null,null,null,null,null,null,null,null,null,null,null,null,null,null,null,null,null,null,null,null,null,null,null,null,null,null,null,null,null,null,null,null,null,null,null,null,null,null,null,null,null,null,null,null,null,null,null,null,null,null,null,null,null,null,null,null,null,null,null,null,null,null,null,null,null,null,null,null,null,null,null,null,null,null,null,null,null,null,null,null,null,null,null,null,null,null,null,null,null,null,null,null,null,null,null,null,null,null,null,null,null,null,null,null,null,null,null,null,null,null,null,null,null,null,null,null,null,null,null,null,null,null,null,null,null,null,null,null,null,null,null,null,null,null,null,null,null,null,null,null,null,null,null,null,null,null,null,null,null,null,null,null,null,null,null,null,null,null,null,null,null,null,null,null,null,null,null,null,null,null,null,null,null,null,null,null,null,null,null,null,null,null,null,null,null,null,null,null,null,null,null,null,null,null,null,null,null,null,null,null,null,null,null,null,null,null,null,null,null,null,null,null,null,null,null,null,null,null,null,null,null,null,null,null,null,null,null,null,null,null,null,null,null,null,null,null,null,null,null,null,null,null,null,null,null,null,null,null,null,null,null,null,null,null,null,null,null,null,null,null,null,null,null,null,null,null,null,null,null,null,null,null,null,null,null,null,null,null,null,null,null,null,null,null,null,null,null,null,null,null,null,null,null,null,null,null,null,null,null,null,null,null,null,null,null,null,null,null,null,null,null,null,null,null,null,null,null,null,null,null,null,null,null,null,null,null,null,null,null,null,null,null,null,null,null,null,null,null,null,null,null,null,null,null,null,null,null,null,null,null,null,null,null,null,null,null,null,null,null,null,null,null,null,null,null,null,null,null,null,null,null,null,null,null,null,null,null,null,null,null,null,null,null,null,null,null,null,null,null,null,null,null,null,null,null,null,null,null,null,null,null,null,null,null,null,null,null,null,null,null,null,null,null,null,null,null,null,null,null,null,null,null,null,null,null,null,null,null,null,null,null,null,null,null,null,null,null,null,null,null,null,null,null,null,null,null,null,null,null,null,null,null,null,null,null,null,null,null,null,null,null,null,null,null,null,null,null,null,null,null,null,null,null,null,null,null,null,null,null,null,null,null,null,null,null,null,null,null,null,null,null,null,null,null,null,null,null,null,null,null,null,null,null,null,null,null,null,null,null,null,null,null,null,null,null,null,null,null,null,null,null,null,null,null,null,null,null,null,null,null,null,null,null,null,null,null,null,null,null,null,null,null,null,null,null,null,null,null,null,null,null,null,null,null,null,null,null,null,null,null,null,null,null,null,null,null,null,null,null,null,null,null,null,null,null,null,null,null,null,null,null,null,null,null,null,null,null,null,null,null,null,null,null,null,null,null,null,null,null,null,null,null,null,null,null,null,null,null,null,null,null,null,null,null,null,null,null,null,null,null,null,null,null,null,null,null,null,null,null,null,null,null,null,null,null,null,null,null,null,null,null,null,null,null,null,null,null,null,null,null,null,null,null,null,null,null,null,null,null,null,null,null,null,null,null,null,null,null,null,null,null,null,null,null,null,null,null,null,null,null,null,null,null,null,null,null,null,null,null,null,null,null,null,null,null,null,null,null,null,null,null,null,null,null,null,null,null,null,null,null,null,null,null,null,null,null,null,null,null,null,null,null,null,null,null,null,null,null,null,null,null,null,null,null,null,null,null,null,null,null,null,null,null,null,null,null,null,null,null,null,null,null,null,null,null,null,null,null,null,null,null,null,null,null,null,null,null,null,null,null,null,null,null,null,null,null,null,null,null,null,null,null,null,null,null,null,null,null,null,null,null,null,null,null,null,null,null,null,null,null,null,null,null,null,null,null,null,null,null,null,null,null,null,null,null,null,null,null,null,null,null,null,null,null,null,null,null,null,null,null,null,null,null,null,null,null,null,null,null,null,null,null,null,null,null,null,null,null,null,null,null,null,null,null,null,null,null,null,null,null,null,null,null,null,null,null,null,null,null,null,null,null,null,null,null,null,null,null,null,null,null,null,null,null,null,null,null,null,null,null,null,null,null,null,null,null,null,null,null,null,null,null,null,null,null,null,null,null,null,null,null,null,null,null,null,null,null,null,null,null,null,null,null,null,null,null,null,null,null,null,null,null,null,null,null,null,null,null,null,null,null,null,null,null,null,null,null,null,null,null,null,null,null,null,null,null,null,null,null,null,null,null,null,null,null,null,null,null,null,null,null,null,null,null,null,null,null,null,null,null,null,null,null,null,null,null,null,null,null,null,null,null,null,null,null,null,null,null,null,null,null,null,null,null,null,null,null,null,null,null,null,null,null,null,null,null,null,null,null,null,null,null,null,null,null,null,null,null,null,null,null,null,null,null,null,null,null,null,null,null,null,null,null,null,null,null,null,null,null,null,null,null,null,null,null,null,null,null,null,null,null,null,null,null,null,null,null,null,null,null,null,null,null,null,null,null,null,null,null,null,null,null,null,null,null,null,null,null,null,null,null,null,null,null,null,null,null,null,null,null,null,null,null,null,null,null,null,null,null,null,null,null,null,null,null,null,null,null,null,null,null,null,null,null,null,null,null,null,null,null,null,null,null,null,null,null,null,null,null,null,null,null,null,null,null,null,null,null,null,null,null,null,null,null,null,null,null,null,null,null,null,null,null,null,null,null,null,null,null,null,null,null,null,null,null,null,null,null,null,null,null,null,null,null,null,null,null,null,null,null,null,null,null,null,null,null,null,null,null,null,null,null,null,null,null,null,null,null,null,null,null,null,null,null,null,null,null,null,null,null,null,null,null,null,null,null,null,null,null,null,null,null,null,null,null,null,null,null,null,null,null,null,null,null,null,null,null,null,null,null,null,null,null,null,null,null,null,null,null,null,null,null,null,null,null,null,null,null,null,null,null,null,null,null,null,null,null,null,null,null,null,null,null,null,null,null,null,null,null,null,null,null,null,null,null,null,null,null,null,null,null,null,null,null,null,null,null,null,null,null,null,null,null,null,null,null,null,null,null,null,null,null,null,null,null,null,null,null,null,null,null,null,null,null,null,null,null,null,null,null,null,null,null,null,null,null,null,null,null,null,null,null,null,null,null,null,null,null,null,null,null,null,null,null,null,null,null,null,null,null,null,null,null,null,null,null,null,null,null,null,null,null,null,null,null,null,null,null,null,null,null,null,null,null,null,null,null,null,null,null,null,null,null,null,null,null,null,null,null,null,null,null,null,null,null,null,null,null,null,null,null,null,null,null,null,null,null,null,null,null,null,null,null,null,null,null,null,null,null,null,null,null,null,null,null,null,null,null,null,null,null,null,null,null,null,null,null,null,null,null,null,null,null,null,null,null,null,null,null,null,null,null,null,null,null,null,null,null,null,null,null,null,null,null,null,null,null,null,null,null,null,null,null,null,null,null,null,null,null,null,null,null,null,null,null,null,null,null,null,null,null,null,null,null,null,null,null,null,null,null,null,null,null,null,null,null,null,null,null,null,null,null,null,null,null,null,null,null,null,null,null,null,null,null,null,null,null,null,null,null,null,null,null,null,null,null,null,null,null,null,null,null,null,null,null,null,null,null,null,null,null,null,null,null,null,null,null,null,null,null,null,null,null,null,null,null,null,null,null,null,null,null,null,null,null,null,null,null,null,null,null,null,null,null,null,null,null,null,null,null,null,null,null,null,null,null,null,null,null,null,null,null,null,null,null,null,null,null,null,null,null,null,null,null,null,null,null,null,null,null,null,null,null,null,null,null,null,null,null,null,null,null,null,null,null,null,null,null,null,null,null,null,null,null,null,null,null,null,null,null,null,null,null,null,null,null,null,null,null,null,null,null,null,null,null,null,null,null,null,null,null,null,null,null,null,null,null,null,null,null,null,null,null,null,null,null,null,null,null,null,null,null,null,null,null,null,null,null,null,null,null,null,null,null,null,null,null,null,null,null,null,null,null,null,null,null,null,null,null,null,null,null,null,null,null,null,null,null,null,null,null,null,null,null,null,null,null,null,null,null,null,null,null,null,null,null,null,null,null,null,null,null,null,null,null,null,null,null,null,null,null,null,null,null,null,null,null,null,null,null,null,null,null,null,null,null,null,null,null,null,null,null,null,null,null,null,null,null,null,null,null,null,null,null,null,null,null,null,null,null,null,null,null,null,null,null,null,null,null,null,null,null,null,null,null,null,null,null,null,null,null,null,null,null,null,null,null,null,null,null,null,null,null,null,null,null,null,null,null,null,null,null,null,null,null,null,null,null,null,null,null,null,null,null,null,null,null,null,null,null,null,null,null,null,null,null,null,null,null,null,null,null,null,null,null,null,null,null,null,null,null,null,null,null,null,null,null,null,null,null,null,null,null,null,null,null,null,null,null,null,null,null,null,null,null,null,null,null,null,null,null,null,null,null,null,null,null,null,null,null,null,null,null,null,null,null,null,null,null,null,null,null,null,null,null,null,null,null,null,null,null,null,null,null,null,null,null,null,null,null,null,null,null,null,null,null,null,null,null,null,null,null,null,null,null,null,null,null,null,null,null,null,null,null,null,null,null,null,null,null,null,null,null,null,null,null,null,null,null,null,null,null,null,null,null,null,null,null,null,null,null,null,null,null,null,null,null,null,null,null,null,null,null,null,null,null,null,null,null,null,null,null,null,null,null,null,null,null,null,null,null,null,null,null,null,null,null,null,null,null,null,null,null,null,null,null,null,null,null,null,null,null,null,null,null,null,null,null,null,null,null,null,null,null,null,null,null,null,null,null,null,null,null,null,null,null,null,null,null,null,null,null,null,null,null,null,null,null,null,null,null,null,null,null,null,null,null,null,null,null,null,null,null,null,null,null,null,null,null,null,null,null,null,null,null,null,null,null,null,null,null,null,null,null,null,null,null,null,null,null,null,null,null,null,null,null,null,null,null,null,null,null,null,null,null,null,null,null,null,null,null,null,null,null,null,null,null,null,null,null,null,null,null,null,null,null,null,null,null,null,null,null,null,null,null,null,null,null,null,null,null,null,null,null,null,null,null,null,null,null,null,null,null,null,null,null,null,null,null,null,null,null,null,null,null,null,null,null,null,null,null,null,null,null,null,null,null,null,null,null,null,null,null,null,null,null,null,null,null,null,null,null,null,null,null,null,null,null,null,null,null,null,null,null,null,null,null,null,null,null,null,null,null,null,null,null,null,null,null,null,null,null,null,null,null,null,null,null,null,null,null,null,null,null,null,null,null,null,null,null,null,null,null,null,null,null,null,null,null,null,null,null,null,null,null,null,null,null,null,null,null,null,null,null,null,null,null,null,null,null,null,null,null,null,null,null,null,null,null,null,null,null,null,null,null,null,null,null,null,null,null,null,null,null,null,null,null,null,null,null,null,null,null,null,null,null,null,null,null,null,null,null,null,null,null,null,null,null,null,null,null,null,null,null,null,null,null,null,null,null,null,null,null,null,null,null,null,null,null,null,null,null,null,null,null,null,null,null,null,null,null,null,null,null,null,null,null,null,null,null,null,null,null,null,null,null,null,null,null,null,null,null,null,null,null,null,null,null,null,null,null,null,null,null,null,null,null,null,null,null,null,null,null,null,null,null,null,null,null,null,null,null,null,null,null,null,null,null,null,null,null,null,null,null,null,null,null,null,null,null,null,null,null,null,null,null,null,null,null,null,null,null,null,null,null,null,null,null,null,null,null,null,null,null,null,null,null,null,null,null,null,null,null,null,null,null,null,null,null,null,null,null,null,null,null,null,null,null,null,null,null,null,null,null,null,null,null,null,null,null,null,null,null,null,null,null,null,null,null,null,null,null,null,null,null,null,null,null,null,null,null,null,null,null,null,null,null,null,null,null,null,null,null,null,null,null,null,null,null,null,null,null,null,null,null,null,null,null,null,null,null,null,null,null,null,null,null,null,null,null,null,null,null,null,null,null,null,null,null,null,null,null,null,null,null,null,null,null,null,null,null,null,null,null,null,null,null,null,null,null,null,null,null,null,null,null,null,null,null,null,null,null,null,null,null,null,null,null,null,null,null,null,null,null,null,null,null,null,null,null,null,null,null,null,null,null,null,null,null,null,null,null,null,null,null,null,null,null,null,null,null,null,null,null,null,null,null,null,null,null,null,null,null,null,null,null,null,null,null,null,null,null,null,null,null,null,null,null,null,null,null,null,null,null,null,null,null,null,null,null,null,null,null,null,null,null,null,null,null,null,null,null,null,null,null,null,null,null,null,null,null,null,null,null,null,null,null,null,null,null,null,null,null,null,null,null,null,null,null,null,null,null,null,null,null,null,null,null,null,null,null,null,null,null,null,null,null,null,null,null,null,null,null,null,null,null,null,null,null,null,null,null,null,null,null,null,null,null,null,null,null,null,null,null,null,null,null,null,null,null,null,null,null,null,null,null,null,null,null,null,null,null,null,null,null,null,null,null,null,null,null,null,null,null,null,null,null,null,null,null,null,null,null,null,null,null,null,null,null,null,null,null,null,null,null,null,null,null,null,null,null,null,null,null,null,null,null,null,null,null,null,null,null,null,null,null,null,null,null,null,null,null,null,null,null,null,null,null,null,null,null,null,null,null,null,null,null,null,null,null,null,null,null,null,null,null,null,null,null,null,null,null,null,null,null,null,null,null,null,null,null,null,null,null,null,null,null,null,null,null,null,null,null,null,null,null,null,null,null,null,null,null,null,null,null,null,null,null,null,null,null,null,null,null,null,null,null,null,null,null,null,null,null,null,null,null,null,null,null,null,null,null,null,null,null,null,null,null,null,null,null,null,null,null,null,null,null,null,null,null,null,null,null,null,null,null,null,null,null,null,null,null,null,null,null,null,null,null,null,null,null,null,null,null,null,null,null,null,null,null,null,null,null,null,null,null,null,null,null,null,null,null,null,null,null,null,null,null,null,null,null,null,null,null,null,null,null,null,null,null,null,null,null,null,null,null,null,null,null,null,null,null,null,null,null,null,null,null,null,null,null,null,null,null,null,null,null,null,null,null,null,null,null,null,null,null,null,null,null,null,null,null,null,null,null,null,null,null,null,null,null,null,null,null,null,null,null,null,null,null,null,null,null,null,null,null,null,null,null,null,null,null,null,null,null,null,null,null,null,null,null,null,null,null,null,null,null,null,null,null,null,null,null,null,null,null,null,null,null,null,null,null,null,null,null,null,null,null,null,null,null,null,null,null,null,null,null,null,null,null,null,null,null,null,null,null,null,null,null,null,null,null,null,null,null,null,null,null,null,null,null,null,null,null,null,null,null,null,null,null,null,null,null,null,null,null,null,null,null,null,null,null,null,null,null,null,null,null,null,null,null,null,null,null,null,null,null,null,null,null,null,null,null,null,null,null,null,null,null,null,null,null,null,null,null,null,null,null,null,null,null,null,null,null,null,null,null,null,null,null,null,null,null,null,null,null,null,null,null,null,null,null,null,null,null,null,null,null,null,null,null,null,null,null,null,null,null,null,null,null,null,null,null,null,null,null,null,null,null,null,null,null,null,null,null,null,null,null,null,null,null,null,null,null,null,null,null,null,null,null,null,null,null,null,null,null,null,null,null,null,null,null,null,null,null,null,null,null,null,null,null,null,null,null,null,null,null,null,null,null,null,null,null,null,null,null,null,null,null,null,null,null,null,null,null,null,null,null,null,null,null,null,null,null,null,null,null,null,null,null,null,null,null,null,null,null,null,null,null,null,null,null,null,null,null,null,null,null,null,null,null,null,null,null,null,null,null,null,null,null,null,null,null,null,null,null,null,null,null,null,null,null,null,null,null,null,null,null,null,null,null,null,null,null,null,null,null,null,null,null,null,null,null,null,null,null,null,null,null,null,null,null,null,null,null,null,null,null,null,null,null,null,null,null,null,null,null,null,null,null,null,null,null,null,null,null,null,null,null,null,null,null,null,null,null,null,null,null,null,null,null,null,null,null,null,null,null,null,null,null,null,null,null,null,null,null,null,null,null,null,null,null,null,null,null,null,null,null,null,null,null,null,null,null,null,null,null,null,null,null,null,null,null,null,null,null,null,null,null,null,null,null,null,null,null,null,null,null,null,null,null,null,null,null,null,null,null,null,null,null,null,null,null,null,null,null,null,null,null,null,null,null,null,null,null,null,null,null,null,null,null,null,null,null,null,null,null,null,null,null,null,null,null,null,null,null,null,null,null,null,null,null,null,null,null,null,null,null,null,null,null,null,null,null,null,null,null,null,null,null,null,null,null,null,null,null,null,null,null,null,null,null,null,null,null,null,null,null,null,null,null,null,null,null,null,null,null,null,null,null,null,null,null,null,null,null,null,null,null,null,null,null,null,null,null,null,null,null,null,null,null,null,null,null,null,null,null,null,null,null,null,null,null,null,null,null,null,null,null,null,null,null,null,null,null,null,null,null,null,null,null,null,null,null,null,null,null,null,null,null,null,null,null,null,null,null,null,null,null,null,null,null,null,null,null,null,null,null,null,null,null,null,null,null,null,null,null,null,null,null,null,null,null,null,null,null,null,null,null,null,null,null,null,null,null,null,null,null,null,null,null,null,null,null,null,null,null,null,null,null,null,null,null,null,null,null,null,null,null,null,null,null,null,null,null,null,null,null,null,null,null,null,null,null,null,null,null,null,null,null,null,null,null,null,null,null,null,null,null,null,null,null,null,null,null,null,null,null,null,null,null,null,null,null,null,null,null,null,null,null,null,null,null,null,null,null,null,null,null,null,null,null,null,null,null,null,null,null,null,null,null,null,null,null,null,null,null,null,null,null,null,null,null,null,null,null,null,null,null,null,null,null,null,null,null,null,null,null,null,null,null,null,null,null,null,null,null,null,null,null,null,null,null,null,null,null,null,null,null,null,null,null,null,null,null,null,null,null,null,null,null,null,null,null,null,null,null,null,null,null,null,null,null,null,null,null,null,null,null,null,null,null,null,null,null,null,null,null,null,null,null,null,null,null,null,null,null,null,null,null,null,null,null,null,null,null,null,null,null,null,null,null,null,null,null,null,null,null,null,null,null,null,null,null,null,null,null,null,null,null,null,null,null,null,null,null,null,null,null,null,null,null,null,null,null,null,null,null,null,null,null,null,null,null,null,null,null,null,null,null,null,null,null,null,null,null,null,null,null,null,null,null,null,null,null,null,null,null,null,null,null,null,null,null,null,null,null,null,null,null,null,null,null,null,null,null,null,null,null,null,null,null,null,null,null,null,null,null,null,null,null,null,null,null,null,null,null,null,null,null,null,null,null,null,null,null,null,null,null,null,null,null,null,null,null,null,null,null,null,null,null,null,null,null,null,null,null,null,null,null,null,null,null,null,null,null,null,null,null,null,null,null,null,null,null,null,null,null,null,null,null,null,null,null,null,null,null,null,null,null,null,null,null,null,null,null,null,null,null,null,null,null,null,null,null,null,null,null,null,null,null,null,null,null,null,null,null,null,null,null,null,null,null,null,null,null,null,null,null,null,null,null,null,null,null,null,null,null,null,null,null,null,null,null,null,null,null,null,null,null,null,null,null,null,null,null,null,null,null,null,null,null,null,null,null,null,null,null,null,null,null,null,null,null,null,null,null,null,null,null,null,null,null,null,null,null,null,null,null,null,null,null,null,null,null,null,null,null,null,null,null,null,null,null,null,null,null,null,null,null,null,null,null,null,null,null,null,null,null,null,null,null,null,null,null,null,null,null,null,null,null,null,null,null,null,null,null,null,null,null,null,null,null,null,null,null,null,null,null,null,null,null,null,null,null,null,null,null,null,null,null,null,null,null,null,null,null,null,null,null,null,null,null,null,null,null,null,null,null,null,null,null,null,null,null,null,null,null,null,null,null,null,null,null,null,null,null,null,null,null,null,null,null,null,null,null,null,null,null,null,null,null,null,null,null,null,null,null,null,null,null,null,null,null,null,null,null,null,null,null,null,null,null,null,null,null,null,null,null,null,null,null,null,null,null,null,null,null,null,null,null,null,null,null,null,null,null,null,null,null,null,null,null,null,null,null,null,null,null,null,null,null,null,null,null,null,null,null,null,null,null,null,null,null,null,null,null,null,null,null,null,null,null,null,null,null,null,null,null,null,null,null,null,null,null,null,null,null,null,null,null,null,null,null,null,null,null,null,null,null,null,null,null,null,null,null,null,null,null,null,null,null,null,null,null,null,null,null,null,null,null,null,null,null,null,null,null,null,null,null,null,null,null,null,null,null,null,null,null,null,null,null,null,null,null,null,null,null,null,null,null,null,null,null,null,null,null,null,null,null,null,null,null,null,null,null,null,null,null,null,null,null,null,null,null,null,null,null,null,null,null,null,null,null,null,null,null,null,null,null,null,null,null,null,null,null,null,null,null,null,null,null,null,null,null,null,null,null,null,null,null,null,null,null,null,null,0]
[null,null,null,null,null,null,null,null,null,null,"Active directory",null,{"$f":"INFO(\"directory\")","v":"U:\\projects\\current\\model\\v.dairyvip\\_DairyVIP1.4\\"},null,null,null,null,null,null,null,null,null,null,null,null,null,null,null,null,null,"newname",0,null,"A - steady state",null,null,null,null,null,null,null,null,null,null,null,null,null,null,null,null,null,null,null,null,null,null,null,null,null,null,null,null,null,null,null,null,null,null,null,null,null,null,null,null,null,null,null,null,null,null,null,null,null,null,null,null,null,null,null,null,null,null,null,null,null,null,null,null,null,null,null,null,null,null,null,null,null,null,null,null,null,null,null,null,null,null,null,null,null,null,null,null,null,null,null,null,null,null,null,null,null,null,null,null,null,null,null,null,null,null,null,null,null,null,null,null,null,null,null,null,null,null,null,null,null,null,null,null,null,null,null,null,null,null,null,null,null,null,null,null,null,null,null,null,null,null,null,null,null,null,null,null,null,null,null,null,null,null,null,null,null,null,null,null,null,null,null,null,null,null,null,null,null,null,null,null,null,null,null,null,null,null,null,null,null,null,null,null,null,null,null,null,null,null,null,null,null,null,null,null,null,null,null,null,null,null,null,null,null,null,null,null,null,null,null,null,null,null,null,null,null,null,null,null,null,null,null,null,null,null,null,null,null,null,null,null,null,null,null,null,null,null,null,null,null,null,null,null,null,null,null,null,null,null,null,null,null,null,null,null,null,null,null,null,null,null,null,null,null,null,null,null,null,null,null,null,null,null,null,null,null,null,null,null,null,null,null,null,null,null,null,null,null,null,null,null,null,null,null,null,null,null,null,null,null,null,null,null,null,null,null,null,null,null,null,null,null,null,null,null,null,null,null,null,null,null,null,null,null,null,null,null,null,null,null,null,null,null,null,null,null,null,null,null,null,null,null,null,null,null,null,null,null,null,null,null,null,null,null,null,null,null,null,null,null,null,null,null,null,null,null,null,null,null,null,null,null,null,null,null,null,null,null,null,null,null,null,null,null,null,null,null,null,null,null,null,null,null,null,null,null,null,null,null,null,null,null,null,null,null,null,null,null,null,null,null,null,null,null,null,null,null,null,null,null,null,null,null,null,null,null,null,null,null,null,null,null,null,null,null,null,null,null,null,null,null,null,null,null,null,null,null,null,null,null,null,null,null,null,null,null,null,null,null,null,null,null,null,null,null,null,null,null,null,null,null,null,null,null,null,null,null,null,null,null,null,null,null,null,null,null,null,null,null,null,null,null,null,null,null,null,null,null,null,null,null,null,null,null,null,null,null,null,null,null,null,null,null,null,null,null,null,null,null,null,null,null,null,null,null,null,null,null,null,null,null,null,null,null,null,null,null,null,null,null,null,null,null,null,null,null,null,null,null,null,null,null,null,null,null,null,null,null,null,null,null,null,null,null,null,null,null,null,null,null,null,null,null,null,null,null,null,null,null,null,null,null,null,null,null,null,null,null,null,null,null,null,null,null,null,null,null,null,null,null,null,null,null,null,null,null,null,null,null,null,null,null,null,null,null,null,null,null,null,null,null,null,null,null,null,null,null,null,null,null,null,null,null,null,null,null,null,null,null,null,null,null,null,null,null,null,null,null,null,null,null,null,null,null,null,null,null,null,null,null,null,null,null,null,null,null,null,null,null,null,null,null,null,null,null,null,null,null,null,null,null,null,null,null,null,null,null,null,null,null,null,null,null,null,null,null,null,null,null,null,null,null,null,null,null,null,null,null,null,null,null,null,null,null,null,null,null,null,null,null,null,null,null,null,null,null,null,null,null,null,null,null,null,null,null,null,null,null,null,null,null,null,null,null,null,null,null,null,null,null,null,null,null,null,null,null,null,null,null,null,null,null,null,null,null,null,null,null,null,null,null,null,null,null,null,null,null,null,null,null,null,null,null,null,null,null,null,null,null,null,null,null,null,null,null,null,null,null,null,null,null,null,null,null,null,null,null,null,null,null,null,null,null,null,null,null,null,null,null,null,null,null,null,null,null,null,null,null,null,null,null,null,null,null,null,null,null,null,null,null,null,null,null,null,null,null,null,null,null,null,null,null,null,null,null,null,null,null,null,null,null,null,null,null,null,null,null,null,null,null,null,null,null,null,null,null,null,null,null,null,null,null,null,null,null,null,null,null,null,null,null,null,null,null,null,null,null,null,null,null,null,null,null,null,null,null,null,null,null,null,null,null,null,null,null,null,null,null,null,null,null,null,null,null,null,null,null,null,null,null,null,null,null,null,null,null,null,null,null,null,null,null,null,null,null,null,null,null,null,null,null,null,null,null,null,null,null,null,null,null,null,null,null,null,null,null,null,null,null,null,null,null,null,null,null,null,null,null,null,null,null,null,null,null,null,null,null,null,null,null,null,null,null,null,null,null,null,null,null,null,null,null,null,null,null,null,null,null,null,null,null,null,null,null,null,null,null,null,null,null,null,null,null,null,null,null,null,null,null,null,null,null,null,null,null,null,null,null,null,null,null,null,null,null,null,null,null,null,null,null,null,null,null,null,null,null,null,null,null,null,null,null,null,null,null,null,null,null,null,null,null,null,null,null,null,null,null,null,null,null,null,null,null,null,null,null,null,null,null,null,null,null,null,null,null,null,null,null,null,null,null,null,null,null,null,null,null,null,null,null,null,null,null,null,null,null,null,null,null,null,null,null,null,null,null,null,null,null,null,null,null,null,null,null,null,null,null,null,null,null,null,null,null,null,null,null,null,null,null,null,null,null,null,null,null,null,null,null,null,null,null,null,null,null,null,null,null,null,null,null,null,null,null,null,null,null,null,null,null,null,null,null,null,null,null,null,null,null,null,null,null,null,null,null,null,null,null,null,null,null,null,null,null,null,null,null,null,null,null,null,null,null,null,null,null,null,null,null,null,null,null,null,null,null,null,null,null,null,null,null,null,null,null,null,null,null,null,null,null,null,null,null,null,null,null,null,null,null,null,null,null,null,null,null,null,null,null,null,null,null,null,null,null,null,null,null,null,null,null,null,null,null,null,null,null,null,null,null,null,null,null,null,null,null,null,null,null,null,null,null,null,null,null,null,null,null,null,null,null,null,null,null,null,null,null,null,null,null,null,null,null,null,null,null,null,null,null,null,null,null,null,null,null,null,null,null,null,null,null,null,null,null,null,null,null,null,null,null,null,null,null,null,null,null,null,null,null,null,null,null,null,null,null,null,null,null,null,null,null,null,null,null,null,null,null,null,null,null,null,null,null,null,null,null,null,null,null,null,null,null,null,null,null,null,null,null,null,null,null,null,null,null,null,null,null,null,null,null,null,null,null,null,null,null,null,null,null,null,null,null,null,null,null,null,null,null,null,null,null,null,null,null,null,null,null,null,null,null,null,null,null,null,null,null,null,null,null,null,null,null,null,null,null,null,null,null,null,null,null,null,null,null,null,null,null,null,null,null,null,null,null,null,null,null,null,null,null,null,null,null,null,null,null,null,null,null,null,null,null,null,null,null,null,null,null,null,null,null,null,null,null,null,null,null,null,null,null,null,null,null,null,null,null,null,null,null,null,null,null,null,null,null,null,null,null,null,null,null,null,null,null,null,null,null,null,null,null,null,null,null,null,null,null,null,null,null,null,null,null,null,null,null,null,null,null,null,null,null,null,null,null,null,null,null,null,null,null,null,null,null,null,null,null,null,null,null,null,null,null,null,null,null,null,null,null,null,null,null,null,null,null,null,null,null,null,null,null,null,null,null,null,null,null,null,null,null,null,null,null,null,null,null,null,null,null,null,null,null,null,null,null,null,null,null,null,null,null,null,null,null,null,null,null,null,null,null,null,null,null,null,null,null,null,null,null,null,null,null,null,null,null,null,null,null,null,null,null,null,null,null,null,null,null,null,null,null,null,null,null,null,null,null,null,null,null,null,null,null,null,null,null,null,null,null,null,null,null,null,null,null,null,null,null,null,null,null,null,null,null,null,null,null,null,null,null,null,null,null,null,null,null,null,null,null,null,null,null,null,null,null,null,null,null,null,null,null,null,null,null,null,null,null,null,null,null,null,null,null,null,null,null,null,null,null,null,null,null,null,null,null,null,null,null,null,null,null,null,null,null,null,null,null,null,null,null,null,null,null,null,null,null,null,null,null,null,null,null,null,null,null,null,null,null,null,null,null,null,null,null,null,null,null,null,null,null,null,null,null,null,null,null,null,null,null,null,null,null,null,null,null,null,null,null,null,null,null,null,null,null,null,null,null,null,null,null,null,null,null,null,null,null,null,null,null,null,null,null,null,null,null,null,null,null,null,null,null,null,null,null,null,null,null,null,null,null,null,null,null,null,null,null,null,null,null,null,null,null,null,null,null,null,null,null,null,null,null,null,null,null,null,null,null,null,null,null,null,null,null,null,null,null,null,null,null,null,null,null,null,null,null,null,null,null,null,null,null,null,null,null,null,null,null,null,null,null,null,null,null,null,null,null,null,null,null,null,null,null,null,null,null,null,null,null,null,null,null,null,null,null,null,null,null,null,null,null,null,null,null,null,null,null,null,null,null,null,null,null,null,null,null,null,null,null,null,null,null,null,null,null,null,null,null,null,null,null,null,null,null,null,null,null,null,null,null,null,null,null,null,null,null,null,null,null,null,null,null,null,null,null,null,null,null,null,null,null,null,null,null,null,null,null,null,null,null,null,null,null,null,null,null,null,null,null,null,null,null,null,null,null,null,null,null,null,null,null,null,null,null,null,null,null,null,null,null,null,null,null,null,null,null,null,null,null,null,null,null,null,null,null,null,null,null,null,null,null,null,null,null,null,null,null,null,null,null,null,null,null,null,null,null,null,null,null,null,null,null,null,null,null,null,null,null,null,null,null,null,null,null,null,null,null,null,null,null,null,null,null,null,null,null,null,null,null,null,null,null,null,null,null,null,null,null,null,null,null,null,null,null,null,null,null,null,null,null,null,null,null,null,null,null,null,null,null,null,null,null,null,null,null,null,null,null,null,null,null,null,null,null,null,null,null,null,null,null,null,null,null,null,null,null,null,null,null,null,null,null,null,null,null,null,null,null,null,null,null,null,null,null,null,null,null,null,null,null,null,null,null,null,null,null,null,null,null,null,null,null,null,null,null,null,null,null,null,null,null,null,null,null,null,null,null,null,null,null,null,null,null,null,null,null,null,null,null,null,null,null,null,null,null,null,null,null,null,null,null,null,null,null,null,null,null,null,null,null,null,null,null,null,null,null,null,null,null,null,null,null,null,null,null,null,null,null,null,null,null,null,null,null,null,null,null,null,null,null,null,null,null,null,null,null,null,null,null,null,null,null,null,null,null,null,null,null,null,null,null,null,null,null,null,null,null,null,null,null,null,null,null,null,null,null,null,null,null,null,null,null,null,null,null,null,null,null,null,null,null,null,null,null,null,null,null,null,null,null,null,null,null,null,null,null,null,null,null,null,null,null,null,null,null,null,null,null,null,null,null,null,null,null,null,null,null,null,null,null,null,null,null,null,null,null,null,null,null,null,null,null,null,null,null,null,null,null,null,null,null,null,null,null,null,null,null,null,null,null,null,null,null,null,null,null,null,null,null,null,null,null,null,null,null,null,null,null,null,null,null,null,null,null,null,null,null,null,null,null,null,null,null,null,null,null,null,null,null,null,null,null,null,null,null,null,null,null,null,null,null,null,null,null,null,null,null,null,null,null,null,null,null,null,null,null,null,null,null,null,null,null,null,null,null,null,null,null,null,null,null,null,null,null,null,null,null,null,null,null,null,null,null,null,null,null,null,null,null,null,null,null,null,null,null,null,null,null,null,null,null,null,null,null,null,null,null,null,null,null,null,null,null,null,null,null,null,null,null,null,null,null,null,null,null,null,null,null,null,null,null,null,null,null,null,null,null,null,null,null,null,null,null,null,null,null,null,null,null,null,null,null,null,null,null,null,null,null,null,null,null,null,null,null,null,null,null,null,null,null,null,null,null,null,null,null,null,null,null,null,null,null,null,null,null,null,null,null,null,null,null,null,null,null,null,null,null,null,null,null,null,null,null,null,null,null,null,null,null,null,null,null,null,null,null,null,null,null,null,null,null,null,null,null,null,null,null,null,null,null,null,null,null,null,null,null,null,null,null,null,null,null,null,null,null,null,null,null,null,null,null,null,null,null,null,null,null,null,null,null,null,null,null,null,null,null,null,null,null,null,null,null,null,null,null,null,null,null,null,null,null,null,null,null,null,null,null,null,null,null,null,null,null,null,null,null,null,null,null,null,null,null,null,null,null,null,null,null,null,null,null,null,null,null,null,null,null,null,null,null,null,null,null,null,null,null,null,null,null,null,null,null,null,null,null,null,null,null,null,null,null,null,null,null,null,null,null,null,null,null,null,null,null,null,null,null,null,null,null,null,null,null,null,null,null,null,null,null,null,null,null,null,null,null,null,null,null,null,null,null,null,null,null,null,null,null,null,null,null,null,null,null,null,null,null,null,null,null,null,null,null,null,null,null,null,null,null,null,null,null,null,null,null,null,null,null,null,null,null,null,null,null,null,null,null,null,null,null,null,null,null,null,null,null,null,null,null,null,null,null,null,null,null,null,null,null,null,null,null,null,null,null,null,null,null,null,null,null,null,null,null,null,null,null,null,null,null,null,null,null,null,null,null,null,null,null,null,null,null,null,null,null,null,null,null,null,null,null,null,null,null,null,null,null,null,null,null,null,null,null,null,null,null,null,null,null,null,null,null,null,null,null,null,null,null,null,null,null,null,null,null,null,null,null,null,null,null,null,null,null,null,null,null,null,null,null,null,null,null,null,null,null,null,null,null,null,null,null,null,null,null,null,null,null,null,null,null,null,null,null,null,null,null,null,null,null,null,null,null,null,null,null,null,null,null,null,null,null,null,null,null,null,null,null,null,null,null,null,null,null,null,null,null,null,null,null,null,null,null,null,null,null,null,null,null,null,null,null,null,null,null,null,null,null,null,null,null,null,null,null,null,null,null,null,null,null,null,null,null,null,null,null,null,null,null,null,null,null,null,null,null,null,null,null,null,null,null,null,null,null,null,null,null,null,null,null,null,null,null,null,null,null,null,null,null,null,null,null,null,null,null,null,null,null,null,null,null,null,null,null,null,null,null,null,null,null,null,null,null,null,null,null,null,null,null,null,null,null,null,null,null,null,null,null,null,null,null,null,null,null,null,null,null,null,null,null,null,null,null,null,null,null,null,null,null,null,null,null,null,null,null,null,null,null,null,null,null,null,null,null,null,null,null,null,null,null,null,null,null,null,null,null,null,null,null,null,null,null,null,null,null,null,null,null,null,null,null,null,null,null,null,null,null,null,null,null,null,null,null,null,null,null,null,null,null,null,null,null,null,null,null,null,null,null,null,null,null,null,null,null,null,null,null,null,null,null,null,null,null,null,null,null,null,null,null,null,null,null,null,null,null,null,null,null,null,null,null,null,null,null,null,null,null,null,null,null,null,null,null,null,null,null,null,null,null,null,null,null,null,null,null,null,null,null,null,null,null,null,null,null,null,null,null,null,null,null,null,null,null,null,null,null,null,null,null,null,null,null,null,null,null,null,null,null,null,null,null,null,null,null,null,null,null,null,null,null,null,null,null,null,null,null,null,null,null,null,null,null,null,null,null,null,null,null,null,null,null,null,null,null,null,null,null,null,null,null,null,null,null,null,null,null,null,null,null,null,null,null,null,null,null,null,null,null,null,null,null,null,null,null,null,null,null,null,null,null,null,null,null,null,null,null,null,null,null,null,null,null,null,null,null,null,null,null,null,null,null,null,null,null,null,null,null,null,null,null,null,null,null,null,null,null,null,null,null,null,null,null,null,null,null,null,null,null,null,null,null,null,null,null,null,null,null,null,null,null,null,null,null,null,null,null,null,null,null,null,null,null,null,null,null,null,null,null,null,null,null,null,null,null,null,null,null,null,null,null,null,null,null,null,null,null,null,null,null,null,null,null,null,null,null,null,null,null,null,null,null,null,null,null,null,null,null,null,null,null,null,null,null,null,null,null,null,null,null,null,null,null,null,null,null,null,null,null,null,null,null,null,null,null,null,null,null,null,null,null,null,null,null,null,null,null,null,null,null,null,null,null,null,null,null,null,null,null,null,null,null,null,null,null,null,null,null,null,null,null,null,null,null,null,null,null,null,null,null,null,null,null,null,null,null,null,null,null,null,null,null,null,null,null,null,null,null,null,null,null,null,null,null,null,null,null,null,null,null,null,null,null,null,null,null,null,null,null,null,null,null,null,null,null,null,null,null,null,null,null,null,null,null,null,null,null,null,null,null,null,null,null,null,null,null,null,null,null,null,null,null,null,null,null,null,null,null,null,null,null,null,null,null,null,null,null,null,null,null,null,null,null,null,null,null,null,null,null,null,null,null,null,null,null,null,null,null,null,null,null,null,null,null,null,null,null,null,null,null,null,null,null,null,null,null,null,null,null,null,null,null,null,null,null,null,null,null,null,null,null,null,null,null,null,null,null,null,null,null,null,null,null,null,null,null,null,null,null,null,null,null,null,null,null,null,null,null,null,null,null,null,null,null,null,null,null,null,null,null,null,null,null,null,null,null,null,null,null,null,null,null,null,null,null,null,null,null,null,null,null,null,null,null,null,null,null,null,null,null,null,null,null,null,null,null,null,null,null,null,null,null,null,null,null,null,null,null,null,null,null,null,null,null,null,null,null,null,null,null,null,null,null,null,null,null,null,null,null,null,null,null,null,null,null,null,null,null,null,null,null,null,null,null,null,null,null,null,null,null,null,null,null,null,null,null,null,null,null,null,null,null,null,null,null,null,null,null,null,null,null,null,null,null,null,null,null,null,null,null,null,null,null,null,null,null,null,null,null,null,null,null,null,null,null,null,null,null,null,null,null,null,null,null,null,null,null,null,null,null,null,null,null,null,null,null,null,null,null,null,null,null,null,null,null,null,null,null,null,null,null,null,null,null,null,null,null,null,null,null,null,null,null,null,null,null,null,null,null,null,null,null,null,null,null,null,null,null,null,null,null,null,null,null,null,null,null,null,null,null,null,null,null,null,null,null,null,null,null,null,null,null,null,null,null,null,null,null,null,null,null,null,null,null,null,null,null,null,null,null,null,null,null,null,null,null,null,null,null,null,null,null,null,null,null,null,null,null,null,null,null,null,null,null,null,null,null,null,null,null,null,null,null,null,null,null,null,null,null,null,null,null,null,null,null,null,null,null,null,null,null,null,null,null,null,null,null,null,null,null,null,null,null,null,null,null,null,null,null,null,null,null,null,null,null,null,null,null,null,null,null,null,null,null,null,null,null,null,null,null,null,null,null,null,null,null,null,null,null,null,null,null,null,null,null,null,null,null,null,null,null,null,null,null,null,null,null,null,null,null,null,null,null,null,null,null,null,null,null,null,null,null,null,null,null,null,null,null,null,null,null,null,null,null,null,null,null,null,null,null,null,null,null,null,null,null,null,null,null,null,null,null,null,null,null,null,null,null,null,null,null,null,null,null,null,null,null,null,null,null,null,null,null,null,null,null,null,null,null,null,null,null,null,null,null,null,null,null,null,null,null,null,null,null,null,null,null,null,null,null,null,null,null,null,null,null,null,null,null,null,null,null,null,null,null,null,null,null,null,null,null,null,null,null,null,null,null,null,null,null,null,null,null,null,null,null,null,null,null,null,null,null,null,null,null,null,null,null,null,null,null,null,null,null,null,null,null,null,null,null,null,null,null,null,null,null,null,null,null,null,null,null,null,null,null,null,null,null,null,null,null,null,null,null,null,null,null,null,null,null,null,null,null,null,null,null,null,null,null,null,null,null,null,null,null,null,null,null,null,null,null,null,null,null,null,null,null,null,null,null,null,null,null,null,null,null,null,null,null,null,null,null,null,null,null,null,null,null,null,null,null,null,null,null,null,null,null,null,null,null,null,null,null,null,null,null,null,null,null,null,null,null,null,null,null,null,null,null,null,null,null,null,null,null,null,null,null,null,null,null,null,null,null,null,null,null,null,null,null,null,null,null,null,null,null,null,null,null,null,null,null,null,null,null,null,null,null,null,null,null,null,null,null,null,null,null,null,null,null,null,null,null,null,null,null,null,null,null,null,null,null,null,null,null,null,null,null,null,null,null,null,null,null,null,null,null,null,null,null,null,null,null,null,null,null,null,null,null,null,null,null,null,null,null,null,null,null,null,null,null,null,null,null,null,null,null,null,null,null,null,null,null,null,null,null,null,null,null,null,null,null,null,null,null,null,null,null,null,null,null,null,null,null,null,null,null,null,null,null,null,null,null,null,null,null,null,null,null,null,null,null,null,null,null,null,null,null,null,null,null,null,null,null,null,null,null,null,null,null,null,null,null,null,null,null,null,null,null,null,null,null,null,null,null,null,null,null,null,null,null,null,null,null,null,null,null,null,null,null,null,null,null,null,null,null,null,null,null,null,null,null,null,null,null,null,null,null,null,null,null,null,null,null,null,null,null,null,null,null,null,null,null,null,null,null,null,null,null,null,null,null,null,null,null,null,null,null,null,null,null,null,null,null,null,null,null,null,null,null,null,null,null,null,null,null,null,null,null,null,null,null,null,null,null,null,null,null,null,null,null,null,null,null,null,null,null,null,null,null,null,null,null,null,null,null,null,null,null,null,null,null,null,null,null,null,null,null,null,null,null,null,null,null,null,null,null,null,null,null,null,null,null,null,null,null,null,null,null,null,null,null,null,null,null,null,null,null,null,null,null,null,null,null,null,null,null,null,null,null,null,null,null,null,null,null,null,null,null,null,null,null,null,null,null,null,null,null,null,null,null,null,null,null,null,null,null,null,null,null,null,null,null,null,null,null,null,null,null,null,null,null,null,null,null,null,null,null,null,null,null,null,null,null,null,null,null,null,null,null,null,null,null,null,null,null,null,null,null,null,null,null,null,null,null,null,null,null,null,null,null,null,null,null,null,null,null,null,null,null,null,null,null,null,null,null,null,null,null,null,null,null,null,null,null,null,null,null,null,null,null,null,null,null,null,null,null,null,null,null,null,null,null,null,null,null,null,null,null,null,null,null,null,null,null,null,null,null,null,null,null,null,null,null,null,null,null,null,null,null,null,null,null,null,null,null,null,null,null,null,null,null,null,null,null,null,null,null,null,null,null,null,null,null,null,null,null,null,null,null,null,null,null,null,null,null,null,null,null,null,null,null,null,null,null,null,null,null,null,null,null,null,null,null,null,null,null,null,null,null,null,null,null,null,null,null,null,null,null,null,null,null,null,null,null,null,null,null,null,null,null,null,null,null,null,null,null,null,null,null,null,null,null,null,null,null,null,null,null,null,null,null,null,null,null,null,null,null,null,null,null,null,null,null,null,null,null,null,null,null,null,null,null,null,null,null,null,null,null,null,null,null,null,null,null,null,null,null,null,null,null,null,null,null,null,null,null,null,null,null,null,null,null,null,null,null,null,null,null,null,null,null,null,null,null,null,null,null,null,null,null,null,null,null,null,null,null,null,null,null,null,null,null,null,null,null,null,null,null,null,null,null,null,null,null,null,null,null,null,null,null,null,null,null,null,null,null,null,null,null,null,null,null,null,null,null,null,null,null,null,null,null,null,null,null,null,null,null,null,null,null,null,null,null,null,null,null,null,null,null,null,null,null,null,null,null,null,null,null,null,null,null,null,null,null,null,null,null,null,null,null,null,null,null,null,null,null,null,null,null,null,null,null,null,null,null,null,null,null,null,null,null,null,null,null,null,null,null,null,null,null,null,null,null,null,null,null,null,null,null,null,null,null,null,null,null,null,null,null,null,null,null,null,null,null,null,null,null,null,null,null,null,null,null,null,null,null,null,null,null,null,null,null,null,null,null,null,null,null,null,null,null,null,null,null,null,null,null,null,null,null,null,null,null,null,null,null,null,null,null,null,null,null,null,null,null,null,null,null,null,null,null,null,null,null,null,null,null,null,null,null,null,null,null,null,null,null,null,null,null,null,null,null,null,null,null,null,null,null,null,null,null,null,null,null,null,null,null,null,null,null,null,null,null,null,null,null,null,null,null,null,null,null,null,null,null,null,null,null,null,null,null,null,null,null,null,null,null,null,null,null,null,null,null,null,null,null,null,null,null,null,null,null,null,null,null,null,null,null,null,null,null,null,null,null,null,null,null,null,null,null,null,null,null,null,null,null,null,null,null,null,null,null,null,null,null,null,null,null,null,null,null,null,null,null,null,null,null,null,null,null,null,null,null,null,null,null,null,null,null,null,null,null,null,null,null,null,null,null,null,null,null,null,null,null,null,null,null,null,null,null,null,null,null,null,null,null,null,null,null,null,null,null,null,null,null,null,null,null,null,null,null,null,null,null,null,null,null,null,null,null,null,null,null,null,null,null,null,null,null,null,null,null,null,null,null,null,null,null,null,null,null,null,null,null,null,null,null,null,null,null,null,null,null,null,null,null,null,null,null,null,null,null,null,null,null,null,null,null,null,null,null,null,null,null,null,null,null,null,null,null,null,null,null,null,null,null,null,null,null,null,null,null,null,null,null,null,null,null,null,null,null,null,null,null,null,null,null,null,null,null,null,null,null,null,null,null,null,null,null,null,null,null,null,null,null,null,null,null,null,null,null,null,null,null,null,null,null,null,null,null,null,null,null,null,null,null,null,null,null,null,null,null,null,null,null,null,null,null,null,null,null,null,null,null,null,null,null,null,null,null,null,null,null,null,null,null,null,null,null,null,null,null,null,null,null,null,null,null,null,null,null,null,null,null,null,null,null,null,null,null,null,null,null,null,null,null,null,null,null,null,null,null,null,null,null,null,null,null,null,null,null,null,null,null,null,null,null,null,null,null,null,null,null,null,null,null,null,null,null,null,null,null,null,null,null,null,null,null,null,null,null,null,null,null,null,null,null,null,null,null,null,null,null,null,null,null,null,null,null,null,null,null,null,null,null,null,null,null,null,null,null,null,null,null,null,null,null,null,null,null,null,null,null,null,null,null,null,null,null,null,null,null,null,null,null,null,null,null,null,null,null,null,null,null,null,null,null,null,null,null,null,null,null,null,null,null,null,null,null,null,null,null,null,null,null,null,null,null,null,null,null,null,null,null,null,null,null,null,null,null,null,null,null,null,null,null,null,null,null,null,null,null,null,null,null,null,null,null,null,null,null,null,null,null,null,null,null,null,null,null,null,null,null,null,null,null,null,null,null,null,null,null,null,null,null,null,null,null,null,null,null,null,null,null,null,null,null,null,null,null,null,null,null,null,null,null,null,null,null,null,null,null,null,null,null,null,null,null,null,null,null,null,null,null,null,null,null,null,null,null,null,null,null,null,null,null,null,null,null,null,null,null,null,null,null,null,null,null,null,null,null,null,null,null,null,null,null,null,null,null,null,null,null,null,null,null,null,null,null,null,null,null,null,null,null,null,null,null,null,null,null,null,null,null,null,null,null,null,null,null,null,null,null,null,null,null,null,null,null,null,null,null,null,null,null,null,null,null,null,null,null,null,null,null,null,null,null,null,null,null,null,null,null,null,null,null,null,null,null,null,null,null,null,null,null,null,null,null,null,null,null,null,null,null,null,null,null,null,null,null,null,null,null,null,null,null,null,null,null,null,null,null,null,null,null,null,null,null,null,null,null,null,null,null,null,null,null,null,null,null,null,null,null,null,null,null,null,null,null,null,null,null,null,null,null,null,null,null,null,null,null,null,null,null,null,null,null,null,null,null,null,null,null,null,null,null,null,null,null,null,null,null,null,null,null,null,null,null,null,null,null,null,null,null,null,null,null,null,null,null,null,null,null,null,null,null,null,null,null,null,null,null,null,null,null,null,null,null,null,null,null,null,null,null,null,null,null,null,null,null,null,null,null,null,null,null,null,null,null,null,null,null,null,null,null,null,null,null,null,null,null,null,null,null,null,null,null,null,null,null,null,null,null,null,null,null,null,null,null,null,null,null,null,null,null,null,null,null,null,null,null,null,null,null,null,null,null,null,null,null,null,null,null,null,null,null,null,null,null,null,null,null,null,null,null,null,null,null,null,null,null,null,null,null,null,null,null,null,null,null,null,null,null,null,null,null,null,null,null,null,null,null,null,null,null,null,null,null,null,null,null,null,null,null,null,null,null,null,null,null,null,null,null,null,null,null,null,null,null,null,null,null,null,null,null,null,null,null,null,null,null,null,null,null,null,null,null,null,null,null,null,null,null,null,null,null,null,null,null,null,null,null,null,null,null,null,null,null,null,null,null,null,null,null,null,null,null,null,null,null,null,null,null,null,null,null,null,null,null,null,null,null,null,null,null,null,null,null,null,null,null,null,null,null,null,null,null,null,null,null,null,null,null,null,null,null,null,null,null,null,null,null,null,null,null,null,null,null,null,null,null,null,null,null,null,null,null,null,null,null,null,null,null,null,null,null,null,null,null,null,null,null,null,null,null,null,null,null,null,null,null,null,null,null,null,null,null,null,null,null,null,null,null,null,null,null,null,null,null,null,null,null,null,null,null,null,null,null,null,null,null,null,null,null,null,null,null,null,null,null,null,null,null,null,null,null,null,null,null,null,null,null,null,null,null,null,null,null,null,null,null,null,null,null,null,null,null,null,null,null,null,null,null,null,null,null,null,null,null,null,null,null,null,null,null,null,null,null,null,null,null,null,null,null,null,null,null,null,null,null,null,null,null,null,null,null,null,null,null,null,null,null,null,null,null,null,null,null,null,null,null,null,null,null,null,null,null,null,null,null,null,null,null,null,null,null,null,null,null,null,null,null,null,null,null,null,null,null,null,null,null,null,null,null,null,null,null,null,null,null,null,null,null,null,null,null,null,null,null,null,null,null,null,null,null,null,null,null,null,null,null,null,null,null,null,null,null,null,null,null,null,null,null,null,null,null,null,null,null,null,null,null,null,null,null,null,null,null,null,null,null,null,null,null,null,null,null,null,null,null,null,null,null,null,null,null,null,null,null,null,null,null,null,null,null,null,null,null,null,null,null,null,null,null,null,null,null,null,null,null,null,null,null,null,null,null,null,null,null,null,null,null,null,null,null,null,null,null,null,null,null,null,null,null,null,null,null,null,null,null,null,null,null,null,null,null,null,null,null,null,null,null,null,null,null,null,null,null,null,null,null,null,null,null,null,null,null,null,null,null,null,null,null,null,null,null,null,null,null,null,null,null,null,null,null,null,null,null,null,null,null,null,null,null,null,null,null,null,null,null,null,null,null,null,null,null,null,null,null,null,null,null,null,null,null,null,null,null,null,null,null,null,null,null,null,null,null,null,null,null,null,null,null,null,null,null,null,null,null,null,null,null,null,null,null,null,null,null,null,null,null,null,null,null,null,null,null,null,null,null,null,null,null,null,null,null,null,null,null,null,null,null,null,null,null,null,null,null,null,null,null,null,null,null,null,null,null,null,null,null,null,null,null,null,null,null,null,null,null,null,null,null,null,null,null,null,null,null,null,null,null,null,null,null,null,null,null,null,null,null,null,null,null,null,null,null,null,null,null,null,null,null,null,null,null,null,null,null,null,null,null,null,null,null,null,null,null,null,null,null,null,null,null,null,null,null,null,null,null,null,null,null,null,null,null,null,null,null,null,null,null,null,null,null,null,null,null,null,null,null,null,null,null,null,null,null,null,null,null,null,null,null,null,null,null,null,null,null,null,null,null,null,null,null,null,null,null,null,null,null,null,null,null,null,null,null,null,null,null,null,null,null,null,null,null,null,null,null,null,null,null,null,null,null,null,null,null,null,null,null,null,null,null,null,null,null,null,null,null,null,null,null,null,null,null,null,null,null,null,null,null,null,null,null,null,null,null,null,null,null,null,null,null,null,null,null,null,null,null,null,null,null,null,null,null,null,null,null,null,null,null,null,null,null,null,null,null,null,null,null,null,null,null,null,null,null,null,null,null,null,null,null,null,null,null,null,null,null,null,null,null,null,null,null,null,null,null,null,null,null,null,null,null,null,null,null,null,null,null,null,null,null,null,null,null,null,null,null,null,null,null,null,null,null,null,null,null,null,null,null,null,null,null,null,null,null,null,null,null,null,null,null,null,null,null,null,null,null,null,null,null,null,null,null,null,null,null,null,null,null,null,null,null,null,null,null,null,null,null,null,null,null,null,null,null,null,null,null,null,null,null,null,null,null,null,null,null,null,null,null,null,null,null,null,null,null,null,null,null,null,null,null,null,null,null,null,null,null,null,null,null,null,null,null,null,null,null,null,null,null,null,null,null,null,null,null,null,null,null,null,null,null,null,null,null,null,null,null,null,null,null,null,null,null,null,null,null,null,null,null,null,null,null,null,null,null,null,null,null,null,null,null,null,null,null,null,null,null,null,null,null,null,null,null,null,null,null,null,null,null,null,null,null,null,null,null,null,null,null,null,null,null,null,null,null,null,null,null,null,null,null,null,null,null,null,null,null,null,null,null,null,null,null,null,null,null,null,null,null,null,null,null,null,null,null,null,null,null,null,null,null,null,null,null,null,null,null,null,null,null,null,null,null,null,null,null,null,null,null,null,null,null,null,null,null,null,null,null,null,null,null,null,null,null,null,null,null,null,null,null,null,null,null,null,null,null,null,null,null,null,null,null,null,null,null,null,null,null,null,null,null,null,null,null,null,null,null,null,null,null,null,null,null,null,null,null,null,null,null,null,null,null,null,null,null,null,null,null,null,null,null,null,null,null,null,null,null,null,null,null,null,null,null,null,null,null,null,null,null,null,null,null,null,null,null,null,null,null,null,null,null,null,null,null,null,null,null,null,null,null,null,null,null,null,null,null,null,null,null,null,null,null,null,null,null,null,null,null,null,null,null,null,null,null,null,null,null,null,null,null,null,null,null,null,null,null,null,null,null,null,null,null,null,null,null,null,null,null,null,null,null,null,null,null,null,null,null,null,null,null,null,null,null,null,null,null,null,null,null,null,null,null,null,null,null,null,null,null,null,null,null,null,null,null,null,null,null,null,null,null,null,null,null,null,null,null,null,null,null,null,null,null,null,null,null,null,null,null,null,null,null,null,null,null,null,null,null,null,null,null,null,null,null,null,null,null,null,null,null,null,null,null,null,null,null,null,null,null,null,null,null,null,null,null,null,null,null,null,null,null,null,null,null,null,null,null,null,null,null,null,null,null,null,null,null,null,null,null,null,null,null,null,null,null,null,null,null,null,null,null,null,null,null,null,null,null,null,null,null,null,null,null,null,null,null,null,null,null,null,null,null,null,null,null,null,null,null,null,null,null,null,null,null,null,null,null,null,null,null,null,null,null,null,null,null,null,null,null,null,null,null,null,null,null,null,null,null,null,null,null,null,null,null,null,null,null,null,null,null,null,null,null,null,null,null,null,null,null,null,null,null,null,null,null,null,null,null,null,null,null,null,null,null,null,null,null,null,null,null,null,null,null,null,null,null,null,null,null,null,null,null,null,null,null,null,null,null,null,null,null,null,null,null,null,null,null,null,null,null,null,null,null,null,null,null,null,null,null,null,null,null,null,null,null,null,null,null,null,null,null,null,null,null,null,null,null,null,null,null,null,null,null,null,null,null,null,null,null,null,null,null,null,null,null,null,null,null,null,null,null,null,null,null,null,null,null,null,null,null,null,null,null,null,null,null,null,null,null,null,null,null,null,null,null,null,null,null,null,null,null,null,null,null,null,null,null,null,null,null,null,null,null,null,null,null,null,null,null,null,null,null,null,null,null,null,null,null,null,null,null,null,null,null,null,null,null,null,null,null,null,null,null,null,null,null,null,null,null,null,null,null,null,null,null,null,null,null,null,null,null,null,null,null,null,null,null,null,null,null,null,null,null,null,null,null,null,null,null,null,null,null,null,null,null,null,null,null,null,null,null,null,null,null,null,null,null,null,null,null,null,null,null,null,null,null,null,null,null,null,null,null,null,null,null,null,null,null,null,null,null,null,null,null,null,null,null,null,null,null,null,null,null,null,null,null,null,null,null,null,null,null,null,null,null,null,null,null,null,null,null,null,null,null,null,null,null,null,null,null,null,null,null,null,null,null,null,null,null,null,null,null,null,null,null,null,null,null,null,null,null,null,null,null,null,null,null,null,null,null,null,null,null,null,null,null,null,null,null,null,null,null,null,null,null,null,null,null,null,null,null,null,null,null,null,null,null,null,null,null,null,null,null,null,null,null,null,null,null,null,null,null,null,null,null,null,null,null,null,null,null,null,null,null,null,null,null,null,null,null,null,null,null,null,null,null,null,null,null,null,null,null,null,null,null,null,null,null,null,null,null,null,null,null,null,null,null,null,null,null,null,null,null,null,null,null,null,null,null,null,null,null,null,null,null,null,null,null,null,null,null,null,null,null,null,null,null,null,null,null,null,null,null,null,null,null,null,null,null,null,null,null,null,null,null,null,null,null,null,null,null,null,null,null,null,null,null,null,null,null,null,null,null,null,null,null,null,null,null,null,null,null,null,null,null,null,null,null,null,null,null,null,null,null,null,null,null,null,null,null,null,null,null,null,null,null,null,null,null,null,null,null,null,null,null,null,null,null,null,null,null,null,null,null,null,null,null,null,null,null,null,null,null,null,null,null,null,null,null,null,null,null,null,null,null,null,null,null,null,null,null,null,null,null,null,null,null,null,null,null,null,null,null,null,null,null,null,null,null,null,null,null,null,null,null,null,null,null,null,null,null,null,null,null,null,null,null,null,null,null,null,null,null,null,null,null,null,null,null,null,null,null,null,null,null,null,null,null,null,null,null,null,null,null,null,null,null,null,null,null,null,null,null,null,null,null,null,null,null,null,null,null,null,null,null,null,null,null,null,null,null,null,null,null,null,null,null,null,null,null,null,null,null,null,null,null,null,null,null,null,null,null,null,null,null,null,null,null,null,null,null,null,null,null,null,null,null,null,null,null,null,null,null,null,null,null,null,null,null,null,null,null,null,null,null,null,null,null,null,null,null,null,null,null,null,null,null,null,null,null,null,null,null,null,null,null,null,null,null,null,null,null,null,null,null,null,null,null,null,null,null,null,null,null,null,null,null,null,null,null,null,null,null,null,null,null,null,null,null,null,null,null,null,null,null,null,null,null,null,null,null,null,null,null,null,null,null,null,null,null,null,null,null,null,null,null,null,null,null,null,null,null,null,null,null,null,null,null,null,null,null,null,null,null,null,null,null,null,null,null,null,null,null,null,null,null,null,null,null,null,null,null,null,null,null,null,null,null,null,null,null,null,null,null,null,null,null,null,null,null,null,null,null,null,null,null,null,null,null,null,null,null,null,null,null,null,null,null,null,null,null,null,null,null,null,null,null,null,null,null,null,null,null,null,null,null,null,null,null,null,null,null,null,null,null,null,null,null,null,null,null,null,null,null,null,null,null,null,null,null,null,null,null,null,null,null,null,null,null,null,null,null,null,null,null,null,null,null,null,null,null,null,null,null,null,null,null,null,null,null,null,null,null,null,null,null,null,null,null,null,null,null,null,null,null,null,null,null,null,null,null,null,null,null,null,null,null,null,null,null,null,null,null,null,null,null,null,null,null,null,null,null,null,null,null,null,null,null,null,null,null,null,null,null,null,null,null,null,null,null,null,null,null,null,null,null,null,null,null,null,null,null,null,null,null,null,null,null,null,null,null,null,null,null,null,null,null,null,null,null,null,null,null,null,null,null,null,null,null,null,null,null,null,null,null,null,null,null,null,null,null,null,null,null,null,null,null,null,null,null,null,null,null,null,null,null,null,null,null,null,null,null,null,null,null,null,null,null,null,null,null,null,null,null,null,null,null,null,null,null,null,null,null,null,null,null,null,null,null,null,null,null,null,null,null,null,null,null,null,null,null,null,null,null,null,null,null,null,null,null,null,null,null,null,null,null,null,null,null,null,null,null,null,null,null,null,null,null,null,null,null,null,null,null,null,null,null,null,null,null,null,null,null,null,null,null,null,null,null,null,null,null,null,null,null,null,null,null,null,null,null,null,null,null,null,null,null,null,null,null,null,null,null,null,null,null,null,null,null,null,null,null,null,null,null,null,null,null,null,null,null,null,null,null,null,null,null,null,null,null,null,null,null,null,null,null,null,null,null,null,null,null,null,null,null,null,null,null,null,null,null,null,null,null,null,null,null,null,null,null,null,null,null,null,null,null,null,null,null,null,null,null,null,null,null,null,null,null,null,null,null,null,null,null,null,null,null,null,null,null,null,null,null,null,null,null,null,null,null,null,null,null,null,null,null,null,null,null,null,null,null,null,null,null,null,null,null,null,null,null,null,null,null,null,null,null,null,null,null,null,null,null,null,null,null,null,null,null,null,null,null,null,null,null,null,null,null,null,null,null,null,null,null,null,null,null,null,null,null,null,null,null,null,null,null,null,null,null,null,null,null,null,null,null,null,null,null,null,null,null,null,null,null,null,null,null,null,null,null,null,null,null,null,null,null,null,null,null,null,null,null,null,null,null,null,null,null,null,null,null,null,null,null,null,null,null,null,null,null,null,null,null,null,null,null,null,null,null,null,null,null,null,null,null,null,null,null,null,null,null,null,null,null,null,null,null,null,null,null,null,null,null,null,null,null,null,null,null,null,null,null,null,null,null,null,null,null,null,null,null,null,null,null,null,null,null,null,null,null,null,null,null,null,null,null,null,null,null,null,null,null,null,null,null,null,null,null,null,null,null,null,null,null,null,null,null,null,null,null,null,null,null,null,null,null,null,null,null,null,null,null,null,null,null,null,null,null,null,null,null,null,null,null,null,null,null,null,null,null,null,null,null,null,null,null,null,null,null,null,null,null,null,null,null,null,null,null,null,null,null,null,null,null,null,null,null,null,null,null,null,null,null,null,null,null,null,null,null,null,null,null,null,null,null,null,null,null,null,null,null,null,null,null,null,null,null,null,null,null,null,null,null,null,null,null,null,null,null,null,null,null,null,null,null,null,null,null,null,null,null,null,null,null,null,null,null,null,null,null,null,null,null,null,null,null,null,null,null,null,null,null,null,null,null,null,null,null,null,null,null,null,null,null,null,null,null,null,null,null,null,null,null,null,null,null,null,null,null,null,null,null,null,null,null,null,null,null,null,null,null,null,null,null,null,null,null,null,null,null,null,null,null,null,null,null,null,null,null,null,null,null,null,null,null,null,null,null,null,null,null,null,null,null,null,null,null,null,null,null,null,null,null,null,null,null,null,null,null,null,null,null,null,null,null,null,null,null,null,null,null,null,null,null,null,null,null,null,null,null,null,null,null,null,null,null,null,null,null,null,null,null,null,null,null,null,null,null,null,null,null,null,null,null,null,null,null,null,null,null,null,null,null,null,null,null,null,null,null,null,null,null,null,null,null,null,null,null,null,null,null,null,null,null,null,null,null,null,null,null,null,null,null,null,null,null,null,null,null,null,null,null,null,null,null,null,null,null,null,null,null,null,null,null,null,null,null,null,null,null,null,null,null,null,null,null,null,null,null,null,null,null,null,null,null,null,null,null,null,null,null,null,null,null,null,null,null,null,null,null,null,null,null,null,null,null,null,null,null,null,null,null,null,null,null,null,null,null,null,null,null,null,null,null,null,null,null,null,null,null,null,null,null,null,null,null,null,null,null,null,null,null,null,null,null,null,null,null,null,null,null,null,null,null,null,null,null,null,null,null,null,null,null,null,null,null,null,null,null,null,null,null,null,null,null,null,null,null,null,null,null,null,null,null,null,null,null,null,null,null,null,null,null,null,null,null,null,null,null,null,null,null,null,null,null,null,null,null,null,null,null,null,null,null,null,null,null,null,null,null,null,null,null,null,null,null,null,null,null,null,null,null,null,null,null,null,null,null,null,null,null,null,null,null,null,null,null,null,null,null,null,null,null,null,null,null,null,null,null,null,null,null,null,null,null,null,null,null,null,null,null,null,null,null,null,null,null,null,null,null,null,null,null,null,null,null,null,null,null,null,null,null,null,null,null,null,null,null,null,null,null,null,null,null,null,null,null,null,null,null,null,null,null,null,null,null,null,null,null,null,null,null,null,null,null,null,null,null,null,null,null,null,null,null,null,null,null,null,null,null,null,null,null,null,null,null,null,null,null,null,null,null,null,null,null,null,null,null,null,null,null,null,null,null,null,null,null,null,null,null,null,null,null,null,null,null,null,null,null,null,null,null,null,null,null,null,null,null,null,null,null,null,null,null,null,null,null,null,null,null,null,null,null,null,null,null,null,null,null,null,null,null,null,null,null,null,null,null,null,null,null,null,null,null,null,null,null,null,null,null,null,null,null,null,null,null,null,null,null,null,null,null,null,null,null,null,null,null,null,null,null,null,null,null,null,null,null,null,null,null,null,null,null,null,null,null,null,null,null,null,null,null,null,null,null,null,null,null,null,null,null,null,null,null,null,null,null,null,null,null,null,null,null,null,null,null,null,null,null,null,null,null,null,null,null,null,null,null,null,null,null,null,null,null,null,null,null,null,null,null,null,null,null,null,null,null,null,null,null,null,null,null,null,null,null,null,null,null,null,null,null,null,null,null,null,null,null,null,null,null,null,null,null,null,null,null,null,null,null,null,null,null,null,null,null,null,null,null,null,null,null,null,null,null,null,null,null,null,null,null,null,null,null,null,null,null,null,null,null,null,null,null,null,null,null,null,null,null,null,null,null,null,null,null,null,null,null,null,null,null,null,null,null,null,null,null,null,null,null,null,null,null,null,null,null,null,null,null,null,null,null,null,null,null,null,null,null,null,null,null,null,null,null,null,null,null,null,null,null,null,null,null,null,null,null,null,null,null,null,null,null,null,null,null,null,null,null,null,null,null,null,null,null,null,null,null,null,null,null,null,null,null,null,null,null,null,null,null,null,null,null,null,null,null,null,null,null,null,null,null,null,null,null,null,null,null,null,null,null,null,null,null,null,null,null,null,null,null,null,null,null,null,null,null,null,null,null,null,null,null,null,null,null,null,null,null,null,null,null,null,null,null,null,null,null,null,null,null,null,null,null,null,null,null,null,null,null,null,null,null,null,null,null,null,null,null,null,null,null,null,null,null,null,null,null,null,null,null,null,null,null,null,null,null,null,null,null,null,null,null,null,null,null,null,null,null,null,null,null,null,null,null,null,null,null,null,null,null,null,null,null,null,null,null,null,null,null,null,null,null,null,null,null,null,null,null,null,null,null,null,null,null,null,null,null,null,null,null,null,null,null,null,null,null,null,null,null,null,null,null,null,null,null,null,null,null,null,null,null,null,null,null,null,null,null,null,null,null,null,null,null,null,null,null,null,null,null,null,null,null,null,null,null,null,null,null,null,null,null,null,null,null,null,null,null,null,null,null,null,null,null,null,null,null,null,null,null,null,null,null,null,null,null,null,null,null,null,null,null,null,null,null,null,null,null,null,null,null,null,null,null,null,null,null,null,null,null,null,null,null,null,null,null,null,null,null,null,null,null,null,null,null,null,null,null,null,null,null,null,null,null,null,null,null,null,null,null,null,null,null,null,null,null,null,null,null,null,null,null,null,null,null,null,null,null,null,null,null,null,null,null,null,null,null,null,null,null,null,null,null,null,null,null,null,null,null,null,null,null,null,null,null,null,null,null,null,null,null,null,null,null,null,null,null,null,null,null,null,null,null,null,null,null,null,null,null,null,null,null,null,null,null,null,null,null,null,null,null,null,null,null,null,null,null,null,null,null,null,null,null,null,null,null,null,null,null,null,null,null,null,null,null,null,null,null,null,null,null,null,null,null,null,null,null,null,null,null,null,null,null,null,null,null,null,null,null,null,null,null,null,null,null,null,null,null,null,null,null,null,null,null,null,null,null,null,null,null,null,null,null,null,null,null,null,null,null,null,null,null,null,null,null,null,null,null,null,null,null,null,null,null,null,null,null,null,null,null,null,null,null,null,null,null,null,null,null,null,null,null,null,null,null,null,null,null,null,null,null,null,null,null,null,null,null,null,null,null,null,null,null,null,null,null,null,null,null,null,null,null,null,null,null,null,null,null,null,null,null,null,null,null,null,null,null,null,null,null,null,null,null,null,null,null,null,null,null,null,null,null,null,null,null,null,null,null,null,null,null,null,null,null,null,null,null,null,null,null,null,null,null,null,null,null,null,null,null,null,null,null,null,null,null,null,null,null,null,null,null,null,null,null,null,null,null,null,null,null,null,null,null,null,null,null,null,null,null,null,null,null,null,null,null,null,null,null,null,null,null,null,null,null,null,null,null,null,null,null,null,null,null,null,null,null,null,null,null,null,null,null,null,null,null,null,null,null,null,null,null,null,null,null,null,null,null,null,null,null,null,null,null,null,null,null,null,null,null,null,null,null,null,null,null,null,null,null,null,null,null,null,null,null,null,null,null,null,null,null,null,null,null,null,null,null,null,null,null,null,null,null,null,null,null,null,null,null,null,null,null,null,null,null,null,null,null,null,null,null,null,null,null,null,null,null,null,null,null,null,null,null,null,null,null,null,null,null,null,null,null,null,null,null,null,null,null,null,null,null,null,null,null,null,null,null,null,null,null,null,null,null,null,null,null,null,null,null,null,null,null,null,null,null,null,null,null,null,null,null,null,null,null,null,null,null,null,null,null,null,null,null,null,null,null,null,null,null,null,null,null,null,null,null,null,null,null,null,null,null,null,null,null,null,null,null,null,null,null,null,null,null,null,null,null,null,null,null,null,null,null,null,null,null,null,null,null,null,null,null,null,0]
[null,null,null,null,null,null,null,null,null,null,"v.DairyVIP directory",null,"U:\\projects\\current\\model\\v.dairyvip\\_DairyVIP1.4\\",null,null,null,null,null,null,null,null,null,null,null,null,null,null,null,null,null,"analysis",{"$f":"IF(OR(mainfunction=1,mainfunction=4),1,IF(OR(mainfunction=2,mainfunction=5),2,3))","v":1},null,"A - 3 years, start with MKV file, with replacements",null,null,null,null,null,null,null,null,null,null,null,null,null,null,null,null,null,null,null,null,null,null,null,null,null,null,null,null,null,null,null,null,null,null,null,null,null,null,null,null,null,null,null,null,null,null,null,null,null,null,null,null,null,null,null,null,null,null,null,null,null,null,null,null,null,null,null,null,null,null,null,null,null,null,null,null,null,null,null,null,null,null,null,null,null,null,null,null,null,null,null,null,null,null,null,null,null,null,null,null,null,null,null,null,null,null,null,null,null,null,null,null,null,null,null,null,null,null,null,null,null,null,null,null,null,null,null,null,null,null,null,null,null,null,null,null,null,null,null,null,null,null,null,null,null,null,null,null,null,null,null,null,null,null,null,null,null,null,null,null,null,null,null,null,null,null,null,null,null,null,null,null,null,null,null,null,null,null,null,null,null,null,null,null,null,null,null,null,null,null,null,null,null,null,null,null,null,null,null,null,null,null,null,null,null,null,null,null,null,null,null,null,null,null,null,null,null,null,null,null,null,null,null,null,null,null,null,null,null,null,null,null,null,null,null,null,null,null,null,null,null,null,null,null,null,null,null,null,null,null,null,null,null,null,null,null,null,null,null,null,null,null,null,null,null,null,null,null,null,null,null,null,null,null,null,null,null,null,null,null,null,null,null,null,null,null,null,null,null,null,null,null,null,null,null,null,null,null,null,null,null,null,null,null,null,null,null,null,null,null,null,null,null,null,null,null,null,null,null,null,null,null,null,null,null,null,null,null,null,null,null,null,null,null,null,null,null,null,null,null,null,null,null,null,null,null,null,null,null,null,null,null,null,null,null,null,null,null,null,null,null,null,null,null,null,null,null,null,null,null,null,null,null,null,null,null,null,null,null,null,null,null,null,null,null,null,null,null,null,null,null,null,null,null,null,null,null,null,null,null,null,null,null,null,null,null,null,null,null,null,null,null,null,null,null,null,null,null,null,null,null,null,null,null,null,null,null,null,null,null,null,null,null,null,null,null,null,null,null,null,null,null,null,null,null,null,null,null,null,null,null,null,null,null,null,null,null,null,null,null,null,null,null,null,null,null,null,null,null,null,null,null,null,null,null,null,null,null,null,null,null,null,null,null,null,null,null,null,null,null,null,null,null,null,null,null,null,null,null,null,null,null,null,null,null,null,null,null,null,null,null,null,null,null,null,null,null,null,null,null,null,null,null,null,null,null,null,null,null,null,null,null,null,null,null,null,null,null,null,null,null,null,null,null,null,null,null,null,null,null,null,null,null,null,null,null,null,null,null,null,null,null,null,null,null,null,null,null,null,null,null,null,null,null,null,null,null,null,null,null,null,null,null,null,null,null,null,null,null,null,null,null,null,null,null,null,null,null,null,null,null,null,null,null,null,null,null,null,null,null,null,null,null,null,null,null,null,null,null,null,null,null,null,null,null,null,null,null,null,null,null,null,null,null,null,null,null,null,null,null,null,null,null,null,null,null,null,null,null,null,null,null,null,null,null,null,null,null,null,null,null,null,null,null,null,null,null,null,null,null,null,null,null,null,null,null,null,null,null,null,null,null,null,null,null,null,null,null,null,null,null,null,null,null,null,null,null,null,null,null,null,null,null,null,null,null,null,null,null,null,null,null,null,null,null,null,null,null,null,null,null,null,null,null,null,null,null,null,null,null,null,null,null,null,null,null,null,null,null,null,null,null,null,null,null,null,null,null,null,null,null,null,null,null,null,null,null,null,null,null,null,null,null,null,null,null,null,null,null,null,null,null,null,null,null,null,null,null,null,null,null,null,null,null,null,null,null,null,null,null,null,null,null,null,null,null,null,null,null,null,null,null,null,null,null,null,null,null,null,null,null,null,null,null,null,null,null,null,null,null,null,null,null,null,null,null,null,null,null,null,null,null,null,null,null,null,null,null,null,null,null,null,null,null,null,null,null,null,null,null,null,null,null,null,null,null,null,null,null,null,null,null,null,null,null,null,null,null,null,null,null,null,null,null,null,null,null,null,null,null,null,null,null,null,null,null,null,null,null,null,null,null,null,null,null,null,null,null,null,null,null,null,null,null,null,null,null,null,null,null,null,null,null,null,null,null,null,null,null,null,null,null,null,null,null,null,null,null,null,null,null,null,null,null,null,null,null,null,null,null,null,null,null,null,null,null,null,null,null,null,null,null,null,null,null,null,null,null,null,null,null,null,null,null,null,null,null,null,null,null,null,null,null,null,null,null,null,null,null,null,null,null,null,null,null,null,null,null,null,null,null,null,null,null,null,null,null,null,null,null,null,null,null,null,null,null,null,null,null,null,null,null,null,null,null,null,null,null,null,null,null,null,null,null,null,null,null,null,null,null,null,null,null,null,null,null,null,null,null,null,null,null,null,null,null,null,null,null,null,null,null,null,null,null,null,null,null,null,null,null,null,null,null,null,null,null,null,null,null,null,null,null,null,null,null,null,null,null,null,null,null,null,null,null,null,null,null,null,null,null,null,null,null,null,null,null,null,null,null,null,null,null,null,null,null,null,null,null,null,null,null,null,null,null,null,null,null,null,null,null,null,null,null,null,null,null,null,null,null,null,null,null,null,null,null,null,null,null,null,null,null,null,null,null,null,null,null,null,null,null,null,null,null,null,null,null,null,null,null,null,null,null,null,null,null,null,null,null,null,null,null,null,null,null,null,null,null,null,null,null,null,null,null,null,null,null,null,null,null,null,null,null,null,null,null,null,null,null,null,null,null,null,null,null,null,null,null,null,null,null,null,null,null,null,null,null,null,null,null,null,null,null,null,null,null,null,null,null,null,null,null,null,null,null,null,null,null,null,null,null,null,null,null,null,null,null,null,null,null,null,null,null,null,null,null,null,null,null,null,null,null,null,null,null,null,null,null,null,null,null,null,null,null,null,null,null,null,null,null,null,null,null,null,null,null,null,null,null,null,null,null,null,null,null,null,null,null,null,null,null,null,null,null,null,null,null,null,null,null,null,null,null,null,null,null,null,null,null,null,null,null,null,null,null,null,null,null,null,null,null,null,null,null,null,null,null,null,null,null,null,null,null,null,null,null,null,null,null,null,null,null,null,null,null,null,null,null,null,null,null,null,null,null,null,null,null,null,null,null,null,null,null,null,null,null,null,null,null,null,null,null,null,null,null,null,null,null,null,null,null,null,null,null,null,null,null,null,null,null,null,null,null,null,null,null,null,null,null,null,null,null,null,null,null,null,null,null,null,null,null,null,null,null,null,null,null,null,null,null,null,null,null,null,null,null,null,null,null,null,null,null,null,null,null,null,null,null,null,null,null,null,null,null,null,null,null,null,null,null,null,null,null,null,null,null,null,null,null,null,null,null,null,null,null,null,null,null,null,null,null,null,null,null,null,null,null,null,null,null,null,null,null,null,null,null,null,null,null,null,null,null,null,null,null,null,null,null,null,null,null,null,null,null,null,null,null,null,null,null,null,null,null,null,null,null,null,null,null,null,null,null,null,null,null,null,null,null,null,null,null,null,null,null,null,null,null,null,null,null,null,null,null,null,null,null,null,null,null,null,null,null,null,null,null,null,null,null,null,null,null,null,null,null,null,null,null,null,null,null,null,null,null,null,null,null,null,null,null,null,null,null,null,null,null,null,null,null,null,null,null,null,null,null,null,null,null,null,null,null,null,null,null,null,null,null,null,null,null,null,null,null,null,null,null,null,null,null,null,null,null,null,null,null,null,null,null,null,null,null,null,null,null,null,null,null,null,null,null,null,null,null,null,null,null,null,null,null,null,null,null,null,null,null,null,null,null,null,null,null,null,null,null,null,null,null,null,null,null,null,null,null,null,null,null,null,null,null,null,null,null,null,null,null,null,null,null,null,null,null,null,null,null,null,null,null,null,null,null,null,null,null,null,null,null,null,null,null,null,null,null,null,null,null,null,null,null,null,null,null,null,null,null,null,null,null,null,null,null,null,null,null,null,null,null,null,null,null,null,null,null,null,null,null,null,null,null,null,null,null,null,null,null,null,null,null,null,null,null,null,null,null,null,null,null,null,null,null,null,null,null,null,null,null,null,null,null,null,null,null,null,null,null,null,null,null,null,null,null,null,null,null,null,null,null,null,null,null,null,null,null,null,null,null,null,null,null,null,null,null,null,null,null,null,null,null,null,null,null,null,null,null,null,null,null,null,null,null,null,null,null,null,null,null,null,null,null,null,null,null,null,null,null,null,null,null,null,null,null,null,null,null,null,null,null,null,null,null,null,null,null,null,null,null,null,null,null,null,null,null,null,null,null,null,null,null,null,null,null,null,null,null,null,null,null,null,null,null,null,null,null,null,null,null,null,null,null,null,null,null,null,null,null,null,null,null,null,null,null,null,null,null,null,null,null,null,null,null,null,null,null,null,null,null,null,null,null,null,null,null,null,null,null,null,null,null,null,null,null,null,null,null,null,null,null,null,null,null,null,null,null,null,null,null,null,null,null,null,null,null,null,null,null,null,null,null,null,null,null,null,null,null,null,null,null,null,null,null,null,null,null,null,null,null,null,null,null,null,null,null,null,null,null,null,null,null,null,null,null,null,null,null,null,null,null,null,null,null,null,null,null,null,null,null,null,null,null,null,null,null,null,null,null,null,null,null,null,null,null,null,null,null,null,null,null,null,null,null,null,null,null,null,null,null,null,null,null,null,null,null,null,null,null,null,null,null,null,null,null,null,null,null,null,null,null,null,null,null,null,null,null,null,null,null,null,null,null,null,null,null,null,null,null,null,null,null,null,null,null,null,null,null,null,null,null,null,null,null,null,null,null,null,null,null,null,null,null,null,null,null,null,null,null,null,null,null,null,null,null,null,null,null,null,null,null,null,null,null,null,null,null,null,null,null,null,null,null,null,null,null,null,null,null,null,null,null,null,null,null,null,null,null,null,null,null,null,null,null,null,null,null,null,null,null,null,null,null,null,null,null,null,null,null,null,null,null,null,null,null,null,null,null,null,null,null,null,null,null,null,null,null,null,null,null,null,null,null,null,null,null,null,null,null,null,null,null,null,null,null,null,null,null,null,null,null,null,null,null,null,null,null,null,null,null,null,null,null,null,null,null,null,null,null,null,null,null,null,null,null,null,null,null,null,null,null,null,null,null,null,null,null,null,null,null,null,null,null,null,null,null,null,null,null,null,null,null,null,null,null,null,null,null,null,null,null,null,null,null,null,null,null,null,null,null,null,null,null,null,null,null,null,null,null,null,null,null,null,null,null,null,null,null,null,null,null,null,null,null,null,null,null,null,null,null,null,null,null,null,null,null,null,null,null,null,null,null,null,null,null,null,null,null,null,null,null,null,null,null,null,null,null,null,null,null,null,null,null,null,null,null,null,null,null,null,null,null,null,null,null,null,null,null,null,null,null,null,null,null,null,null,null,null,null,null,null,null,null,null,null,null,null,null,null,null,null,null,null,null,null,null,null,null,null,null,null,null,null,null,null,null,null,null,null,null,null,null,null,null,null,null,null,null,null,null,null,null,null,null,null,null,null,null,null,null,null,null,null,null,null,null,null,null,null,null,null,null,null,null,null,null,null,null,null,null,null,null,null,null,null,null,null,null,null,null,null,null,null,null,null,null,null,null,null,null,null,null,null,null,null,null,null,null,null,null,null,null,null,null,null,null,null,null,null,null,null,null,null,null,null,null,null,null,null,null,null,null,null,null,null,null,null,null,null,null,null,null,null,null,null,null,null,null,null,null,null,null,null,null,null,null,null,null,null,null,null,null,null,null,null,null,null,null,null,null,null,null,null,null,null,null,null,null,null,null,null,null,null,null,null,null,null,null,null,null,null,null,null,null,null,null,null,null,null,null,null,null,null,null,null,null,null,null,null,null,null,null,null,null,null,null,null,null,null,null,null,null,null,null,null,null,null,null,null,null,null,null,null,null,null,null,null,null,null,null,null,null,null,null,null,null,null,null,null,null,null,null,null,null,null,null,null,null,null,null,null,null,null,null,null,null,null,null,null,null,null,null,null,null,null,null,null,null,null,null,null,null,null,null,null,null,null,null,null,null,null,null,null,null,null,null,null,null,null,null,null,null,null,null,null,null,null,null,null,null,null,null,null,null,null,null,null,null,null,null,null,null,null,null,null,null,null,null,null,null,null,null,null,null,null,null,null,null,null,null,null,null,null,null,null,null,null,null,null,null,null,null,null,null,null,null,null,null,null,null,null,null,null,null,null,null,null,null,null,null,null,null,null,null,null,null,null,null,null,null,null,null,null,null,null,null,null,null,null,null,null,null,null,null,null,null,null,null,null,null,null,null,null,null,null,null,null,null,null,null,null,null,null,null,null,null,null,null,null,null,null,null,null,null,null,null,null,null,null,null,null,null,null,null,null,null,null,null,null,null,null,null,null,null,null,null,null,null,null,null,null,null,null,null,null,null,null,null,null,null,null,null,null,null,null,null,null,null,null,null,null,null,null,null,null,null,null,null,null,null,null,null,null,null,null,null,null,null,null,null,null,null,null,null,null,null,null,null,null,null,null,null,null,null,null,null,null,null,null,null,null,null,null,null,null,null,null,null,null,null,null,null,null,null,null,null,null,null,null,null,null,null,null,null,null,null,null,null,null,null,null,null,null,null,null,null,null,null,null,null,null,null,null,null,null,null,null,null,null,null,null,null,null,null,null,null,null,null,null,null,null,null,null,null,null,null,null,null,null,null,null,null,null,null,null,null,null,null,null,null,null,null,null,null,null,null,null,null,null,null,null,null,null,null,null,null,null,null,null,null,null,null,null,null,null,null,null,null,null,null,null,null,null,null,null,null,null,null,null,null,null,null,null,null,null,null,null,null,null,null,null,null,null,null,null,null,null,null,null,null,null,null,null,null,null,null,null,null,null,null,null,null,null,null,null,null,null,null,null,null,null,null,null,null,null,null,null,null,null,null,null,null,null,null,null,null,null,null,null,null,null,null,null,null,null,null,null,null,null,null,null,null,null,null,null,null,null,null,null,null,null,null,null,null,null,null,null,null,null,null,null,null,null,null,null,null,null,null,null,null,null,null,null,null,null,null,null,null,null,null,null,null,null,null,null,null,null,null,null,null,null,null,null,null,null,null,null,null,null,null,null,null,null,null,null,null,null,null,null,null,null,null,null,null,null,null,null,null,null,null,null,null,null,null,null,null,null,null,null,null,null,null,null,null,null,null,null,null,null,null,null,null,null,null,null,null,null,null,null,null,null,null,null,null,null,null,null,null,null,null,null,null,null,null,null,null,null,null,null,null,null,null,null,null,null,null,null,null,null,null,null,null,null,null,null,null,null,null,null,null,null,null,null,null,null,null,null,null,null,null,null,null,null,null,null,null,null,null,null,null,null,null,null,null,null,null,null,null,null,null,null,null,null,null,null,null,null,null,null,null,null,null,null,null,null,null,null,null,null,null,null,null,null,null,null,null,null,null,null,null,null,null,null,null,null,null,null,null,null,null,null,null,null,null,null,null,null,null,null,null,null,null,null,null,null,null,null,null,null,null,null,null,null,null,null,null,null,null,null,null,null,null,null,null,null,null,null,null,null,null,null,null,null,null,null,null,null,null,null,null,null,null,null,null,null,null,null,null,null,null,null,null,null,null,null,null,null,null,null,null,null,null,null,null,null,null,null,null,null,null,null,null,null,null,null,null,null,null,null,null,null,null,null,null,null,null,null,null,null,null,null,null,null,null,null,null,null,null,null,null,null,null,null,null,null,null,null,null,null,null,null,null,null,null,null,null,null,null,null,null,null,null,null,null,null,null,null,null,null,null,null,null,null,null,null,null,null,null,null,null,null,null,null,null,null,null,null,null,null,null,null,null,null,null,null,null,null,null,null,null,null,null,null,null,null,null,null,null,null,null,null,null,null,null,null,null,null,null,null,null,null,null,null,null,null,null,null,null,null,null,null,null,null,null,null,null,null,null,null,null,null,null,null,null,null,null,null,null,null,null,null,null,null,null,null,null,null,null,null,null,null,null,null,null,null,null,null,null,null,null,null,null,null,null,null,null,null,null,null,null,null,null,null,null,null,null,null,null,null,null,null,null,null,null,null,null,null,null,null,null,null,null,null,null,null,null,null,null,null,null,null,null,null,null,null,null,null,null,null,null,null,null,null,null,null,null,null,null,null,null,null,null,null,null,null,null,null,null,null,null,null,null,null,null,null,null,null,null,null,null,null,null,null,null,null,null,null,null,null,null,null,null,null,null,null,null,null,null,null,null,null,null,null,null,null,null,null,null,null,null,null,null,null,null,null,null,null,null,null,null,null,null,null,null,null,null,null,null,null,null,null,null,null,null,null,null,null,null,null,null,null,null,null,null,null,null,null,null,null,null,null,null,null,null,null,null,null,null,null,null,null,null,null,null,null,null,null,null,null,null,null,null,null,null,null,null,null,null,null,null,null,null,null,null,null,null,null,null,null,null,null,null,null,null,null,null,null,null,null,null,null,null,null,null,null,null,null,null,null,null,null,null,null,null,null,null,null,null,null,null,null,null,null,null,null,null,null,null,null,null,null,null,null,null,null,null,null,null,null,null,null,null,null,null,null,null,null,null,null,null,null,null,null,null,null,null,null,null,null,null,null,null,null,null,null,null,null,null,null,null,null,null,null,null,null,null,null,null,null,null,null,null,null,null,null,null,null,null,null,null,null,null,null,null,null,null,null,null,null,null,null,null,null,null,null,null,null,null,null,null,null,null,null,null,null,null,null,null,null,null,null,null,null,null,null,null,null,null,null,null,null,null,null,null,null,null,null,null,null,null,null,null,null,null,null,null,null,null,null,null,null,null,null,null,null,null,null,null,null,null,null,null,null,null,null,null,null,null,null,null,null,null,null,null,null,null,null,null,null,null,null,null,null,null,null,null,null,null,null,null,null,null,null,null,null,null,null,null,null,null,null,null,null,null,null,null,null,null,null,null,null,null,null,null,null,null,null,null,null,null,null,null,null,null,null,null,null,null,null,null,null,null,null,null,null,null,null,null,null,null,null,null,null,null,null,null,null,null,null,null,null,null,null,null,null,null,null,null,null,null,null,null,null,null,null,null,null,null,null,null,null,null,null,null,null,null,null,null,null,null,null,null,null,null,null,null,null,null,null,null,null,null,null,null,null,null,null,null,null,null,null,null,null,null,null,null,null,null,null,null,null,null,null,null,null,null,null,null,null,null,null,null,null,null,null,null,null,null,null,null,null,null,null,null,null,null,null,null,null,null,null,null,null,null,null,null,null,null,null,null,null,null,null,null,null,null,null,null,null,null,null,null,null,null,null,null,null,null,null,null,null,null,null,null,null,null,null,null,null,null,null,null,null,null,null,null,null,null,null,null,null,null,null,null,null,null,null,null,null,null,null,null,null,null,null,null,null,null,null,null,null,null,null,null,null,null,null,null,null,null,null,null,null,null,null,null,null,null,null,null,null,null,null,null,null,null,null,null,null,null,null,null,null,null,null,null,null,null,null,null,null,null,null,null,null,null,null,null,null,null,null,null,null,null,null,null,null,null,null,null,null,null,null,null,null,null,null,null,null,null,null,null,null,null,null,null,null,null,null,null,null,null,null,null,null,null,null,null,null,null,null,null,null,null,null,null,null,null,null,null,null,null,null,null,null,null,null,null,null,null,null,null,null,null,null,null,null,null,null,null,null,null,null,null,null,null,null,null,null,null,null,null,null,null,null,null,null,null,null,null,null,null,null,null,null,null,null,null,null,null,null,null,null,null,null,null,null,null,null,null,null,null,null,null,null,null,null,null,null,null,null,null,null,null,null,null,null,null,null,null,null,null,null,null,null,null,null,null,null,null,null,null,null,null,null,null,null,null,null,null,null,null,null,null,null,null,null,null,null,null,null,null,null,null,null,null,null,null,null,null,null,null,null,null,null,null,null,null,null,null,null,null,null,null,null,null,null,null,null,null,null,null,null,null,null,null,null,null,null,null,null,null,null,null,null,null,null,null,null,null,null,null,null,null,null,null,null,null,null,null,null,null,null,null,null,null,null,null,null,null,null,null,null,null,null,null,null,null,null,null,null,null,null,null,null,null,null,null,null,null,null,null,null,null,null,null,null,null,null,null,null,null,null,null,null,null,null,null,null,null,null,null,null,null,null,null,null,null,null,null,null,null,null,null,null,null,null,null,null,null,null,null,null,null,null,null,null,null,null,null,null,null,null,null,null,null,null,null,null,null,null,null,null,null,null,null,null,null,null,null,null,null,null,null,null,null,null,null,null,null,null,null,null,null,null,null,null,null,null,null,null,null,null,null,null,null,null,null,null,null,null,null,null,null,null,null,null,null,null,null,null,null,null,null,null,null,null,null,null,null,null,null,null,null,null,null,null,null,null,null,null,null,null,null,null,null,null,null,null,null,null,null,null,null,null,null,null,null,null,null,null,null,null,null,null,null,null,null,null,null,null,null,null,null,null,null,null,null,null,null,null,null,null,null,null,null,null,null,null,null,null,null,null,null,null,null,null,null,null,null,null,null,null,null,null,null,null,null,null,null,null,null,null,null,null,null,null,null,null,null,null,null,null,null,null,null,null,null,null,null,null,null,null,null,null,null,null,null,null,null,null,null,null,null,null,null,null,null,null,null,null,null,null,null,null,null,null,null,null,null,null,null,null,null,null,null,null,null,null,null,null,null,null,null,null,null,null,null,null,null,null,null,null,null,null,null,null,null,null,null,null,null,null,null,null,null,null,null,null,null,null,null,null,null,null,null,null,null,null,null,null,null,null,null,null,null,null,null,null,null,null,null,null,null,null,null,null,null,null,null,null,null,null,null,null,null,null,null,null,null,null,null,null,null,null,null,null,null,null,null,null,null,null,null,null,null,null,null,null,null,null,null,null,null,null,null,null,null,null,null,null,null,null,null,null,null,null,null,null,null,null,null,null,null,null,null,null,null,null,null,null,null,null,null,null,null,null,null,null,null,null,null,null,null,null,null,null,null,null,null,null,null,null,null,null,null,null,null,null,null,null,null,null,null,null,null,null,null,null,null,null,null,null,null,null,null,null,null,null,null,null,null,null,null,null,null,null,null,null,null,null,null,null,null,null,null,null,null,null,null,null,null,null,null,null,null,null,null,null,null,null,null,null,null,null,null,null,null,null,null,null,null,null,null,null,null,null,null,null,null,null,null,null,null,null,null,null,null,null,null,null,null,null,null,null,null,null,null,null,null,null,null,null,null,null,null,null,null,null,null,null,null,null,null,null,null,null,null,null,null,null,null,null,null,null,null,null,null,null,null,null,null,null,null,null,null,null,null,null,null,null,null,null,null,null,null,null,null,null,null,null,null,null,null,null,null,null,null,null,null,null,null,null,null,null,null,null,null,null,null,null,null,null,null,null,null,null,null,null,null,null,null,null,null,null,null,null,null,null,null,null,null,null,null,null,null,null,null,null,null,null,null,null,null,null,null,null,null,null,null,null,null,null,null,null,null,null,null,null,null,null,null,null,null,null,null,null,null,null,null,null,null,null,null,null,null,null,null,null,null,null,null,null,null,null,null,null,null,null,null,null,null,null,null,null,null,null,null,null,null,null,null,null,null,null,null,null,null,null,null,null,null,null,null,null,null,null,null,null,null,null,null,null,null,null,null,null,null,null,null,null,null,null,null,null,null,null,null,null,null,null,null,null,null,null,null,null,null,null,null,null,null,null,null,null,null,null,null,null,null,null,null,null,null,null,null,null,null,null,null,null,null,null,null,null,null,null,null,null,null,null,null,null,null,null,null,null,null,null,null,null,null,null,null,null,null,null,null,null,null,null,null,null,null,null,null,null,null,null,null,null,null,null,null,null,null,null,null,null,null,null,null,null,null,null,null,null,null,null,null,null,null,null,null,null,null,null,null,null,null,null,null,null,null,null,null,null,null,null,null,null,null,null,null,null,null,null,null,null,null,null,null,null,null,null,null,null,null,null,null,null,null,null,null,null,null,null,null,null,null,null,null,null,null,null,null,null,null,null,null,null,null,null,null,null,null,null,null,null,null,null,null,null,null,null,null,null,null,null,null,null,null,null,null,null,null,null,null,null,null,null,null,null,null,null,null,null,null,null,null,null,null,null,null,null,null,null,null,null,null,null,null,null,null,null,null,null,null,null,null,null,null,null,null,null,null,null,null,null,null,null,null,null,null,null,null,null,null,null,null,null,null,null,null,null,null,null,null,null,null,null,null,null,null,null,null,null,null,null,null,null,null,null,null,null,null,null,null,null,null,null,null,null,null,null,null,null,null,null,null,null,null,null,null,null,null,null,null,null,null,null,null,null,null,null,null,null,null,null,null,null,null,null,null,null,null,null,null,null,null,null,null,null,null,null,null,null,null,null,null,null,null,null,null,null,null,null,null,null,null,null,null,null,null,null,null,null,null,null,null,null,null,null,null,null,null,null,null,null,null,null,null,null,null,null,null,null,null,null,null,null,null,null,null,null,null,null,null,null,null,null,null,null,null,null,null,null,null,null,null,null,null,null,null,null,null,null,null,null,null,null,null,null,null,null,null,null,null,null,null,null,null,null,null,null,null,null,null,null,null,null,null,null,null,null,null,null,null,null,null,null,null,null,null,null,null,null,null,null,null,null,null,null,null,null,null,null,null,null,null,null,null,null,null,null,null,null,null,null,null,null,null,null,null,null,null,null,null,null,null,null,null,null,null,null,null,null,null,null,null,null,null,null,null,null,null,null,null,null,null,null,null,null,null,null,null,null,null,null,null,null,null,null,null,null,null,null,null,null,null,null,null,null,null,null,null,null,null,null,null,null,null,null,null,null,null,null,null,null,null,null,null,null,null,null,null,null,null,null,null,null,null,null,null,null,null,null,null,null,null,null,null,null,null,null,null,null,null,null,null,null,null,null,null,null,null,null,null,null,null,null,null,null,null,null,null,null,null,null,null,null,null,null,null,null,null,null,null,null,null,null,null,null,null,null,null,null,null,null,null,null,null,null,null,null,null,null,null,null,null,null,null,null,null,null,null,null,null,null,null,null,null,null,null,null,null,null,null,null,null,null,null,null,null,null,null,null,null,null,null,null,null,null,null,null,null,null,null,null,null,null,null,null,null,null,null,null,null,null,null,null,null,null,null,null,null,null,null,null,null,null,null,null,null,null,null,null,null,null,null,null,null,null,null,null,null,null,null,null,null,null,null,null,null,null,null,null,null,null,null,null,null,null,null,null,null,null,null,null,null,null,null,null,null,null,null,null,null,null,null,null,null,null,null,null,null,null,null,null,null,null,null,null,null,null,null,null,null,null,null,null,null,null,null,null,null,null,null,null,null,null,null,null,null,null,null,null,null,null,null,null,null,null,null,null,null,null,null,null,null,null,null,null,null,null,null,null,null,null,null,null,null,null,null,null,null,null,null,null,null,null,null,null,null,null,null,null,null,null,null,null,null,null,null,null,null,null,null,null,null,null,null,null,null,null,null,null,null,null,null,null,null,null,null,null,null,null,null,null,null,null,null,null,null,null,null,null,null,null,null,null,null,null,null,null,null,null,null,null,null,null,null,null,null,null,null,null,null,null,null,null,null,null,null,null,null,null,null,null,null,null,null,null,null,null,null,null,null,null,null,null,null,null,null,null,null,null,null,null,null,null,null,null,null,null,null,null,null,null,null,null,null,null,null,null,null,null,null,null,null,null,null,null,null,null,null,null,null,null,null,null,null,null,null,null,null,null,null,null,null,null,null,null,null,null,null,null,null,null,null,null,null,null,null,null,null,null,null,null,null,null,null,null,null,null,null,null,null,null,null,null,null,null,null,null,null,null,null,null,null,null,null,null,null,null,null,null,null,null,null,null,null,null,null,null,null,null,null,null,null,null,null,null,null,null,null,null,null,null,null,null,null,null,null,null,null,null,null,null,null,null,null,null,null,null,null,null,null,null,null,null,null,null,null,null,null,null,null,null,null,null,null,null,null,null,null,null,null,null,null,null,null,null,null,null,null,null,null,null,null,null,null,null,null,null,null,null,null,null,null,null,null,null,null,null,null,null,null,null,null,null,null,null,null,null,null,null,null,null,null,null,null,null,null,null,null,null,null,null,null,null,null,null,null,null,null,null,null,null,null,null,null,null,null,null,null,null,null,null,null,null,null,null,null,null,null,null,null,null,null,null,null,null,null,null,null,null,null,null,null,null,null,null,null,null,null,null,null,null,null,null,null,null,null,null,null,null,null,null,null,null,null,null,null,null,null,null,null,null,null,null,null,null,null,null,null,null,null,null,null,null,null,null,null,null,null,null,null,null,null,null,null,null,null,null,null,null,null,null,null,null,null,null,null,null,null,null,null,null,null,null,null,null,null,null,null,null,null,null,null,null,null,null,null,null,null,null,null,null,null,null,null,null,null,null,null,null,null,null,null,null,null,null,null,null,null,null,null,null,null,null,null,null,null,null,null,null,null,null,null,null,null,null,null,null,null,null,null,null,null,null,null,null,null,null,null,null,null,null,null,null,null,null,null,null,null,null,null,null,null,null,null,null,null,null,null,null,null,null,null,null,null,null,null,null,null,null,null,null,null,null,null,null,null,null,null,null,null,null,null,null,null,null,null,null,null,null,null,null,null,null,null,null,null,null,null,null,null,null,null,null,null,null,null,null,null,null,null,null,null,null,null,null,null,null,null,null,null,null,null,null,null,null,null,null,null,null,null,null,null,null,null,null,null,null,null,null,null,null,null,null,null,null,null,null,null,null,null,null,null,null,null,null,null,null,null,null,null,null,null,null,null,null,null,null,null,null,null,null,null,null,null,null,null,null,null,null,null,null,null,null,null,null,null,null,null,null,null,null,null,null,null,null,null,null,null,null,null,null,null,null,null,null,null,null,null,null,null,null,null,null,null,null,null,null,null,null,null,null,null,null,null,null,null,null,null,null,null,null,null,null,null,null,null,null,null,null,null,null,null,null,null,null,null,null,null,null,null,null,null,null,null,null,null,null,null,null,null,null,null,null,null,null,null,null,null,null,null,null,null,null,null,null,null,null,null,null,null,null,null,null,null,null,null,null,null,null,null,null,null,null,null,null,null,null,null,null,null,null,null,null,null,null,null,null,null,null,null,null,null,null,null,null,null,null,null,null,null,null,null,null,null,null,null,null,null,null,null,null,null,null,null,null,null,null,null,null,null,null,null,null,null,null,null,null,null,null,null,null,null,null,null,null,null,null,null,null,null,null,null,null,null,null,null,null,null,null,null,null,null,null,null,null,null,null,null,null,null,null,null,null,null,null,null,null,null,null,null,null,null,null,null,null,null,null,null,null,null,null,null,null,null,null,null,null,null,null,null,null,null,null,null,null,null,null,null,null,null,null,null,null,null,null,null,null,null,null,null,null,null,null,null,null,null,null,null,null,null,null,null,null,null,null,null,null,null,null,null,null,null,null,null,null,null,null,null,null,null,null,null,null,null,null,null,null,null,null,null,null,null,null,null,null,null,null,null,null,null,null,null,null,null,null,null,null,null,null,null,null,null,null,null,null,null,null,null,null,null,null,null,null,null,null,null,null,null,null,null,null,null,null,null,null,null,null,null,null,null,null,null,null,null,null,null,null,null,null,null,null,null,null,null,null,null,null,null,null,null,null,null,null,null,null,null,null,null,null,null,null,null,null,null,null,null,null,null,null,null,null,null,null,null,null,null,null,null,null,null,null,null,null,null,null,null,null,null,null,null,null,null,null,null,null,null,null,null,null,null,null,null,null,null,null,null,null,null,null,null,null,null,null,null,null,null,null,null,null,null,null,null,null,null,null,null,null,null,null,null,null,null,null,null,null,null,null,null,null,null,null,null,null,null,null,null,null,null,null,null,null,null,null,null,null,null,null,null,null,null,null,null,null,null,null,null,null,null,null,null,null,null,null,null,null,null,null,null,null,null,null,null,null,null,null,null,null,null,null,null,null,null,null,null,null,null,null,null,null,null,null,null,null,null,null,null,null,null,null,null,null,null,null,null,null,null,null,null,null,null,null,null,null,null,null,null,null,null,null,null,null,null,null,null,null,null,null,null,null,null,null,null,null,null,null,null,null,null,null,null,null,null,null,null,null,null,null,null,null,null,null,null,null,null,null,null,null,null,null,null,null,null,null,null,null,null,null,null,null,null,null,null,null,null,null,null,null,null,null,null,null,null,null,null,null,null,null,null,null,null,null,null,null,null,null,null,null,null,null,null,null,null,null,null,null,null,null,null,null,null,null,null,null,null,null,null,null,null,null,null,null,null,null,null,null,null,null,null,null,null,null,null,null,null,null,null,null,null,null,null,null,null,null,null,null,null,null,null,null,null,null,null,null,null,null,null,null,null,null,null,null,null,null,null,null,null,null,null,null,null,null,null,null,null,null,null,null,null,null,null,null,null,null,null,null,null,null,null,null,null,null,null,null,null,null,null,null,null,null,null,null,null,null,null,null,null,null,null,null,null,null,null,null,null,null,null,null,null,null,null,null,null,null,null,null,null,null,null,null,null,null,null,null,null,null,null,null,null,null,null,null,null,null,null,null,null,null,null,null,null,null,null,null,null,null,null,null,null,null,null,null,null,null,null,null,null,null,null,null,null,null,null,null,null,null,null,null,null,null,null,null,null,null,null,null,null,null,null,null,null,null,null,null,null,null,null,null,null,null,null,null,null,null,null,null,null,null,null,null,null,null,null,null,null,null,null,null,null,null,null,null,null,null,null,null,null,null,null,null,null,null,null,null,null,null,null,null,null,null,null,null,null,null,null,null,null,null,null,null,null,null,null,null,null,null,null,null,null,null,null,null,null,null,null,null,null,null,null,null,null,null,null,null,null,null,null,null,null,null,null,null,null,null,null,null,null,null,null,null,null,null,null,null,null,null,null,null,null,null,null,null,null,null,null,null,null,null,null,null,null,null,null,null,null,null,null,null,null,null,null,null,null,null,null,null,null,null,null,null,null,null,null,null,null,null,null,null,null,null,null,null,null,null,null,null,null,null,null,null,null,null,null,null,null,null,null,null,null,null,null,null,null,null,null,null,null,null,null,null,null,null,null,null,null,null,null,null,null,null,null,null,null,null,null,null,null,null,null,null,null,null,null,null,null,null,null,null,null,null,null,null,null,null,null,null,null,null,null,null,null,null,null,null,null,null,null,null,null,null,null,null,null,null,null,null,null,null,null,null,null,null,null,null,null,null,null,null,null,null,null,null,null,null,null,null,null,null,null,null,null,null,null,null,null,null,null,null,null,null,null,null,null,null,null,null,null,null,null,null,null,null,null,null,null,null,null,null,null,null,null,null,null,null,null,null,null,null,null,null,null,null,null,null,null,null,null,null,null,null,null,null,null,null,null,null,null,null,null,null,null,null,null,null,null,null,null,null,null,null,null,null,null,null,null,null,null,null,null,null,null,null,null,null,null,null,null,null,null,null,null,null,null,null,null,null,null,null,null,null,null,null,null,null,null,null,null,null,null,null,null,null,null,null,null,null,null,null,null,null,null,null,null,null,null,null,null,null,null,null,null,null,null,null,null,null,null,null,null,null,null,null,null,null,null,null,null,null,null,null,null,null,null,null,null,null,null,null,null,null,null,null,null,null,null,null,null,null,null,null,null,null,null,null,null,null,null,null,null,null,null,null,null,null,null,null,null,null,null,null,null,null,null,null,null,null,null,null,null,null,null,null,null,null,null,null,null,null,null,null,null,null,null,null,null,null,null,null,null,null,null,null,null,null,null,null,null,null,null,null,null,null,null,null,null,null,null,null,null,null,null,null,null,null,null,null,null,null,null,null,null,null,null,null,null,null,null,null,null,null,null,null,null,null,null,null,null,null,null,null,null,null,null,null,null,null,null,null,null,null,null,null,null,null,null,null,null,null,null,null,null,null,null,null,null,null,null,null,null,null,null,null,null,null,null,null,null,null,null,null,null,null,null,null,null,null,null,null,null,null,null,null,null,null,null,null,null,null,null,null,null,null,null,null,null,null,null,null,null,null,null,null,null,null,null,null,null,null,null,null,null,null,null,null,null,null,null,null,null,null,null,null,null,null,null,null,null,null,null,null,null,null,null,null,null,null,null,null,null,null,null,null,null,null,null,null,null,null,null,null,null,null,null,null,null,null,null,null,null,null,null,null,null,null,null,null,null,null,null,null,null,null,null,null,null,null,null,null,null,null,null,null,null,null,null,null,null,null,null,null,null,null,null,null,null,null,null,null,null,null,null,null,null,null,null,null,null,null,null,null,null,null,null,null,null,null,null,null,null,null,null,null,null,null,null,null,null,null,null,null,null,null,null,null,null,null,null,null,null,null,null,null,null,null,null,null,null,null,null,null,null,null,null,null,null,null,null,null,null,null,null,null,null,null,null,null,null,null,null,null,null,null,null,null,null,null,null,null,null,null,null,null,null,null,null,null,null,null,null,null,null,null,null,null,null,null,null,null,null,null,null,null,null,null,null,null,null,null,null,null,null,null,null,null,null,null,null,null,null,null,null,null,null,null,null,null,null,null,null,null,null,null,null,null,null,null,null,null,null,null,null,null,null,null,null,null,null,null,null,null,null,null,null,null,null,null,null,null,null,null,null,null,null,null,null,null,null,null,null,null,null,null,null,null,null,null,null,null,null,null,null,null,null,null,null,null,null,null,null,null,null,null,null,null,null,null,null,null,null,null,null,null,null,null,null,null,null,null,null,null,null,null,null,null,null,null,null,null,null,null,null,null,null,null,null,null,null,null,null,null,null,null,null,null,null,null,null,null,null,null,null,null,null,null,null,null,null,null,null,null,null,null,null,null,null,null,null,null,null,null,null,null,null,null,null,null,null,null,null,null,null,null,null,null,null,null,null,null,null,null,null,null,null,null,null,null,null,null,null,null,null,null,null,null,null,null,null,null,null,null,null,null,null,null,null,null,null,null,null,null,null,null,null,null,null,null,null,null,null,null,null,null,null,null,null,null,null,null,null,null,null,null,null,null,null,null,null,null,null,null,null,null,null,null,null,null,null,null,null,null,null,null,null,null,null,null,null,null,null,null,null,null,null,null,null,null,null,null,null,null,null,null,null,null,null,null,null,null,null,null,null,null,null,null,null,null,null,null,null,null,null,null,null,null,null,null,null,null,null,null,null,null,null,null,null,null,null,null,null,null,null,null,null,null,null,null,null,null,null,null,null,null,null,null,null,null,null,null,null,null,null,null,null,null,null,null,null,null,null,null,null,null,null,null,null,null,null,null,null,null,null,null,null,null,null,null,null,null,null,null,null,null,null,null,null,null,null,null,null,null,null,null,null,null,null,null,null,null,null,null,null,null,null,null,null,null,null,null,null,null,null,null,null,null,null,null,null,null,null,null,null,null,null,null,null,null,null,null,null,null,null,null,null,null,null,null,null,null,null,null,null,null,null,null,null,null,null,null,null,null,null,null,null,null,null,null,null,null,null,null,null,null,null,null,null,null,null,null,null,null,null,null,null,null,null,null,null,null,null,null,null,null,null,null,null,null,null,null,null,null,null,null,null,null,null,null,null,null,null,null,null,null,null,null,null,null,null,null,null,null,null,null,null,null,null,null,null,null,null,null,null,null,null,null,null,null,null,null,null,null,null,null,null,null,null,null,null,null,null,null,null,null,null,null,null,null,null,null,null,null,null,null,null,null,null,null,null,null,null,null,null,null,null,null,null,null,null,null,null,null,null,null,null,null,null,null,null,null,null,null,null,null,null,null,null,null,null,null,null,null,null,null,null,null,null,null,null,null,null,null,null,null,null,null,null,null,null,null,null,null,null,null,null,null,null,null,null,null,null,null,null,null,null,null,null,null,null,null,null,null,null,null,null,null,null,null,null,null,null,null,null,null,null,null,null,null,null,null,null,null,null,null,null,null,null,null,null,null,null,null,null,null,null,null,null,null,null,null,null,null,null,null,null,null,null,null,null,null,null,null,null,null,null,null,null,null,null,null,null,null,null,null,null,null,null,null,null,null,null,null,null,null,null,null,null,null,null,null,null,null,null,null,null,null,null,null,null,null,null,null,null,null,null,null,null,null,null,null,null,null,null,null,null,null,null,null,null,null,null,null,null,null,null,null,null,null,null,null,null,null,null,null,null,null,null,null,null,null,null,null,null,null,null,null,null,null,null,null,null,null,null,null,null,null,null,null,null,null,null,null,null,null,null,null,null,null,null,null,null,null,null,null,null,null,null,null,null,null,null,null,null,null,null,null,null,null,null,null,null,null,null,null,null,null,null,null,null,null,null,null,null,null,null,null,null,null,null,null,null,null,null,null,null,null,null,null,null,null,null,null,null,null,null,null,null,null,null,null,null,null,null,null,null,null,null,null,null,null,null,null,null,null,null,null,null,null,null,null,null,null,null,null,null,null,null,null,null,null,null,null,null,null,null,null,null,null,null,null,null,null,null,null,null,null,null,null,null,null,null,null,null,null,null,null,null,null,null,null,null,null,null,null,null,null,null,null,null,null,null,null,null,null,null,null,null,null,null,null,null,null,null,null,null,null,null,null,null,null,null,null,null,null,null,null,null,null,null,null,null,null,null,null,null,null,null,null,null,null,null,null,null,null,null,null,null,null,null,null,null,null,null,null,null,null,null,null,null,null,null,null,null,null,null,null,null,null,null,null,null,null,null,null,null,null,null,null,null,null,null,null,null,null,null,null,null,null,null,null,null,null,null,null,null,null,null,null,null,null,null,null,null,null,null,null,null,null,null,null,null,null,null,null,null,null,null,null,null,null,null,null,null,null,null,null,null,null,null,null,null,null,null,null,null,null,null,null,null,null,null,null,null,null,null,null,null,null,null,null,null,null,null,null,null,null,null,null,null,null,null,null,null,null,null,null,null,null,null,null,null,null,null,null,null,null,null,null,null,null,null,null,null,null,null,null,null,null,null,null,null,null,null,null,null,null,null,null,null,null,null,null,null,null,null,null,null,null,null,null,null,null,null,null,null,null,null,null,null,null,null,null,null,null,null,null,null,null,null,null,null,null,null,null,null,null,null,null,null,null,null,null,null,null,null,null,null,null,null,null,null,null,null,null,null,null,null,null,null,null,null,null,null,null,null,null,null,null,null,null,null,null,null,null,null,null,null,null,null,null,null,null,null,null,null,null,null,null,null,null,null,null,null,null,null,null,null,null,null,null,null,null,null,null,null,null,null,null,null,null,null,null,null,null,null,null,null,null,null,null,null,null,null,null,null,null,null,null,null,null,null,null,null,null,null,null,null,null,null,null,null,null,null,null,null,null,null,null,null,null,null,null,null,null,null,null,null,null,null,null,null,null,null,null,null,null,null,null,null,null,null,null,null,null,null,null,null,null,null,null,null,null,null,null,null,null,null,null,null,null,null,null,null,null,null,null,null,null,null,null,null,null,null,null,null,null,null,null,null,null,null,null,null,null,null,null,null,null,null,null,null,null,null,null,null,null,null,null,null,null,null,null,null,null,null,null,null,null,null,null,null,null,null,null,null,null,null,null,null,null,null,null,null,null,null,null,null,null,null,null,null,null,null,null,null,null,null,null,null,null,null,null,null,null,null,null,null,null,null,null,null,null,null,null,null,null,null,null,null,null,null,null,null,null,null,null,null,null,null,null,null,null,null,null,null,null,null,null,null,null,null,null,null,null,null,null,null,null,null,null,null,null,null,null,null,null,null,null,null,null,null,null,null,null,null,null,null,null,null,null,null,null,null,null,null,null,null,null,null,null,null,null,null,null,null,null,null,null,null,null,null,null,null,null,null,null,null,null,null,null,null,null,null,null,null,null,null,null,null,null,null,null,null,null,null,null,null,null,null,null,null,null,null,null,null,null,null,null,null,null,null,null,null,null,null,null,null,null,null,null,null,null,null,null,null,null,null,null,null,null,null,null,null,null,null,null,null,null,null,null,null,null,null,null,null,null,null,null,null,null,null,null,null,null,null,null,null,null,null,null,null,null,null,null,null,null,null,null,null,null,null,null,null,null,null,null,null,null,null,null,null,null,null,null,null,null,null,null,null,null,null,null,null,null,null,null,null,null,null,null,null,null,null,null,null,null,null,null,null,null,null,null,null,null,null,null,null,null,null,null,null,null,null,null,null,null,null,null,null,null,null,null,null,null,null,null,null,null,null,null,null,null,null,null,null,null,null,null,null,null,null,null,null,null,null,null,null,null,null,null,null,null,null,null,null,null,null,null,null,null,null,null,null,null,null,null,null,null,null,null,null,null,null,null,null,null,null,null,null,null,null,null,null,null,null,null,null,null,null,null,null,null,null,null,null,null,null,null,null,null,null,null,null,null,null,null,null,null,null,null,null,null,null,null,null,null,null,null,null,null,null,null,null,null,null,null,null,null,null,null,null,null,null,null,null,null,null,null,null,null,null,null,null,null,null,null,null,null,null,null,null,null,null,null,null,null,null,null,null,null,null,null,null,null,null,null,null,null,null,null,null,null,null,null,null,null,null,null,null,null,null,null,null,null,null,null,null,null,null,null,null,null,null,null,null,null,null,null,null,null,null,null,null,null,null,null,null,null,null,null,null,null,null,null,null,null,null,null,null,null,null,null,null,null,null,null,null,null,null,null,null,null,null,null,null,null,null,null,null,null,null,null,null,null,null,null,null,null,null,null,null,null,null,null,null,null,null,null,null,null,null,null,null,null,null,null,null,null,null,null,null,null,null,null,null,null,null,null,null,null,null,null,null,null,null,null,null,null,null,null,null,null,null,null,null,null,null,null,null,null,null,null,null,null,null,null,null,null,null,null,null,null,null,null,null,null,null,null,null,null,null,null,null,null,null,null,null,null,null,null,null,null,null,null,null,null,null,null,null,null,null,null,null,null,null,null,null,null,null,null,null,null,null,null,null,null,null,null,null,null,null,null,null,null,null,null,null,null,null,null,null,null,null,null,null,null,null,null,null,null,null,null,null,null,null,null,null,null,null,null,null,null,null,null,null,null,null,null,null,null,null,null,null,null,null,null,null,null,null,null,null,null,null,null,null,null,null,null,null,null,null,null,null,null,null,null,null,null,null,null,null,null,null,null,null,null,null,null,null,null,null,null,null,null,null,null,null,null,null,null,null,null,null,null,null,null,null,null,null,null,null,null,null,null,null,null,null,null,null,null,null,null,null,null,null,null,null,null,null,null,null,null,null,null,null,null,null,null,null,null,null,null,null,null,null,null,null,null,null,null,null,null,null,null,null,null,null,null,null,null,null,null,null,null,null,null,null,null,null,null,null,null,null,null,null,null,null,null,null,null,null,null,null,null,null,null,null,null,null,null,null,null,null,null,null,null,null,null,null,null,null,null,null,null,null,null,null,null,null,null,null,null,null,null,null,null,null,null,null,null,null,null,null,null,null,null,null,null,null,null,null,null,null,null,null,null,null,null,null,null,null,null,null,null,null,null,null,null,null,null,null,null,null,null,null,null,null,null,null,null,null,null,null,null,null,null,null,null,null,null,null,null,null,null,null,null,null,null,null,null,null,null,null,null,null,null,null,null,null,null,null,null,null,null,null,null,null,null,null,null,null,null,null,null,null,null,null,null,null,null,null,null,null,null,null,null,null,null,null,null,null,null,null,null,null,null,null,null,null,null,null,null,null,null,null,null,null,null,null,null,null,null,null,null,null,null,null,null,null,null,null,null,null,null,null,null,null,null,null,null,null,null,null,null,null,null,null,null,null,null,null,null,null,null,null,null,null,null,null,null,null,null,null,null,null,null,null,null,null,null,null,null,null,null,null,null,null,null,null,null,null,null,null,null,null,null,null,null,null,null,null,null,null,null,null,null,null,null,null,null,null,null,null,null,null,null,null,null,null,null,null,null,null,null,null,null,null,null,null,null,null,null,null,null,null,null,null,null,null,null,null,null,null,null,null,null,null,null,null,null,null,null,null,null,null,null,null,null,null,null,null,null,null,null,null,null,null,null,null,null,null,null,null,null,null,null,null,null,null,null,null,null,null,null,null,null,null,null,null,null,null,null,null,null,null,null,null,null,null,null,null,null,null,null,null,null,null,null,null,null,null,null,null,null,null,null,null,null,null,null,null,null,null,null,null,null,null,null,null,null,null,null,null,null,null,null,null,null,null,null,null,null,null,null,null,null,null,null,null,null,null,null,null,null,null,null,null,null,null,null,null,null,null,null,null,null,null,null,null,null,null,null,null,null,null,null,null,null,null,null,null,null,null,null,null,null,null,null,null,null,null,null,null,null,null,null,null,null,null,null,null,null,null,null,null,null,null,null,null,null,null,null,null,null,null,null,null,null,null,null,null,null,null,null,null,null,null,null,null,null,null,null,null,null,null,null,null,null,null,null,null,null,null,null,null,null,null,null,null,null,null,null,null,null,null,null,null,null,null,null,null,null,null,null,null,null,null,null,null,null,null,null,null,null,null,null,null,null,null,null,null,null,null,null,null,null,null,null,null,null,null,null,null,null,null,null,null,null,null,null,null,null,null,null,null,null,null,null,null,null,null,null,null,null,null,null,null,null,null,null,null,null,null,null,null,null,null,null,null,null,null,null,null,null,null,null,null,null,null,null,null,null,null,null,null,null,null,null,null,null,null,null,null,null,null,null,null,null,0]
[null,null,null,null,null,null,null,null,null,null,"Show EXE file",null,"YES",null,null,null,null,null,null,null,null,null,null,null,null,null,null,null,null,null,"table",1,null,null,null,null,null,null,null,null,null,null,null,null,null,null,null,null,null,null,null,null,null,null,null,null,null,null,null,null,null,null,null,null,null,null,null,null,null,null,null,null,null,null,null,null,null,null,null,null,null,null,null,null,null,null,null,null,null,null,null,null,null,null,null,null,null,null,null,null,null,null,null,null,null,null,null,null,null,null,null,null,null,null,null,null,null,null,null,null,null,null,null,null,null,null,null,null,null,null,null,null,null,null,null,null,null,null,null,null,null,null,null,null,null,null,null,null,null,null,null,null,null,null,null,null,null,null,null,null,null,null,null,null,null,null,null,null,null,null,null,null,null,null,null,null,null,null,null,null,null,null,null,null,null,null,null,null,null,null,null,null,null,null,null,null,null,null,null,null,null,null,null,null,null,null,null,null,null,null,null,null,null,null,null,null,null,null,null,null,null,null,null,null,null,null,null,null,null,null,null,null,null,null,null,null,null,null,null,null,null,null,null,null,null,null,null,null,null,null,null,null,null,null,null,null,null,null,null,null,null,null,null,null,null,null,null,null,null,null,null,null,null,null,null,null,null,null,null,null,null,null,null,null,null,null,null,null,null,null,null,null,null,null,null,null,null,null,null,null,null,null,null,null,null,null,null,null,null,null,null,null,null,null,null,null,null,null,null,null,null,null,null,null,null,null,null,null,null,null,null,null,null,null,null,null,null,null,null,null,null,null,null,null,null,null,null,null,null,null,null,null,null,null,null,null,null,null,null,null,null,null,null,null,null,null,null,null,null,null,null,null,null,null,null,null,null,null,null,null,null,null,null,null,null,null,null,null,null,null,null,null,null,null,null,null,null,null,null,null,null,null,null,null,null,null,null,null,null,null,null,null,null,null,null,null,null,null,null,null,null,null,null,null,null,null,null,null,null,null,null,null,null,null,null,null,null,null,null,null,null,null,null,null,null,null,null,null,null,null,null,null,null,null,null,null,null,null,null,null,null,null,null,null,null,null,null,null,null,null,null,null,null,null,null,null,null,null,null,null,null,null,null,null,null,null,null,null,null,null,null,null,null,null,null,null,null,null,null,null,null,null,null,null,null,null,null,null,null,null,null,null,null,null,null,null,null,null,null,null,null,null,null,null,null,null,null,null,null,null,null,null,null,null,null,null,null,null,null,null,null,null,null,null,null,null,null,null,null,null,null,null,null,null,null,null,null,null,null,null,null,null,null,null,null,null,null,null,null,null,null,null,null,null,null,null,null,null,null,null,null,null,null,null,null,null,null,null,null,null,null,null,null,null,null,null,null,null,null,null,null,null,null,null,null,null,null,null,null,null,null,null,null,null,null,null,null,null,null,null,null,null,null,null,null,null,null,null,null,null,null,null,null,null,null,null,null,null,null,null,null,null,null,null,null,null,null,null,null,null,null,null,null,null,null,null,null,null,null,null,null,null,null,null,null,null,null,null,null,null,null,null,null,null,null,null,null,null,null,null,null,null,null,null,null,null,null,null,null,null,null,null,null,null,null,null,null,null,null,null,null,null,null,null,null,null,null,null,null,null,null,null,null,null,null,null,null,null,null,null,null,null,null,null,null,null,null,null,null,null,null,null,null,null,null,null,null,null,null,null,null,null,null,null,null,null,null,null,null,null,null,null,null,null,null,null,null,null,null,null,null,null,null,null,null,null,null,null,null,null,null,null,null,null,null,null,null,null,null,null,null,null,null,null,null,null,null,null,null,null,null,null,null,null,null,null,null,null,null,null,null,null,null,null,null,null,null,null,null,null,null,null,null,null,null,null,null,null,null,null,null,null,null,null,null,null,null,null,null,null,null,null,null,null,null,null,null,null,null,null,null,null,null,null,null,null,null,null,null,null,null,null,null,null,null,null,null,null,null,null,null,null,null,null,null,null,null,null,null,null,null,null,null,null,null,null,null,null,null,null,null,null,null,null,null,null,null,null,null,null,null,null,null,null,null,null,null,null,null,null,null,null,null,null,null,null,null,null,null,null,null,null,null,null,null,null,null,null,null,null,null,null,null,null,null,null,null,null,null,null,null,null,null,null,null,null,null,null,null,null,null,null,null,null,null,null,null,null,null,null,null,null,null,null,null,null,null,null,null,null,null,null,null,null,null,null,null,null,null,null,null,null,null,null,null,null,null,null,null,null,null,null,null,null,null,null,null,null,null,null,null,null,null,null,null,null,null,null,null,null,null,null,null,null,null,null,null,null,null,null,null,null,null,null,null,null,null,null,null,null,null,null,null,null,null,null,null,null,null,null,null,null,null,null,null,null,null,null,null,null,null,null,null,null,null,null,null,null,null,null,null,null,null,null,null,null,null,null,null,null,null,null,null,null,null,null,null,null,null,null,null,null,null,null,null,null,null,null,null,null,null,null,null,null,null,null,null,null,null,null,null,null,null,null,null,null,null,null,null,null,null,null,null,null,null,null,null,null,null,null,null,null,null,null,null,null,null,null,null,null,null,null,null,null,null,null,null,null,null,null,null,null,null,null,null,null,null,null,null,null,null,null,null,null,null,null,null,null,null,null,null,null,null,null,null,null,null,null,null,null,null,null,null,null,null,null,null,null,null,null,null,null,null,null,null,null,null,null,null,null,null,null,null,null,null,null,null,null,null,null,null,null,null,null,null,null,null,null,null,null,null,null,null,null,null,null,null,null,null,null,null,null,null,null,null,null,null,null,null,null,null,null,null,null,null,null,null,null,null,null,null,null,null,null,null,null,null,null,null,null,null,null,null,null,null,null,null,null,null,null,null,null,null,null,null,null,null,null,null,null,null,null,null,null,null,null,null,null,null,null,null,null,null,null,null,null,null,null,null,null,null,null,null,null,null,null,null,null,null,null,null,null,null,null,null,null,null,null,null,null,null,null,null,null,null,null,null,null,null,null,null,null,null,null,null,null,null,null,null,null,null,null,null,null,null,null,null,null,null,null,null,null,null,null,null,null,null,null,null,null,null,null,null,null,null,null,null,null,null,null,null,null,null,null,null,null,null,null,null,null,null,null,null,null,null,null,null,null,null,null,null,null,null,null,null,null,null,null,null,null,null,null,null,null,null,null,null,null,null,null,null,null,null,null,null,null,null,null,null,null,null,null,null,null,null,null,null,null,null,null,null,null,null,null,null,null,null,null,null,null,null,null,null,null,null,null,null,null,null,null,null,null,null,null,null,null,null,null,null,null,null,null,null,null,null,null,null,null,null,null,null,null,null,null,null,null,null,null,null,null,null,null,null,null,null,null,null,null,null,null,null,null,null,null,null,null,null,null,null,null,null,null,null,null,null,null,null,null,null,null,null,null,null,null,null,null,null,null,null,null,null,null,null,null,null,null,null,null,null,null,null,null,null,null,null,null,null,null,null,null,null,null,null,null,null,null,null,null,null,null,null,null,null,null,null,null,null,null,null,null,null,null,null,null,null,null,null,null,null,null,null,null,null,null,null,null,null,null,null,null,null,null,null,null,null,null,null,null,null,null,null,null,null,null,null,null,null,null,null,null,null,null,null,null,null,null,null,null,null,null,null,null,null,null,null,null,null,null,null,null,null,null,null,null,null,null,null,null,null,null,null,null,null,null,null,null,null,null,null,null,null,null,null,null,null,null,null,null,null,null,null,null,null,null,null,null,null,null,null,null,null,null,null,null,null,null,null,null,null,null,null,null,null,null,null,null,null,null,null,null,null,null,null,null,null,null,null,null,null,null,null,null,null,null,null,null,null,null,null,null,null,null,null,null,null,null,null,null,null,null,null,null,null,null,null,null,null,null,null,null,null,null,null,null,null,null,null,null,null,null,null,null,null,null,null,null,null,null,null,null,null,null,null,null,null,null,null,null,null,null,null,null,null,null,null,null,null,null,null,null,null,null,null,null,null,null,null,null,null,null,null,null,null,null,null,null,null,null,null,null,null,null,null,null,null,null,null,null,null,null,null,null,null,null,null,null,null,null,null,null,null,null,null,null,null,null,null,null,null,null,null,null,null,null,null,null,null,null,null,null,null,null,null,null,null,null,null,null,null,null,null,null,null,null,null,null,null,null,null,null,null,null,null,null,null,null,null,null,null,null,null,null,null,null,null,null,null,null,null,null,null,null,null,null,null,null,null,null,null,null,null,null,null,null,null,null,null,null,null,null,null,null,null,null,null,null,null,null,null,null,null,null,null,null,null,null,null,null,null,null,null,null,null,null,null,null,null,null,null,null,null,null,null,null,null,null,null,null,null,null,null,null,null,null,null,null,null,null,null,null,null,null,null,null,null,null,null,null,null,null,null,null,null,null,null,null,null,null,null,null,null,null,null,null,null,null,null,null,null,null,null,null,null,null,null,null,null,null,null,null,null,null,null,null,null,null,null,null,null,null,null,null,null,null,null,null,null,null,null,null,null,null,null,null,null,null,null,null,null,null,null,null,null,null,null,null,null,null,null,null,null,null,null,null,null,null,null,null,null,null,null,null,null,null,null,null,null,null,null,null,null,null,null,null,null,null,null,null,null,null,null,null,null,null,null,null,null,null,null,null,null,null,null,null,null,null,null,null,null,null,null,null,null,null,null,null,null,null,null,null,null,null,null,null,null,null,null,null,null,null,null,null,null,null,null,null,null,null,null,null,null,null,null,null,null,null,null,null,null,null,null,null,null,null,null,null,null,null,null,null,null,null,null,null,null,null,null,null,null,null,null,null,null,null,null,null,null,null,null,null,null,null,null,null,null,null,null,null,null,null,null,null,null,null,null,null,null,null,null,null,null,null,null,null,null,null,null,null,null,null,null,null,null,null,null,null,null,null,null,null,null,null,null,null,null,null,null,null,null,null,null,null,null,null,null,null,null,null,null,null,null,null,null,null,null,null,null,null,null,null,null,null,null,null,null,null,null,null,null,null,null,null,null,null,null,null,null,null,null,null,null,null,null,null,null,null,null,null,null,null,null,null,null,null,null,null,null,null,null,null,null,null,null,null,null,null,null,null,null,null,null,null,null,null,null,null,null,null,null,null,null,null,null,null,null,null,null,null,null,null,null,null,null,null,null,null,null,null,null,null,null,null,null,null,null,null,null,null,null,null,null,null,null,null,null,null,null,null,null,null,null,null,null,null,null,null,null,null,null,null,null,null,null,null,null,null,null,null,null,null,null,null,null,null,null,null,null,null,null,null,null,null,null,null,null,null,null,null,null,null,null,null,null,null,null,null,null,null,null,null,null,null,null,null,null,null,null,null,null,null,null,null,null,null,null,null,null,null,null,null,null,null,null,null,null,null,null,null,null,null,null,null,null,null,null,null,null,null,null,null,null,null,null,null,null,null,null,null,null,null,null,null,null,null,null,null,null,null,null,null,null,null,null,null,null,null,null,null,null,null,null,null,null,null,null,null,null,null,null,null,null,null,null,null,null,null,null,null,null,null,null,null,null,null,null,null,null,null,null,null,null,null,null,null,null,null,null,null,null,null,null,null,null,null,null,null,null,null,null,null,null,null,null,null,null,null,null,null,null,null,null,null,null,null,null,null,null,null,null,null,null,null,null,null,null,null,null,null,null,null,null,null,null,null,null,null,null,null,null,null,null,null,null,null,null,null,null,null,null,null,null,null,null,null,null,null,null,null,null,null,null,null,null,null,null,null,null,null,null,null,null,null,null,null,null,null,null,null,null,null,null,null,null,null,null,null,null,null,null,null,null,null,null,null,null,null,null,null,null,null,null,null,null,null,null,null,null,null,null,null,null,null,null,null,null,null,null,null,null,null,null,null,null,null,null,null,null,null,null,null,null,null,null,null,null,null,null,null,null,null,null,null,null,null,null,null,null,null,null,null,null,null,null,null,null,null,null,null,null,null,null,null,null,null,null,null,null,null,null,null,null,null,null,null,null,null,null,null,null,null,null,null,null,null,null,null,null,null,null,null,null,null,null,null,null,null,null,null,null,null,null,null,null,null,null,null,null,null,null,null,null,null,null,null,null,null,null,null,null,null,null,null,null,null,null,null,null,null,null,null,null,null,null,null,null,null,null,null,null,null,null,null,null,null,null,null,null,null,null,null,null,null,null,null,null,null,null,null,null,null,null,null,null,null,null,null,null,null,null,null,null,null,null,null,null,null,null,null,null,null,null,null,null,null,null,null,null,null,null,null,null,null,null,null,null,null,null,null,null,null,null,null,null,null,null,null,null,null,null,null,null,null,null,null,null,null,null,null,null,null,null,null,null,null,null,null,null,null,null,null,null,null,null,null,null,null,null,null,null,null,null,null,null,null,null,null,null,null,null,null,null,null,null,null,null,null,null,null,null,null,null,null,null,null,null,null,null,null,null,null,null,null,null,null,null,null,null,null,null,null,null,null,null,null,null,null,null,null,null,null,null,null,null,null,null,null,null,null,null,null,null,null,null,null,null,null,null,null,null,null,null,null,null,null,null,null,null,null,null,null,null,null,null,null,null,null,null,null,null,null,null,null,null,null,null,null,null,null,null,null,null,null,null,null,null,null,null,null,null,null,null,null,null,null,null,null,null,null,null,null,null,null,null,null,null,null,null,null,null,null,null,null,null,null,null,null,null,null,null,null,null,null,null,null,null,null,null,null,null,null,null,null,null,null,null,null,null,null,null,null,null,null,null,null,null,null,null,null,null,null,null,null,null,null,null,null,null,null,null,null,null,null,null,null,null,null,null,null,null,null,null,null,null,null,null,null,null,null,null,null,null,null,null,null,null,null,null,null,null,null,null,null,null,null,null,null,null,null,null,null,null,null,null,null,null,null,null,null,null,null,null,null,null,null,null,null,null,null,null,null,null,null,null,null,null,null,null,null,null,null,null,null,null,null,null,null,null,null,null,null,null,null,null,null,null,null,null,null,null,null,null,null,null,null,null,null,null,null,null,null,null,null,null,null,null,null,null,null,null,null,null,null,null,null,null,null,null,null,null,null,null,null,null,null,null,null,null,null,null,null,null,null,null,null,null,null,null,null,null,null,null,null,null,null,null,null,null,null,null,null,null,null,null,null,null,null,null,null,null,null,null,null,null,null,null,null,null,null,null,null,null,null,null,null,null,null,null,null,null,null,null,null,null,null,null,null,null,null,null,null,null,null,null,null,null,null,null,null,null,null,null,null,null,null,null,null,null,null,null,null,null,null,null,null,null,null,null,null,null,null,null,null,null,null,null,null,null,null,null,null,null,null,null,null,null,null,null,null,null,null,null,null,null,null,null,null,null,null,null,null,null,null,null,null,null,null,null,null,null,null,null,null,null,null,null,null,null,null,null,null,null,null,null,null,null,null,null,null,null,null,null,null,null,null,null,null,null,null,null,null,null,null,null,null,null,null,null,null,null,null,null,null,null,null,null,null,null,null,null,null,null,null,null,null,null,null,null,null,null,null,null,null,null,null,null,null,null,null,null,null,null,null,null,null,null,null,null,null,null,null,null,null,null,null,null,null,null,null,null,null,null,null,null,null,null,null,null,null,null,null,null,null,null,null,null,null,null,null,null,null,null,null,null,null,null,null,null,null,null,null,null,null,null,null,null,null,null,null,null,null,null,null,null,null,null,null,null,null,null,null,null,null,null,null,null,null,null,null,null,null,null,null,null,null,null,null,null,null,null,null,null,null,null,null,null,null,null,null,null,null,null,null,null,null,null,null,null,null,null,null,null,null,null,null,null,null,null,null,null,null,null,null,null,null,null,null,null,null,null,null,null,null,null,null,null,null,null,null,null,null,null,null,null,null,null,null,null,null,null,null,null,null,null,null,null,null,null,null,null,null,null,null,null,null,null,null,null,null,null,null,null,null,null,null,null,null,null,null,null,null,null,null,null,null,null,null,null,null,null,null,null,null,null,null,null,null,null,null,null,null,null,null,null,null,null,null,null,null,null,null,null,null,null,null,null,null,null,null,null,null,null,null,null,null,null,null,null,null,null,null,null,null,null,null,null,null,null,null,null,null,null,null,null,null,null,null,null,null,null,null,null,null,null,null,null,null,null,null,null,null,null,null,null,null,null,null,null,null,null,null,null,null,null,null,null,null,null,null,null,null,null,null,null,null,null,null,null,null,null,null,null,null,null,null,null,null,null,null,null,null,null,null,null,null,null,null,null,null,null,null,null,null,null,null,null,null,null,null,null,null,null,null,null,null,null,null,null,null,null,null,null,null,null,null,null,null,null,null,null,null,null,null,null,null,null,null,null,null,null,null,null,null,null,null,null,null,null,null,null,null,null,null,null,null,null,null,null,null,null,null,null,null,null,null,null,null,null,null,null,null,null,null,null,null,null,null,null,null,null,null,null,null,null,null,null,null,null,null,null,null,null,null,null,null,null,null,null,null,null,null,null,null,null,null,null,null,null,null,null,null,null,null,null,null,null,null,null,null,null,null,null,null,null,null,null,null,null,null,null,null,null,null,null,null,null,null,null,null,null,null,null,null,null,null,null,null,null,null,null,null,null,null,null,null,null,null,null,null,null,null,null,null,null,null,null,null,null,null,null,null,null,null,null,null,null,null,null,null,null,null,null,null,null,null,null,null,null,null,null,null,null,null,null,null,null,null,null,null,null,null,null,null,null,null,null,null,null,null,null,null,null,null,null,null,null,null,null,null,null,null,null,null,null,null,null,null,null,null,null,null,null,null,null,null,null,null,null,null,null,null,null,null,null,null,null,null,null,null,null,null,null,null,null,null,null,null,null,null,null,null,null,null,null,null,null,null,null,null,null,null,null,null,null,null,null,null,null,null,null,null,null,null,null,null,null,null,null,null,null,null,null,null,null,null,null,null,null,null,null,null,null,null,null,null,null,null,null,null,null,null,null,null,null,null,null,null,null,null,null,null,null,null,null,null,null,null,null,null,null,null,null,null,null,null,null,null,null,null,null,null,null,null,null,null,null,null,null,null,null,null,null,null,null,null,null,null,null,null,null,null,null,null,null,null,null,null,null,null,null,null,null,null,null,null,null,null,null,null,null,null,null,null,null,null,null,null,null,null,null,null,null,null,null,null,null,null,null,null,null,null,null,null,null,null,null,null,null,null,null,null,null,null,null,null,null,null,null,null,null,null,null,null,null,null,null,null,null,null,null,null,null,null,null,null,null,null,null,null,null,null,null,null,null,null,null,null,null,null,null,null,null,null,null,null,null,null,null,null,null,null,null,null,null,null,null,null,null,null,null,null,null,null,null,null,null,null,null,null,null,null,null,null,null,null,null,null,null,null,null,null,null,null,null,null,null,null,null,null,null,null,null,null,null,null,null,null,null,null,null,null,null,null,null,null,null,null,null,null,null,null,null,null,null,null,null,null,null,null,null,null,null,null,null,null,null,null,null,null,null,null,null,null,null,null,null,null,null,null,null,null,null,null,null,null,null,null,null,null,null,null,null,null,null,null,null,null,null,null,null,null,null,null,null,null,null,null,null,null,null,null,null,null,null,null,null,null,null,null,null,null,null,null,null,null,null,null,null,null,null,null,null,null,null,null,null,null,null,null,null,null,null,null,null,null,null,null,null,null,null,null,null,null,null,null,null,null,null,null,null,null,null,null,null,null,null,null,null,null,null,null,null,null,null,null,null,null,null,null,null,null,null,null,null,null,null,null,null,null,null,null,null,null,null,null,null,null,null,null,null,null,null,null,null,null,null,null,null,null,null,null,null,null,null,null,null,null,null,null,null,null,null,null,null,null,null,null,null,null,null,null,null,null,null,null,null,null,null,null,null,null,null,null,null,null,null,null,null,null,null,null,null,null,null,null,null,null,null,null,null,null,null,null,null,null,null,null,null,null,null,null,null,null,null,null,null,null,null,null,null,null,null,null,null,null,null,null,null,null,null,null,null,null,null,null,null,null,null,null,null,null,null,null,null,null,null,null,null,null,null,null,null,null,null,null,null,null,null,null,null,null,null,null,null,null,null,null,null,null,null,null,null,null,null,null,null,null,null,null,null,null,null,null,null,null,null,null,null,null,null,null,null,null,null,null,null,null,null,null,null,null,null,null,null,null,null,null,null,null,null,null,null,null,null,null,null,null,null,null,null,null,null,null,null,null,null,null,null,null,null,null,null,null,null,null,null,null,null,null,null,null,null,null,null,null,null,null,null,null,null,null,null,null,null,null,null,null,null,null,null,null,null,null,null,null,null,null,null,null,null,null,null,null,null,null,null,null,null,null,null,null,null,null,null,null,null,null,null,null,null,null,null,null,null,null,null,null,null,null,null,null,null,null,null,null,null,null,null,null,null,null,null,null,null,null,null,null,null,null,null,null,null,null,null,null,null,null,null,null,null,null,null,null,null,null,null,null,null,null,null,null,null,null,null,null,null,null,null,null,null,null,null,null,null,null,null,null,null,null,null,null,null,null,null,null,null,null,null,null,null,null,null,null,null,null,null,null,null,null,null,null,null,null,null,null,null,null,null,null,null,null,null,null,null,null,null,null,null,null,null,null,null,null,null,null,null,null,null,null,null,null,null,null,null,null,null,null,null,null,null,null,null,null,null,null,null,null,null,null,null,null,null,null,null,null,null,null,null,null,null,null,null,null,null,null,null,null,null,null,null,null,null,null,null,null,null,null,null,null,null,null,null,null,null,null,null,null,null,null,null,null,null,null,null,null,null,null,null,null,null,null,null,null,null,null,null,null,null,null,null,null,null,null,null,null,null,null,null,null,null,null,null,null,null,null,null,null,null,null,null,null,null,null,null,null,null,null,null,null,null,null,null,null,null,null,null,null,null,null,null,null,null,null,null,null,null,null,null,null,null,null,null,null,null,null,null,null,null,null,null,null,null,null,null,null,null,null,null,null,null,null,null,null,null,null,null,null,null,null,null,null,null,null,null,null,null,null,null,null,null,null,null,null,null,null,null,null,null,null,null,null,null,null,null,null,null,null,null,null,null,null,null,null,null,null,null,null,null,null,null,null,null,null,null,null,null,null,null,null,null,null,null,null,null,null,null,null,null,null,null,null,null,null,null,null,null,null,null,null,null,null,null,null,null,null,null,null,null,null,null,null,null,null,null,null,null,null,null,null,null,null,null,null,null,null,null,null,null,null,null,null,null,null,null,null,null,null,null,null,null,null,null,null,null,null,null,null,null,null,null,null,null,null,null,null,null,null,null,null,null,null,null,null,null,null,null,null,null,null,null,null,null,null,null,null,null,null,null,null,null,null,null,null,null,null,null,null,null,null,null,null,null,null,null,null,null,null,null,null,null,null,null,null,null,null,null,null,null,null,null,null,null,null,null,null,null,null,null,null,null,null,null,null,null,null,null,null,null,null,null,null,null,null,null,null,null,null,null,null,null,null,null,null,null,null,null,null,null,null,null,null,null,null,null,null,null,null,null,null,null,null,null,null,null,null,null,null,null,null,null,null,null,null,null,null,null,null,null,null,null,null,null,null,null,null,null,null,null,null,null,null,null,null,null,null,null,null,null,null,null,null,null,null,null,null,null,null,null,null,null,null,null,null,null,null,null,null,null,null,null,null,null,null,null,null,null,null,null,null,null,null,null,null,null,null,null,null,null,null,null,null,null,null,null,null,null,null,null,null,null,null,null,null,null,null,null,null,null,null,null,null,null,null,null,null,null,null,null,null,null,null,null,null,null,null,null,null,null,null,null,null,null,null,null,null,null,null,null,null,null,null,null,null,null,null,null,null,null,null,null,null,null,null,null,null,null,null,null,null,null,null,null,null,null,null,null,null,null,null,null,null,null,null,null,null,null,null,null,null,null,null,null,null,null,null,null,null,null,null,null,null,null,null,null,null,null,null,null,null,null,null,null,null,null,null,null,null,null,null,null,null,null,null,null,null,null,null,null,null,null,null,null,null,null,null,null,null,null,null,null,null,null,null,null,null,null,null,null,null,null,null,null,null,null,null,null,null,null,null,null,null,null,null,null,null,null,null,null,null,null,null,null,null,null,null,null,null,null,null,null,null,null,null,null,null,null,null,null,null,null,null,null,null,null,null,null,null,null,null,null,null,null,null,null,null,null,null,null,null,null,null,null,null,null,null,null,null,null,null,null,null,null,null,null,null,null,null,null,null,null,null,null,null,null,null,null,null,null,null,null,null,null,null,null,null,null,null,null,null,null,null,null,null,null,null,null,null,null,null,null,null,null,null,null,null,null,null,null,null,null,null,null,null,null,null,null,null,null,null,null,null,null,null,null,null,null,null,null,null,null,null,null,null,null,null,null,null,null,null,null,null,null,null,null,null,null,null,null,null,null,null,null,null,null,null,null,null,null,null,null,null,null,null,null,null,null,null,null,null,null,null,null,null,null,null,null,null,null,null,null,null,null,null,null,null,null,null,null,null,null,null,null,null,null,null,null,null,null,null,null,null,null,null,null,null,null,null,null,null,null,null,null,null,null,null,null,null,null,null,null,null,null,null,null,null,null,null,null,null,null,null,null,null,null,null,null,null,null,null,null,null,null,null,null,null,null,null,null,null,null,null,null,null,null,null,null,null,null,null,null,null,null,null,null,null,null,null,null,null,null,null,null,null,null,null,null,null,null,null,null,null,null,null,null,null,null,null,null,null,null,null,null,null,null,null,null,null,null,null,null,null,null,null,null,null,null,null,null,null,null,null,null,null,null,null,null,null,null,null,null,null,null,null,null,null,null,null,null,null,null,null,null,null,null,null,null,null,null,null,null,null,null,null,null,null,null,null,null,null,null,null,null,null,null,null,null,null,null,null,null,null,null,null,null,null,null,null,null,null,null,null,null,null,null,null,null,null,null,null,null,null,null,null,null,null,null,null,null,null,null,null,null,null,null,null,null,null,null,null,null,null,null,null,null,null,null,null,null,null,null,null,null,null,null,null,null,null,null,null,null,null,null,null,null,null,null,null,null,null,null,null,null,null,null,null,null,null,null,null,null,null,null,null,null,null,null,null,null,null,null,null,null,null,null,null,null,null,null,null,null,null,null,null,null,null,null,null,null,null,null,null,null,null,null,null,null,null,null,null,null,null,null,null,null,null,null,null,null,null,null,null,null,null,null,null,null,null,null,null,null,null,null,null,null,null,null,null,null,null,null,null,null,null,null,null,null,null,null,null,null,null,null,null,null,null,null,null,null,null,null,null,null,null,null,null,null,null,null,null,null,null,null,null,null,null,null,null,null,null,null,null,null,null,null,null,null,null,null,null,null,null,null,null,null,null,null,null,null,null,null,null,null,null,null,null,null,null,null,null,null,null,null,null,null,null,null,null,null,null,null,null,null,null,null,null,null,null,null,null,null,null,null,null,null,null,null,null,null,null,null,null,null,null,null,null,null,null,null,null,null,null,null,null,null,null,null,null,null,null,null,null,null,null,null,null,null,null,null,null,null,null,null,null,null,null,null,null,null,null,null,null,null,null,null,null,null,null,null,null,null,null,null,null,null,null,null,null,null,null,null,null,null,null,null,null,null,null,null,null,null,null,null,null,null,null,null,null,null,null,null,null,null,null,null,null,null,null,null,null,null,null,null,null,null,null,null,null,null,null,null,null,null,null,null,null,null,null,null,null,null,null,null,null,null,null,null,null,null,null,null,null,null,null,null,null,null,null,null,null,null,null,null,null,null,null,null,null,null,null,null,null,null,null,null,null,null,null,null,null,null,null,null,null,null,null,null,null,null,null,null,null,null,null,null,null,null,null,null,null,null,null,null,null,null,null,null,null,null,null,null,null,null,null,null,null,null,null,null,null,null,null,null,null,null,null,null,null,null,null,null,null,null,null,null,null,null,null,null,null,null,null,null,null,null,null,null,null,null,null,null,null,null,null,null,null,null,null,null,null,null,null,null,null,null,null,null,null,null,null,null,null,null,null,null,null,null,null,null,null,null,null,null,null,null,null,null,null,null,null,null,null,null,null,null,null,null,null,null,null,null,null,null,null,null,null,null,null,null,null,null,null,null,null,null,null,null,null,null,null,null,null,null,null,null,null,null,null,null,null,null,null,null,null,null,null,null,null,null,null,null,null,null,null,null,null,null,null,null,null,null,null,null,null,null,null,null,null,null,null,null,null,null,null,null,null,null,null,null,null,null,null,null,null,null,null,null,null,null,null,null,null,null,null,null,null,null,null,null,null,null,null,null,null,null,null,null,null,null,null,null,null,null,null,null,null,null,null,null,null,null,null,null,null,null,null,null,null,null,null,null,null,null,null,null,null,null,null,null,null,null,null,null,null,null,null,null,null,null,null,null,null,null,null,null,null,null,null,null,null,null,null,null,null,null,null,null,null,null,null,null,null,null,null,null,null,null,null,null,null,null,null,null,null,null,null,null,null,null,null,null,null,null,null,null,null,null,null,null,null,null,null,null,null,null,null,null,null,null,null,null,null,null,null,null,null,null,null,null,null,null,null,null,null,null,null,null,null,null,null,null,null,null,null,null,null,null,null,null,null,null,null,null,null,null,null,null,null,null,null,null,null,null,null,null,null,null,null,null,null,null,null,null,null,null,null,null,null,null,null,null,null,null,null,null,null,null,null,null,null,null,null,null,null,null,null,null,null,null,null,null,null,null,null,null,null,null,null,null,null,null,null,null,null,null,null,null,null,null,null,null,null,null,null,null,null,null,null,null,null,null,null,null,null,null,null,null,null,null,null,null,null,null,null,null,null,null,null,null,null,null,null,null,null,null,null,null,null,null,null,null,null,null,null,null,null,null,null,null,null,null,null,null,null,null,null,null,null,null,null,null,null,null,null,null,null,null,null,null,null,null,null,null,null,null,null,null,null,null,null,null,null,null,null,null,null,null,null,null,null,null,null,null,null,null,null,null,null,null,null,null,null,null,null,null,null,null,null,null,null,null,null,null,null,null,null,null,null,null,null,null,null,null,null,null,null,null,null,null,null,null,null,null,null,null,null,null,null,null,null,null,null,null,null,null,null,null,null,null,null,null,null,null,null,null,null,null,null,null,null,null,null,null,null,null,null,null,null,null,null,null,null,null,null,null,null,null,null,null,null,null,null,null,null,null,null,null,null,null,null,null,null,null,null,null,null,null,null,null,null,null,null,null,null,null,null,null,null,null,null,null,null,null,null,null,null,null,null,null,null,null,null,null,null,null,null,null,null,null,null,null,null,null,null,null,null,null,null,null,null,null,null,null,null,null,null,null,null,null,null,null,null,null,null,null,null,null,null,null,null,null,null,null,null,null,null,null,null,null,null,null,null,null,null,null,null,null,null,null,null,null,null,null,null,null,null,null,null,null,null,null,null,null,null,null,null,null,null,null,null,null,null,null,null,null,null,null,null,null,null,null,null,null,null,null,null,null,null,null,null,null,null,null,null,null,null,null,null,null,null,null,null,null,null,null,null,null,null,null,null,null,null,null,null,null,null,null,null,null,null,null,null,null,null,null,null,null,null,null,null,null,null,null,null,null,null,null,null,null,null,null,null,null,null,null,null,null,null,null,null,null,null,null,null,null,null,null,null,null,null,null,null,null,null,null,null,null,null,null,null,null,null,null,null,null,null,null,null,null,null,null,null,null,null,null,null,null,null,null,null,null,null,null,null,null,null,null,null,null,null,null,null,null,null,null,null,null,null,null,null,null,null,null,null,null,null,null,null,null,null,null,null,null,null,null,null,null,null,null,null,null,null,null,null,null,null,null,null,null,null,null,null,null,null,null,null,null,null,null,null,null,null,null,null,null,null,null,null,null,null,null,null,null,null,null,null,null,null,null,null,null,null,null,null,null,null,null,null,null,null,null,null,null,null,null,null,null,null,null,null,null,null,null,null,null,null,null,null,null,null,null,null,null,null,null,null,null,null,null,null,null,null,null,null,null,null,null,null,null,null,null,null,null,null,null,null,null,null,null,null,null,null,null,null,null,null,null,null,null,null,null,null,null,null,null,null,null,null,null,null,null,null,null,null,null,null,null,null,null,null,null,null,null,null,null,null,null,null,null,null,null,null,null,null,null,null,null,null,null,null,null,null,null,null,null,null,null,null,null,null,null,null,null,null,null,null,null,null,null,null,null,null,null,null,null,null,null,null,null,null,null,null,null,null,null,null,null,null,null,null,null,null,null,null,null,null,null,null,null,null,null,null,null,null,null,null,null,null,null,null,null,null,null,null,null,null,null,null,null,null,null,null,null,null,null,null,null,null,null,null,null,null,null,null,null,null,null,null,null,null,null,null,null,null,null,null,null,null,null,null,null,null,null,null,null,null,null,null,null,null,null,null,null,null,null,null,null,null,null,null,null,null,null,null,null,null,null,null,null,null,null,null,null,null,null,null,null,null,null,null,null,null,null,null,null,null,null,null,null,null,null,null,null,null,null,null,null,null,null,null,null,null,null,null,null,null,null,null,null,null,null,null,null,null,null,null,null,null,null,null,null,null,null,null,null,null,null,null,null,null,null,null,null,null,null,null,null,null,null,null,null,null,null,null,null,null,null,null,null,null,null,null,null,null,null,null,null,null,null,null,null,null,null,null,null,null,null,null,null,null,null,null,null,null,null,null,null,null,null,null,null,null,null,null,null,null,null,null,null,null,null,null,null,null,null,null,null,null,null,null,null,null,null,null,null,null,null,null,null,null,null,null,null,null,null,null,null,null,null,null,null,null,null,null,null,null,null,null,null,null,null,null,null,null,null,null,null,null,null,null,null,null,null,null,null,null,null,null,null,null,null,null,null,null,null,null,null,null,null,null,null,null,null,null,null,null,null,null,null,null,null,null,null,null,null,null,null,null,null,null,null,null,null,null,null,null,null,null,null,null,null,null,null,null,null,null,null,null,null,null,null,null,null,null,null,null,null,null,null,null,null,null,null,null,null,null,null,null,null,null,null,null,null,null,null,null,null,null,null,null,null,null,null,null,null,null,null,null,null,null,null,null,null,null,null,null,null,null,null,null,null,null,null,null,null,null,null,null,null,null,null,null,null,null,null,null,null,null,null,null,null,null,null,null,null,null,null,null,null,null,null,null,null,null,null,null,null,null,null,null,null,null,null,null,null,null,null,null,null,null,null,null,null,null,null,null,null,null,null,null,null,null,null,null,null,null,null,null,null,null,null,null,null,null,null,null,null,null,null,null,null,null,null,null,null,null,null,null,null,null,null,null,null,null,null,null,null,null,null,null,null,null,null,null,null,null,null,null,null,null,null,null,null,null,null,null,null,null,null,null,null,null,null,null,null,null,null,null,null,null,null,null,null,null,null,null,null,null,null,null,null,null,null,null,null,null,null,null,null,null,null,null,null,null,null,null,null,null,null,null,null,null,null,null,null,null,null,null,null,null,null,null,null,null,null,null,null,null,null,null,null,null,null,null,null,null,null,null,null,null,null,null,null,null,null,null,null,null,null,null,null,null,null,null,null,null,null,null,null,null,null,null,null,null,null,null,null,null,null,null,null,null,null,null,null,null,null,null,null,null,null,null,null,null,null,null,null,null,null,null,null,null,null,null,null,null,null,null,null,null,null,null,null,null,null,null,null,null,null,null,null,null,null,null,null,null,null,null,null,null,null,null,null,null,null,null,null,null,null,null,null,null,null,null,null,null,null,null,null,null,null,null,null,null,null,null,null,null,null,null,null,null,null,null,null,null,null,null,null,null,null,null,null,null,null,null,null,null,null,null,null,null,null,null,null,null,null,null,null,null,null,null,null,null,null,null,null,null,null,null,null,null,null,null,null,null,null,null,null,null,null,null,null,null,null,null,null,null,null,null,null,null,null,null,null,null,null,null,null,null,null,null,null,null,null,null,null,null,null,null,null,null,null,null,null,null,null,null,null,null,null,null,null,null,null,null,null,null,null,null,null,null,null,null,null,null,null,null,null,null,null,null,null,null,null,null,null,null,null,null,null,null,null,null,null,null,null,null,null,null,null,null,null,null,null,null,null,null,null,null,null,null,null,null,null,null,null,null,null,null,null,null,null,null,null,null,null,null,null,null,null,null,null,null,null,null,null,null,null,null,null,null,null,null,null,null,null,null,null,null,null,null,null,null,null,null,null,null,null,null,null,null,null,null,null,null,null,null,null,null,null,null,null,null,null,null,null,null,null,null,null,null,null,null,null,null,null,null,null,null,null,null,null,null,null,null,null,null,null,null,null,null,null,null,null,null,null,null,null,null,null,null,null,null,null,null,null,null,null,null,null,null,null,null,null,null,null,null,null,null,null,null,null,null,null,null,null,null,null,null,null,null,null,null,null,null,null,null,null,null,null,null,null,null,null,null,null,null,null,null,null,null,null,null,null,null,null,null,null,null,null,null,null,null,null,null,null,null,null,null,null,null,null,null,null,null,null,null,null,null,null,null,null,null,null,null,null,null,null,null,null,null,null,null,null,null,null,null,null,null,null,null,null,null,null,null,null,null,null,null,null,null,null,null,null,null,null,null,null,null,null,null,null,null,null,null,null,null,null,null,null,null,null,null,null,null,null,null,null,null,null,null,null,null,null,null,null,null,null,null,null,null,null,null,null,null,null,null,null,null,null,null,null,null,null,null,null,null,null,null,null,null,null,null,null,null,null,null,null,null,null,null,null,null,null,null,null,null,null,null,null,null,null,null,null,null,null,null,null,null,null,null,null,null,null,null,null,null,null,null,null,null,null,null,null,null,null,null,null,null,null,null,null,null,null,null,null,null,null,null,null,null,null,null,null,null,null,null,null,null,null,null,null,null,null,null,null,null,null,null,null,null,null,null,null,null,null,null,null,null,null,null,null,null,null,null,null,null,null,null,null,null,null,null,null,null,null,null,null,null,null,null,null,null,null,null,null,null,null,null,null,null,null,null,null,null,null,null,null,null,null,null,null,null,null,null,null,null,null,null,null,null,null,null,null,null,null,null,null,null,null,null,null,null,null,null,null,null,null,null,null,null,null,null,null,null,null,null,null,null,null,null,null,null,null,null,null,null,null,null,null,null,null,null,null,null,null,null,null,null,null,null,null,null,null,null,null,null,null,null,null,null,null,null,null,null,null,null,null,null,null,null,null,null,null,null,null,null,null,null,null,null,null,null,null,null,null,null,null,null,null,null,null,null,null,null,null,null,null,null,null,null,null,null,null,null,null,null,null,null,null,null,null,null,null,null,null,null,null,null,null,null,null,null,null,null,null,null,null,null,null,null,null,null,null,null,null,null,null,null,null,null,null,null,null,null,null,null,null,null,null,null,null,null,null,null,null,null,null,null,null,null,null,null,null,null,null,null,null,null,null,null,null,null,null,null,null,null,null,null,null,null,null,null,null,null,null,null,null,null,null,null,null,null,null,null,null,null,null,null,null,null,null,null,null,null,null,null,null,null,null,null,null,null,null,null,null,null,null,null,null,null,null,null,null,null,null,null,null,null,null,null,null,null,null,null,null,null,null,null,null,null,null,null,null,null,null,null,null,null,null,null,null,null,null,null,null,null,null,null,null,null,null,null,null,null,null,null,null,null,null,null,null,null,null,null,null,null,null,null,null,null,null,null,null,null,null,null,null,null,null,null,null,null,null,null,null,null,null,null,null,null,null,null,null,null,null,null,null,null,null,null,null,null,null,null,null,null,null,null,null,null,null,null,null,null,null,null,null,null,null,null,null,null,null,null,null,null,null,null,null,null,null,null,null,null,null,null,null,null,null,null,null,null,null,null,null,null,null,null,null,null,null,null,null,null,null,null,null,null,null,null,null,null,null,null,null,null,null,null,null,null,null,null,null,null,null,null,null,null,null,null,null,null,null,null,null,null,null,null,null,null,null,null,null,null,null,null,null,null,null,null,null,null,null,null,null,null,null,null,null,null,null,null,null,null,null,null,null,null,null,null,null,null,null,null,null,null,null,null,null,null,null,null,null,null,null,null,null,null,null,null,null,null,null,null,null,null,null,null,null,null,null,null,null,null,null,null,null,null,null,null,null,null,null,null,null,null,null,null,null,null,null,null,null,null,null,null,null,null,null,null,null,null,null,null,null,null,null,null,null,null,null,null,null,null,null,null,null,null,null,null,null,null,null,null,null,null,null,null,null,null,null,null,null,null,null,null,null,null,null,null,null,null,null,null,null,null,null,null,null,null,null,null,null,null,null,null,null,null,null,null,null,null,null,null,null,null,null,null,null,null,null,null,null,null,null,null,null,null,null,null,null,null,null,null,null,null,null,null,null,null,null,null,null,null,null,null,null,null,null,null,null,null,null,null,null,null,null,null,null,null,null,null,null,null,null,null,null,null,null,null,null,null,null,null,null,null,null,null,null,null,null,null,null,null,null,null,null,null,null,null,null,null,null,null,null,null,null,null,null,null,null,null,null,null,null,null,null,null,null,null,null,null,null,null,null,null,null,null,null,null,null,null,null,null,null,null,null,null,null,null,null,null,null,null,null,null,null,null,null,null,null,null,null,null,null,null,null,null,null,null,null,null,null,null,null,null,null,null,null,null,null,null,null,null,null,null,null,null,null,null,null,null,null,null,null,null,null,null,null,null,null,null,null,null,null,null,null,null,null,null,null,null,null,null,null,null,null,null,null,null,null,null,null,null,null,null,null,null,null,null,null,null,null,null,null,null,null,null,null,null,null,null,null,null,null,null,null,null,null,null,null,null,null,null,null,null,null,null,null,null,null,null,null,null,null,null,null,null,null,null,null,null,null,null,null,null,null,null,null,null,null,null,null,null,null,null,null,null,null,null,null,null,null,null,null,null,null,null,null,null,null,null,null,null,null,null,null,null,null,null,null,null,null,null,null,null,null,null,null,null,null,null,null,null,null,null,null,null,null,null,null,null,null,null,null,null,null,null,null,null,null,null,null,null,null,null,null,null,null,null,null,null,null,null,null,null,null,null,null,null,null,null,null,null,null,null,null,null,null,null,null,null,null,null,null,null,null,null,null,null,null,null,null,null,null,null,null,null,null,null,null,null,null,null,null,null,null,null,null,null,null,null,null,null,null,null,null,null,null,null,null,null,null,null,null,null,null,null,null,null,null,null,null,null,null,null,null,null,null,null,null,null,null,null,null,null,null,null,null,null,null,null,null,null,null,null,null,null,null,null,null,null,null,null,null,null,null,null,null,null,null,null,null,null,null,null,null,null,null,null,null,null,null,null,null,null,null,null,null,null,null,null,null,null,null,null,null,null,null,null,null,null,null,null,null,null,null,null,null,null,null,null,null,null,null,null,null,null,null,null,null,null,null,null,null,null,null,null,null,null,null,null,null,null,null,null,null,null,null,null,null,null,null,null,null,null,null,null,null,null,null,null,null,null,null,null,null,null,null,null,null,null,null,null,null,null,null,null,null,null,null,null,null,null,null,null,null,null,null,null,null,null,null,null,null,null,null,null,null,null,null,null,null,null,null,null,null,null,null,null,null,null,null,null,null,null,null,null,null,null,null,null,null,null,null,null,null,null,null,null,null,null,null,null,null,null,null,null,null,null,null,null,null,null,null,null,null,null,null,null,null,null,null,null,null,null,null,null,null,null,null,null,null,null,null,null,null,null,null,null,null,null,null,null,null,null,null,null,null,null,null,null,null,null,null,null,null,null,null,null,null,null,null,null,null,null,null,null,null,null,null,null,null,null,null,null,null,null,null,null,null,null,null,null,null,null,null,null,null,null,null,null,null,null,null,null,null,null,null,null,null,null,null,null,null,null,null,null,null,null,null,null,null,null,null,null,null,null,null,null,null,null,null,null,null,null,null,null,null,null,null,null,null,null,null,null,null,null,null,null,null,null,null,null,null,null,null,null,null,null,null,null,null,null,null,null,null,null,null,null,null,null,null,null,null,null,null,null,null,null,null,null,null,null,null,null,null,null,null,null,null,null,null,null,null,null,null,null,null,null,null,null,null,null,null,null,null,null,null,null,null,null,null,null,null,null,null,null,null,null,null,null,null,null,null,null,null,null,null,null,null,null,null,null,null,null,null,null,null,null,null,null,null,null,null,null,null,null,null,null,null,null,null,null,null,null,null,null,null,null,null,null,null,null,null,null,null,null,null,null,null,null,null,null,null,null,null,null,null,null,null,null,null,null,null,null,null,null,null,null,null,null,null,null,null,null,null,null,null,null,null,null,null,null,null,null,null,null,null,null,null,null,null,null,null,null,null,null,null,null,null,null,null,null,null,null,null,null,null,null,null,null,null,null,null,null,null,null,null,null,null,null,null,null,null,null,null,null,null,null,null,null,null,null,null,null,null,null,null,null,null,null,null,null,null,null,null,null,null,null,null,null,null,null,null,null,null,null,null,null,null,null,null,null,null,null,null,null,null,null,null,null,null,null,null,null,null,null,null,null,null,null,null,null,null,null,null,null,null,null,null,null,null,null,null,null,null,null,null,null,null,null,null,null,null,null,null,null,null,null,null,null,null,null,null,null,null,null,null,null,null,null,null,null,null,null,null,null,null,null,null,null,null,null,null,null,null,null,null,null,null,null,null,null,null,null,null,null,null,null,null,null,null,null,null,null,null,null,null,null,null,null,null,null,null,null,null,null,null,null,null,null,null,null,null,null,null,null,null,null,null,null,null,null,null,null,null,null,null,null,null,null,null,null,null,null,null,null,null,null,null,null,null,null,null,null,null,null,null,null,null,null,null,null,null,null,null,null,null,null,null,null,null,null,null,null,null,null,null,null,null,null,null,null,null,null,null,null,null,null,null,null,null,null,null,null,null,null,null,null,null,null,null,null,null,null,null,null,null,null,null,null,null,null,null,null,null,null,null,null,null,null,null,null,null,null,null,null,null,null,null,null,null,null,null,null,null,null,null,null,null,null,null,null,null,null,null,null,null,null,null,null,null,null,null,null,null,null,null,null,null,null,null,null,null,null,null,null,null,null,null,null,null,null,null,null,null,null,null,null,null,null,null,null,null,null,null,null,null,null,null,null,null,null,null,null,null,null,null,null,null,null,null,null,null,null,null,null,null,null,null,null,null,null,null,null,null,null,null,null,null,null,null,null,null,null,null,null,null,null,null,null,null,null,null,null,null,null,null,null,null,null,null,null,null,null,null,null,null,null,null,null,null,null,null,null,null,null,null,null,null,null,null,null,null,null,null,null,null,null,null,null,null,null,null,null,null,null,null,null,null,null,null,null,null,null,null,null,null,null,null,null,null,null,null,null,null,null,null,null,null,null,null,null,null,null,null,null,null,null,null,null,null,null,null,null,null,null,null,null,null,null,null,null,null,null,null,null,null,null,null,null,null,null,null,null,null,null,null,null,null,null,null,null,null,null,null,null,null,null,null,null,null,null,null,null,null,null,null,null,null,null,null,null,null,null,null,null,null,null,null,null,null,null,null,null,null,null,null,null,null,null,null,null,null,null,null,null,null,null,null,null,null,null,null,null,null,null,null,null,null,null,null,null,null,null,null,null,null,null,null,null,null,null,null,null,null,null,null,null,null,null,null,null,null,null,null,null,null,null,null,null,null,null,null,null,null,null,null,null,null,null,null,null,null,null,null,null,null,null,null,null,null,null,null,null,null,null,null,null,null,null,null,null,null,null,null,null,null,null,null,null,null,null,null,null,null,null,null,null,null,null,null,null,null,null,null,null,null,null,null,null,null,null,null,null,null,null,null,null,null,null,null,null,null,null,null,null,null,null,null,null,null,null,null,null,null,null,null,null,null,null,null,null,null,null,null,null,null,null,null,null,null,null,null,null,null,null,null,null,null,null,null,null,null,null,null,null,null,null,null,null,null,null,null,null,null,null,null,null,null,null,null,null,null,null,null,null,null,null,null,null,null,null,null,null,null,null,null,null,null,null,null,null,null,null,null,null,null,null,null,null,null,null,null,null,null,null,null,null,null,null,null,null,null,null,null,null,null,null,null,null,null,null,null,null,null,null,null,null,null,null,null,null,null,null,null,null,null,null,null,null,null,null,null,null,null,null,null,null,null,null,null,null,null,null,null,null,null,null,null,null,null,null,null,null,null,null,null,null,null,null,null,null,null,null,null,null,null,null,null,null,null,null,null,null,null,null,null,null,null,null,null,null,null,null,null,null,null,null,null,null,null,null,null,null,null,null,null,null,null,null,null,null,null,null,null,null,null,null,null,null,null,null,null,null,null,null,null,null,null,null,null,null,null,null,null,null,null,null,null,null,null,null,null,null,null,null,null,null,null,null,null,null,null,null,null,null,null,null,null,null,null,null,null,null,null,null,null,null,null,null,null,null,null,null,null,null,null,null,null,null,null,null,null,null,null,null,null,null,null,null,null,null,null,null,null,null,null,null,null,null,null,null,null,null,null,null,null,null,null,null,null,null,null,null,null,null,null,null,null,null,null,null,null,null,null,null,null,null,null,null,null,null,null,null,null,null,null,null,null,null,null,null,null,null,null,null,null,null,null,null,null,null,null,null,null,null,null,null,null,null,null,null,null,null,null,null,null,null,null,null,null,null,null,null,null,null,null,null,null,null,null,null,null,null,null,null,null,null,null,null,null,null,null,null,null,null,null,null,null,null,null,null,null,null,null,null,null,null,null,null,null,null,null,null,null,null,null,null,null,null,null,null,null,null,null,null,null,null,null,null,null,null,null,null,null,null,null,null,null,null,null,null,null,null,null,null,null,null,null,null,null,null,null,null,null,null,null,null,null,null,null,null,null,null,null,null,null,null,null,null,null,null,null,null,null,null,null,null,0]
[null,null,null,null,null,null,"Disclaimer",null,null,null,null,null,null,null,null,null,null,null,null,null,null,null,null,null,null,null,null,null,null,null,"_wb3",0.23704345224541704,null,null,null,null,null,null,null,null,null,null,null,null,null,null,null,null,null,null,null,null,null,null,null,null,null,null,null,null,null,null,null,null,null,null,null,null,null,null,null,null,null,null,null,null,null,null,null,null,null,null,null,null,null,null,null,null,null,null,null,null,null,null,null,null,null,null,null,null,null,null,null,null,null,null,null,null,null,null,null,null,null,null,null,null,null,null,null,null,null,null,null,null,null,null,null,null,null,null,null,null,null,null,null,null,null,null,null,null,null,null,null,null,null,null,null,null,null,null,null,null,null,null,null,null,null,null,null,null,null,null,null,null,null,null,null,null,null,null,null,null,null,null,null,null,null,null,null,null,null,null,null,null,null,null,null,null,null,null,null,null,null,null,null,null,null,null,null,null,null,null,null,null,null,null,null,null,null,null,null,null,null,null,null,null,null,null,null,null,null,null,null,null,null,null,null,null,null,null,null,null,null,null,null,null,null,null,null,null,null,null,null,null,null,null,null,null,null,null,null,null,null,null,null,null,null,null,null,null,null,null,null,null,null,null,null,null,null,null,null,null,null,null,null,null,null,null,null,null,null,null,null,null,null,null,null,null,null,null,null,null,null,null,null,null,null,null,null,null,null,null,null,null,null,null,null,null,null,null,null,null,null,null,null,null,null,null,null,null,null,null,null,null,null,null,null,null,null,null,null,null,null,null,null,null,null,null,null,null,null,null,null,null,null,null,null,null,null,null,null,null,null,null,null,null,null,null,null,null,null,null,null,null,null,null,null,null,null,null,null,null,null,null,null,null,null,null,null,null,null,null,null,null,null,null,null,null,null,null,null,null,null,null,null,null,null,null,null,null,null,null,null,null,null,null,null,null,null,null,null,null,null,null,null,null,null,null,null,null,null,null,null,null,null,null,null,null,null,null,null,null,null,null,null,null,null,null,null,null,null,null,null,null,null,null,null,null,null,null,null,null,null,null,null,null,null,null,null,null,null,null,null,null,null,null,null,null,null,null,null,null,null,null,null,null,null,null,null,null,null,null,null,null,null,null,null,null,null,null,null,null,null,null,null,null,null,null,null,null,null,null,null,null,null,null,null,null,null,null,null,null,null,null,null,null,null,null,null,null,null,null,null,null,null,null,null,null,null,null,null,null,null,null,null,null,null,null,null,null,null,null,null,null,null,null,null,null,null,null,null,null,null,null,null,null,null,null,null,null,null,null,null,null,null,null,null,null,null,null,null,null,null,null,null,null,null,null,null,null,null,null,null,null,null,null,null,null,null,null,null,null,null,null,null,null,null,null,null,null,null,null,null,null,null,null,null,null,null,null,null,null,null,null,null,null,null,null,null,null,null,null,null,null,null,null,null,null,null,null,null,null,null,null,null,null,null,null,null,null,null,null,null,null,null,null,null,null,null,null,null,null,null,null,null,null,null,null,null,null,null,null,null,null,null,null,null,null,null,null,null,null,null,null,null,null,null,null,null,null,null,null,null,null,null,null,null,null,null,null,null,null,null,null,null,null,null,null,null,null,null,null,null,null,null,null,null,null,null,null,null,null,null,null,null,null,null,null,null,null,null,null,null,null,null,null,null,null,null,null,null,null,null,null,null,null,null,null,null,null,null,null,null,null,null,null,null,null,null,null,null,null,null,null,null,null,null,null,null,null,null,null,null,null,null,null,null,null,null,null,null,null,null,null,null,null,null,null,null,null,null,null,null,null,null,null,null,null,null,null,null,null,null,null,null,null,null,null,null,null,null,null,null,null,null,null,null,null,null,null,null,null,null,null,null,null,null,null,null,null,null,null,null,null,null,null,null,null,null,null,null,null,null,null,null,null,null,null,null,null,null,null,null,null,null,null,null,null,null,null,null,null,null,null,null,null,null,null,null,null,null,null,null,null,null,null,null,null,null,null,null,null,null,null,null,null,null,null,null,null,null,null,null,null,null,null,null,null,null,null,null,null,null,null,null,null,null,null,null,null,null,null,null,null,null,null,null,null,null,null,null,null,null,null,null,null,null,null,null,null,null,null,null,null,null,null,null,null,null,null,null,null,null,null,null,null,null,null,null,null,null,null,null,null,null,null,null,null,null,null,null,null,null,null,null,null,null,null,null,null,null,null,null,null,null,null,null,null,null,null,null,null,null,null,null,null,null,null,null,null,null,null,null,null,null,null,null,null,null,null,null,null,null,null,null,null,null,null,null,null,null,null,null,null,null,null,null,null,null,null,null,null,null,null,null,null,null,null,null,null,null,null,null,null,null,null,null,null,null,null,null,null,null,null,null,null,null,null,null,null,null,null,null,null,null,null,null,null,null,null,null,null,null,null,null,null,null,null,null,null,null,null,null,null,null,null,null,null,null,null,null,null,null,null,null,null,null,null,null,null,null,null,null,null,null,null,null,null,null,null,null,null,null,null,null,null,null,null,null,null,null,null,null,null,null,null,null,null,null,null,null,null,null,null,null,null,null,null,null,null,null,null,null,null,null,null,null,null,null,null,null,null,null,null,null,null,null,null,null,null,null,null,null,null,null,null,null,null,null,null,null,null,null,null,null,null,null,null,null,null,null,null,null,null,null,null,null,null,null,null,null,null,null,null,null,null,null,null,null,null,null,null,null,null,null,null,null,null,null,null,null,null,null,null,null,null,null,null,null,null,null,null,null,null,null,null,null,null,null,null,null,null,null,null,null,null,null,null,null,null,null,null,null,null,null,null,null,null,null,null,null,null,null,null,null,null,null,null,null,null,null,null,null,null,null,null,null,null,null,null,null,null,null,null,null,null,null,null,null,null,null,null,null,null,null,null,null,null,null,null,null,null,null,null,null,null,null,null,null,null,null,null,null,null,null,null,null,null,null,null,null,null,null,null,null,null,null,null,null,null,null,null,null,null,null,null,null,null,null,null,null,null,null,null,null,null,null,null,null,null,null,null,null,null,null,null,null,null,null,null,null,null,null,null,null,null,null,null,null,null,null,null,null,null,null,null,null,null,null,null,null,null,null,null,null,null,null,null,null,null,null,null,null,null,null,null,null,null,null,null,null,null,null,null,null,null,null,null,null,null,null,null,null,null,null,null,null,null,null,null,null,null,null,null,null,null,null,null,null,null,null,null,null,null,null,null,null,null,null,null,null,null,null,null,null,null,null,null,null,null,null,null,null,null,null,null,null,null,null,null,null,null,null,null,null,null,null,null,null,null,null,null,null,null,null,null,null,null,null,null,null,null,null,null,null,null,null,null,null,null,null,null,null,null,null,null,null,null,null,null,null,null,null,null,null,null,null,null,null,null,null,null,null,null,null,null,null,null,null,null,null,null,null,null,null,null,null,null,null,null,null,null,null,null,null,null,null,null,null,null,null,null,null,null,null,null,null,null,null,null,null,null,null,null,null,null,null,null,null,null,null,null,null,null,null,null,null,null,null,null,null,null,null,null,null,null,null,null,null,null,null,null,null,null,null,null,null,null,null,null,null,null,null,null,null,null,null,null,null,null,null,null,null,null,null,null,null,null,null,null,null,null,null,null,null,null,null,null,null,null,null,null,null,null,null,null,null,null,null,null,null,null,null,null,null,null,null,null,null,null,null,null,null,null,null,null,null,null,null,null,null,null,null,null,null,null,null,null,null,null,null,null,null,null,null,null,null,null,null,null,null,null,null,null,null,null,null,null,null,null,null,null,null,null,null,null,null,null,null,null,null,null,null,null,null,null,null,null,null,null,null,null,null,null,null,null,null,null,null,null,null,null,null,null,null,null,null,null,null,null,null,null,null,null,null,null,null,null,null,null,null,null,null,null,null,null,null,null,null,null,null,null,null,null,null,null,null,null,null,null,null,null,null,null,null,null,null,null,null,null,null,null,null,null,null,null,null,null,null,null,null,null,null,null,null,null,null,null,null,null,null,null,null,null,null,null,null,null,null,null,null,null,null,null,null,null,null,null,null,null,null,null,null,null,null,null,null,null,null,null,null,null,null,null,null,null,null,null,null,null,null,null,null,null,null,null,null,null,null,null,null,null,null,null,null,null,null,null,null,null,null,null,null,null,null,null,null,null,null,null,null,null,null,null,null,null,null,null,null,null,null,null,null,null,null,null,null,null,null,null,null,null,null,null,null,null,null,null,null,null,null,null,null,null,null,null,null,null,null,null,null,null,null,null,null,null,null,null,null,null,null,null,null,null,null,null,null,null,null,null,null,null,null,null,null,null,null,null,null,null,null,null,null,null,null,null,null,null,null,null,null,null,null,null,null,null,null,null,null,null,null,null,null,null,null,null,null,null,null,null,null,null,null,null,null,null,null,null,null,null,null,null,null,null,null,null,null,null,null,null,null,null,null,null,null,null,null,null,null,null,null,null,null,null,null,null,null,null,null,null,null,null,null,null,null,null,null,null,null,null,null,null,null,null,null,null,null,null,null,null,null,null,null,null,null,null,null,null,null,null,null,null,null,null,null,null,null,null,null,null,null,null,null,null,null,null,null,null,null,null,null,null,null,null,null,null,null,null,null,null,null,null,null,null,null,null,null,null,null,null,null,null,null,null,null,null,null,null,null,null,null,null,null,null,null,null,null,null,null,null,null,null,null,null,null,null,null,null,null,null,null,null,null,null,null,null,null,null,null,null,null,null,null,null,null,null,null,null,null,null,null,null,null,null,null,null,null,null,null,null,null,null,null,null,null,null,null,null,null,null,null,null,null,null,null,null,null,null,null,null,null,null,null,null,null,null,null,null,null,null,null,null,null,null,null,null,null,null,null,null,null,null,null,null,null,null,null,null,null,null,null,null,null,null,null,null,null,null,null,null,null,null,null,null,null,null,null,null,null,null,null,null,null,null,null,null,null,null,null,null,null,null,null,null,null,null,null,null,null,null,null,null,null,null,null,null,null,null,null,null,null,null,null,null,null,null,null,null,null,null,null,null,null,null,null,null,null,null,null,null,null,null,null,null,null,null,null,null,null,null,null,null,null,null,null,null,null,null,null,null,null,null,null,null,null,null,null,null,null,null,null,null,null,null,null,null,null,null,null,null,null,null,null,null,null,null,null,null,null,null,null,null,null,null,null,null,null,null,null,null,null,null,null,null,null,null,null,null,null,null,null,null,null,null,null,null,null,null,null,null,null,null,null,null,null,null,null,null,null,null,null,null,null,null,null,null,null,null,null,null,null,null,null,null,null,null,null,null,null,null,null,null,null,null,null,null,null,null,null,null,null,null,null,null,null,null,null,null,null,null,null,null,null,null,null,null,null,null,null,null,null,null,null,null,null,null,null,null,null,null,null,null,null,null,null,null,null,null,null,null,null,null,null,null,null,null,null,null,null,null,null,null,null,null,null,null,null,null,null,null,null,null,null,null,null,null,null,null,null,null,null,null,null,null,null,null,null,null,null,null,null,null,null,null,null,null,null,null,null,null,null,null,null,null,null,null,null,null,null,null,null,null,null,null,null,null,null,null,null,null,null,null,null,null,null,null,null,null,null,null,null,null,null,null,null,null,null,null,null,null,null,null,null,null,null,null,null,null,null,null,null,null,null,null,null,null,null,null,null,null,null,null,null,null,null,null,null,null,null,null,null,null,null,null,null,null,null,null,null,null,null,null,null,null,null,null,null,null,null,null,null,null,null,null,null,null,null,null,null,null,null,null,null,null,null,null,null,null,null,null,null,null,null,null,null,null,null,null,null,null,null,null,null,null,null,null,null,null,null,null,null,null,null,null,null,null,null,null,null,null,null,null,null,null,null,null,null,null,null,null,null,null,null,null,null,null,null,null,null,null,null,null,null,null,null,null,null,null,null,null,null,null,null,null,null,null,null,null,null,null,null,null,null,null,null,null,null,null,null,null,null,null,null,null,null,null,null,null,null,null,null,null,null,null,null,null,null,null,null,null,null,null,null,null,null,null,null,null,null,null,null,null,null,null,null,null,null,null,null,null,null,null,null,null,null,null,null,null,null,null,null,null,null,null,null,null,null,null,null,null,null,null,null,null,null,null,null,null,null,null,null,null,null,null,null,null,null,null,null,null,null,null,null,null,null,null,null,null,null,null,null,null,null,null,null,null,null,null,null,null,null,null,null,null,null,null,null,null,null,null,null,null,null,null,null,null,null,null,null,null,null,null,null,null,null,null,null,null,null,null,null,null,null,null,null,null,null,null,null,null,null,null,null,null,null,null,null,null,null,null,null,null,null,null,null,null,null,null,null,null,null,null,null,null,null,null,null,null,null,null,null,null,null,null,null,null,null,null,null,null,null,null,null,null,null,null,null,null,null,null,null,null,null,null,null,null,null,null,null,null,null,null,null,null,null,null,null,null,null,null,null,null,null,null,null,null,null,null,null,null,null,null,null,null,null,null,null,null,null,null,null,null,null,null,null,null,null,null,null,null,null,null,null,null,null,null,null,null,null,null,null,null,null,null,null,null,null,null,null,null,null,null,null,null,null,null,null,null,null,null,null,null,null,null,null,null,null,null,null,null,null,null,null,null,null,null,null,null,null,null,null,null,null,null,null,null,null,null,null,null,null,null,null,null,null,null,null,null,null,null,null,null,null,null,null,null,null,null,null,null,null,null,null,null,null,null,null,null,null,null,null,null,null,null,null,null,null,null,null,null,null,null,null,null,null,null,null,null,null,null,null,null,null,null,null,null,null,null,null,null,null,null,null,null,null,null,null,null,null,null,null,null,null,null,null,null,null,null,null,null,null,null,null,null,null,null,null,null,null,null,null,null,null,null,null,null,null,null,null,null,null,null,null,null,null,null,null,null,null,null,null,null,null,null,null,null,null,null,null,null,null,null,null,null,null,null,null,null,null,null,null,null,null,null,null,null,null,null,null,null,null,null,null,null,null,null,null,null,null,null,null,null,null,null,null,null,null,null,null,null,null,null,null,null,null,null,null,null,null,null,null,null,null,null,null,null,null,null,null,null,null,null,null,null,null,null,null,null,null,null,null,null,null,null,null,null,null,null,null,null,null,null,null,null,null,null,null,null,null,null,null,null,null,null,null,null,null,null,null,null,null,null,null,null,null,null,null,null,null,null,null,null,null,null,null,null,null,null,null,null,null,null,null,null,null,null,null,null,null,null,null,null,null,null,null,null,null,null,null,null,null,null,null,null,null,null,null,null,null,null,null,null,null,null,null,null,null,null,null,null,null,null,null,null,null,null,null,null,null,null,null,null,null,null,null,null,null,null,null,null,null,null,null,null,null,null,null,null,null,null,null,null,null,null,null,null,null,null,null,null,null,null,null,null,null,null,null,null,null,null,null,null,null,null,null,null,null,null,null,null,null,null,null,null,null,null,null,null,null,null,null,null,null,null,null,null,null,null,null,null,null,null,null,null,null,null,null,null,null,null,null,null,null,null,null,null,null,null,null,null,null,null,null,null,null,null,null,null,null,null,null,null,null,null,null,null,null,null,null,null,null,null,null,null,null,null,null,null,null,null,null,null,null,null,null,null,null,null,null,null,null,null,null,null,null,null,null,null,null,null,null,null,null,null,null,null,null,null,null,null,null,null,null,null,null,null,null,null,null,null,null,null,null,null,null,null,null,null,null,null,null,null,null,null,null,null,null,null,null,null,null,null,null,null,null,null,null,null,null,null,null,null,null,null,null,null,null,null,null,null,null,null,null,null,null,null,null,null,null,null,null,null,null,null,null,null,null,null,null,null,null,null,null,null,null,null,null,null,null,null,null,null,null,null,null,null,null,null,null,null,null,null,null,null,null,null,null,null,null,null,null,null,null,null,null,null,null,null,null,null,null,null,null,null,null,null,null,null,null,null,null,null,null,null,null,null,null,null,null,null,null,null,null,null,null,null,null,null,null,null,null,null,null,null,null,null,null,null,null,null,null,null,null,null,null,null,null,null,null,null,null,null,null,null,null,null,null,null,null,null,null,null,null,null,null,null,null,null,null,null,null,null,null,null,null,null,null,null,null,null,null,null,null,null,null,null,null,null,null,null,null,null,null,null,null,null,null,null,null,null,null,null,null,null,null,null,null,null,null,null,null,null,null,null,null,null,null,null,null,null,null,null,null,null,null,null,null,null,null,null,null,null,null,null,null,null,null,null,null,null,null,null,null,null,null,null,null,null,null,null,null,null,null,null,null,null,null,null,null,null,null,null,null,null,null,null,null,null,null,null,null,null,null,null,null,null,null,null,null,null,null,null,null,null,null,null,null,null,null,null,null,null,null,null,null,null,null,null,null,null,null,null,null,null,null,null,null,null,null,null,null,null,null,null,null,null,null,null,null,null,null,null,null,null,null,null,null,null,null,null,null,null,null,null,null,null,null,null,null,null,null,null,null,null,null,null,null,null,null,null,null,null,null,null,null,null,null,null,null,null,null,null,null,null,null,null,null,null,null,null,null,null,null,null,null,null,null,null,null,null,null,null,null,null,null,null,null,null,null,null,null,null,null,null,null,null,null,null,null,null,null,null,null,null,null,null,null,null,null,null,null,null,null,null,null,null,null,null,null,null,null,null,null,null,null,null,null,null,null,null,null,null,null,null,null,null,null,null,null,null,null,null,null,null,null,null,null,null,null,null,null,null,null,null,null,null,null,null,null,null,null,null,null,null,null,null,null,null,null,null,null,null,null,null,null,null,null,null,null,null,null,null,null,null,null,null,null,null,null,null,null,null,null,null,null,null,null,null,null,null,null,null,null,null,null,null,null,null,null,null,null,null,null,null,null,null,null,null,null,null,null,null,null,null,null,null,null,null,null,null,null,null,null,null,null,null,null,null,null,null,null,null,null,null,null,null,null,null,null,null,null,null,null,null,null,null,null,null,null,null,null,null,null,null,null,null,null,null,null,null,null,null,null,null,null,null,null,null,null,null,null,null,null,null,null,null,null,null,null,null,null,null,null,null,null,null,null,null,null,null,null,null,null,null,null,null,null,null,null,null,null,null,null,null,null,null,null,null,null,null,null,null,null,null,null,null,null,null,null,null,null,null,null,null,null,null,null,null,null,null,null,null,null,null,null,null,null,null,null,null,null,null,null,null,null,null,null,null,null,null,null,null,null,null,null,null,null,null,null,null,null,null,null,null,null,null,null,null,null,null,null,null,null,null,null,null,null,null,null,null,null,null,null,null,null,null,null,null,null,null,null,null,null,null,null,null,null,null,null,null,null,null,null,null,null,null,null,null,null,null,null,null,null,null,null,null,null,null,null,null,null,null,null,null,null,null,null,null,null,null,null,null,null,null,null,null,null,null,null,null,null,null,null,null,null,null,null,null,null,null,null,null,null,null,null,null,null,null,null,null,null,null,null,null,null,null,null,null,null,null,null,null,null,null,null,null,null,null,null,null,null,null,null,null,null,null,null,null,null,null,null,null,null,null,null,null,null,null,null,null,null,null,null,null,null,null,null,null,null,null,null,null,null,null,null,null,null,null,null,null,null,null,null,null,null,null,null,null,null,null,null,null,null,null,null,null,null,null,null,null,null,null,null,null,null,null,null,null,null,null,null,null,null,null,null,null,null,null,null,null,null,null,null,null,null,null,null,null,null,null,null,null,null,null,null,null,null,null,null,null,null,null,null,null,null,null,null,null,null,null,null,null,null,null,null,null,null,null,null,null,null,null,null,null,null,null,null,null,null,null,null,null,null,null,null,null,null,null,null,null,null,null,null,null,null,null,null,null,null,null,null,null,null,null,null,null,null,null,null,null,null,null,null,null,null,null,null,null,null,null,null,null,null,null,null,null,null,null,null,null,null,null,null,null,null,null,null,null,null,null,null,null,null,null,null,null,null,null,null,null,null,null,null,null,null,null,null,null,null,null,null,null,null,null,null,null,null,null,null,null,null,null,null,null,null,null,null,null,null,null,null,null,null,null,null,null,null,null,null,null,null,null,null,null,null,null,null,null,null,null,null,null,null,null,null,null,null,null,null,null,null,null,null,null,null,null,null,null,null,null,null,null,null,null,null,null,null,null,null,null,null,null,null,null,null,null,null,null,null,null,null,null,null,null,null,null,null,null,null,null,null,null,null,null,null,null,null,null,null,null,null,null,null,null,null,null,null,null,null,null,null,null,null,null,null,null,null,null,null,null,null,null,null,null,null,null,null,null,null,null,null,null,null,null,null,null,null,null,null,null,null,null,null,null,null,null,null,null,null,null,null,null,null,null,null,null,null,null,null,null,null,null,null,null,null,null,null,null,null,null,null,null,null,null,null,null,null,null,null,null,null,null,null,null,null,null,null,null,null,null,null,null,null,null,null,null,null,null,null,null,null,null,null,null,null,null,null,null,null,null,null,null,null,null,null,null,null,null,null,null,null,null,null,null,null,null,null,null,null,null,null,null,null,null,null,null,null,null,null,null,null,null,null,null,null,null,null,null,null,null,null,null,null,null,null,null,null,null,null,null,null,null,null,null,null,null,null,null,null,null,null,null,null,null,null,null,null,null,null,null,null,null,null,null,null,null,null,null,null,null,null,null,null,null,null,null,null,null,null,null,null,null,null,null,null,null,null,null,null,null,null,null,null,null,null,null,null,null,null,null,null,null,null,null,null,null,null,null,null,null,null,null,null,null,null,null,null,null,null,null,null,null,null,null,null,null,null,null,null,null,null,null,null,null,null,null,null,null,null,null,null,null,null,null,null,null,null,null,null,null,null,null,null,null,null,null,null,null,null,null,null,null,null,null,null,null,null,null,null,null,null,null,null,null,null,null,null,null,null,null,null,null,null,null,null,null,null,null,null,null,null,null,null,null,null,null,null,null,null,null,null,null,null,null,null,null,null,null,null,null,null,null,null,null,null,null,null,null,null,null,null,null,null,null,null,null,null,null,null,null,null,null,null,null,null,null,null,null,null,null,null,null,null,null,null,null,null,null,null,null,null,null,null,null,null,null,null,null,null,null,null,null,null,null,null,null,null,null,null,null,null,null,null,null,null,null,null,null,null,null,null,null,null,null,null,null,null,null,null,null,null,null,null,null,null,null,null,null,null,null,null,null,null,null,null,null,null,null,null,null,null,null,null,null,null,null,null,null,null,null,null,null,null,null,null,null,null,null,null,null,null,null,null,null,null,null,null,null,null,null,null,null,null,null,null,null,null,null,null,null,null,null,null,null,null,null,null,null,null,null,null,null,null,null,null,null,null,null,null,null,null,null,null,null,null,null,null,null,null,null,null,null,null,null,null,null,null,null,null,null,null,null,null,null,null,null,null,null,null,null,null,null,null,null,null,null,null,null,null,null,null,null,null,null,null,null,null,null,null,null,null,null,null,null,null,null,null,null,null,null,null,null,null,null,null,null,null,null,null,null,null,null,null,null,null,null,null,null,null,null,null,null,null,null,null,null,null,null,null,null,null,null,null,null,null,null,null,null,null,null,null,null,null,null,null,null,null,null,null,null,null,null,null,null,null,null,null,null,null,null,null,null,null,null,null,null,null,null,null,null,null,null,null,null,null,null,null,null,null,null,null,null,null,null,null,null,null,null,null,null,null,null,null,null,null,null,null,null,null,null,null,null,null,null,null,null,null,null,null,null,null,null,null,null,null,null,null,null,null,null,null,null,null,null,null,null,null,null,null,null,null,null,null,null,null,null,null,null,null,null,null,null,null,null,null,null,null,null,null,null,null,null,null,null,null,null,null,null,null,null,null,null,null,null,null,null,null,null,null,null,null,null,null,null,null,null,null,null,null,null,null,null,null,null,null,null,null,null,null,null,null,null,null,null,null,null,null,null,null,null,null,null,null,null,null,null,null,null,null,null,null,null,null,null,null,null,null,null,null,null,null,null,null,null,null,null,null,null,null,null,null,null,null,null,null,null,null,null,null,null,null,null,null,null,null,null,null,null,null,null,null,null,null,null,null,null,null,null,null,null,null,null,null,null,null,null,null,null,null,null,null,null,null,null,null,null,null,null,null,null,null,null,null,null,null,null,null,null,null,null,null,null,null,null,null,null,null,null,null,null,null,null,null,null,null,null,null,null,null,null,null,null,null,null,null,null,null,null,null,null,null,null,null,null,null,null,null,null,null,null,null,null,null,null,null,null,null,null,null,null,null,null,null,null,null,null,null,null,null,null,null,null,null,null,null,null,null,null,null,null,null,null,null,null,null,null,null,null,null,null,null,null,null,null,null,null,null,null,null,null,null,null,null,null,null,null,null,null,null,null,null,null,null,null,null,null,null,null,null,null,null,null,null,null,null,null,null,null,null,null,null,null,null,null,null,null,null,null,null,null,null,null,null,null,null,null,null,null,null,null,null,null,null,null,null,null,null,null,null,null,null,null,null,null,null,null,null,null,null,null,null,null,null,null,null,null,null,null,null,null,null,null,null,null,null,null,null,null,null,null,null,null,null,null,null,null,null,null,null,null,null,null,null,null,null,null,null,null,null,null,null,null,null,null,null,null,null,null,null,null,null,null,null,null,null,null,null,null,null,null,null,null,null,null,null,null,null,null,null,null,null,null,null,null,null,null,null,null,null,null,null,null,null,null,null,null,null,null,null,null,null,null,null,null,null,null,null,null,null,null,null,null,null,null,null,null,null,null,null,null,null,null,null,null,null,null,null,null,null,null,null,null,null,null,null,null,null,null,null,null,null,null,null,null,null,null,null,null,null,null,null,null,null,null,null,null,null,null,null,null,null,null,null,null,null,null,null,null,null,null,null,null,null,null,null,null,null,null,null,null,null,null,null,null,null,null,null,null,null,null,null,null,null,null,null,null,null,null,null,null,null,null,null,null,null,null,null,null,null,null,null,null,null,null,null,null,null,null,null,null,null,null,null,null,null,null,null,null,null,null,null,null,null,null,null,null,null,null,null,null,null,null,null,null,null,null,null,null,null,null,null,null,null,null,null,null,null,null,null,null,null,null,null,null,null,null,null,null,null,null,null,null,null,null,null,null,null,null,null,null,null,null,null,null,null,null,null,null,null,null,null,null,null,null,null,null,null,null,null,null,null,null,null,null,null,null,null,null,null,null,null,null,null,null,null,null,null,null,null,null,null,null,null,null,null,null,null,null,null,null,null,null,null,null,null,null,null,null,null,null,null,null,null,null,null,null,null,null,null,null,null,null,null,null,null,null,null,null,null,null,null,null,null,null,null,null,null,null,null,null,null,null,null,null,null,null,null,null,null,null,null,null,null,null,null,null,null,null,null,null,null,null,null,null,null,null,null,null,null,null,null,null,null,null,null,null,null,null,null,null,null,null,null,null,null,null,null,null,null,null,null,null,null,null,null,null,null,null,null,null,null,null,null,null,null,null,null,null,null,null,null,null,null,null,null,null,null,null,null,null,null,null,null,null,null,null,null,null,null,null,null,null,null,null,null,null,null,null,null,null,null,null,null,null,null,null,null,null,null,null,null,null,null,null,null,null,null,null,null,null,null,null,null,null,null,null,null,null,null,null,null,null,null,null,null,null,null,null,null,null,null,null,null,null,null,null,null,null,null,null,null,null,null,null,null,null,null,null,null,null,null,null,null,null,null,null,null,null,null,null,null,null,null,null,null,null,null,null,null,null,null,null,null,null,null,null,null,null,null,null,null,null,null,null,null,null,null,null,null,null,null,null,null,null,null,null,null,null,null,null,null,null,null,null,null,null,null,null,null,null,null,null,null,null,null,null,null,null,null,null,null,null,null,null,null,null,null,null,null,null,null,null,null,null,null,null,null,null,null,null,null,null,null,null,null,null,null,null,null,null,null,null,null,null,null,null,null,null,null,null,null,null,null,null,null,null,null,null,null,null,null,null,null,null,null,null,null,null,null,null,null,null,null,null,null,null,null,null,null,null,null,null,null,null,null,null,null,null,null,null,null,null,null,null,null,null,null,null,null,null,null,null,null,null,null,null,null,null,null,null,null,null,null,null,null,null,null,null,null,null,null,null,null,null,null,null,null,null,null,null,null,null,null,null,null,null,null,null,null,null,null,null,null,null,null,null,null,null,null,null,null,null,null,null,null,null,null,null,null,null,null,null,null,null,null,null,null,null,null,null,null,null,null,null,null,null,null,null,null,null,null,null,null,null,null,null,null,null,null,null,null,null,null,null,null,null,null,null,null,null,null,null,null,null,null,null,null,null,null,null,null,null,null,null,null,null,null,null,null,null,null,null,null,null,null,null,null,null,null,null,null,null,null,null,null,null,null,null,null,null,null,null,null,null,null,null,null,null,null,null,null,null,null,null,null,null,null,null,null,null,null,null,null,null,null,null,null,null,null,null,null,null,null,null,null,null,null,null,null,null,null,null,null,null,null,null,null,null,null,null,null,null,null,null,null,null,null,null,null,null,null,null,null,null,null,null,null,null,null,null,null,null,null,null,null,null,null,null,null,null,null,null,null,null,null,null,null,null,null,null,null,null,null,null,null,null,null,null,null,null,null,null,null,null,null,null,null,null,null,null,null,null,null,null,null,null,null,null,null,null,null,null,null,null,null,null,null,null,null,null,null,null,null,null,null,null,null,null,null,null,null,null,null,null,null,null,null,null,null,null,null,null,null,null,null,null,null,null,null,null,null,null,null,null,null,null,null,null,null,null,null,null,null,null,null,null,null,null,null,null,null,null,null,null,null,null,null,null,null,null,null,null,null,null,null,null,null,null,null,null,null,null,null,null,null,null,null,null,null,null,null,null,null,null,null,null,null,null,null,null,null,null,null,null,null,null,null,null,null,null,null,null,null,null,null,null,null,null,null,null,null,null,null,null,null,null,null,null,null,null,null,null,null,null,null,null,null,null,null,null,null,null,null,null,null,null,null,null,null,null,null,null,null,null,null,null,null,null,null,null,null,null,null,null,null,null,null,null,null,null,null,null,null,null,null,null,null,null,null,null,null,null,null,null,null,null,null,null,null,null,null,null,null,null,null,null,null,null,null,null,null,null,null,null,null,null,null,null,null,null,null,null,null,null,null,null,null,null,null,null,null,null,null,null,null,null,null,null,null,null,null,null,null,null,null,null,null,null,null,null,null,null,null,null,null,null,null,null,null,null,null,null,null,null,null,null,null,null,null,null,null,null,null,null,null,null,null,null,null,null,null,null,null,null,null,null,null,null,null,null,null,null,null,null,null,null,null,null,null,null,null,null,null,null,null,null,null,null,null,null,null,null,null,null,null,null,null,null,null,null,null,null,null,null,null,null,null,null,null,null,null,null,null,null,null,null,null,null,null,null,null,null,null,null,null,null,null,null,null,null,null,null,null,null,null,null,null,null,null,null,null,null,null,null,null,null,null,null,null,null,null,null,null,null,null,null,null,null,null,null,null,null,null,null,null,null,null,null,null,null,null,null,null,null,null,null,null,null,null,null,null,null,null,null,null,null,null,null,null,null,null,null,null,null,null,null,null,null,null,null,null,null,null,null,null,null,null,null,null,null,null,null,null,null,null,null,null,null,null,null,null,null,null,null,null,null,null,null,null,null,null,null,null,null,null,null,null,null,null,null,null,null,null,null,null,null,null,null,null,null,null,null,null,null,null,null,null,null,null,null,null,null,null,null,null,null,null,null,null,null,null,null,null,null,null,null,null,null,null,null,null,null,null,null,null,null,null,null,null,null,null,null,null,null,null,null,null,null,null,null,null,null,null,null,null,null,null,null,null,null,null,null,null,null,null,null,null,null,null,null,null,null,null,null,null,null,null,null,null,null,null,null,null,null,null,null,null,null,null,null,null,null,null,null,null,null,null,null,null,null,null,null,null,null,null,null,null,null,null,null,null,null,null,null,null,null,null,null,null,null,null,null,null,null,null,null,null,null,null,null,null,null,null,null,null,null,null,null,null,null,null,null,null,null,null,null,null,null,null,null,null,null,null,null,null,null,null,null,null,null,null,null,null,null,null,null,null,null,null,null,null,null,null,null,null,null,null,null,null,null,null,null,null,null,null,null,null,null,null,null,null,null,null,null,null,null,null,null,null,null,null,null,null,null,null,null,null,null,null,null,null,null,null,null,null,null,null,null,null,null,null,null,null,null,null,null,null,null,null,null,null,null,null,null,null,null,null,null,null,null,null,null,null,null,null,null,null,null,null,null,null,null,null,null,null,null,null,null,null,null,null,null,null,null,null,null,null,null,null,null,null,null,null,null,null,null,null,null,null,null,null,null,null,null,null,null,null,null,null,null,null,null,null,null,null,null,null,null,null,null,null,null,null,null,null,null,null,null,null,null,null,null,null,null,null,null,null,null,null,null,null,null,null,null,null,null,null,null,null,null,null,null,null,null,null,null,null,null,null,null,null,null,null,null,null,null,null,null,null,null,null,null,null,null,null,null,null,null,null,null,null,null,null,null,null,null,null,null,null,null,null,null,null,null,null,null,null,null,null,null,null,null,null,null,null,null,null,null,null,null,null,null,null,null,null,null,null,null,null,null,null,null,null,null,null,null,null,null,null,null,null,null,null,null,null,null,null,null,null,null,null,null,null,null,null,null,null,null,null,null,null,null,null,null,null,null,null,null,null,null,null,null,null,null,null,null,null,null,null,null,null,null,null,null,null,null,null,null,null,null,null,null,null,null,null,null,null,null,null,null,null,null,null,null,null,null,null,null,null,null,null,null,null,null,null,null,null,null,null,null,null,null,null,null,null,null,null,null,null,null,null,null,null,null,null,null,null,null,null,null,null,null,null,null,null,null,null,null,null,null,null,null,null,null,null,null,null,null,null,null,null,null,null,null,null,null,null,null,null,null,null,null,null,null,null,null,null,null,null,null,null,null,null,null,null,null,null,null,null,null,null,null,null,null,null,null,null,null,null,null,null,null,null,null,null,null,null,null,null,null,null,null,null,null,null,null,null,null,null,null,null,null,null,null,null,null,null,null,null,null,null,null,null,null,null,null,null,null,null,null,null,null,null,null,null,null,null,null,null,null,null,null,null,null,null,null,null,null,null,null,null,null,null,null,null,null,null,null,null,null,null,null,null,null,null,null,null,null,null,null,null,null,null,null,null,null,null,null,null,null,null,null,null,null,null,null,null,null,null,null,null,null,null,null,null,null,null,null,null,null,null,null,null,null,null,null,null,null,null,null,null,null,null,null,null,null,null,null,null,null,null,null,null,null,null,null,null,null,null,null,null,null,null,null,null,null,null,null,null,null,null,null,null,null,null,null,null,null,null,null,null,null,null,null,null,null,null,null,null,null,null,null,null,null,null,null,null,null,null,null,null,null,null,null,null,null,null,null,null,null,null,null,null,null,null,null,null,null,null,null,null,null,null,null,null,null,null,null,null,null,null,null,null,null,null,null,null,null,null,null,null,null,null,null,null,null,null,null,null,null,null,null,null,null,null,null,null,null,null,null,null,null,null,null,null,null,null,null,null,null,null,null,null,null,null,null,null,null,null,null,null,null,null,null,null,null,null,null,null,null,null,null,null,null,null,null,null,null,null,null,null,null,null,null,null,null,null,null,null,null,null,null,null,null,null,null,null,null,null,null,null,null,null,null,null,null,null,null,null,null,null,null,null,null,null,null,null,null,null,null,null,null,null,null,null,null,null,null,null,null,null,null,null,null,null,null,null,null,null,null,null,null,null,null,null,null,null,null,null,null,null,null,null,null,null,null,null,null,null,null,null,null,null,null,null,null,null,null,null,null,null,null,null,null,null,null,null,null,null,null,null,null,null,null,null,null,null,null,null,null,null,null,null,null,null,null,null,null,null,null,null,null,null,null,null,null,null,null,null,null,null,null,null,null,null,null,null,null,null,null,null,null,null,null,null,null,null,null,null,null,null,null,null,null,null,null,null,null,null,null,null,null,null,null,null,null,null,null,null,null,null,null,null,null,null,null,null,null,null,null,null,null,null,null,null,null,null,null,null,null,null,null,null,null,null,null,null,null,null,null,null,null,null,null,null,null,null,null,null,null,null,null,null,null,null,null,null,null,null,null,null,null,null,null,null,null,null,null,null,null,null,null,null,null,null,null,null,null,null,null,null,null,null,null,null,null,null,null,null,null,null,null,null,null,null,null,null,null,null,null,null,null,null,null,null,null,null,null,null,null,null,null,null,null,null,null,null,null,null,null,null,null,null,null,null,null,null,null,null,null,null,null,null,null,null,null,null,null,null,null,null,null,null,null,null,null,null,null,null,null,null,null,null,null,null,null,null,null,null,null,null,null,null,null,null,null,null,null,null,null,null,null,null,null,null,null,null,null,null,null,null,null,null,null,null,null,null,null,null,null,null,null,null,null,null,null,null,null,null,null,null,null,null,null,null,null,null,null,null,null,null,null,null,null,null,null,null,null,null,null,null,null,null,null,null,null,null,null,null,null,null,null,null,null,null,null,null,null,null,null,null,null,null,null,null,null,null,null,null,null,null,null,null,null,null,null,null,null,null,null,null,null,null,null,null,null,null,null,null,null,null,null,null,null,null,null,null,null,null,null,null,null,null,null,null,null,null,null,null,null,null,null,null,null,null,null,null,null,null,null,null,null,null,null,null,null,null,null,null,null,null,null,null,null,null,null,null,null,null,null,null,null,null,null,null,null,null,null,null,null,null,null,null,null,null,null,null,null,null,null,null,null,null,null,null,null,null,null,null,null,null,null,null,null,null,null,null,null,null,null,null,null,null,null,null,null,null,null,null,null,null,null,null,null,null,null,null,null,null,null,null,null,null,null,null,null,null,null,null,null,null,null,null,null,null,null,null,null,null,null,null,null,null,null,null,null,null,null,null,null,null,null,null,null,null,null,null,null,null,null,null,null,null,null,null,null,null,null,null,null,null,null,null,null,null,null,null,null,null,null,null,null,null,null,null,null,null,null,null,null,null,null,null,null,null,null,null,null,null,null,null,null,null,null,null,null,null,null,null,null,null,null,null,null,null,null,null,null,null,null,null,null,null,null,null,null,null,null,null,null,null,null,null,null,null,null,null,null,null,null,null,null,null,null,null,null,null,null,null,null,null,null,null,null,null,null,null,null,null,null,null,null,null,null,null,null,null,null,null,null,null,null,null,null,null,null,null,null,null,null,null,null,null,null,null,null,null,null,null,null,null,null,null,null,null,null,null,null,null,null,null,null,null,null,null,null,null,null,null,null,null,null,null,null,null,null,null,null,null,null,null,null,null,null,null,null,null,null,null,null,null,null,null,null,null,null,null,null,null,null,null,null,null,null,null,null,null,null,null,null,null,null,null,null,null,null,null,null,null,null,null,null,null,null,null,null,null,null,null,null,null,null,null,null,null,null,null,null,null,null,null,null,null,null,null,null,null,null,null,null,null,null,null,null,null,null,null,null,null,null,null,null,null,null,null,null,null,null,null,null,null,null,null,null,null,null,null,null,null,null,null,null,null,null,null,null,null,null,null,null,null,null,null,null,null,null,null,null,null,null,null,null,null,null,null,null,null,null,null,null,null,null,null,null,null,null,null,null,null,null,null,null,null,null,null,null,null,null,null,null,null,null,null,null,null,null,null,null,null,null,null,null,null,null,null,null,null,null,null,null,null,null,null,null,null,null,null,null,null,null,null,null,null,null,null,null,null,null,null,null,null,null,null,null,null,null,null,null,null,null,null,null,null,null,null,null,null,null,null,null,null,null,null,null,null,null,null,null,null,null,null,null,null,null,null,null,null,null,null,null,null,null,null,null,null,null,null,null,null,null,null,null,null,null,null,null,null,null,null,null,null,null,null,null,null,null,null,null,null,null,null,null,null,null,null,null,null,null,null,null,null,null,null,null,null,null,null,null,null,null,null,null,null,null,null,null,null,null,null,null,null,null,null,null,null,null,null,null,null,null,null,null,null,null,null,null,null,null,null,null,null,null,null,null,null,null,null,null,null,null,null,null,null,null,null,null,null,null,null,null,null,null,null,null,null,null,null,null,null,null,null,null,null,null,null,null,null,null,null,null,null,null,null,null,null,null,null,null,null,null,null,null,null,null,null,null,null,null,null,null,null,null,null,null,null,null,null,null,null,null,null,null,null,null,null,null,null,null,null,null,null,null,null,null,null,null,null,null,null,null,null,null,null,null,null,null,null,null,null,null,null,null,null,null,null,null,null,null,null,null,null,null,null,null,null,null,null,null,null,null,null,null,null,null,null,null,null,null,null,null,null,null,null,null,null,null,null,null,null,null,null,null,null,null,null,null,null,null,null,null,null,null,null,null,null,null,null,null,null,null,null,null,null,null,null,null,null,null,null,null,null,null,null,null,null,null,null,null,null,null,null,null,null,null,null,null,null,null,null,null,null,null,null,null,null,null,null,null,null,null,null,null,null,null,null,null,null,null,null,null,null,null,null,null,null,null,null,null,null,null,null,null,null,null,null,null,null,null,null,null,null,null,null,null,null,null,null,null,null,null,null,null,null,null,null,null,null,null,null,null,null,null,null,null,null,null,null,null,null,null,null,null,null,null,null,null,null,null,null,null,null,null,null,null,null,null,null,null,null,null,null,null,null,null,null,null,null,null,null,null,null,null,null,null,null,null,null,null,null,null,null,null,null,null,null,null,null,null,null,null,null,null,null,null,null,null,null,null,null,null,null,null,null,null,null,null,null,null,null,null,null,null,null,null,null,null,null,null,null,null,null,null,null,null,null,null,null,null,null,null,null,null,null,null,null,null,null,null,null,null,null,null,null,null,null,null,null,null,null,null,null,null,null,null,null,null,null,null,null,null,null,null,null,null,null,null,null,null,null,null,null,null,null,null,null,null,null,null,null,null,null,null,null,null,null,null,null,null,null,null,null,null,null,null,null,null,null,null,null,null,null,null,null,null,null,null,null,null,null,null,null,null,null,null,null,null,null,null,null,null,null,null,null,null,null,null,null,null,null,null,null,null,null,null,null,null,null,null,null,null,null,null,null,null,null,null,null,null,null,null,null,null,null,null,null,null,null,null,null,null,null,null,null,null,null,null,null,null,null,null,null,null,null,null,null,null,null,null,null,null,null,null,null,null,null,null,null,null,null,null,null,null,null,null,null,null,null,null,null,null,null,null,null,null,null,null,null,null,null,null,null,null,null,null,null,null,null,null,null,null,null,null,null,null,null,null,null,null,null,null,null,null,null,null,null,null,null,null,null,null,null,null,null,null,null,null,null,null,null,null,null,null,null,null,null,null,null,null,null,null,null,null,null,null,null,null,null,null,null,null,null,null,null,null,null,null,null,null,null,null,null,null,null,null,null,null,null,null,null,null,null,null,null,null,null,null,null,null,null,null,null,null,null,null,null,null,null,null,null,null,null,null,null,null,null,null,null,null,null,null,null,null,null,null,null,null,null,null,null,null,null,null,null,null,null,null,null,null,null,null,null,null,null,null,null,null,null,null,null,null,null,null,null,null,null,null,null,null,null,null,null,null,null,null,null,null,null,null,null,null,null,null,null,null,null,null,null,null,null,null,null,null,null,null,null,null,null,null,null,null,null,null,null,null,null,null,null,null,null,null,null,null,null,null,null,null,null,null,null,null,null,null,null,null,null,null,null,null,null,null,null,null,null,null,null,null,null,null,null,null,null,null,null,null,null,null,null,null,null,null,null,null,null,null,null,null,null,null,null,null,null,null,null,null,null,null,null,null,null,null,null,null,null,null,null,null,null,null,null,null,null,null,null,null,null,null,null,null,null,null,null,null,null,null,null,null,null,null,null,null,null,null,null,null,null,null,null,null,null,null,null,null,null,null,null,null,null,null,null,null,null,null,null,null,null,null,null,null,null,null,null,null,null,null,null,null,null,null,null,null,null,null,null,null,null,null,null,null,null,null,null,null,null,null,null,null,null,null,null,null,null,null,null,null,null,null,null,null,null,null,null,null,null,null,null,null,null,null,null,null,null,null,null,null,null,null,null,null,null,null,null,null,null,null,null,null,null,null,null,null,null,null,null,null,null,null,null,null,null,null,null,null,null,null,null,null,null,null,null,null,null,null,null,null,null,null,null,null,null,null,null,null,null,null,null,null,null,null,null,null,null,null,null,null,null,null,null,null,null,null,null,null,null,null,null,null,null,null,null,null,null,null,null,null,null,null,null,null,null,null,null,null,null,null,null,null,null,null,null,null,null,null,null,null,null,null,null,null,null,null,null,null,null,null,null,null,null,null,null,null,null,null,null,null,null,null,null,null,null,null,null,null,null,null,null,null,null,null,null,null,null,null,null,null,null,null,null,null,null,null,null,null,null,null,null,null,null,null,null,null,null,null,null,null,null,null,null,null,null,null,null,null,null,null,null,null,null,null,null,null,null,null,null,null,null,null,null,null,null,null,null,null,null,null,null,null,null,null,null,null,null,null,null,null,null,null,null,null,null,null,null,null,null,null,null,null,null,null,null,null,null,null,null,null,null,null,null,null,null,null,null,null,null,null,null,null,null,null,null,null,null,null,null,null,null,null,null,null,null,null,null,null,null,null,null,null,null,null,null,null,null,null,null,null,null,null,null,null,null,null,null,null,null,null,null,null,null,null,null,null,null,null,null,null,null,null,null,null,null,null,null,null,null,null,null,null,null,null,null,null,null,null,null,null,null,null,null,null,null,null,null,null,null,null,null,null,null,null,null,null,null,null,null,null,null,null,null,null,null,null,null,null,null,null,null,null,null,null,null,null,null,null,null,null,null,null,null,null,null,null,null,null,null,null,null,null,null,null,null,null,null,null,null,null,null,null,null,null,null,null,null,null,null,null,null,null,null,null,null,null,null,null,null,null,null,null,null,null,null,null,null,null,null,null,null,null,null,null,null,null,null,null,null,null,null,null,null,null,null,null,null,null,null,null,null,null,null,null,null,null,null,null,null,null,null,null,null,null,null,null,null,null,null,null,null,null,null,null,null,null,null,null,null,null,null,null,null,null,null,null,null,null,null,null,null,null,null,null,null,null,null,null,null,null,null,null,null,null,null,null,null,null,null,null,null,null,null,null,null,null,null,null,null,null,null,null,null,null,null,null,null,null,null,null,null,null,null,null,null,null,null,null,null,null,null,null,null,null,null,null,null,null,null,null,null,null,null,null,null,null,null,null,null,null,null,null,null,null,null,null,null,null,null,null,null,null,null,null,null,null,null,null,null,null,null,null,null,null,null,null,null,null,null,null,null,null,null,null,null,null,null,null,null,null,null,null,null,null,null,null,null,null,null,null,null,null,null,null,null,null,null,null,null,null,null,null,null,null,null,null,null,null,null,null,null,null,null,null,null,null,null,null,null,null,null,null,null,null,null,null,null,null,null,null,null,null,null,null,null,null,null,null,null,null,null,null,null,null,null,null,null,null,null,null,null,null,null,null,null,null,null,null,null,null,null,null,null,null,null,null,null,null,null,null,null,null,null,null,null,null,null,null,null,null,null,null,null,null,null,null,null,null,null,null,null,null,null,null,null,null,null,null,null,null,null,null,null,null,null,null,null,null,null,null,null,null,null,null,null,null,null,null,null,null,null,null,null,null,null,null,null,null,null,null,null,null,null,null,null,null,null,null,null,null,null,null,null,null,null,null,null,null,null,null,null,null,null,null,null,null,null,null,null,null,null,null,null,null,null,null,null,null,null,null,null,null,null,null,null,null,null,null,null,null,null,null,null,null,null,null,null,null,null,null,null,null,null,null,null,null,null,null,null,null,null,null,null,null,null,null,null,null,null,null,null,null,null,null,null,null,null,null,null,null,null,null,null,null,null,null,null,null,null,null,null,null,null,null,null,null,null,null,null,null,null,null,null,null,null,null,null,null,null,null,null,null,null,null,null,null,null,null,null,null,null,null,null,null,null,null,null,null,null,null,null,null,null,null,null,null,null,null,null,null,null,null,null,null,null,null,null,null,null,null,null,null,null,null,null,null,null,null,null,null,null,null,null,null,null,null,null,null,null,null,null,null,null,null,null,null,null,null,null,null,null,null,null,null,null,null,null,null,null,null,null,null,null,null,null,null,null,null,null,null,null,null,null,null,null,null,null,null,null,null,null,null,null,null,null,null,null,null,null,null,null,null,null,null,null,null,null,null,null,null,null,null,null,null,null,null,null,null,null,null,null,null,null,null,null,null,null,null,null,null,null,null,null,null,null,null,null,null,null,null,null,null,null,null,null,null,null,null,null,null,null,null,null,null,null,null,null,null,null,null,null,null,null,null,null,null,null,null,null,null,null,null,null,null,null,null,null,null,null,null,null,null,null,null,null,null,null,null,null,null,null,null,null,null,null,null,null,null,null,null,null,null,null,null,null,null,null,null,null,null,null,null,null,null,null,null,null,null,null,null,null,null,null,null,null,null,null,null,null,null,null,null,null,null,null,null,null,null,null,null,null,null,null,null,null,null,null,null,null,null,null,null,null,null,null,null,null,null,null,null,null,null,null,null,null,null,null,null,null,null,null,null,null,null,null,null,null,null,null,null,null,null,null,null,null,null,null,null,null,null,null,null,null,null,null,null,null,null,null,null,null,null,null,null,null,null,null,null,null,null,null,null,null,null,null,null,null,null,null,null,null,null,null,null,null,null,null,null,null,null,null,null,null,null,null,null,null,null,null,null,null,null,null,null,null,null,null,null,null,null,null,null,null,null,null,null,null,null,null,null,null,null,null,null,null,null,null,null,null,null,null,null,null,null,null,null,null,null,null,null,null,null,null,null,null,null,null,null,null,null,null,null,null,null,null,null,0]
[null,null,null,null,null,null,null,null,null,null,null,null,null,null,null,null,null,null,null,null,null,null,null,null,null,null,null,null,null,null,null,null,null,null,null,null,null,null,null,null,null,null,null,null,null,null,null,null,null,null,null,null,null,null,null,null,null,null,null,null,null,null,null,null,null,null,null,null,null,null,null,null,null,null,null,null,null,null,null,null,null,null,null,null,null,null,null,null,null,null,null,null,null,null,null,null,null,null,null,null,null,null,null,null,null,null,null,null,null,null,null,null,null,null,null,null,null,null,null,null,null,null,null,null,null,null,null,null,null,null,null,null,null,null,null,null,null,null,null,null,null,null,null,null,null,null,null,null,null,null,null,null,null,null,null,null,null,null,null,null,null,null,null,null,null,null,null,null,null,null,null,null,null,null,null,null,null,null,null,null,null,null,null,null,null,null,null,null,null,null,null,null,null,null,null,null,null,null,null,null,null,null,null,null,null,null,null,null,null,null,null,null,null,null,null,null,null,null,null,null,null,null,null,null,null,null,null,null,null,null,null,null,null,null,null,null,null,null,null,null,null,null,null,null,null,null,null,null,null,null,null,null,null,null,null,null,null,null,null,null,null,null,null,null,null,null,null,null,null,null,null,null,null,null,null,null,null,null,null,null,null,null,null,null,null,null,null,null,null,null,null,null,null,null,null,null,null,null,null,null,null,null,null,null,null,null,null,null,null,null,null,null,null,null,null,null,null,null,null,null,null,null,null,null,null,null,null,null,null,null,null,null,null,null,null,null,null,null,null,null,null,null,null,null,null,null,null,null,null,null,null,null,null,null,null,null,null,null,null,null,null,null,null,null,null,null,null,null,null,null,null,null,null,null,null,null,null,null,null,null,null,null,null,null,null,null,null,null,null,null,null,null,null,null,null,null,null,null,null,null,null,null,null,null,null,null,null,null,null,null,null,null,null,null,null,null,null,null,null,null,null,null,null,null,null,null,null,null,null,null,null,null,null,null,null,null,null,null,null,null,null,null,null,null,null,null,null,null,null,null,null,null,null,null,null,null,null,null,null,null,null,null,null,null,null,null,null,null,null,null,null,null,null,null,null,null,null,null,null,null,null,null,null,null,null,null,null,null,null,null,null,null,null,null,null,null,null,null,null,null,null,null,null,null,null,null,null,null,null,null,null,null,null,null,null,null,null,null,null,null,null,null,null,null,null,null,null,null,null,null,null,null,null,null,null,null,null,null,null,null,null,null,null,null,null,null,null,null,null,null,null,null,null,null,null,null,null,null,null,null,null,null,null,null,null,null,null,null,null,null,null,null,null,null,null,null,null,null,null,null,null,null,null,null,null,null,null,null,null,null,null,null,null,null,null,null,null,null,null,null,null,null,null,null,null,null,null,null,null,null,null,null,null,null,null,null,null,null,null,null,null,null,null,null,null,null,null,null,null,null,null,null,null,null,null,null,null,null,null,null,null,null,null,null,null,null,null,null,null,null,null,null,null,null,null,null,null,null,null,null,null,null,null,null,null,null,null,null,null,null,null,null,null,null,null,null,null,null,null,null,null,null,null,null,null,null,null,null,null,null,null,null,null,null,null,null,null,null,null,null,null,null,null,null,null,null,null,null,null,null,null,null,null,null,null,null,null,null,null,null,null,null,null,null,null,null,null,null,null,null,null,null,null,null,null,null,null,null,null,null,null,null,null,null,null,null,null,null,null,null,null,null,null,null,null,null,null,null,null,null,null,null,null,null,null,null,null,null,null,null,null,null,null,null,null,null,null,null,null,null,null,null,null,null,null,null,null,null,null,null,null,null,null,null,null,null,null,null,null,null,null,null,null,null,null,null,null,null,null,null,null,null,null,null,null,null,null,null,null,null,null,null,null,null,null,null,null,null,null,null,null,null,null,null,null,null,null,null,null,null,null,null,null,null,null,null,null,null,null,null,null,null,null,null,null,null,null,null,null,null,null,null,null,null,null,null,null,null,null,null,null,null,null,null,null,null,null,null,null,null,null,null,null,null,null,null,null,null,null,null,null,null,null,null,null,null,null,null,null,null,null,null,null,null,null,null,null,null,null,null,null,null,null,null,null,null,null,null,null,null,null,null,null,null,null,null,null,null,null,null,null,null,null,null,null,null,null,null,null,null,null,null,null,null,null,null,null,null,null,null,null,null,null,null,null,null,null,null,null,null,null,null,null,null,null,null,null,null,null,null,null,null,null,null,null,null,null,null,null,null,null,null,null,null,null,null,null,null,null,null,null,null,null,null,null,null,null,null,null,null,null,null,null,null,null,null,null,null,null,null,null,null,null,null,null,null,null,null,null,null,null,null,null,null,null,null,null,null,null,null,null,null,null,null,null,null,null,null,null,null,null,null,null,null,null,null,null,null,null,null,null,null,null,null,null,null,null,null,null,null,null,null,null,null,null,null,null,null,null,null,null,null,null,null,null,null,null,null,null,null,null,null,null,null,null,null,null,null,null,null,null,null,null,null,null,null,null,null,null,null,null,null,null,null,null,null,null,null,null,null,null,null,null,null,null,null,null,null,null,null,null,null,null,null,null,null,null,null,null,null,null,null,null,null,null,null,null,null,null,null,null,null,null,null,null,null,null,null,null,null,null,null,null,null,null,null,null,null,null,null,null,null,null,null,null,null,null,null,null,null,null,null,null,null,null,null,null,null,null,null,null,null,null,null,null,null,null,null,null,null,null,null,null,null,null,null,null,null,null,null,null,null,null,null,null,null,null,null,null,null,null,null,null,null,null,null,null,null,null,null,null,null,null,null,null,null,null,null,null,null,null,null,null,null,null,null,null,null,null,null,null,null,null,null,null,null,null,null,null,null,null,null,null,null,null,null,null,null,null,null,null,null,null,null,null,null,null,null,null,null,null,null,null,null,null,null,null,null,null,null,null,null,null,null,null,null,null,null,null,null,null,null,null,null,null,null,null,null,null,null,null,null,null,null,null,null,null,null,null,null,null,null,null,null,null,null,null,null,null,null,null,null,null,null,null,null,null,null,null,null,null,null,null,null,null,null,null,null,null,null,null,null,null,null,null,null,null,null,null,null,null,null,null,null,null,null,null,null,null,null,null,null,null,null,null,null,null,null,null,null,null,null,null,null,null,null,null,null,null,null,null,null,null,null,null,null,null,null,null,null,null,null,null,null,null,null,null,null,null,null,null,null,null,null,null,null,null,null,null,null,null,null,null,null,null,null,null,null,null,null,null,null,null,null,null,null,null,null,null,null,null,null,null,null,null,null,null,null,null,null,null,null,null,null,null,null,null,null,null,null,null,null,null,null,null,null,null,null,null,null,null,null,null,null,null,null,null,null,null,null,null,null,null,null,null,null,null,null,null,null,null,null,null,null,null,null,null,null,null,null,null,null,null,null,null,null,null,null,null,null,null,null,null,null,null,null,null,null,null,null,null,null,null,null,null,null,null,null,null,null,null,null,null,null,null,null,null,null,null,null,null,null,null,null,null,null,null,null,null,null,null,null,null,null,null,null,null,null,null,null,null,null,null,null,null,null,null,null,null,null,null,null,null,null,null,null,null,null,null,null,null,null,null,null,null,null,null,null,null,null,null,null,null,null,null,null,null,null,null,null,null,null,null,null,null,null,null,null,null,null,null,null,null,null,null,null,null,null,null,null,null,null,null,null,null,null,null,null,null,null,null,null,null,null,null,null,null,null,null,null,null,null,null,null,null,null,null,null,null,null,null,null,null,null,null,null,null,null,null,null,null,null,null,null,null,null,null,null,null,null,null,null,null,null,null,null,null,null,null,null,null,null,null,null,null,null,null,null,null,null,null,null,null,null,null,null,null,null,null,null,null,null,null,null,null,null,null,null,null,null,null,null,null,null,null,null,null,null,null,null,null,null,null,null,null,null,null,null,null,null,null,null,null,null,null,null,null,null,null,null,null,null,null,null,null,null,null,null,null,null,null,null,null,null,null,null,null,null,null,null,null,null,null,null,null,null,null,null,null,null,null,null,null,null,null,null,null,null,null,null,null,null,null,null,null,null,null,null,null,null,null,null,null,null,null,null,null,null,null,null,null,null,null,null,null,null,null,null,null,null,null,null,null,null,null,null,null,null,null,null,null,null,null,null,null,null,null,null,null,null,null,null,null,null,null,null,null,null,null,null,null,null,null,null,null,null,null,null,null,null,null,null,null,null,null,null,null,null,null,null,null,null,null,null,null,null,null,null,null,null,null,null,null,null,null,null,null,null,null,null,null,null,null,null,null,null,null,null,null,null,null,null,null,null,null,null,null,null,null,null,null,null,null,null,null,null,null,null,null,null,null,null,null,null,null,null,null,null,null,null,null,null,null,null,null,null,null,null,null,null,null,null,null,null,null,null,null,null,null,null,null,null,null,null,null,null,null,null,null,null,null,null,null,null,null,null,null,null,null,null,null,null,null,null,null,null,null,null,null,null,null,null,null,null,null,null,null,null,null,null,null,null,null,null,null,null,null,null,null,null,null,null,null,null,null,null,null,null,null,null,null,null,null,null,null,null,null,null,null,null,null,null,null,null,null,null,null,null,null,null,null,null,null,null,null,null,null,null,null,null,null,null,null,null,null,null,null,null,null,null,null,null,null,null,null,null,null,null,null,null,null,null,null,null,null,null,null,null,null,null,null,null,null,null,null,null,null,null,null,null,null,null,null,null,null,null,null,null,null,null,null,null,null,null,null,null,null,null,null,null,null,null,null,null,null,null,null,null,null,null,null,null,null,null,null,null,null,null,null,null,null,null,null,null,null,null,null,null,null,null,null,null,null,null,null,null,null,null,null,null,null,null,null,null,null,null,null,null,null,null,null,null,null,null,null,null,null,null,null,null,null,null,null,null,null,null,null,null,null,null,null,null,null,null,null,null,null,null,null,null,null,null,null,null,null,null,null,null,null,null,null,null,null,null,null,null,null,null,null,null,null,null,null,null,null,null,null,null,null,null,null,null,null,null,null,null,null,null,null,null,null,null,null,null,null,null,null,null,null,null,null,null,null,null,null,null,null,null,null,null,null,null,null,null,null,null,null,null,null,null,null,null,null,null,null,null,null,null,null,null,null,null,null,null,null,null,null,null,null,null,null,null,null,null,null,null,null,null,null,null,null,null,null,null,null,null,null,null,null,null,null,null,null,null,null,null,null,null,null,null,null,null,null,null,null,null,null,null,null,null,null,null,null,null,null,null,null,null,null,null,null,null,null,null,null,null,null,null,null,null,null,null,null,null,null,null,null,null,null,null,null,null,null,null,null,null,null,null,null,null,null,null,null,null,null,null,null,null,null,null,null,null,null,null,null,null,null,null,null,null,null,null,null,null,null,null,null,null,null,null,null,null,null,null,null,null,null,null,null,null,null,null,null,null,null,null,null,null,null,null,null,null,null,null,null,null,null,null,null,null,null,null,null,null,null,null,null,null,null,null,null,null,null,null,null,null,null,null,null,null,null,null,null,null,null,null,null,null,null,null,null,null,null,null,null,null,null,null,null,null,null,null,null,null,null,null,null,null,null,null,null,null,null,null,null,null,null,null,null,null,null,null,null,null,null,null,null,null,null,null,null,null,null,null,null,null,null,null,null,null,null,null,null,null,null,null,null,null,null,null,null,null,null,null,null,null,null,null,null,null,null,null,null,null,null,null,null,null,null,null,null,null,null,null,null,null,null,null,null,null,null,null,null,null,null,null,null,null,null,null,null,null,null,null,null,null,null,null,null,null,null,null,null,null,null,null,null,null,null,null,null,null,null,null,null,null,null,null,null,null,null,null,null,null,null,null,null,null,null,null,null,null,null,null,null,null,null,null,null,null,null,null,null,null,null,null,null,null,null,null,null,null,null,null,null,null,null,null,null,null,null,null,null,null,null,null,null,null,null,null,null,null,null,null,null,null,null,null,null,null,null,null,null,null,null,null,null,null,null,null,null,null,null,null,null,null,null,null,null,null,null,null,null,null,null,null,null,null,null,null,null,null,null,null,null,null,null,null,null,null,null,null,null,null,null,null,null,null,null,null,null,null,null,null,null,null,null,null,null,null,null,null,null,null,null,null,null,null,null,null,null,null,null,null,null,null,null,null,null,null,null,null,null,null,null,null,null,null,null,null,null,null,null,null,null,null,null,null,null,null,null,null,null,null,null,null,null,null,null,null,null,null,null,null,null,null,null,null,null,null,null,null,null,null,null,null,null,null,null,null,null,null,null,null,null,null,null,null,null,null,null,null,null,null,null,null,null,null,null,null,null,null,null,null,null,null,null,null,null,null,null,null,null,null,null,null,null,null,null,null,null,null,null,null,null,null,null,null,null,null,null,null,null,null,null,null,null,null,null,null,null,null,null,null,null,null,null,null,null,null,null,null,null,null,null,null,null,null,null,null,null,null,null,null,null,null,null,null,null,null,null,null,null,null,null,null,null,null,null,null,null,null,null,null,null,null,null,null,null,null,null,null,null,null,null,null,null,null,null,null,null,null,null,null,null,null,null,null,null,null,null,null,null,null,null,null,null,null,null,null,null,null,null,null,null,null,null,null,null,null,null,null,null,null,null,null,null,null,null,null,null,null,null,null,null,null,null,null,null,null,null,null,null,null,null,null,null,null,null,null,null,null,null,null,null,null,null,null,null,null,null,null,null,null,null,null,null,null,null,null,null,null,null,null,null,null,null,null,null,null,null,null,null,null,null,null,null,null,null,null,null,null,null,null,null,null,null,null,null,null,null,null,null,null,null,null,null,null,null,null,null,null,null,null,null,null,null,null,null,null,null,null,null,null,null,null,null,null,null,null,null,null,null,null,null,null,null,null,null,null,null,null,null,null,null,null,null,null,null,null,null,null,null,null,null,null,null,null,null,null,null,null,null,null,null,null,null,null,null,null,null,null,null,null,null,null,null,null,null,null,null,null,null,null,null,null,null,null,null,null,null,null,null,null,null,null,null,null,null,null,null,null,null,null,null,null,null,null,null,null,null,null,null,null,null,null,null,null,null,null,null,null,null,null,null,null,null,null,null,null,null,null,null,null,null,null,null,null,null,null,null,null,null,null,null,null,null,null,null,null,null,null,null,null,null,null,null,null,null,null,null,null,null,null,null,null,null,null,null,null,null,null,null,null,null,null,null,null,null,null,null,null,null,null,null,null,null,null,null,null,null,null,null,null,null,null,null,null,null,null,null,null,null,null,null,null,null,null,null,null,null,null,null,null,null,null,null,null,null,null,null,null,null,null,null,null,null,null,null,null,null,null,null,null,null,null,null,null,null,null,null,null,null,null,null,null,null,null,null,null,null,null,null,null,null,null,null,null,null,null,null,null,null,null,null,null,null,null,null,null,null,null,null,null,null,null,null,null,null,null,null,null,null,null,null,null,null,null,null,null,null,null,null,null,null,null,null,null,null,null,null,null,null,null,null,null,null,null,null,null,null,null,null,null,null,null,null,null,null,null,null,null,null,null,null,null,null,null,null,null,null,null,null,null,null,null,null,null,null,null,null,null,null,null,null,null,null,null,null,null,null,null,null,null,null,null,null,null,null,null,null,null,null,null,null,null,null,null,null,null,null,null,null,null,null,null,null,null,null,null,null,null,null,null,null,null,null,null,null,null,null,null,null,null,null,null,null,null,null,null,null,null,null,null,null,null,null,null,null,null,null,null,null,null,null,null,null,null,null,null,null,null,null,null,null,null,null,null,null,null,null,null,null,null,null,null,null,null,null,null,null,null,null,null,null,null,null,null,null,null,null,null,null,null,null,null,null,null,null,null,null,null,null,null,null,null,null,null,null,null,null,null,null,null,null,null,null,null,null,null,null,null,null,null,null,null,null,null,null,null,null,null,null,null,null,null,null,null,null,null,null,null,null,null,null,null,null,null,null,null,null,null,null,null,null,null,null,null,null,null,null,null,null,null,null,null,null,null,null,null,null,null,null,null,null,null,null,null,null,null,null,null,null,null,null,null,null,null,null,null,null,null,null,null,null,null,null,null,null,null,null,null,null,null,null,null,null,null,null,null,null,null,null,null,null,null,null,null,null,null,null,null,null,null,null,null,null,null,null,null,null,null,null,null,null,null,null,null,null,null,null,null,null,null,null,null,null,null,null,null,null,null,null,null,null,null,null,null,null,null,null,null,null,null,null,null,null,null,null,null,null,null,null,null,null,null,null,null,null,null,null,null,null,null,null,null,null,null,null,null,null,null,null,null,null,null,null,null,null,null,null,null,null,null,null,null,null,null,null,null,null,null,null,null,null,null,null,null,null,null,null,null,null,null,null,null,null,null,null,null,null,null,null,null,null,null,null,null,null,null,null,null,null,null,null,null,null,null,null,null,null,null,null,null,null,null,null,null,null,null,null,null,null,null,null,null,null,null,null,null,null,null,null,null,null,null,null,null,null,null,null,null,null,null,null,null,null,null,null,null,null,null,null,null,null,null,null,null,null,null,null,null,null,null,null,null,null,null,null,null,null,null,null,null,null,null,null,null,null,null,null,null,null,null,null,null,null,null,null,null,null,null,null,null,null,null,null,null,null,null,null,null,null,null,null,null,null,null,null,null,null,null,null,null,null,null,null,null,null,null,null,null,null,null,null,null,null,null,null,null,null,null,null,null,null,null,null,null,null,null,null,null,null,null,null,null,null,null,null,null,null,null,null,null,null,null,null,null,null,null,null,null,null,null,null,null,null,null,null,null,null,null,null,null,null,null,null,null,null,null,null,null,null,null,null,null,null,null,null,null,null,null,null,null,null,null,null,null,null,null,null,null,null,null,null,null,null,null,null,null,null,null,null,null,null,null,null,null,null,null,null,null,null,null,null,null,null,null,null,null,null,null,null,null,null,null,null,null,null,null,null,null,null,null,null,null,null,null,null,null,null,null,null,null,null,null,null,null,null,null,null,null,null,null,null,null,null,null,null,null,null,null,null,null,null,null,null,null,null,null,null,null,null,null,null,null,null,null,null,null,null,null,null,null,null,null,null,null,null,null,null,null,null,null,null,null,null,null,null,null,null,null,null,null,null,null,null,null,null,null,null,null,null,null,null,null,null,null,null,null,null,null,null,null,null,null,null,null,null,null,null,null,null,null,null,null,null,null,null,null,null,null,null,null,null,null,null,null,null,null,null,null,null,null,null,null,null,null,null,null,null,null,null,null,null,null,null,null,null,null,null,null,null,null,null,null,null,null,null,null,null,null,null,null,null,null,null,null,null,null,null,null,null,null,null,null,null,null,null,null,null,null,null,null,null,null,null,null,null,null,null,null,null,null,null,null,null,null,null,null,null,null,null,null,null,null,null,null,null,null,null,null,null,null,null,null,null,null,null,null,null,null,null,null,null,null,null,null,null,null,null,null,null,null,null,null,null,null,null,null,null,null,null,null,null,null,null,null,null,null,null,null,null,null,null,null,null,null,null,null,null,null,null,null,null,null,null,null,null,null,null,null,null,null,null,null,null,null,null,null,null,null,null,null,null,null,null,null,null,null,null,null,null,null,null,null,null,null,null,null,null,null,null,null,null,null,null,null,null,null,null,null,null,null,null,null,null,null,null,null,null,null,null,null,null,null,null,null,null,null,null,null,null,null,null,null,null,null,null,null,null,null,null,null,null,null,null,null,null,null,null,null,null,null,null,null,null,null,null,null,null,null,null,null,null,null,null,null,null,null,null,null,null,null,null,null,null,null,null,null,null,null,null,null,null,null,null,null,null,null,null,null,null,null,null,null,null,null,null,null,null,null,null,null,null,null,null,null,null,null,null,null,null,null,null,null,null,null,null,null,null,null,null,null,null,null,null,null,null,null,null,null,null,null,null,null,null,null,null,null,null,null,null,null,null,null,null,null,null,null,null,null,null,null,null,null,null,null,null,null,null,null,null,null,null,null,null,null,null,null,null,null,null,null,null,null,null,null,null,null,null,null,null,null,null,null,null,null,null,null,null,null,null,null,null,null,null,null,null,null,null,null,null,null,null,null,null,null,null,null,null,null,null,null,null,null,null,null,null,null,null,null,null,null,null,null,null,null,null,null,null,null,null,null,null,null,null,null,null,null,null,null,null,null,null,null,null,null,null,null,null,null,null,null,null,null,null,null,null,null,null,null,null,null,null,null,null,null,null,null,null,null,null,null,null,null,null,null,null,null,null,null,null,null,null,null,null,null,null,null,null,null,null,null,null,null,null,null,null,null,null,null,null,null,null,null,null,null,null,null,null,null,null,null,null,null,null,null,null,null,null,null,null,null,null,null,null,null,null,null,null,null,null,null,null,null,null,null,null,null,null,null,null,null,null,null,null,null,null,null,null,null,null,null,null,null,null,null,null,null,null,null,null,null,null,null,null,null,null,null,null,null,null,null,null,null,null,null,null,null,null,null,null,null,null,null,null,null,null,null,null,null,null,null,null,null,null,null,null,null,null,null,null,null,null,null,null,null,null,null,null,null,null,null,null,null,null,null,null,null,null,null,null,null,null,null,null,null,null,null,null,null,null,null,null,null,null,null,null,null,null,null,null,null,null,null,null,null,null,null,null,null,null,null,null,null,null,null,null,null,null,null,null,null,null,null,null,null,null,null,null,null,null,null,null,null,null,null,null,null,null,null,null,null,null,null,null,null,null,null,null,null,null,null,null,null,null,null,null,null,null,null,null,null,null,null,null,null,null,null,null,null,null,null,null,null,null,null,null,null,null,null,null,null,null,null,null,null,null,null,null,null,null,null,null,null,null,null,null,null,null,null,null,null,null,null,null,null,null,null,null,null,null,null,null,null,null,null,null,null,null,null,null,null,null,null,null,null,null,null,null,null,null,null,null,null,null,null,null,null,null,null,null,null,null,null,null,null,null,null,null,null,null,null,null,null,null,null,null,null,null,null,null,null,null,null,null,null,null,null,null,null,null,null,null,null,null,null,null,null,null,null,null,null,null,null,null,null,null,null,null,null,null,null,null,null,null,null,null,null,null,null,null,null,null,null,null,null,null,null,null,null,null,null,null,null,null,null,null,null,null,null,null,null,null,null,null,null,null,null,null,null,null,null,null,null,null,null,null,null,null,null,null,null,null,null,null,null,null,null,null,null,null,null,null,null,null,null,null,null,null,null,null,null,null,null,null,null,null,null,null,null,null,null,null,null,null,null,null,null,null,null,null,null,null,null,null,null,null,null,null,null,null,null,null,null,null,null,null,null,null,null,null,null,null,null,null,null,null,null,null,null,null,null,null,null,null,null,null,null,null,null,null,null,null,null,null,null,null,null,null,null,null,null,null,null,null,null,null,null,null,null,null,null,null,null,null,null,null,null,null,null,null,null,null,null,null,null,null,null,null,null,null,null,null,null,null,null,null,null,null,null,null,null,null,null,null,null,null,null,null,null,null,null,null,null,null,null,null,null,null,null,null,null,null,null,null,null,null,null,null,null,null,null,null,null,null,null,null,null,null,null,null,null,null,null,null,null,null,null,null,null,null,null,null,null,null,null,null,null,null,null,null,null,null,null,null,null,null,null,null,null,null,null,null,null,null,null,null,null,null,null,null,null,null,null,null,null,null,null,null,null,null,null,null,null,null,null,null,null,null,null,null,null,null,null,null,null,null,null,null,null,null,null,null,null,null,null,null,null,null,null,null,null,null,null,null,null,null,null,null,null,null,null,null,null,null,null,null,null,null,null,null,null,null,null,null,null,null,null,null,null,null,null,null,null,null,null,null,null,null,null,null,null,null,null,null,null,null,null,null,null,null,null,null,null,null,null,null,null,null,null,null,null,null,null,null,null,null,null,null,null,null,null,null,null,null,null,null,null,null,null,null,null,null,null,null,null,null,null,null,null,null,null,null,null,null,null,null,null,null,null,null,null,null,null,null,null,null,null,null,null,null,null,null,null,null,null,null,null,null,null,null,null,null,null,null,null,null,null,null,null,null,null,null,null,null,null,null,null,null,null,null,null,null,null,null,null,null,null,null,null,null,null,null,null,null,null,null,null,null,null,null,null,null,null,null,null,null,null,null,null,null,null,null,null,null,null,null,null,null,null,null,null,null,null,null,null,null,null,null,null,null,null,null,null,null,null,null,null,null,null,null,null,null,null,null,null,null,null,null,null,null,null,null,null,null,null,null,null,null,null,null,null,null,null,null,null,null,null,null,null,null,null,null,null,null,null,null,null,null,null,null,null,null,null,null,null,null,null,null,null,null,null,null,null,null,null,null,null,null,null,null,null,null,null,null,null,null,null,null,null,null,null,null,null,null,null,null,null,null,null,null,null,null,null,null,null,null,null,null,null,null,null,null,null,null,null,null,null,null,null,null,null,null,null,null,null,null,null,null,null,null,null,null,null,null,null,null,null,null,null,null,null,null,null,null,null,null,null,null,null,null,null,null,null,null,null,null,null,null,null,null,null,null,null,null,null,null,null,null,null,null,null,null,null,null,null,null,null,null,null,null,null,null,null,null,null,null,null,null,null,null,null,null,null,null,null,null,null,null,null,null,null,null,null,null,null,null,null,null,null,null,null,null,null,null,null,null,null,null,null,null,null,null,null,null,null,null,null,null,null,null,null,null,null,null,null,null,null,null,null,null,null,null,null,null,null,null,null,null,null,null,null,null,null,null,null,null,null,null,null,null,null,null,null,null,null,null,null,null,null,null,null,null,null,null,null,null,null,null,null,null,null,null,null,null,null,null,null,null,null,null,null,null,null,null,null,null,null,null,null,null,null,null,null,null,null,null,null,null,null,null,null,null,null,null,null,null,null,null,null,null,null,null,null,null,null,null,null,null,null,null,null,null,null,null,null,null,null,null,null,null,null,null,null,null,null,null,null,null,null,null,null,null,null,null,null,null,null,null,null,null,null,null,null,null,null,null,null,null,null,null,null,null,null,null,null,null,null,null,null,null,null,null,null,null,null,null,null,null,null,null,null,null,null,null,null,null,null,null,null,null,null,null,null,null,null,null,null,null,null,null,null,null,null,null,null,null,null,null,null,null,null,null,null,null,null,null,null,null,null,null,null,null,null,null,null,null,null,null,null,null,null,null,null,null,null,null,null,null,null,null,null,null,null,null,null,null,null,null,null,null,null,null,null,null,null,null,null,null,null,null,null,null,null,null,null,null,null,null,null,null,null,null,null,null,null,null,null,null,null,null,null,null,null,null,null,null,null,null,null,null,null,null,null,null,null,null,null,null,null,null,null,null,null,null,null,null,null,null,null,null,null,null,null,null,null,null,null,null,null,null,null,null,null,null,null,null,null,null,null,null,null,null,null,null,null,null,null,null,null,null,null,null,null,null,null,null,null,null,null,null,null,null,null,null,null,null,null,null,null,null,null,null,null,null,null,null,null,null,null,null,null,null,null,null,null,null,null,null,null,null,null,null,null,null,null,null,null,null,null,null,null,null,null,null,null,null,null,null,null,null,null,null,null,null,null,null,null,null,null,null,null,null,null,null,null,null,null,null,null,null,null,null,null,null,null,null,null,null,null,null,null,null,null,null,null,null,null,null,null,null,null,null,null,null,null,null,null,null,null,null,null,null,null,null,null,null,null,null,null,null,null,null,null,null,null,null,null,null,null,null,null,null,null,null,null,null,null,null,null,null,null,null,null,null,null,null,null,null,null,null,null,null,null,null,null,null,null,null,null,null,null,null,null,null,null,null,null,null,null,null,null,null,null,null,null,null,null,null,null,null,null,null,null,null,null,null,null,null,null,null,null,null,null,null,null,null,null,null,null,null,null,null,null,null,null,null,null,null,null,null,null,null,null,null,null,null,null,null,null,null,null,null,null,null,null,null,null,null,null,null,null,null,null,null,null,null,null,null,null,null,null,null,null,null,null,null,null,null,null,null,null,null,null,null,null,null,null,null,null,null,null,null,null,null,null,null,null,null,null,null,null,null,null,null,null,null,null,null,null,null,null,null,null,null,null,null,null,null,null,null,null,null,null,null,null,null,null,null,null,null,null,null,null,null,null,null,null,null,null,null,null,null,null,null,null,null,null,null,null,null,null,null,null,null,null,null,null,null,null,null,null,null,null,null,null,null,null,null,null,null,null,null,null,null,null,null,null,null,null,null,null,null,null,null,null,null,null,null,null,null,null,null,null,null,null,null,null,null,null,null,null,null,null,null,null,null,null,null,null,null,null,null,null,null,null,null,null,null,null,null,null,null,null,null,null,null,null,null,null,null,null,null,null,null,null,null,null,null,null,null,null,null,null,null,null,null,null,null,null,null,null,null,null,null,null,null,null,null,null,null,null,null,null,null,null,null,null,null,null,null,null,null,null,null,null,null,null,null,null,null,null,null,null,null,null,null,null,null,null,null,null,null,null,null,null,null,null,null,null,null,null,null,null,null,null,null,null,null,null,null,null,null,null,null,null,null,null,null,null,null,null,null,null,null,null,null,null,null,null,null,null,null,null,null,null,null,null,null,null,null,null,null,null,null,null,null,null,null,null,null,null,null,null,null,null,null,null,null,null,null,null,null,null,null,null,null,null,null,null,null,null,null,null,null,null,null,null,null,null,null,null,null,null,null,null,null,null,null,null,null,null,null,null,null,null,null,null,null,null,null,null,null,null,null,null,null,null,null,null,null,null,null,null,null,null,null,null,null,null,null,null,null,null,null,null,null,null,null,null,null,null,null,null,null,null,null,null,null,null,null,null,null,null,null,null,null,null,null,null,null,null,null,null,null,null,null,null,null,null,null,null,null,null,null,null,null,null,null,null,null,null,null,null,null,null,null,null,null,null,null,null,null,null,null,null,null,null,null,null,null,null,null,null,null,null,null,null,null,null,null,null,null,null,null,null,null,null,null,null,null,null,null,null,null,null,null,null,null,null,null,null,null,null,null,null,null,null,null,null,null,null,null,null,null,null,null,null,null,null,null,null,null,null,null,null,null,null,null,null,null,null,null,null,null,null,null,null,null,null,null,null,null,null,null,null,null,null,null,null,null,null,null,null,null,null,null,null,null,null,null,null,null,null,null,null,null,null,null,null,null,null,null,null,null,null,null,null,null,null,null,null,null,null,null,null,null,null,null,null,null,null,null,null,null,null,null,null,null,null,null,null,null,null,null,null,null,null,null,null,null,null,null,null,null,null,null,null,null,null,null,null,null,null,null,null,null,null,null,null,null,null,null,null,null,null,null,null,null,null,null,null,null,null,null,null,null,null,null,null,null,null,null,null,null,null,null,null,null,null,null,null,null,null,null,null,null,null,null,null,null,null,null,null,null,null,null,null,null,null,null,null,null,null,null,null,null,null,null,null,null,null,null,null,null,null,null,null,null,null,null,null,null,null,null,null,null,null,null,null,null,null,null,null,null,null,null,null,null,null,null,null,null,null,null,null,null,null,null,null,null,null,null,null,null,null,null,null,null,null,null,null,null,null,null,null,null,null,null,null,null,null,null,null,null,null,null,null,null,null,null,null,null,null,null,null,null,null,null,null,null,null,null,null,null,null,null,null,null,null,null,null,null,null,null,null,null,null,null,null,null,null,null,null,null,null,null,null,null,null,null,null,null,null,null,null,null,null,null,null,null,null,null,null,null,null,null,null,null,null,null,null,null,null,null,null,null,null,null,null,null,null,null,null,null,null,null,null,null,null,null,null,null,null,null,null,null,null,null,null,null,null,null,null,null,null,null,null,null,null,null,null,null,null,null,null,null,null,null,null,null,null,null,null,null,null,null,null,null,null,null,null,null,null,null,null,null,null,null,null,null,null,null,null,null,null,null,null,null,null,null,null,null,null,null,null,null,null,null,null,null,null,null,null,null,null,null,null,null,null,null,null,null,null,null,null,null,null,null,null,null,null,null,null,null,null,null,null,null,null,null,null,null,null,null,null,null,null,null,null,null,null,null,null,null,null,null,null,null,null,null,null,null,null,null,null,null,null,null,null,null,null,null,null,null,null,null,null,null,null,null,null,null,null,null,null,null,null,null,null,null,null,null,null,null,null,null,null,null,null,null,null,null,null,null,null,null,null,null,null,null,null,null,null,null,null,null,null,null,null,null,null,null,null,null,null,null,null,null,null,null,null,null,null,null,null,null,null,null,null,null,null,null,null,null,null,null,null,null,null,null,null,null,null,null,null,null,null,null,null,null,null,null,null,null,null,null,null,null,null,null,null,null,null,null,null,null,null,null,null,null,null,null,null,null,null,null,null,null,null,null,null,null,null,null,null,null,null,null,null,null,null,null,null,null,null,null,null,null,null,null,null,null,null,null,null,null,null,null,null,null,null,null,null,null,null,null,null,null,null,null,null,null,null,null,null,null,null,null,null,null,null,null,null,null,null,null,null,null,null,null,null,null,null,null,null,null,null,null,null,null,null,null,null,null,null,null,null,null,null,null,null,null,null,null,null,null,null,null,null,null,null,null,null,null,null,null,null,null,null,null,null,null,null,null,null,null,null,null,null,null,null,null,null,null,null,null,null,null,null,null,null,null,null,null,null,null,null,null,null,null,null,null,null,null,null,null,null,null,null,null,null,null,null,null,null,null,null,null,null,null,null,null,null,null,null,null,null,null,null,null,null,null,null,null,null,null,null,null,null,null,null,null,null,null,null,null,null,null,null,null,null,null,null,null,null,null,null,null,null,null,null,null,null,null,null,null,null,null,null,null,null,null,null,null,null,null,null,null,null,null,null,null,null,null,null,null,null,null,null,null,null,null,null,null,null,null,null,null,null,null,null,null,null,null,null,null,null,null,null,null,null,null,null,null,null,null,null,null,null,null,null,null,null,null,null,null,null,null,null,null,null,null,null,null,null,null,null,null,null,null,null,null,null,null,null,null,null,null,null,null,null,null,null,null,null,null,null,null,null,null,null,null,null,null,null,null,null,null,null,null,null,null,null,null,null,null,null,null,null,null,null,null,null,null,null,null,null,null,null,null,null,null,null,null,null,null,null,null,null,null,null,null,null,null,null,null,null,null,null,null,null,null,null,null,null,null,null,null,null,null,null,null,null,null,null,null,null,null,null,null,null,null,null,null,null,null,null,null,null,null,null,null,null,null,null,null,null,null,null,null,null,null,null,null,null,null,null,null,null,null,null,null,null,null,null,null,null,null,null,null,null,null,null,null,null,null,null,null,null,null,null,null,null,null,null,null,null,null,null,null,null,null,null,null,null,null,null,null,null,null,null,null,null,null,null,null,null,null,null,null,null,null,null,null,null,null,null,null,null,null,null,null,null,null,null,null,null,null,null,null,null,null,null,null,null,null,null,null,null,null,null,null,null,null,null,null,null,null,null,null,null,null,null,null,null,null,null,null,null,null,null,null,null,null,null,null,null,null,null,null,null,null,null,null,null,null,null,null,null,null,null,null,null,null,null,null,null,null,null,null,null,null,null,null,null,null,null,null,null,null,null,null,null,null,null,null,null,null,null,null,null,null,null,null,null,null,null,null,null,null,null,null,null,null,null,null,null,null,null,null,null,null,null,null,null,null,null,null,null,null,null,null,null,null,null,null,null,null,null,null,null,null,null,null,null,null,null,null,null,null,null,null,null,null,null,null,null,null,null,null,null,null,null,null,null,null,null,null,null,null,null,null,null,null,null,null,null,null,null,null,null,null,null,null,null,null,null,null,null,null,null,null,null,null,null,null,null,null,null,null,null,null,null,null,null,null,null,null,null,null,null,null,null,null,null,null,null,null,null,null,null,null,null,null,null,null,null,null,null,null,null,null,null,null,null,null,null,null,null,null,null,null,null,null,null,null,null,null,null,null,null,null,null,null,null,null,null,null,null,null,null,null,null,null,null,null,null,null,null,null,null,null,null,null,null,null,null,null,null,null,null,null,null,null,null,null,null,null,null,null,null,null,null,null,null,null,null,null,null,null,null,null,null,null,null,null,null,null,null,null,null,null,null,null,null,null,null,null,null,null,null,null,null,null,null,null,null,null,null,null,null,null,null,null,null,null,null,null,null,null,null,null,null,null,null,null,null,null,null,null,null,null,null,null,null,null,null,null,null,null,null,null,null,null,null,null,null,null,null,null,null,null,null,null,null,null,null,null,null,null,null,null,null,null,null,null,null,null,null,null,null,null,null,null,null,null,null,null,null,null,null,null,null,null,null,null,null,null,null,null,null,null,null,null,null,null,null,null,null,null,null,null,null,null,null,null,null,null,null,null,null,null,null,null,null,null,null,null,null,null,null,null,null,null,null,null,null,null,null,null,null,null,null,null,null,null,null,null,null,null,null,null,null,null,null,null,null,null,null,null,null,null,null,null,null,null,null,null,null,null,null,null,null,null,null,null,null,null,null,null,null,null,null,null,null,null,null,null,null,null,null,null,null,null,null,null,null,null,null,null,null,null,null,null,null,null,null,null,null,null,null,null,null,null,null,null,null,null,null,null,null,null,null,null,null,null,null,null,null,null,null,null,null,null,null,null,null,null,null,null,null,null,null,null,null,null,null,null,null,null,null,null,null,null,null,null,null,null,null,null,null,null,null,null,null,null,null,null,null,null,null,null,null,null,null,null,null,null,null,null,null,null,null,null,null,null,null,null,null,null,null,null,null,null,null,null,null,null,null,null,null,null,null,null,null,null,null,null,null,null,null,null,null,null,null,null,null,null,null,null,null,null,null,null,null,null,null,null,null,null,null,null,null,null,null,null,null,null,null,null,null,null,null,null,null,null,null,null,null,null,null,null,null,null,null,null,null,null,null,null,null,null,null,null,null,null,null,null,null,null,null,null,null,null,null,null,null,null,null,null,null,null,null,null,null,null,null,null,null,null,null,null,null,null,null,null,null,null,null,null,null,null,null,null,null,null,null,null,null,null,null,null,null,null,null,null,null,null,null,null,null,null,null,null,null,null,null,null,null,null,null,null,null,null,null,null,null,null,null,null,null,null,null,null,null,null,null,null,null,null,null,null,null,null,null,null,null,null,null,null,null,null,null,null,null,null,null,null,null,null,null,null,null,null,null,null,null,null,null,null,null,null,null,null,null,null,null,null,null,null,null,null,null,null,null,null,null,null,null,null,null,null,null,null,null,null,null,null,null,null,null,null,null,null,null,null,null,null,null,null,null,null,null,null,null,null,null,null,null,null,null,null,null,null,null,null,null,null,null,null,null,null,null,null,null,null,null,null,null,null,null,null,null,null,null,null,null,null,null,null,null,null,null,null,null,null,null,null,null,null,null,null,null,null,null,null,null,null,null,null,null,null,null,null,null,null,null,null,null,null,null,null,null,null,null,null,null,null,null,null,null,null,null,null,null,null,null,null,null,null,null,null,null,null,null,null,null,null,null,null,null,null,null,null,null,null,null,null,null,null,null,null,null,null,null,null,null,null,null,null,null,null,null,null,null,null,null,null,null,null,null,null,null,null,null,null,null,null,null,null,null,null,null,null,null,null,null,null,null,null,null,null,null,null,null,null,null,null,null,null,null,null,null,null,null,null,null,null,null,null,null,null,null,null,null,null,null,null,null,null,null,null,null,null,null,null,null,null,null,null,null,null,null,null,null,null,null,null,null,null,null,null,null,null,null,null,null,null,null,null,null,null,null,null,null,null,null,null,null,null,null,null,null,null,null,null,null,null,null,null,null,null,null,null,null,null,null,null,null,null,null,null,null,null,null,null,null,null,null,null,null,null,null,null,null,null,null,null,null,null,null,null,null,null,null,null,null,null,null,null,null,null,null,null,null,null,null,null,null,null,null,null,null,null,null,null,null,null,null,null,null,null,null,null,null,null,null,null,null,null,null,null,null,null,null,null,null,null,null,null,null,null,null,null,null,null,null,null,null,null,null,null,null,null,null,null,null,null,null,null,null,null,null,null,null,null,null,null,null,null,null,null,null,null,null,null,null,null,null,null,null,null,null,null,null,null,null,null,null,null,null,null,null,null,null,null,null,null,null,null,null,null,null,null,null,null,null,null,null,null,null,null,null,null,null,null,null,null,null,null,null,null,null,null,null,null,null,null,null,null,null,null,null,null,null,null,null,null,null,null,null,null,null,null,null,null,null,null,null,null,null,null,null,null,null,null,null,null,null,null,null,null,null,null,null,null,null,null,null,null,null,null,null,null,null,null,null,null,null,null,null,null,null,null,null,null,null,null,null,null,null,null,null,null,null,null,null,null,null,null,null,null,null,null,null,null,null,null,null,null,null,null,null,null,null,null,null,null,null,null,null,null,null,null,null,null,null,null,null,null,null,null,null,null,null,null,null,null,null,null,null,null,null,null,null,null,null,null,null,null,null,null,null,null,null,null,null,null,null,null,null,null,null,null,null,null,null,null,null,null,null,null,null,null,null,null,null,null,null,null,null,null,null,null,null,null,null,null,null,null,null,null,null,null,null,null,null,null,null,null,null,null,null,null,null,null,null,null,null,null,null,null,null,null,null,null,null,null,null,null,null,null,null,null,null,null,null,null,null,null,null,null,null,null,null,null,null,null,null,null,null,null,null,null,null,null,null,null,null,null,null,null,null,null,null,null,null,null,null,null,null,null,null,null,null,null,null,null,null,null,null,null,null,null,null,null,null,null,null,null,null,null,null,null,null,null,null,null,null,null,null,null,null,null,null,null,null,null,null,null,null,null,null,null,null,null,null,null,null,null,null,null,null,null,null,null,null,null,null,null,null,null,null,null,null,null,null,null,null,null,null,null,null,null,null,null,null,null,null,null,null,null,null,null,null,null,null,null,null,null,null,null,null,null,null,null,null,null,null,null,null,null,null,null,null,null,null,null,null,null,null,null,null,null,null,null,null,null,null,null,null,null,null,null,null,null,null,null,null,null,null,null,null,null,null,null,null,null,null,null,null,null,null,null,null,null,null,null,null,null,null,null,null,null,null,null,null,null,null,null,null,null,null,null,null,null,null,null,null,null,null,null,null,null,null,null,null,null,null,null,null,null,null,null,null,null,null,null,null,null,null,null,null,null,null,null,null,null,null,null,null,null,null,null,null,null,null,null,null,null,null,null,null,null,null,null,null,null,null,null,null,null,null,null,null,null,null,null,null,null,null,null,null,null,null,null,null,null,null,null,null,null,null,null,null,null,null,null,null,null,null,null,null,null,null,null,null,null,null,null,null,null,null,null,null,null,null,null,null,null,null,null,null,null,null,null,null,null,null,null,null,null,null,null,null,null,null,null,null,null,null,null,null,null,null,null,null,null,null,null,null,null,null,null,null,null,null,null,null,null,null,null,null,null,null,null,null,null,null,null,null,null,null,null,null,null,null,null,null,null,null,null,null,null,null,null,null,null,null,null,null,null,null,null,null,null,null,null,null,null,null,null,null,null,null,null,null,null,null,null,null,null,null,null,null,null,null,null,null,null,null,null,null,null,null,null,null,null,null,null,null,null,null,null,null,null,null,null,null,null,null,null,null,null,null,null,null,null,null,null,null,null,null,null,null,null,null,null,null,null,null,null,null,null,null,null,null,null,null,null,null,null,null,null,null,null,null,null,null,null,null,null,null,null,null,null,null,null,null,null,null,null,null,null,null,null,null,null,null,null,null,null,null,null,null,null,null,null,null,null,null,null,null,null,null,null,null,null,null,null,null,null,null,null,null,null,null,null,null,null,null,null,null,null,null,null,null,null,null,null,null,null,null,null,null,null,null,null,null,null,null,null,null,null,null,null,null,null,null,null,null,null,null,null,null,null,null,null,null,null,null,null,null,null,null,null,null,null,null,null,null,null,null,null,null,null,null,null,null,null,null,null,null,null,null,null,null,null,null,null,null,null,null,null,null,null,null,null,null,null,null,null,null,null,null,null,null,null,null,null,null,null,null,null,null,null,null,null,null,null,null,null,null,null,null,null,null,null,null,null,null,null,null,null,null,null,null,null,null,null,null,null,null,null,null,null,null,null,null,null,null,null,null,null,null,null,null,null,null,null,null,null,null,null,null,null,null,null,null,null,null,null,null,null,null,null,null,null,null,null,null,null,null,null,null,null,null,null,null,null,null,null,null,null,null,null,null,null,null,null,null,null,null,null,null,null,null,null,null,null,null,null,null,null,null,null,null,null,null,null,null,null,null,null,null,null,null,null,null,null,null,null,null,null,null,null,null,null,null,null,null,null,null,null,null,null,null,null,null,null,null,null,null,null,null,null,null,null,null,null,null,null,null,null,null,null,null,null,null,null,null,null,null,null,null,null,null,null,null,null,null,null,null,null,null,null,null,null,null,null,null,null,null,null,null,null,null,null,null,null,null,null,null,null,null,null,null,null,null,null,null,null,null,null,null,null,null,null,null,null,null,null,null,null,null,null,null,null,null,null,null,null,null,null,null,null,null,null,null,null,null,null,null,null,null,null,null,null,null,null,null,null,null,null,null,null,null,null,null,null,null,null,null,null,null,null,null,null,null,null,null,null,null,null,null,null,null,null,null,null,null,null,null,null,null,null,null,null,null,null,null,null,null,null,null,null,null,null,null,null,null,null,null,null,null,null,null,null,null,null,null,null,null,null,null,null,null,null,null,null,null,null,null,null,null,null,null,null,null,null,null,null,null,null,null,null,null,null,null,null,null,null,null,null,null,null,null,null,null,null,null,null,null,null,null,null,null,null,null,null,null,null,null,null,null,null,null,null,null,null,null,null,null,null,null,null,null,null,null,null,null,null,null,null,null,null,null,null,null,null,null,null,null,null,null,null,null,null,null,null,null,null,null,null,null,null,null,null,null,null,null,null,null,null,null,null,null,null,null,null,null,null,null,null,null,null,null,null,null,null,null,null,null,null,null,null,null,null,null,null,null,null,null,null,null,null,null,null,null,null,null,null,null,null,null,null,null,null,null,null,null,null,null,null,null,null,null,null,null,null,null,null,null,null,null,null,null,null,null,null,null,null,null,null,null,null,null,null,null,null,null,null,null,null,null,null,null,null,null,null,null,null,null,null,null,null,null,null,null,null,null,null,null,null,null,null,null,null,null,null,null,null,null,null,null,null,null,null,null,null,null,null,null,null,null,null,null,null,null,null,null,null,null,null,null,null,null,null,null,null,null,null,null,null,null,null,null,null,null,null,null,null,null,null,null,null,null,null,null,null,null,null,null,null,null,null,null,null,null,null,null,null,null,null,null,null,null,null,null,null,null,null,null,null,null,null,null,null,null,null,null,null,null,null,null,null,null,null,null,null,null,null,null,null,null,null,null,null,null,null,null,null,null,null,null,null,null,null,null,null,null,null,null,null,null,null,null,null,null,null,null,null,null,null,null,null,null,null,null,null,null,null,null,null,null,null,null,null,null,null,null,null,null,null,null,null,null,null,null,null,null,null,null,null,null,null,null,null,null,null,null,null,null,null,null,null,null,null,null,null,null,null,null,null,null,null,null,null,null,null,null,null,null,null,null,null,null,null,null,null,null,null,null,null,null,null,null,null,null,null,null,null,null,null,null,null,null,null,null,null,null,null,null,null,null,null,null,null,null,null,null,null,null,null,null,null,null,null,null,null,null,null,null,null,null,null,null,null,null,null,null,null,null,null,null,null,null,null,null,null,null,null,null,null,null,null,null,null,null,null,null,null,null,null,null,null,null,null,null,null,null,null,null,null,null,null,null,null,null,null,null,null,null,null,null,null,null,null,null,null,null,null,null,null,null,null,null,null,null,null,null,null,null,null,null,null,null,null,null,null,null,null,null,null,null,null,null,null,null,null,null,null,null,null,null,null,null,null,null,null,null,null,null,null,null,null,null,null,null,null,null,null,null,null,null,null,null,null,null,null,null,null,null,null,null,null,null,null,null,null,null,null,null,null,null,null,null,null,null,null,null,null,null,null,null,null,null,null,null,null,null,null,null,null,null,null,null,null,null,null,null,null,null,null,null,null,null,null,null,null,null,null,null,null,null,null,null,null,null,null,null,null,null,null,null,null,null,null,null,null,null,null,null,null,null,null,null,null,null,null,null,null,null,null,null,null,null,null,null,null,null,null,null,null,null,null,null,null,null,null,null,null,null,null,null,null,null,null,null,null,null,null,null,null,null,null,null,null,null,null,null,null,null,null,null,null,null,null,null,null,null,null,null,null,null,null,null,null,null,null,null,null,null,null,null,null,null,null,null,null,null,null,null,null,null,null,null,null,null,null,null,null,null,null,null,null,null,null,null,null,null,null,null,null,null,null,null,null,null,null,null,null,null,null,null,null,null,null,null,null,null,null,null,null,null,null,null,null,null,null,null,null,null,null,null,null,null,null,null,null,null,null,null,null,null,null,null,null,null,null,null,null,null,null,null,null,null,null,null,null,null,null,null,null,null,null,null,null,null,null,null,null,null,null,null,null,null,null,null,null,null,null,null,null,null,null,null,null,null,null,null,null,null,null,null,null,null,null,null,null,null,null,null,null,null,null,null,null,null,null,null,null,null,null,null,null,null,null,null,null,null,null,null,null,null,null,null,null,null,null,null,null,null,null,null,null,null,null,null,null,null,null,null,null,null,null,null,null,null,null,null,null,null,null,null,null,null,null,null,null,null,null,null,null,null,null,null,null,null,null,null,null,null,null,null,null,null,null,null,null,null,null,null,null,null,null,null,null,null,null,null,null,null,null,null,null,null,null,null,null,null,null,null,null,null,null,null,null,null,null,null,null,null,null,null,null,null,null,null,null,null,null,null,null,null,null,null,null,null,null,null,null,null,null,null,null,null,null,null,null,null,null,null,null,null,null,null,0]
[null,null,"AFRI grant no. 2010-85122-20623 from USDA-NIFA"]

{"sheet":"misc","index":1,"n_rows":24,"n_cols":38,"rows_kept":24,"cut":false,"hidden":false,"merged":[]}
[null,"MISCELLANEOUS",null,null,null,null,null,null,null,null,null,{"$f":"milk!L1","v":"v.dairyvip 1.4"}]
[null,null,null,null,null,null,null,null,null,null,null,null,null,null,null,null,null,null,null,null,null,null,null,null,null,null,null,null,null,{"$f":"IF(UNITS=\"kg\",1,2.20462262)","v":2.2046226199999999},null,null,null,null,null,null,"calculate",0]
[null,null,null,null,null,null,null,"General",null,null,"Culling policy",null,null,null,null,null,null,null,null,null,null,null,null,null,null,null,null,null,null,"LBS","KG",null,null,"JAN",1]
[null,null,null,null,null,null,"Units","LBS",null,null,"OPTIMAL","Policy",null,null,null,null,null,null,null,null,null,null,null,null,null,null,null,null,null,"YES","NO",null,null,"FEB",2]
[null,null,null,null,null,null,"Annual interest rate",0,null,null,"final.pol",null,"Use previously saved POL file",null,null,null,null,null,null,null,null,null,null,null,null,null,null,null,null,{"$f":"LBM","v":16},"LBM",null,null,"MAR",3]
[null,null,null,null,null,null,"First calendar month","JAN",null,null,12,"Maximum lactation number",null,null,null,null,null,null,null,null,null,null,null,null,null,null,null,null,null,{"$f":"CONCATENATE(\"Milk yield below which to cull nonpregnant cow (lbs/day)\")","v":"Milk yield below which to cull nonpregnant cow (lbs/day)"},null,null,null,"APR",4,null,"OPTIMAL"]
[null,null,null,null,null,null,"Save RPO and DEL files?","NO",null,null,24,{"$f":"CONCATENATE(\"Maximum months open (at least \",AD5+1,\" months)\")","v":"Maximum months open (at least 17 months)"},null,null,null,null,null,null,null,null,null,null,null,null,null,null,null,null,null,{"$f":"CONCATENATE(\"Milk yield below which to cull nonpregnant cows (kg/day)\")","v":"Milk yield below which to cull nonpregnant cows (kg/day)"},null,null,null,"MAY",5,null,"KEEPPREG"]
[null,null,null,null,null,null,"Save POL file?","NO",null,null,0,{"$f":"IF(UNITS=\"kg\",AD7,AD6)","v":"Milk yield below which to cull nonpregnant cow (lbs/day)"},null,null,null,null,null,null,null,null,null,null,null,null,null,null,null,null,null,null,null,null,null,"JUN",6,null,"KEEPALL"]
[null,null,null,null,null,null,null,null,null,null,-999,"Margin below which to cull nonpregnant cows ($/day)",null,null,null,null,null,null,null,null,null,null,null,null,null,null,null,null,null,null,null,null,null,"JUL",7,null,"Use_POL"]
[null,null,null,null,null,null,null,"Other",null,null,0,"Additional loss involuntary culling ($/cow)",null,null,null,null,null,null,null,null,null,null,null,null,null,null,null,null,null,null,null,null,null,"AUG",8]
[null,null,null,null,null,null,"Percent fat in milk",3.5,null,null,0.8,"Price involuntary culled cows as % of price voluntary culled cows",null,null,null,null,null,null,null,null,null,null,null,null,null,null,null,null,null,null,null,null,null,"SEP",9]
[null,null,null,null,null,null,"CV milk yield (std/average x 100)",12,null,null,null,null,null,null,null,null,null,null,null,null,null,null,null,null,null,null,null,null,null,null,null,null,null,"OCT",10]
[null,null,null,null,null,null,"Effect of previous days open on milk yield?","YES",null,null,"Labor",null,null,null,null,null,null,null,null,null,null,null,null,null,null,null,null,null,null,null,null,null,null,"NOV",11]
[null,null,null,null,null,null,"Repeatability of milk yield",0.6,null,null,0.5,"Fixed labor cost ($/slot/day)",null,null,null,null,null,null,null,null,null,null,null,null,null,null,null,null,null,null,null,null,null,"DEC",12]
[null,null,null,null,null,null,"Price calf at birth ($/calf)",200,null,null,10,"Variable labor cost ($/hour)"]
[null,null,null,null,null,null,"Fixed other cost ($/slot/day)",2,null,null,30,"Extra time first month after calving (minutes/month)"]
[null,null,null,null,null,null,"Other variable cost dry cows ($/cow/day)",1,null,null,213,"Time per lactating cow (minutes/month)"]
[null,null,null,null,null,null,"Other variable cost lactating cows ($/cow/day)",1,null,null,91,"Time per dry cow (minutes/month)"]
[]
[null,null,null,null,null,null,null,"Feed",null,null,"Veterinary cost"]
[null,null,null,null,null,null,{"$f":"IF(UNITS=\"kg\",\"Feed cost lactating cows ($/kg DM)\",\"Feed cost lactating cows ($/lbs DM)\")","v":"Feed cost lactating cows ($/lbs DM)"},0.15,null,null,38,"1st month in lactation ($/cow)"]
[null,null,null,null,null,null,{"$f":"IF(UNITS=\"kg\",\"Feed cost dry cows ($/kg DM)\",\"Feed cost dry cows ($/lbs DM)\")","v":"Feed cost dry cows ($/lbs DM)"},0.1,null,null,23,"2nd month in lactation ($/cow)"]
[null,null,null,null,null,null,{"$f":"IF(UNITS=\"kg\",\"DMI dry cows (kg/cow/day)\",\"DMI dry cows (lbs/cow/day)\")","v":"DMI dry cows (lbs/cow/day)"},25,null,null,8,"3rd month in lactation ($/cow)"]
[null,null,null,null,null,null,null,null,null,null,1,"³ 4th month in lactation ($/cow)"]

{"sheet":"price","index":2,"n_rows":34,"n_cols":49,"rows_kept":34,"cut":false,"hidden":false,"merged":[]}
[null,"PRICE & DECISIONS",null,null,null,null,null,null,null,null,null,{"$f":"milk!L1","v":"v.dairyvip 1.4"}]
[null,null,null,null,null,null,null,null,null,null,null,null,null,null,null,null,null,null,null,null,null,null,null,null,null,null,"NO",null,null,null,null,null,null,null,null,null,null,null,null,null,null,null,null,null,null,null,"pchart",null,"Hide charts"]
[null,null,null,null,null,null,null,null,null,null,null,null,null,null,null,null,null,null,null,null,null,null,null,null,null,null,"YES",null,null,null,null,null,null,null,null,null,null,null,null,null,null,null,null,null,null,null,null,null,"Heifer price"]
[null,null,null,null,null,"Breed",null,"Enter",null,"Heifer",null,"Cull price",null,"Milk price",null,null,null,null,null,null,null,null,null,null,null,null,"DECIDE",null,null,null,null,null,null,null,null,null,null,null,null,null,null,null,null,null,null,null,null,null,"Cull price"]
[null,null,null,null,null,"cows?",null,"heifers?",null,"price ($)",null,{"$f":"IF(UNITS=\"kg\",\"($/kg)\",\"($/lbs)\")","v":"($/lbs)"},null,{"$f":"IF(UNITS=\"kg\",\"($/100kg)\",\"($/cwt)\")","v":"($/cwt)"},null,null,null,null,null,null,null,null,null,null,null,null,null,null,null,null,null,null,null,null,null,null,null,null,null,null,null,null,null,null,null,null,null,null,"Milk price"]
[null,null,"Year 1",{"$f":"AD11","v":1},{"$f":"CHOOSE(AD11,\"Jan\",\"Feb\",\"Mar\",\"Apr\",\"May\",\"Jun\",\"Jul\",\"Aug\",\"Sep\",\"Oct\",\"Nov\",\"Dec\")","v":"Jan"},"DECIDE",null,"DECIDE",null,1600,null,0.6,null,18,{"$f":"E6","v":"Jan"},{"$f":"C6","v":"Year 1"}]
[null,null,null,2,"Feb","DECIDE",null,"DECIDE",null,1600,null,0.6,null,18,"Feb"]
[null,null,null,3,"Mar","DECIDE",null,"DECIDE",null,1600,null,0.6,null,18,"Mar"]
[null,null,null,4,"Apr","DECIDE",null,"DECIDE",null,1600,null,0.6,null,18,"Apr"]
[null,null,null,5,"May","DECIDE",null,"DECIDE",null,1600,null,0.6,null,18,"May",null,null,null,null,null,null,null,null,null,null,null,null,null,null,{"$f":"STARTSEA","v":"JAN"},"Jan",1]
[null,null,null,6,"Jun","DECIDE",null,"DECIDE",null,1600,null,0.6,null,18,"Jun",null,null,null,null,null,null,null,null,null,null,null,null,null,1,{"$f":"VLOOKUP(AD10,AE10:AF21,2,FALSE)","v":1},"Feb",2]
[null,null,null,7,"Jul","DECIDE",null,"DECIDE",null,1600,null,0.6,null,18,"Jul",null,null,null,null,null,null,null,null,null,null,null,null,null,2,{"$f":"IF(AD11<12,AD11+1,1)","v":2},"Mar",3]
[null,null,null,8,"Aug","DECIDE",null,"DECIDE",null,1600,null,0.6,null,18,"Aug",null,null,null,null,null,null,null,null,null,null,null,null,null,3,{"$f":"IF(AD12<12,AD12+1,1)","v":3},"Apr",4]
[null,null,null,9,"Sep","DECIDE",null,"DECIDE",null,1600,null,0.6,null,18,"Sep",null,null,null,null,null,null,null,null,null,null,null,null,null,4,4,"May",5]
[null,null,null,10,"Oct","DECIDE",null,"DECIDE",null,1600,null,0.6,null,18,"Oct",null,null,null,null,null,null,null,null,null,null,null,null,null,5,5,"Jun",6]
[null,null,null,11,"Nov","DECIDE",null,"DECIDE",null,1600,null,0.6,null,18,"Nov",null,null,null,null,null,null,null,null,null,null,null,null,null,6,6,"Jul",7]
[null,null,null,12,"Dec","DECIDE",null,"DECIDE",null,1600,null,0.6,null,18,"Dec",null,null,null,null,null,null,null,null,null,null,null,null,null,7,7,"Aug",8]
[null,null,"Year 2",1,"Jan","DECIDE",null,"DECIDE",null,1600,null,0.6,null,18,"Jan",{"$f":"C18","v":"Year 2"},null,null,null,null,null,null,null,null,null,null,null,null,8,8,"Sep",9]
[null,null,"and later",2,"Feb","DECIDE",null,"DECIDE",null,1600,null,0.6,null,18,"Feb",{"$f":"C19","v":"and later"},null,null,null,null,null,null,null,null,null,null,null,null,9,9,"Oct",10]
[null,null,null,3,"Mar","DECIDE",null,"DECIDE",null,1600,null,0.6,null,18,"Mar",null,null,null,null,null,null,null,null,null,null,null,null,null,10,10,"Nov",11]
[null,null,null,4,"Apr","DECIDE",null,"DECIDE",null,1600,null,0.6,null,18,"Apr",null,null,null,null,null,null,null,null,null,null,null,null,null,11,11,"Dec",12]
[null,null,null,5,"May","DECIDE",null,"DECIDE",null,1600,null,0.6,null,18,"May",null,null,null,null,null,null,null,null,null,null,null,null,null,12,12]
[null,null,null,6,"Jun","DECIDE",null,"DECIDE",null,1600,null,0.6,null,18,"Jun",null,null,null,null,null,null,null,null,null,null,null,null,null,13,1]
[null,null,null,7,"Jul","DECIDE",null,"DECIDE",null,1600,null,0.6,null,18,"Jul",null,null,null,null,null,null,null,null,null,null,null,null,null,14,2]
[null,null,null,8,"Aug","DECIDE",null,"DECIDE",null,1600,null,0.6,null,18,"Aug",null,null,null,null,null,null,null,null,null,null,null,null,null,15,3]
[null,null,null,9,"Sep","DECIDE",null,"DECIDE",null,1600,null,0.6,null,18,"Sep",null,null,null,null,null,null,null,null,null,null,null,null,null,16,4]
[null,null,null,10,"Oct","DECIDE",null,"DECIDE",null,1600,null,0.6,null,18,"Oct",null,null,null,null,null,null,null,null,null,null,null,null,null,17,5]
[null,null,null,11,"Nov","DECIDE",null,"DECIDE",null,1600,null,0.6,null,18,"Nov",null,null,null,null,null,null,null,null,null,null,null,null,null,18,6]
[null,null,null,12,"Dec","DECIDE",null,"DECIDE",null,1600,null,0.6,null,18,"Dec",null,null,null,null,null,null,null,null,null,null,null,null,null,19,7]
[null,null,null,null,null,null,null,null,null,null,null,null,null,null,null,null,null,null,null,null,null,null,null,null,null,null,null,null,20,8]
[null,null,null,null,null,null,null,null,null,null,null,null,null,null,null,null,null,null,null,null,null,null,null,null,null,null,null,null,21,9]
[null,null,null,null,null,null,null,null,null,null,null,null,null,null,null,null,null,null,null,null,null,null,null,null,null,null,null,null,22,10]
[null,null,null,null,null,null,null,null,null,null,null,null,null,null,null,null,null,null,null,null,null,null,null,null,null,null,null,null,23,11]
[null,null,null,null,null,null,null,null,null,null,null,null,null,null,null,null,null,null,null,null,null,null,null,null,null,null,null,null,24,12]

{"sheet":"repro","index":3,"n_rows":89,"n_cols":44,"rows_kept":89,"cut":false,"hidden":false,"merged":[]}
[null,"REPRODUCTION",null,null,null,null,null,null,null,null,null,{"$f":"milk!L1","v":"v.dairyvip 1.4"}]
[null,null,null,null,null,null,null,null,null,null,null,null,null,null,null,null,null,null,null,null,null,null,null,null,null,null,null,null,null,null,null,"rfunction",1,"Repro function",1,null,"rchart",null,"Hide charts"]
[null,null,null,null,null,null,null,null,null,"Breeding period",null,null,null,"Risk of abortion (%) per month of pregnancy",null,null,null,null,null,null,null,null,null,null,null,null,null,null,null,null,null,null,null,{"$f":"ROUND(VAR(CONCRANGE,HEATRANGE)+AVERAGE(CONCRANGE,HEATRANGE),6)","v":0.46831800000000001},{"$f":"IF(RFUNCTION=1,ROUND(AI2,6),ROUND(AI2,6))","v":1},null,null,null,"Probability of conception"]
[null,null,null,null,null,null,null,null,"first breeding month",3,3,3,null,null,2,3.5000000000000003E-2,3.0000000000000001E-3,6,null,null,null,null,null,null,null,null,null,null,null,null,null,null,null,null,null,null,null,null,"Probability of service"]
[null,null,null,null,null,null,null,null,"last breeding month",16,{"$f":"misc!K7-9+1","v":16},null,null,null,3,2.5000000000000001E-2,1E-3,7,null,null,null,null,null,null,null,null,null,null,null,null,null,null,null,null,null,null,null,null,"Pregnancy rate"]
[null,null,null,null,null,null,null,null,"minutes labor / cow",0,null,null,null,null,4,1.4999999999999999E-2,1E-3,8,null,null,null,null,null,null,null,null,null,null,null,null,null,null,null,null,null,null,null,null,"Breeding cost"]
[null,null,null,null,null,null,null,null,"cost per breeding ($)",20,null,null,null,null,5,5.0000000000000001E-3]
[null,null,null,null,null,null,null,null,null,null,null,null,null,null,null,null,{"$f":"1-(1-P4)*(1-P5)*(1-P6)*(1-P7)*(1-Q4)*(1-Q5)*(1-Q6)*(1-Q7)","v":8.2476122573050037E-2},"total risk of abortion"]
[]
[null,null,null,null,null,null,"Relative risk of conception per lactation number"]
[null,null,null,null,null,null,1,0.9,0.88,0.86,0.84,0.82,0.8,0.78,0.76,0.74,0.72,0.70000000000000095]
[null,null,null,null,null,null,1,2,3,4,5,6,7,8,9,10,11,12,"lactatation number",null,null,null,null,null,null,null,null,null,null,null,null,null,{"$f":"1-$D$17","v":0}]
[]
[null,null,null,null,null,null,"Probability of conception",null,null,null,null,null,null,null,null,null,null,null,null,null,null,null,null,null,null,null,null,null,null,null,null,null,"functionconc"]
[null,null,null,{"$f":"update(AH3,AI2,\"Repro function\")","v":"Repro function"},null,"month","Jan","Feb","Mar","Apr","May","Jun","Jul","Aug","Sep","Oct","Nov","Dec","day","Unadjusted",null,null,null,null,null,null,null,null,null,null,null,"mim","Jan","Feb","Mar","Apr","May","Jun","Jul","Aug","Sep","Oct","Nov","Dec"]
[null,null,"+/- (%)",0.05,null,3,0.38800000000000001,0.38800000000000001,0.38800000000000001,0.38800000000000001,0.38800000000000001,0.38800000000000001,0.38800000000000001,0.38800000000000001,0.38800000000000001,0.38800000000000001,0.38800000000000001,0.38800000000000001,60.8,0.33800000000000002,null,null,null,null,null,null,null,null,null,null,null,1,{"$f":"$T16*$D$18*$D$17+$T16*$D$30*(1-$D$17)+$D$16","v":0.38800000000000001},{"$f":"$T16*$D$19*$D$17+$T16*$D$30*(1-$D$17)+$D$16","v":0.38800000000000001},{"$f":"$T16*$D$20*$D$17+$T16*$D$30*(1-$D$17)+$D$16","v":0.38800000000000001},{"$f":"$T16*$D$21*$D$17+$T16*$D$30*(1-$D$17)+$D$16","v":0.38800000000000001},{"$f":"$T16*$D$22*$D$17+$T16*$D$30*(1-$D$17)+$D$16","v":0.38800000000000001},{"$f":"$T16*$D$23*$D$17+$T16*$D$30*(1-$D$17)+$D$16","v":0.38800000000000001},{"$f":"$T16*$D$24*$D$17+$T16*$D$30*(1-$D$17)+$D$16","v":0.38800000000000001},{"$f":"$T16*$D$25*$D$17+$T16*$D$30*(1-$D$17)+$D$16","v":0.38800000000000001},{"$f":"$T16*$D$26*$D$17+$T16*$D$30*(1-$D$17)+$D$16","v":0.38800000000000001},{"$f":"$T16*$D$27*$D$17+$T16*$D$30*(1-$D$17)+$D$16","v":0.38800000000000001},{"$f":"$T16*$D$28*$D$17+$T16*$D$30*(1-$D$17)+$D$16","v":0.38800000000000001},{"$f":"$T16*$D$29*$D$17+$T16*$D$30*(1-$D$17)+$D$16","v":0.38800000000000001}]
[null,null,"Seasonality",1,null,4,0.42,0.42,0.42,0.42,0.42,0.42,0.42,0.42,0.42,0.42,0.42,0.42,91.2,0.37,null,null,null,null,null,null,null,null,null,null,null,2,{"$f":"$T17*$D$18*$D$17+$T17*$D$30*(1-$D$17)+$D$16","v":0.42},0.42,0.42,0.42,0.42,0.42,0.42,0.42,0.42,0.42,0.42,0.42]
[null,null,"Jan",1,null,5,0.41699999999999998,0.41699999999999998,0.41699999999999998,0.41699999999999998,0.41699999999999998,0.41699999999999998,0.41699999999999998,0.41699999999999998,0.41699999999999998,0.41699999999999998,0.41699999999999998,0.41699999999999998,121.6,0.36699999999999999,null,null,null,null,null,null,null,null,null,null,null,3,0.41699999999999998,0.41699999999999998,0.41699999999999998,0.41699999999999998,0.41699999999999998,0.41699999999999998,0.41699999999999998,0.41699999999999998,0.41699999999999998,0.41699999999999998,0.41699999999999998,0.41699999999999998]
[null,null,"Feb",1,null,6,0.41399999999999998,0.41399999999999998,0.41399999999999998,0.41399999999999998,0.41399999999999998,0.41399999999999998,0.41399999999999998,0.41399999999999998,0.41399999999999998,0.41399999999999998,0.41399999999999998,0.41399999999999998,152,0.36399999999999999,null,null,null,null,null,null,null,null,null,null,null,4,0.41399999999999998,0.41399999999999998,0.41399999999999998,0.41399999999999998,0.41399999999999998,0.41399999999999998,0.41399999999999998,0.41399999999999998,0.41399999999999998,0.41399999999999998,0.41399999999999998,0.41399999999999998]
[null,null,"Mar",1,null,7,0.40799999999999997,0.40799999999999997,0.40799999999999997,0.40799999999999997,0.40799999999999997,0.40799999999999997,0.40799999999999997,0.40799999999999997,0.40799999999999997,0.40799999999999997,0.40799999999999997,0.40799999999999997,182.4,0.35799999999999998,null,null,null,null,null,null,null,null,null,null,null,5,0.40799999999999997,0.40799999999999997,0.40799999999999997,0.40799999999999997,0.40799999999999997,0.40799999999999997,0.40799999999999997,0.40799999999999997,0.40799999999999997,0.40799999999999997,0.40799999999999997,0.40799999999999997]
[null,null,"Apr",1,null,8,0.4,0.4,0.4,0.4,0.4,0.4,0.4,0.4,0.4,0.4,0.4,0.4,212.8,0.35,null,null,null,null,null,null,null,null,null,null,null,6,0.39999999999999997,0.39999999999999997,0.39999999999999997,0.39999999999999997,0.39999999999999997,0.39999999999999997,0.39999999999999997,0.39999999999999997,0.39999999999999997,0.39999999999999997,0.39999999999999997,0.39999999999999997]
[null,null,"May",1,null,9,0.39,0.39,0.39,0.39,0.39,0.39,0.39,0.39,0.39,0.39,0.39,0.39,243.2,0.34,null,null,null,null,null,null,null,null,null,null,null,7,0.39,0.39,0.39,0.39,0.39,0.39,0.39,0.39,0.39,0.39,0.39,0.39]
[null,null,"Jun",1,null,10,0.38,0.38,0.38,0.38,0.38,0.38,0.38,0.38,0.38,0.38,0.38,0.38,273.60000000000002,0.33,null,null,null,null,null,null,null,null,null,null,null,8,0.38,0.38,0.38,0.38,0.38,0.38,0.38,0.38,0.38,0.38,0.38,0.38]
[null,null,"Jul",1,null,11,0.36499999999999999,0.36499999999999999,0.36499999999999999,0.36499999999999999,0.36499999999999999,0.36499999999999999,0.36499999999999999,0.36499999999999999,0.36499999999999999,0.36499999999999999,0.36499999999999999,0.36499999999999999,304,0.315,null,null,null,null,null,null,null,null,null,null,null,9,0.36499999999999999,0.36499999999999999,0.36499999999999999,0.36499999999999999,0.36499999999999999,0.36499999999999999,0.36499999999999999,0.36499999999999999,0.36499999999999999,0.36499999999999999,0.36499999999999999,0.36499999999999999]
[null,null,"Aug",1,null,12,0.35,0.35,0.35,0.35,0.35,0.35,0.35,0.35,0.35,0.35,0.35,0.35,334.4,0.3,null,null,null,null,null,null,null,null,null,null,null,10,0.35,0.35,0.35,0.35,0.35,0.35,0.35,0.35,0.35,0.35,0.35,0.35]
[null,null,"Sep",1,null,13,0.33400000000000002,0.33400000000000002,0.33400000000000002,0.33400000000000002,0.33400000000000002,0.33400000000000002,0.33400000000000002,0.33400000000000002,0.33400000000000002,0.33400000000000002,0.33400000000000002,0.33400000000000002,364.8,0.28399999999999997,null,null,null,null,null,null,null,null,null,null,null,11,0.33399999999999996,0.33399999999999996,0.33399999999999996,0.33399999999999996,0.33399999999999996,0.33399999999999996,0.33399999999999996,0.33399999999999996,0.33399999999999996,0.33399999999999996,0.33399999999999996,0.33399999999999996]
[null,null,"Oct",1,null,14,0.315,0.315,0.315,0.315,0.315,0.315,0.315,0.315,0.315,0.315,0.315,0.315,395.2,0.26500000000000001,null,null,null,null,null,null,null,null,null,null,null,12,0.315,0.315,0.315,0.315,0.315,0.315,0.315,0.315,0.315,0.315,0.315,0.315]
[null,null,"Nov",1,null,15,0.29299999999999998,0.29299999999999998,0.29299999999999998,0.29299999999999998,0.29299999999999998,0.29299999999999998,0.29299999999999998,0.29299999999999998,0.29299999999999998,0.29299999999999998,0.29299999999999998,0.29299999999999998,425.6,0.24299999999999999,null,null,null,null,null,null,null,null,null,null,null,13,0.29299999999999998,0.29299999999999998,0.29299999999999998,0.29299999999999998,0.29299999999999998,0.29299999999999998,0.29299999999999998,0.29299999999999998,0.29299999999999998,0.29299999999999998,0.29299999999999998,0.29299999999999998]
[null,null,"Dec",1,null,16,0.27700000000000002,0.27700000000000002,0.27700000000000002,0.27700000000000002,0.27700000000000002,0.27700000000000002,0.27700000000000002,0.27700000000000002,0.27700000000000002,0.27700000000000002,0.27700000000000002,0.27700000000000002,456,0.22700000000000001,null,null,null,null,null,null,null,null,null,null,null,14,0.27700000000000002,0.27700000000000002,0.27700000000000002,0.27700000000000002,0.27700000000000002,0.27700000000000002,0.27700000000000002,0.27700000000000002,0.27700000000000002,0.27700000000000002,0.27700000000000002,0.27700000000000002]
[null,null,null,{"$f":"AVERAGE(D18:D29)","v":1}]
[]
[null,null,null,null,null,null,"Probability of service per 21 days",null,null,null,null,null,null,null,null,null,null,null,null,null,null,null,null,null,null,null,null,null,null,null,null,null,"functionheat"]
[null,null,null,null,null,"month","Jan","Feb","Mar","Apr","May","Jun","Jul","Aug","Sep","Oct","Nov","Dec","day",null,null,null,null,null,null,null,null,null,null,null,null,"mim","Jan","Feb","Mar","Apr","May","Jun","Jul","Aug","Sep","Oct","Nov","Dec"]
[null,null,"+/- (%)",0,null,3,0.55000000000000004,0.55000000000000004,0.55000000000000004,0.55000000000000004,0.55000000000000004,0.55000000000000004,0.55000000000000004,0.55000000000000004,0.55000000000000004,0.55000000000000004,0.55000000000000004,0.55000000000000004,60.8,null,null,null,null,null,null,null,null,null,null,null,null,1,{"$f":"$D$36*$D$35+$D$48*(1-$D$35)+$D$34","v":0.55000000000000004},{"$f":"$D$37*$D$35+$D$48*(1-$D$35)+$D$34","v":0.55000000000000004},{"$f":"$D$38*$D$35+$D$48*(1-$D$35)+$D$34","v":0.55000000000000004},{"$f":"$D$39*$D$35+$D$48*(1-$D$35)+$D$34","v":0.55000000000000004},{"$f":"$D$40*$D$35+$D$48*(1-$D$35)+$D$34","v":0.55000000000000004},{"$f":"$D$41*$D$35+$D$48*(1-$D$35)+$D$34","v":0.55000000000000004},{"$f":"$D$42*$D$35+$D$48*(1-$D$35)+$D$34","v":0.55000000000000004},{"$f":"$D$43*$D$35+$D$48*(1-$D$35)+$D$34","v":0.55000000000000004},{"$f":"$D$44*$D$35+$D$48*(1-$D$35)+$D$34","v":0.55000000000000004},{"$f":"$D$45*$D$35+$D$48*(1-$D$35)+$D$34","v":0.55000000000000004},{"$f":"$D$46*$D$35+$D$48*(1-$D$35)+$D$34","v":0.55000000000000004},{"$f":"$D$47*$D$35+$D$48*(1-$D$35)+$D$34","v":0.55000000000000004}]
[null,null,"seasonality",1,null,4,0.55000000000000004,0.55000000000000004,0.55000000000000004,0.55000000000000004,0.55000000000000004,0.55000000000000004,0.55000000000000004,0.55000000000000004,0.55000000000000004,0.55000000000000004,0.55000000000000004,0.55000000000000004,91.2,null,null,null,null,null,null,null,null,null,null,null,null,2,{"$f":"$D$36*$D$35+$D$48*(1-$D$35)+$D$34","v":0.55000000000000004},{"$f":"$D$37*$D$35+$D$48*(1-$D$35)+$D$34","v":0.55000000000000004},{"$f":"$D$38*$D$35+$D$48*(1-$D$35)+$D$34","v":0.55000000000000004},{"$f":"$D$39*$D$35+$D$48*(1-$D$35)+$D$34","v":0.55000000000000004},{"$f":"$D$40*$D$35+$D$48*(1-$D$35)+$D$34","v":0.55000000000000004},{"$f":"$D$41*$D$35+$D$48*(1-$D$35)+$D$34","v":0.55000000000000004},{"$f":"$D$42*$D$35+$D$48*(1-$D$35)+$D$34","v":0.55000000000000004},{"$f":"$D$43*$D$35+$D$48*(1-$D$35)+$D$34","v":0.55000000000000004},{"$f":"$D$44*$D$35+$D$48*(1-$D$35)+$D$34","v":0.55000000000000004},{"$f":"$D$45*$D$35+$D$48*(1-$D$35)+$D$34","v":0.55000000000000004},{"$f":"$D$46*$D$35+$D$48*(1-$D$35)+$D$34","v":0.55000000000000004},{"$f":"$D$47*$D$35+$D$48*(1-$D$35)+$D$34","v":0.55000000000000004}]
[null,null,"Jan",0.55000000000000004,null,5,0.55000000000000004,0.55000000000000004,0.55000000000000004,0.55000000000000004,0.55000000000000004,0.55000000000000004,0.55000000000000004,0.55000000000000004,0.55000000000000004,0.55000000000000004,0.55000000000000004,0.55000000000000004,121.6,null,null,null,null,null,null,null,null,null,null,null,null,3,0.55000000000000004,0.55000000000000004,0.55000000000000004,0.55000000000000004,0.55000000000000004,0.55000000000000004,0.55000000000000004,0.55000000000000004,0.55000000000000004,0.55000000000000004,0.55000000000000004,0.55000000000000004]
[null,null,"Feb",0.55000000000000004,null,6,0.55000000000000004,0.55000000000000004,0.55000000000000004,0.55000000000000004,0.55000000000000004,0.55000000000000004,0.55000000000000004,0.55000000000000004,0.55000000000000004,0.55000000000000004,0.55000000000000004,0.55000000000000004,152,null,null,null,null,null,null,null,null,null,null,null,null,4,0.55000000000000004,0.55000000000000004,0.55000000000000004,0.55000000000000004,0.55000000000000004,0.55000000000000004,0.55000000000000004,0.55000000000000004,0.55000000000000004,0.55000000000000004,0.55000000000000004,0.55000000000000004]
[null,null,"Mar",0.55000000000000004,null,7,0.55000000000000004,0.55000000000000004,0.55000000000000004,0.55000000000000004,0.55000000000000004,0.55000000000000004,0.55000000000000004,0.55000000000000004,0.55000000000000004,0.55000000000000004,0.55000000000000004,0.55000000000000004,182.4,null,null,null,null,null,null,null,null,null,null,null,null,5,0.55000000000000004,0.55000000000000004,0.55000000000000004,0.55000000000000004,0.55000000000000004,0.55000000000000004,0.55000000000000004,0.55000000000000004,0.55000000000000004,0.55000000000000004,0.55000000000000004,0.55000000000000004]
[null,null,"Apr",0.55000000000000004,null,8,0.55000000000000004,0.55000000000000004,0.55000000000000004,0.55000000000000004,0.55000000000000004,0.55000000000000004,0.55000000000000004,0.55000000000000004,0.55000000000000004,0.55000000000000004,0.55000000000000004,0.55000000000000004,212.8,null,null,null,null,null,null,null,null,null,null,null,null,6,0.55000000000000004,0.55000000000000004,0.55000000000000004,0.55000000000000004,0.55000000000000004,0.55000000000000004,0.55000000000000004,0.55000000000000004,0.55000000000000004,0.55000000000000004,0.55000000000000004,0.55000000000000004]
[null,null,"May",0.55000000000000004,null,9,0.55000000000000004,0.55000000000000004,0.55000000000000004,0.55000000000000004,0.55000000000000004,0.55000000000000004,0.55000000000000004,0.55000000000000004,0.55000000000000004,0.55000000000000004,0.55000000000000004,0.55000000000000004,243.2,null,null,null,null,null,null,null,null,null,null,null,null,7,0.55000000000000004,0.55000000000000004,0.55000000000000004,0.55000000000000004,0.55000000000000004,0.55000000000000004,0.55000000000000004,0.55000000000000004,0.55000000000000004,0.55000000000000004,0.55000000000000004,0.55000000000000004]
[null,null,"Jun",0.55000000000000004,null,10,0.55000000000000004,0.55000000000000004,0.55000000000000004,0.55000000000000004,0.55000000000000004,0.55000000000000004,0.55000000000000004,0.55000000000000004,0.55000000000000004,0.55000000000000004,0.55000000000000004,0.55000000000000004,273.60000000000002,null,null,null,null,null,null,null,null,null,null,null,null,8,0.55000000000000004,0.55000000000000004,0.55000000000000004,0.55000000000000004,0.55000000000000004,0.55000000000000004,0.55000000000000004,0.55000000000000004,0.55000000000000004,0.55000000000000004,0.55000000000000004,0.55000000000000004]
[null,null,"Jul",0.55000000000000004,null,11,0.55000000000000004,0.55000000000000004,0.55000000000000004,0.55000000000000004,0.55000000000000004,0.55000000000000004,0.55000000000000004,0.55000000000000004,0.55000000000000004,0.55000000000000004,0.55000000000000004,0.55000000000000004,304,null,null,null,null,null,null,null,null,null,null,null,null,9,0.55000000000000004,0.55000000000000004,0.55000000000000004,0.55000000000000004,0.55000000000000004,0.55000000000000004,0.55000000000000004,0.55000000000000004,0.55000000000000004,0.55000000000000004,0.55000000000000004,0.55000000000000004]
[null,null,"Aug",0.55000000000000004,null,12,0.55000000000000004,0.55000000000000004,0.55000000000000004,0.55000000000000004,0.55000000000000004,0.55000000000000004,0.55000000000000004,0.55000000000000004,0.55000000000000004,0.55000000000000004,0.55000000000000004,0.55000000000000004,334.4,null,null,null,null,null,null,null,null,null,null,null,null,10,0.55000000000000004,0.55000000000000004,0.55000000000000004,0.55000000000000004,0.55000000000000004,0.55000000000000004,0.55000000000000004,0.55000000000000004,0.55000000000000004,0.55000000000000004,0.55000000000000004,0.55000000000000004]
[null,null,"Sep",0.55000000000000004,null,13,0.55000000000000004,0.55000000000000004,0.55000000000000004,0.55000000000000004,0.55000000000000004,0.55000000000000004,0.55000000000000004,0.55000000000000004,0.55000000000000004,0.55000000000000004,0.55000000000000004,0.55000000000000004,364.8,null,null,null,null,null,null,null,null,null,null,null,null,11,0.55000000000000004,0.55000000000000004,0.55000000000000004,0.55000000000000004,0.55000000000000004,0.55000000000000004,0.55000000000000004,0.55000000000000004,0.55000000000000004,0.55000000000000004,0.55000000000000004,0.55000000000000004]
[null,null,"Oct",0.55000000000000004,null,14,0.55000000000000004,0.55000000000000004,0.55000000000000004,0.55000000000000004,0.55000000000000004,0.55000000000000004,0.55000000000000004,0.55000000000000004,0.55000000000000004,0.55000000000000004,0.55000000000000004,0.55000000000000004,395.2,null,null,null,null,null,null,null,null,null,null,null,null,12,0.55000000000000004,0.55000000000000004,0.55000000000000004,0.55000000000000004,0.55000000000000004,0.55000000000000004,0.55000000000000004,0.55000000000000004,0.55000000000000004,0.55000000000000004,0.55000000000000004,0.55000000000000004]
[null,null,"Nov",0.55000000000000004,null,15,0.55000000000000004,0.55000000000000004,0.55000000000000004,0.55000000000000004,0.55000000000000004,0.55000000000000004,0.55000000000000004,0.55000000000000004,0.55000000000000004,0.55000000000000004,0.55000000000000004,0.55000000000000004,425.6,null,null,null,null,null,null,null,null,null,null,null,null,13,0.55000000000000004,0.55000000000000004,0.55000000000000004,0.55000000000000004,0.55000000000000004,0.55000000000000004,0.55000000000000004,0.55000000000000004,0.55000000000000004,0.55000000000000004,0.55000000000000004,0.55000000000000004]
[null,null,"Dec",0.55000000000000004,null,16,0.55000000000000004,0.55000000000000004,0.55000000000000004,0.55000000000000004,0.55000000000000004,0.55000000000000004,0.55000000000000004,0.55000000000000004,0.55000000000000004,0.55000000000000004,0.55000000000000004,0.55000000000000004,456,null,null,null,null,null,null,null,null,null,null,null,null,14,0.55000000000000004,0.55000000000000004,0.55000000000000004,0.55000000000000004,0.55000000000000004,0.55000000000000004,0.55000000000000004,0.55000000000000004,0.55000000000000004,0.55000000000000004,0.55000000000000004,0.55000000000000004]
[null,null,null,{"$f":"AVERAGE(D36:D47)","v":0.54999999999999993}]
[]
[null,null,null,null,null,null,"Additional breeding cost per month"]
[null,null,null,null,null,"month","Jan","Feb","Mar","Apr","May","Jun","Jul","Aug","Sep","Oct","Nov","Dec","day"]
[null,null,null,null,null,3,0,0,0,0,0,0,0,0,0,0,0,0,60.8]
[null,null,null,null,null,4,0,0,0,0,0,0,0,0,0,0,0,0,91.2]
[null,null,null,null,null,5,0,0,0,0,0,0,0,0,0,0,0,0,121.6]
[null,null,null,null,null,6,0,0,0,0,0,0,0,0,0,0,0,0,152]
[null,null,null,null,null,7,0,0,0,0,0,0,0,0,0,0,0,0,182.4]
[null,null,null,null,null,8,0,0,0,0,0,0,0,0,0,0,0,0,212.8]
[null,null,null,null,null,9,0,0,0,0,0,0,0,0,0,0,0,0,243.2]
[null,null,null,null,null,10,0,0,0,0,0,0,0,0,0,0,0,0,273.60000000000002]
[null,null,null,null,null,11,0,0,0,0,0,0,0,0,0,0,0,0,304]
[null,null,null,null,null,12,0,0,0,0,0,0,0,0,0,0,0,0,334.4]
[null,null,null,null,null,13,0,0,0,0,0,0,0,0,0,0,0,0,364.8]
[null,null,null,null,null,14,0,0,0,0,0,0,0,0,0,0,0,0,395.2]
[null,null,null,null,null,15,0,0,0,0,0,0,0,0,0,0,0,0,425.6]
[null,null,null,null,null,16,0,0,0,0,0,0,0,0,0,0,0,0,456]
[]
[]
[null,null,null,null,null,null,"Jan","Feb","Mar","Apr","May","Jun","Jul","Aug","Sep","Oct","Nov","Dec","xrepro"]
[null,null,null,null,null,null,{"$f":"G16","v":0.38800000000000001},0.38800000000000001,0.38800000000000001,0.38800000000000001,0.38800000000000001,0.38800000000000001,0.38800000000000001,0.38800000000000001,0.38800000000000001,0.38800000000000001,0.38800000000000001,0.38800000000000001,"chartconc"]
[null,null,null,null,null,null,{"$f":"G34","v":0.55000000000000004},0.55000000000000004,0.55000000000000004,0.55000000000000004,0.55000000000000004,0.55000000000000004,0.55000000000000004,0.55000000000000004,0.55000000000000004,0.55000000000000004,0.55000000000000004,0.55000000000000004,"chartheat"]
[null,null,null,null,null,null,{"$f":"G16*G34","v":0.21340000000000003},0.21340000000000003,0.21340000000000003,0.21340000000000003,0.21340000000000003,0.21340000000000003,0.21340000000000003,0.21340000000000003,0.21340000000000003,0.21340000000000003,0.21340000000000003,0.21340000000000003,"chartpreg"]
[]
[]
[]
[]
[null,null,null,null,null,3,{"$f":"G16*G34","v":0.21340000000000003},0.21340000000000003,0.21340000000000003,0.21340000000000003,0.21340000000000003,0.21340000000000003,0.21340000000000003,0.21340000000000003,0.21340000000000003,0.21340000000000003,0.21340000000000003,0.21340000000000003]
[null,null,null,null,null,4,{"$f":"G17*G35","v":0.23100000000000001},0.23100000000000001,0.23100000000000001,0.23100000000000001,0.23100000000000001,0.23100000000000001,0.23100000000000001,0.23100000000000001,0.23100000000000001,0.23100000000000001,0.23100000000000001,0.23100000000000001]
[null,null,null,null,null,5,{"$f":"G18*G36","v":0.22935},0.22935,0.22935,0.22935,0.22935,0.22935,0.22935,0.22935,0.22935,0.22935,0.22935,0.22935]
[null,null,null,null,null,6,{"$f":"G19*G37","v":0.22770000000000001},0.22770000000000001,0.22770000000000001,0.22770000000000001,0.22770000000000001,0.22770000000000001,0.22770000000000001,0.22770000000000001,0.22770000000000001,0.22770000000000001,0.22770000000000001,0.22770000000000001]
[null,null,null,null,null,7,{"$f":"G20*G38","v":0.22440000000000002},0.22440000000000002,0.22440000000000002,0.22440000000000002,0.22440000000000002,0.22440000000000002,0.22440000000000002,0.22440000000000002,0.22440000000000002,0.22440000000000002,0.22440000000000002,0.22440000000000002]
[null,null,null,null,null,8,{"$f":"G21*G39","v":0.22000000000000003},0.22000000000000003,0.22000000000000003,0.22000000000000003,0.22000000000000003,0.22000000000000003,0.22000000000000003,0.22000000000000003,0.22000000000000003,0.22000000000000003,0.22000000000000003,0.22000000000000003]
[null,null,null,null,null,9,{"$f":"G22*G40","v":0.21450000000000002},0.21450000000000002,0.21450000000000002,0.21450000000000002,0.21450000000000002,0.21450000000000002,0.21450000000000002,0.21450000000000002,0.21450000000000002,0.21450000000000002,0.21450000000000002,0.21450000000000002]
[null,null,null,null,null,10,{"$f":"G23*G41","v":0.20900000000000002},0.20900000000000002,0.20900000000000002,0.20900000000000002,0.20900000000000002,0.20900000000000002,0.20900000000000002,0.20900000000000002,0.20900000000000002,0.20900000000000002,0.20900000000000002,0.20900000000000002]
[null,null,null,null,null,11,{"$f":"G24*G42","v":0.20075000000000001},0.20075000000000001,0.20075000000000001,0.20075000000000001,0.20075000000000001,0.20075000000000001,0.20075000000000001,0.20075000000000001,0.20075000000000001,0.20075000000000001,0.20075000000000001,0.20075000000000001]
[null,null,null,null,null,12,{"$f":"G25*G43","v":0.1925},0.1925,0.1925,0.1925,0.1925,0.1925,0.1925,0.1925,0.1925,0.1925,0.1925,0.1925]
[null,null,null,null,null,13,{"$f":"G26*G44","v":0.18370000000000003},0.18370000000000003,0.18370000000000003,0.18370000000000003,0.18370000000000003,0.18370000000000003,0.18370000000000003,0.18370000000000003,0.18370000000000003,0.18370000000000003,0.18370000000000003,0.18370000000000003]
[null,null,null,null,null,14,{"$f":"G27*G45","v":0.17325000000000002},0.17325000000000002,0.17325000000000002,0.17325000000000002,0.17325000000000002,0.17325000000000002,0.17325000000000002,0.17325000000000002,0.17325000000000002,0.17325000000000002,0.17325000000000002,0.17325000000000002]
[null,null,null,null,null,15,{"$f":"G28*G46","v":0.16115000000000002},0.16115000000000002,0.16115000000000002,0.16115000000000002,0.16115000000000002,0.16115000000000002,0.16115000000000002,0.16115000000000002,0.16115000000000002,0.16115000000000002,0.16115000000000002,0.16115000000000002]
[null,null,null,null,null,16,{"$f":"G29*G47","v":0.15235000000000001},0.15235000000000001,0.15235000000000001,0.15235000000000001,0.15235000000000001,0.15235000000000001,0.15235000000000001,0.15235000000000001,0.15235000000000001,0.15235000000000001,0.15235000000000001,0.15235000000000001]

{"sheet":"milk","index":4,"n_rows":121,"n_cols":600,"rows_kept":121,"cut":false,"hidden":false,"merged":[]}
[null,"MILK YIELD",null,null,null,null,null,null,null,null,null,{"$f":"main!$L$1","v":"v.dairyvip 1.4"},null,null,null,null,null,null,null,null,null,null,null,null,null,null,null,null,null,null,null,null,null,null,null,null,null,null,null,null,null,null,null,null,null,null,null,null,null,null,null,null,null,null,null,null,null,null,null,null,null,null,null,null,null,null,null,null,null,null,null,null,null,null,null,null,null,null,null,null,null,null,null,null,null,null,null,null,null,null,null,null,null,null,null,null,null,null,null,null,null,null,null,null,null,null,null,null,null,null,null,null,null,null,null,null,null,null,null,null,null,null,null,null,null,null,null,null,null,null,null,null,null,null,null,null,null,null,null,null,null,null,null,null,null,null,null,null,null,null,null,null,null,null,null,null,null,null,null,null,null,null,null,null,null,null,null,null,null,null,null,null,null,null,null,null,null,null,null,null,null,null,null,null,null,null,null,null,null,null,null,null,null,null,null,null,null,null,null,null,null,null,null,null,null,null,null,null,null,null,null,null,null,null,null,null,null,null,null,null,null,null,null,null,null,null,null,null,null,null,null,null,null,null,null,null,null,null,null,null,null,null,null,null,null,null,null,null,null,null,null,null,null,null,null,null,null,null,null,null,null,null,null,null,null,null,null,null,null,null,null,null,null,null,null,null,null,null,null,null,null,null,null,null,null,null,null,null,null,null,null,null,null,null,null,null,null,null,null,null,null,null,null,null,null,null,null,null,null,null,null,null,null,null,null,null,null,null,null,null,null,null,null,null,null,null,null,null,null,null,null,null,null,null,null,null,null,null,null,null,null,null,null,null,null,null,null,null,null,null,null,null,null,null,null,null,null,null,null,null,null,null,null,null,null,null,null,null,null,null,null,null,null,null,null,null,null,null,null,null,null,null,null,null,null,null,null,null,null,null,null,null,null,null,null,null,null,null,null,null,null,null,null,null,null,null,null,null,null,null,null,null,null,null,null,null,null,null,null,null,null,null,null,null,null,null,null,null,null,null,null,null,null,null,null,null,null,null,null,null,null,null,null,null,null,null,null,null,null,null,null,null,null,null,null,null,null,null,null,null,null,null,null,null,null,null,null,null,null,null,null,null,null,null,null,null,null,null,null,null,null,null,null,null,null,null,null,null,null,null,null,null,null,null,null,null,null,null,null,null,null,null,null,null,null,null,null,null,null,null,null,null,null,null,null,null,null,null,null,null,null,null,null,null,null,null,null,null,null,null,null,null,null,null,null,null,null,null,null,null,null,null,null,null,null,null,null,null,null,null,null,null,null,null,null,null,null,null,null,null,null,null,null,null,null,null,null,null,null,null,null,null,null,null,null,null,null,null,null,null,null,null,null,null,null,null,null,null,null,null,null,null,null,null,null,null,null,null,null,-335544.32000000001]
[null,null,null,null,null,null,null,null,null,null,null,null,null,null,null,null,null,null,null,null,null,null,null,null,null,null,null,null,null,null,null,null,null,null,null,null,null,null,null,null,null,null,null,null,null,null,null,null,null,null,null,null,null,null,null,"mfunction",1,null,"Wood's curves",{"$f":"ROUND(VAR(woodscurves1,woodscurves2,woodscurves3)+AVERAGE(woodscurves1,woodscurves2,woodscurves3),2)","v":798.65},null,null,null,null,null,null,null,null,null,null,null,null,null,null,null,null,null,null,"peak","peak","peak","305 milk","305 milk","305 milk","dim","dim","dim","total",null,"See Wood[99] for derivatives of Wood's function",null,null,null,null,null,null,null,null,null,null,null,null,null,null,null,null,null,null,null,null,null,null,null,null,null,null,null,null,null,null,null,null,null,null,null,null,null,null,null,null,null,null,null,null,null,null,null,null,null,null,null,null,null,null,null,null,null,null,null,null,null,null,null,null,null,null,null,null,null,null,null,null,null,null,null,null,null,null,null,null,null,null,null,null,null,null,null,null,null,null,null,null,null,null,null,null,null,null,null,null,null,null,null,null,null,null,null,null,null,null,null,null,null,null,null,null,null,null,null,null,null,null,null,null,null,null,null,null,null,null,null,null,null,null,null,null,null,null,null,null,null,null,null,null,null,null,null,null,null,null,null,null,null,null,null,null,null,null,null,null,null,null,null,null,null,null,null,null,null,null,null,null,null,null,null,null,null,null,null,null,null,null,null,null,null,null,null,null,null,null,null,null,null,null,null,null,null,null,null,null,null,null,null,null,null,null,null,null,null,null,null,null,null,null,null,null,null,null,null,null,null,null,null,null,null,null,null,null,null,null,null,null,null,null,null,null,null,null,null,null,null,null,null,null,null,null,null,null,null,null,null,null,null,null,null,null,null,null,null,null,null,null,null,null,null,null,null,null,null,null,null,null,null,null,null,null,null,null,null,null,null,null,null,null,null,null,null,null,null,null,null,null,null,null,null,null,null,null,null,null,null,null,null,null,null,null,null,null,null,null,null,null,null,null,null,null,null,null,null,null,null,null,null,null,null,null,null,null,null,null,null,null,null,null,null,null,null,null,null,null,null,null,null,null,null,null,null,null,null,null,null,null,null,null,null,null,null,null,null,null,null,null,null,null,null,null,null,null,null,null,null,null,null,null,null,null,null,null,null,null,null,null,null,null,null,null,null,null,null,null,null,null,null,null,null,null,null,null,null,null,null,null,null,null,null,null,null,null,null,null,null,null,null,null,null,null,null,null,null,null,null,null,null,null,null,null,null,null,null,null,null,null,null,null,null,null,null,null,null,null,null,null,null,null,null,null,null,null,null,null,null,null,null,null,null,null,null,null,null,null,null,null,null,null,null,null,null,null,null,null,null,null,null,null,null,null,null,null,null,null,null,null,null,null,null,null,null,null,null,null,null,null,null,null,null,null,null,null,null,null,null,null,null,null,null,null,null,null,null,-335544.32000000001]
[null,null,null,null,null,null,"Milk yield pregnant cow relative to non-pregnant cow",null,null,null,null,null,null,null,null,null,null,null,null,null,null,null,null,null,null,null,null,null,null,null,null,null,null,null,null,null,null,null,null,null,null,null,null,null,null,null,null,null,null,null,null,null,null,null,null,null,null,null,"Fit curves",{"$f":"ROUND(VAR(peakmilkcurves1,peakmilkcurves2,peakmilkcurves3)+AVERAGE(peakmilkcurves1,peakmilkcurves2,peakmilkcurves3),2)","v":157.30000000000001},null,null,null,null,null,null,null,null,null,null,null,null,null,null,null,null,null,null,"goal","actual","error","goal","actual","error","goal","actual","error","error","a","b","c",null,null,null,null,null,null,null,null,null,null,null,null,null,null,null,null,null,null,null,null,null,null,null,null,null,null,null,null,null,null,null,null,null,null,null,null,null,null,null,null,null,null,null,null,null,null,null,null,null,null,null,null,null,null,null,null,null,null,null,null,null,null,null,null,null,null,null,null,null,null,null,null,null,null,null,null,null,null,null,null,null,null,null,null,null,null,null,null,null,null,null,null,null,null,null,null,null,null,null,null,null,null,null,null,null,null,null,null,null,null,null,null,null,null,null,null,null,null,null,null,null,null,null,null,null,null,null,null,null,null,null,null,null,null,null,null,null,null,null,null,null,null,null,null,null,null,null,null,null,null,null,null,null,null,null,null,null,null,null,null,null,null,null,null,null,null,null,null,null,null,null,null,null,null,null,null,null,null,null,null,null,null,null,null,null,null,null,null,null,null,null,null,null,null,null,null,null,null,null,null,null,null,null,null,null,null,null,null,null,null,null,null,null,null,null,null,null,null,null,null,null,null,null,null,null,null,null,null,null,null,null,null,null,null,null,null,null,null,null,null,null,null,null,null,null,null,null,null,null,null,null,null,null,null,null,null,null,null,null,null,null,null,null,null,null,null,null,null,null,null,null,null,null,null,null,null,null,null,null,null,null,null,null,null,null,null,null,null,null,null,null,null,null,null,null,null,null,null,null,null,null,null,null,null,null,null,null,null,null,null,null,null,null,null,null,null,null,null,null,null,null,null,null,null,null,null,null,null,null,null,null,null,null,null,null,null,null,null,null,null,null,null,null,null,null,null,null,null,null,null,null,null,null,null,null,null,null,null,null,null,null,null,null,null,null,null,null,null,null,null,null,null,null,null,null,null,null,null,null,null,null,null,null,null,null,null,null,null,null,null,null,null,null,null,null,null,null,null,null,null,null,null,null,null,null,null,null,null,null,null,null,null,null,null,null,null,null,null,null,null,null,null,null,null,null,null,null,null,null,null,null,null,null,null,null,null,null,null,null,null,null,null,null,null,null,null,null,null,null,null,null,null,null,null,null,null,null,null,null,null,null,null,null,null,null,null,null,null,null,null,null,null,null,null,null,null,null,null,null,null,null,null,null,null,null,null,null,null,null,null,null,null,null,null,null,null,null,null,null,null,null,null,null,null,null,null,null,null,-335544.32000000001]
[null,null,null,null,null,null,1,1,1,1,0.95,0.9,0.85,0,0,null,null,null,null,null,null,null,null,null,null,null,null,null,null,null,null,null,null,null,null,null,null,null,null,null,null,null,null,null,null,null,null,null,null,null,null,null,null,null,null,null,null,null,"Florida curves",{"$f":"ROUND(VAR(floridacurves1,floridacurves2,floridacurves3)+AVERAGE(floridacurves1,floridacurves2,floridacurves3),2)","v":413.09},null,null,null,null,null,null,null,null,null,null,null,null,null,null,null,null,"woods1","lact 1",{"$f":"D43","v":36},{"$f":"MAX(BZ15:BZ38)","v":35.999986483035542},{"$f":"(ABS(CB4-CA4))","v":1.3516964457949143E-5},{"$f":"D45","v":10000},{"$f":"SUM(BZ15:BZ24)*30.4","v":10000.789460237995},{"$f":"(ABS(CE4-CD4)/30.4)","v":2.5969086776142018E-2},{"$f":"D44","v":137},{"$f":"(MATCH(CB4,BZ15:BZ38,0)-1)*30.5+15","v":137},{"$f":"ABS(CG4-CH4)/20","v":0},{"$f":"IF(OR(ISERROR(CC4^2+CF4^2+CI4^1),_wb1>1,_wb1<0),10000,CC4^2+CF4^2+CI4^1)","v":6.7439365069512237E-4},{"$f":"IF(CN4<0,0,IF(CN4>100,100,CN4))","v":9.0576961707289403},{"$f":"IF(OR(_wb1<0,_wb1>1),1,_wb1)","v":0.3520180742301261},{"$f":"IF(_wb1/CG4>1,1,IF(_wb1/CG4<0,0,_wb1/CG4))","v":2.5694749943804824E-3},{"$f":"CA4/(CO4*CP4)","v":9.0576961707289403},{"$f":"IF(ISERROR(CG4^_wb1),1,IF(CG4^_wb1>CG4,1,IF(CG4^_wb1<=0,0.0001,CG4^_wb1)))","v":5.6515068615486435},{"$f":"IF(ISERROR(EXP(-_wb1)),0.001,IF(EXP(-_wb1)<=0,0.0001,EXP(-_wb1)))","v":0.70326741084444555},null,null,null,null,null,null,null,null,null,null,null,null,null,null,null,null,null,"Jan","Feb","Mar","Apr","May","Jun","Jul","Aug","Sep","Oct","Nov","Dec"]
[null,"Jan","305-day","peak","peak",null,1,2,3,4,5,6,7,8,9,"month of pregnancy",null,null,null,null,null,null,null,null,null,null,null,null,null,null,null,null,null,null,null,null,null,null,null,null,null,null,null,null,null,null,null,null,null,null,null,null,null,null,null,null,null,null,"Diphasic curves",{"$f":"ROUND(VAR(diphasiccurves1,diphasiccurves2,diphasiccurves3)+AVERAGE(diphasiccurves1,diphasiccurves2,diphasiccurves3),2)","v":1246.04},null,null,null,null,null,null,null,null,null,null,null,null,null,null,null,null,"woods2","lact 2",{"$f":"D46","v":45},{"$f":"MAX(BZ42:BZ65)","v":45},{"$f":"(ABS(CB5-CA5))","v":0},{"$f":"D48","v":12000},{"$f":"SUM(BZ42:BZ51)*30.4","v":11999.779916397843},{"$f":"(ABS(CE5-CD5)/30.4)","v":7.2395921762036831E-3},{"$f":"D47","v":76},{"$f":"(MATCH(CB5,BZ42:BZ65,0)-1)*30.4+15","v":75.8},{"$f":"ABS(CG5-CH5)/20","v":1.0000000000000142E-2},{"$f":"IF(OR(ISERROR(CC5^2+CF5^2+CI5^1),_wb2>1,_wb2<0),10000,CC5^2+CF5^2+CI5^1)","v":1.0052411694877892E-2},{"$f":"IF(CN5<0,0,IF(CN5>100,100,CN5))","v":20.432646907583486},{"$f":"IF(OR(_wb2<0,_wb2>1),1,_wb2)","v":0.23704345224541704},{"$f":"IF(_wb2/CG5>1,1,IF(_wb2/CG5<0,0,_wb2/CG5))","v":3.1189927927028557E-3},{"$f":"CA5/(CO5*CP5)","v":20.432646907583486},{"$f":"IF(ISERROR(CG5^_wb2),1,IF(CG5^_wb2>CG5,1,IF(CG5^_wb2<=0,0.0001,CG5^_wb2)))","v":2.7914801691637723},{"$f":"IF(ISERROR(EXP(-_wb2)),0.001,IF(EXP(-_wb2)<=0,0.0001,EXP(-_wb2)))","v":0.78895700531936641}]
[null,null,"yield","yield","DIM",null,null,null,null,null,null,null,null,null,null,null,null,null,null,null,null,null,null,null,null,null,null,null,null,null,null,null,null,null,null,null,null,null,null,null,null,null,null,null,null,null,null,null,null,null,null,null,null,null,null,null,null,null,{"$f":"ROUND(VAR(milkcurves1,milkcurves2,milkcurves3)+AVERAGE(milkcurves1,milkcurves2,milkcurves3),2)","v":798.65},{"$f":"IF(mfunction=1,ROUND(BH2,2),IF(mfunction=2,ROUND(BH3,2),IF(mfunction=3,ROUND(BH4,2),ROUND(BH4,2))))","v":798.65},null,null,null,null,null,null,null,null,null,null,null,null,null,null,null,null,"woods3","lact 3",{"$f":"D49","v":45},{"$f":"MAX(BZ69:BZ92)","v":45},{"$f":"(ABS(CB6-CA6))","v":0},{"$f":"D51","v":12000},{"$f":"SUM(BZ69:BZ78)*30.4","v":11999.779916397843},{"$f":"(ABS(CE6-CD6)/30.4)","v":7.2395921762036831E-3},{"$f":"D50","v":76},{"$f":"(MATCH(CB6,BZ69:BZ92,0)-1)*30.4+15","v":75.8},{"$f":"ABS(CG6-CH6)/20","v":1.0000000000000142E-2},{"$f":"IF(OR(ISERROR(CC6^2+CF6^2+CI6^1),_wb3>1,_wb3<0),10000,CC6^2+CF6^2+CI6^1)","v":1.0052411694877892E-2},{"$f":"IF(CN6<0,0,IF(CN6>100,100,CN6))","v":20.432646907583486},{"$f":"IF(OR(_wb3<0,_wb3>1),1,_wb3)","v":0.23704345224541704},{"$f":"IF(_wb3/CG6>1,1,IF(_wb3/CG6<0,0,_wb3/CG6))","v":3.1189927927028557E-3},{"$f":"CA6/(CO6*CP6)","v":20.432646907583486},{"$f":"IF(ISERROR(CG6^_wb3),1,IF(CG6^_wb3>CG6,1,IF(CG6^_wb3<=0,0.0001,CG6^_wb3)))","v":2.7914801691637723},{"$f":"IF(ISERROR(EXP(-_wb3)),0.001,IF(EXP(-_wb3)<=0,0.0001,EXP(-_wb3)))","v":0.78895700531936641}]
[null,"lact 1",{"$f":"SUM(G9:G18)*30.4","v":24383.096204970014},{"$f":"MAX(G9:G32)","v":88.032707487804998},{"$f":"(MATCH(D7,G9:G32,0)-1)*30.4+15","v":136.6},null,"Lactation 1",null,{"$f":"IF(MIN(milkcurves1,milkcurves2,milkcurves3)<0,\"Error: minimum milk yield < 0 !\",\"\")","v":""},null,null,null,null,null,null,null,null,null,null,null,null,null,null,null,null,null,null,null,null,null,null,null,null,null,null,null,null,null,null,null,null,null,null,null,null,null,null,null,null,null,null,null,null,null,null,null,null,null,null,null,null,null,null,null,null,null,null,null,null,null,null,null,null,null,null,null,null,null,null,null,null,null,null,null,null,null,null,"werror1",null,null,null,null,null,null,null,null,null,null,null,null,null,null,null,null,null,null,null,null,null,null,null,"305-day milk"]
[null,"lact 2",{"$f":"SUM(H36:H45)*30.4","v":28721.59503726913},{"$f":"MAX(G36:G59)","v":109.06113803061299},{"$f":"(MATCH(D8,G36:G59,0)-1)*30.4+15","v":75.8},"month","Jan","Feb","Mar","Apr","May","Jun","Jul","Aug","Sep","Oct","Nov","Dec","day",null,null,null,null,null,null,null,null,null,null,null,null,null,null,null,null,null,null,null,null,null,null,null,null,null,null,null,null,null,null,null,null,null,null,null,null,null,null,null,null,null,null,null,null,null,null,null,null,null,null,null,null,null,null,null,null,null,null,null,null,null,null,null,null,null,null,null,null,"werror2",null,null,null,null,null,null,null,null,null,null,null,null,null,null,null,null,null,null,null,null,null,null,null,{"$f":"SUM(DH15:DH24)*30.4","v":24383.096204970014},{"$f":"SUM(DI16:DI25)*30.4","v":24383.096204970014},{"$f":"SUM(DJ17:DJ26)*30.4","v":24383.096204970014},{"$f":"SUM(DK18:DK27)*30.4","v":24383.096204970014},{"$f":"SUM(DL19:DL28)*30.4","v":24383.096204970014},{"$f":"SUM(DM20:DM29)*30.4","v":24383.096204970014},{"$f":"SUM(DN21:DN30)*30.4","v":24383.096204970014},{"$f":"SUM(DO22:DO31)*30.4","v":24383.096204970014},{"$f":"SUM(DP23:DP32)*30.4","v":24383.096204970014},{"$f":"SUM(DQ24:DQ33)*30.4","v":24383.096204970014},{"$f":"SUM(DR25:DR34)*30.4","v":24383.096204970014},{"$f":"SUM(DS26:DS35)*30.4","v":24383.096204970014},"lact 1"]
[null,"lact 3+",{"$f":"SUM(I63:I72)*30.4","v":30089.499892226388},{"$f":"MAX(G63:G86)","v":115.24638323304301},{"$f":"(MATCH(D9,G63:G86,0)-1)*30.4+15","v":75.8},1,58.623290423830099,58.623290423830099,58.623290423830099,58.623290423830099,58.623290423830099,58.623290423830099,58.623290423830099,58.623290423830099,58.623290423830099,58.623290423830099,58.623290423830099,58.623290423830099,15.2,null,null,null,null,null,null,null,null,null,null,null,null,null,null,null,null,null,null,null,null,null,null,null,null,null,null,null,null,null,null,null,null,null,null,null,null,null,null,null,null,null,null,null,null,null,null,null,null,null,null,null,null,null,null,null,null,null,null,null,null,null,null,null,null,null,null,null,null,"werror3",null,null,null,null,null,null,null,null,null,null,null,null,null,null,null,null,null,null,null,null,null,null,null,{"$f":"SUM(DH51:DH60)*30.4","v":28721.59503726913},{"$f":"SUM(DI52:DI61)*30.4","v":28721.59503726913},{"$f":"SUM(DJ53:DJ62)*30.4","v":28721.59503726913},{"$f":"SUM(DK54:DK63)*30.4","v":28721.59503726913},{"$f":"SUM(DL55:DL64)*30.4","v":28721.59503726913},{"$f":"SUM(DM56:DM65)*30.4","v":28721.59503726913},{"$f":"SUM(DN57:DN66)*30.4","v":28721.59503726913},{"$f":"SUM(DO58:DO67)*30.4","v":28721.59503726913},{"$f":"SUM(DP59:DP68)*30.4","v":28721.59503726913},{"$f":"SUM(DQ60:DQ69)*30.4","v":28721.59503726913},{"$f":"SUM(DR61:DR70)*30.4","v":28721.59503726913},{"$f":"SUM(DS62:DS71)*30.4","v":28721.59503726913},"lact 2"]
[null,null,null,null,null,2,78.221163448790904,78.221163448790904,78.221163448790904,78.221163448790904,78.221163448790904,78.221163448790904,78.221163448790904,78.221163448790904,78.221163448790904,78.221163448790904,78.221163448790904,78.221163448790904,45.6,null,null,null,null,null,null,null,null,null,null,null,null,null,null,null,null,null,null,null,null,null,null,null,null,null,null,null,null,null,null,null,null,null,null,null,null,null,null,null,null,null,null,null,null,null,null,null,null,null,null,null,null,null,null,null,null,null,null,null,null,null,null,null,null,null,null,null,null,null,null,null,null,null,null,null,null,null,null,null,null,null,null,null,null,null,null,null,null,null,null,null,null,{"$f":"SUM(DH87:DH96)*30.4","v":30089.499892226388},{"$f":"SUM(DI88:DI97)*30.4","v":30089.499892226388},{"$f":"SUM(DJ89:DJ98)*30.4","v":30089.499892226388},{"$f":"SUM(DK90:DK99)*30.4","v":30089.499892226388},{"$f":"SUM(DL91:DL100)*30.4","v":30089.499892226388},{"$f":"SUM(DM92:DM101)*30.4","v":30089.499892226388},{"$f":"SUM(DN93:DN102)*30.4","v":30089.499892226388},{"$f":"SUM(DO94:DO103)*30.4","v":30089.499892226388},{"$f":"SUM(DP95:DP104)*30.4","v":30089.499892226388},{"$f":"SUM(DQ96:DQ105)*30.4","v":30089.499892226388},{"$f":"SUM(DR97:DR106)*30.4","v":30089.499892226388},{"$f":"SUM(DS98:DS107)*30.4","v":30089.499892226388},"lact 3+"]
[null,null,null,null,null,3,85.464488916266404,85.464488916266404,85.464488916266404,85.464488916266404,85.464488916266404,85.464488916266404,85.464488916266404,85.464488916266404,85.464488916266404,85.464488916266404,85.464488916266404,85.464488916266404,76]
[null,null,null,null,null,4,88.003933804774405,88.003933804774405,88.003933804774405,88.003933804774405,88.003933804774405,88.003933804774405,88.003933804774405,88.003933804774405,88.003933804774405,88.003933804774405,88.003933804774405,88.003933804774405,106.4,null,null,null,null,null,null,null,null,null,null,null,"Curves fitted from original florida curves by Florida lactation curves.sas. Months 23+24 are an extension of 21+22 (dragged)",null,null,null,null,null,null,null,null,null,null,null,null,null,null,null,null,null,null,null,null,null,null,null,null,null,null,null,null,null,null,null,null,null,null,null,null,null,null,null,null,null,null,null,null,null,null,null,null,null,null,null,null,null,null,null,null,null,null,null,null,null,null,null,null,null,null,null,null,null,null,null,null,null,null,null,null,null,null,null,null,"f","g","h","i","j","k","l","m","n","o","p","q"]
[null,null,null,null,null,5,88.032707487804998,88.032707487804998,88.032707487804998,88.032707487804998,88.032707487804998,88.032707487804998,88.032707487804998,88.032707487804998,88.032707487804998,88.032707487804998,88.032707487804998,88.032707487804998,136.80000000000001,null,null,null,null,null,null,null,null,null,null,null,"Florida curves (default)",null,null,null,null,null,null,null,null,null,null,null,null,null,"Florida curves",null,"floridacurves1",null,null,null,null,null,null,null,null,null,null,null,null,null,null,"Woods curves",null,"woodscurves1",null,null,null,null,null,null,null,null,null,null,null,null,null,"Fit curves",null,"peakmilkcurves1",null,null,null,null,null,null,null,null,null,null,null,null,null,null,null,null,"diphasiccurves1",null,null,null,null,null,null,null,null,null,null,null,null,null,null,"chartmilk1"]
[null,null,null,null,null,6,86.558151338824501,86.558151338824501,86.558151338824501,86.558151338824501,86.558151338824501,86.558151338824501,86.558151338824501,86.558151338824501,86.558151338824501,86.558151338824501,86.558151338824501,86.558151338824501,167.2,null,null,null,null,null,null,null,null,null,null,null,"Jan","Feb","Mar","Apr","May","Jun","Jul","Aug","Sep","Oct","Nov","Dec","Avg",null,"mim","Jan","Feb","Mar","Apr","May","Jun","Jul","Aug","Sep","Oct","Nov","Dec",null,null,null,"mim","day","Jan","Feb","Mar","Apr","May","Jun","Jul","Aug","Sep","Oct","Nov","Dec",null,null,null,null,"Jan","Feb","Mar","Apr","May","Jun","Jul","Aug","Sep","Oct","Nov","Dec",null,null,null,"mim","day",null,"Jan","Feb","Mar","Apr","May","Jun","Jul","Aug","Sep","Oct","Nov","Dec",null,null,null,"Jan","Feb","Mar","Apr","May","Jun","Jul","Aug","Sep","Oct","Nov","Dec"]
[null,null,"+/- (abs)",0,null,7,84.141074348601194,84.141074348601194,84.141074348601194,84.141074348601194,84.141074348601194,84.141074348601194,84.141074348601194,84.141074348601194,84.141074348601194,84.141074348601194,84.141074348601194,84.141074348601194,197.6,null,null,null,null,null,null,null,null,null,null,null,24.302570830137068,24.389059734018669,24.537629888868249,24.020490962973412,23.531013628590923,22.535434256217176,21.366700779508015,21.715612943638678,22.515517243504174,23.374404336013122,23.731324824135186,24.352489074814667,23.364354041868282,null,1,{"$f":"((mseasonality*AE15*msea1+(1-mseasonality)*$AQ15)+mabs)*(1+pct)*lbs","v":56.660541764630366},{"$f":"((mseasonality*AF15*msea2+(1-mseasonality)*$AQ15)+mabs)*(1+pct)*lbs","v":56.660541764630366},{"$f":"((mseasonality*AG15*msea3+(1-mseasonality)*$AQ15)+mabs)*(1+pct)*lbs","v":56.660541764630366},{"$f":"((mseasonality*AH15*msea4+(1-mseasonality)*$AQ15)+mabs)*(1+pct)*lbs","v":56.660541764630366},{"$f":"((mseasonality*AI15*msea5+(1-mseasonality)*$AQ15)+mabs)*(1+pct)*lbs","v":56.660541764630366},{"$f":"((mseasonality*AJ15*msea6+(1-mseasonality)*$AQ15)+mabs)*(1+pct)*lbs","v":56.660541764630366},{"$f":"((mseasonality*AK15*msea7+(1-mseasonality)*$AQ15)+mabs)*(1+pct)*lbs","v":56.660541764630366},{"$f":"((mseasonality*AL15*msea8+(1-mseasonality)*$AQ15)+mabs)*(1+pct)*lbs","v":56.660541764630366},{"$f":"((mseasonality*AM15*msea9+(1-mseasonality)*$AQ15)+mabs)*(1+pct)*lbs","v":56.660541764630366},{"$f":"((mseasonality*AN15*msea10+(1-mseasonality)*$AQ15)+mabs)*(1+pct)*lbs","v":56.660541764630366},{"$f":"((mseasonality*AO15*msea11+(1-mseasonality)*$AQ15)+mabs)*(1+pct)*lbs","v":56.660541764630366},{"$f":"((mseasonality*AP15*msea12+(1-mseasonality)*$AQ15)+mabs)*(1+pct)*lbs","v":56.660541764630366},null,null,null,1,{"$f":"(BI15-1)*30.4+15.2","v":15.2},{"$f":"((mseasonality*($D$32*($BJ15)^$D$33*EXP(-$D$34*$BJ15)*msea1) +(1-mseasonality)*($D$32*($BJ15)^$D$33*EXP(-$D$34*$BJ15)*mseaavg)))*(1+pct)*lbs+mabs","v":58.623290423830127},{"$f":"((mseasonality*($D$32*($BJ15)^$D$33*EXP(-$D$34*$BJ15)*msea2) +(1-mseasonality)*($D$32*($BJ15)^$D$33*EXP(-$D$34*$BJ15)*mseaavg)))*(1+pct)*lbs+mabs","v":58.623290423830127},{"$f":"((mseasonality*($D$32*($BJ15)^$D$33*EXP(-$D$34*$BJ15)*msea3) +(1-mseasonality)*($D$32*($BJ15)^$D$33*EXP(-$D$34*$BJ15)*mseaavg)))*(1+pct)*lbs+mabs","v":58.623290423830127},{"$f":"((mseasonality*($D$32*($BJ15)^$D$33*EXP(-$D$34*$BJ15)*msea4) +(1-mseasonality)*($D$32*($BJ15)^$D$33*EXP(-$D$34*$BJ15)*mseaavg)))*(1+pct)*lbs+mabs","v":58.623290423830127},{"$f":"((mseasonality*($D$32*($BJ15)^$D$33*EXP(-$D$34*$BJ15)*msea5) +(1-mseasonality)*($D$32*($BJ15)^$D$33*EXP(-$D$34*$BJ15)*mseaavg)))*(1+pct)*lbs+mabs","v":58.623290423830127},{"$f":"((mseasonality*($D$32*($BJ15)^$D$33*EXP(-$D$34*$BJ15)*msea6) +(1-mseasonality)*($D$32*($BJ15)^$D$33*EXP(-$D$34*$BJ15)*mseaavg)))*(1+pct)*lbs+mabs","v":58.623290423830127},{"$f":"((mseasonality*($D$32*($BJ15)^$D$33*EXP(-$D$34*$BJ15)*msea7) +(1-mseasonality)*($D$32*($BJ15)^$D$33*EXP(-$D$34*$BJ15)*mseaavg)))*(1+pct)*lbs+mabs","v":58.623290423830127},{"$f":"((mseasonality*($D$32*($BJ15)^$D$33*EXP(-$D$34*$BJ15)*msea8) +(1-mseasonality)*($D$32*($BJ15)^$D$33*EXP(-$D$34*$BJ15)*mseaavg)))*(1+pct)*lbs+mabs","v":58.623290423830127},{"$f":"((mseasonality*($D$32*($BJ15)^$D$33*EXP(-$D$34*$BJ15)*msea9) +(1-mseasonality)*($D$32*($BJ15)^$D$33*EXP(-$D$34*$BJ15)*mseaavg)))*(1+pct)*lbs+mabs","v":58.623290423830127},{"$f":"((mseasonality*($D$32*($BJ15)^$D$33*EXP(-$D$34*$BJ15)*msea10) +(1-mseasonality)*($D$32*($BJ15)^$D$33*EXP(-$D$34*$BJ15)*mseaavg)))*(1+pct)*lbs+mabs","v":58.623290423830127},{"$f":"((mseasonality*($D$32*($BJ15)^$D$33*EXP(-$D$34*$BJ15)*msea11) +(1-mseasonality)*($D$32*($BJ15)^$D$33*EXP(-$D$34*$BJ15)*mseaavg)))*(1+pct)*lbs+mabs","v":58.623290423830127},{"$f":"((mseasonality*($D$32*($BJ15)^$D$33*EXP(-$D$34*$BJ15)*msea12) +(1-mseasonality)*($D$32*($BJ15)^$D$33*EXP(-$D$34*$BJ15)*mseaavg)))*(1+pct)*lbs+mabs","v":58.623290423830127},null,null,{"$f":"BZ15*30.4","v":690.17595087260133},{"$f":"(CK$4*($BJ15)^CL$4*EXP(-CM$4*$BJ15))","v":22.703156278703993},{"$f":"((mseasonality*$BZ15*msea1+(1-mseasonality)*$BZ15*mseaavg))*(1+pct)+mabs","v":24.973471906574396},{"$f":"((mseasonality*$BZ15*msea2+(1-mseasonality)*$BZ15*mseaavg))*(1+pct)+mabs","v":24.973471906574396},{"$f":"((mseasonality*$BZ15*msea3+(1-mseasonality)*$BZ15*mseaavg))*(1+pct)+mabs","v":24.973471906574396},{"$f":"((mseasonality*$BZ15*msea4+(1-mseasonality)*$BZ15*mseaavg))*(1+pct)+mabs","v":24.973471906574396},{"$f":"((mseasonality*$BZ15*msea5+(1-mseasonality)*$BZ15*mseaavg))*(1+pct)+mabs","v":24.973471906574396},{"$f":"((mseasonality*$BZ15*msea6+(1-mseasonality)*$BZ15*mseaavg))*(1+pct)+mabs","v":24.973471906574396},{"$f":"((mseasonality*$BZ15*msea7+(1-mseasonality)*$BZ15*mseaavg))*(1+pct)+mabs","v":24.973471906574396},{"$f":"((mseasonality*$BZ15*msea8+(1-mseasonality)*$BZ15*mseaavg))*(1+pct)+mabs","v":24.973471906574396},{"$f":"((mseasonality*$BZ15*msea9+(1-mseasonality)*$BZ15*mseaavg))*(1+pct)+mabs","v":24.973471906574396},{"$f":"((mseasonality*$BZ15*msea10+(1-mseasonality)*$BZ15*mseaavg))*(1+pct)+mabs","v":24.973471906574396},{"$f":"((mseasonality*$BZ15*msea11+(1-mseasonality)*$BZ15*mseaavg))*(1+pct)+mabs","v":24.973471906574396},{"$f":"((mseasonality*$BZ15*msea12+(1-mseasonality)*$BZ15*mseaavg))*(1+pct)+mabs","v":24.973471906574396},null,null,null,1,{"$f":"(CP15-1)*30.4+15.2","v":15.2},{"$f":"dp1_1a*dp1_1b*(1-(TANH(dp1_1b*($CQ15-dp1_1c)))^2)+dp1_2a*dp1_2b*(1-(TANH(dp1_2b*($CQ15-dp1_2c)))^2)","v":34.954926415398212},{"$f":"((mseasonality*$CR15*msea1+(1-mseasonality)*$CR15*mseaavg)*(1+pct)*lbs)+mabs","v":84.768663601404668},{"$f":"((mseasonality*$CR15*msea2+(1-mseasonality)*$CR15*mseaavg)*(1+pct)*lbs)+mabs","v":84.768663601404668},{"$f":"((mseasonality*$CR15*msea3+(1-mseasonality)*$CR15*mseaavg)*(1+pct)*lbs)+mabs","v":84.768663601404668},{"$f":"((mseasonality*$CR15*msea4+(1-mseasonality)*$CR15*mseaavg)*(1+pct)*lbs)+mabs","v":84.768663601404668},{"$f":"((mseasonality*$CR15*msea5+(1-mseasonality)*$CR15*mseaavg)*(1+pct)*lbs)+mabs","v":84.768663601404668},{"$f":"((mseasonality*$CR15*msea6+(1-mseasonality)*$CR15*mseaavg)*(1+pct)*lbs)+mabs","v":84.768663601404668},{"$f":"((mseasonality*$CR15*msea7+(1-mseasonality)*$CR15*mseaavg)*(1+pct)*lbs)+mabs","v":84.768663601404668},{"$f":"((mseasonality*$CR15*msea8+(1-mseasonality)*$CR15*mseaavg)*(1+pct)*lbs)+mabs","v":84.768663601404668},{"$f":"((mseasonality*$CR15*msea9+(1-mseasonality)*$CR15*mseaavg)*(1+pct)*lbs)+mabs","v":84.768663601404668},{"$f":"((mseasonality*$CR15*msea10+(1-mseasonality)*$CR15*mseaavg)*(1+pct)*lbs)+mabs","v":84.768663601404668},{"$f":"((mseasonality*$CR15*msea11+(1-mseasonality)*$CR15*mseaavg)*(1+pct)*lbs)+mabs","v":84.768663601404668},{"$f":"((mseasonality*$CR15*msea12+(1-mseasonality)*$CR15*mseaavg)*(1+pct)*lbs)+mabs","v":84.768663601404668},null,null,"Jan",{"$f":"G9","v":58.623290423830099}]
[null,null,"+/- (%)",0.1,null,8,81.128079439953297,81.128079439953297,81.128079439953297,81.128079439953297,81.128079439953297,81.128079439953297,81.128079439953297,81.128079439953297,81.128079439953297,81.128079439953297,81.128079439953297,81.128079439953297,228,null,null,null,null,null,null,null,null,null,null,null,27.89607925102673,28.168739134276343,28.175843140402431,27.666585399773293,26.874595786249781,25.899570252932836,24.73424444306379,24.362345016007239,24.704076752741145,25.562889896864306,26.488139196334302,27.35711074702693,26.490851584724933,null,2,{"$f":"((mseasonality*AE16*msea1+(1-mseasonality)*$AQ16)+mabs)*(1+pct)*lbs","v":64.24256368942217},64.24256368942217,64.24256368942217,64.24256368942217,64.24256368942217,64.24256368942217,64.24256368942217,64.24256368942217,64.24256368942217,64.24256368942217,64.24256368942217,64.24256368942217,null,null,null,2,{"$f":"(BI16-1)*30.4+15.2","v":45.599999999999994},78.221163448790861,78.221163448790861,78.221163448790861,78.221163448790861,78.221163448790861,78.221163448790861,78.221163448790861,78.221163448790861,78.221163448790861,78.221163448790861,78.221163448790861,78.221163448790861,null,null,{"$f":"BZ16*30.4+BY15","v":1629.8808686296595},{"$f":"(CK$4*($BJ16)^CL$4*EXP(-CM$4*$BJ16))","v":30.911345978850598},{"$f":"((mseasonality*$BZ16*msea1+(1-mseasonality)*$BZ16*mseaavg))*(1+pct)+mabs","v":34.002480576735657},34.002480576735657,34.002480576735657,34.002480576735657,34.002480576735657,34.002480576735657,34.002480576735657,34.002480576735657,34.002480576735657,34.002480576735657,34.002480576735657,34.002480576735657,null,null,null,2,{"$f":"(CP16-1)*30.4+15.2","v":45.599999999999994},35.772056056705253,86.750272341172447,86.750272341172447,86.750272341172447,86.750272341172447,86.750272341172447,86.750272341172447,86.750272341172447,86.750272341172447,86.750272341172447,86.750272341172447,86.750272341172447,86.750272341172447,null,null,"Feb",{"$f":"H10","v":78.221163448790904},{"$f":"H9","v":58.623290423830099}]
[null,null,"Seasonality",0,null,9,77.747360513710902,77.747360513710902,77.747360513710902,77.747360513710902,77.747360513710902,77.747360513710902,77.747360513710902,77.747360513710902,77.747360513710902,77.747360513710902,77.747360513710902,77.747360513710902,258.39999999999998,null,null,null,null,null,null,null,null,null,null,null,29.680713746360212,30.07788163403697,30.028460423980459,29.535042496719576,28.608078294234897,27.63656600198598,26.546335320776056,25.834428712394068,25.901710122706618,26.673429207007047,27.808380631117206,28.821797789115728,28.096068698369567,null,3,68.135351444049462,68.135351444049462,68.135351444049462,68.135351444049462,68.135351444049462,68.135351444049462,68.135351444049462,68.135351444049462,68.135351444049462,68.135351444049462,68.135351444049462,68.135351444049462,null,null,null,3,76,85.464488916266419,85.464488916266419,85.464488916266419,85.464488916266419,85.464488916266419,85.464488916266419,85.464488916266419,85.464488916266419,85.464488916266419,85.464488916266419,85.464488916266419,85.464488916266419,null,null,{"$f":"BZ17*30.4+BY16","v":2670.1905529746091},34.220713300820712,37.642784630902788,37.642784630902788,37.642784630902788,37.642784630902788,37.642784630902788,37.642784630902788,37.642784630902788,37.642784630902788,37.642784630902788,37.642784630902788,37.642784630902788,37.642784630902788,null,null,null,3,76,36.248251040830297,87.905085598058307,87.905085598058307,87.905085598058307,87.905085598058307,87.905085598058307,87.905085598058307,87.905085598058307,87.905085598058307,87.905085598058307,87.905085598058307,87.905085598058307,87.905085598058307,null,null,"Mar",{"$f":"I11","v":85.464488916266404},{"$f":"I10","v":78.221163448790904},{"$f":"I9","v":58.623290423830099}]
[null,null,"Jan",1,null,10,74.155283335667505,74.155283335667505,74.155283335667505,74.155283335667505,74.155283335667505,74.155283335667505,74.155283335667505,74.155283335667505,74.155283335667505,74.155283335667505,74.155283335667505,74.155283335667505,288.8,null,null,null,null,null,null,null,null,null,null,null,30.165800633278799,30.643816956150363,30.597727862293176,30.130649430629973,29.183117283944792,28.211103969170455,27.226552863609541,26.421107214883541,26.340346315095786,26.979879965194897,28.096987297255346,29.173787728385769,28.597573126657704,null,4,69.35154225134707,69.35154225134707,69.35154225134707,69.35154225134707,69.35154225134707,69.35154225134707,69.35154225134707,69.35154225134707,69.35154225134707,69.35154225134707,69.35154225134707,69.35154225134707,null,null,null,4,106.39999999999999,88.003933804774363,88.003933804774363,88.003933804774363,88.003933804774363,88.003933804774363,88.003933804774363,88.003933804774363,88.003933804774363,88.003933804774363,88.003933804774363,88.003933804774363,88.003933804774363,null,null,3753.3159100664525,35.629123588547486,39.192035947402239,39.192035947402239,39.192035947402239,39.192035947402239,39.192035947402239,39.192035947402239,39.192035947402239,39.192035947402239,39.192035947402239,39.192035947402239,39.192035947402239,39.192035947402239,null,null,null,4,106.39999999999999,36.362767984760424,88.182798907516116,88.182798907516116,88.182798907516116,88.182798907516116,88.182798907516116,88.182798907516116,88.182798907516116,88.182798907516116,88.182798907516116,88.182798907516116,88.182798907516116,88.182798907516116,null,null,"Apr",{"$f":"J12","v":88.003933804774405},{"$f":"J11","v":85.464488916266404},{"$f":"J10","v":78.221163448790904},{"$f":"J9","v":58.623290423830099}]
[null,null,"Feb",1,null,11,70.4617277736712,70.4617277736712,70.4617277736712,70.4617277736712,70.4617277736712,70.4617277736712,70.4617277736712,70.4617277736712,70.4617277736712,70.4617277736712,70.4617277736712,70.4617277736712,319.2,null,null,null,null,null,null,null,null,null,null,null,29.767562125147368,30.296670602957303,30.293216235828222,29.864309475887733,28.968487213363208,28.001167303934071,27.123422385855516,26.365485761209644,26.217118281314164,26.710705109556123,27.68487026797137,28.763823440975191,28.338069850333326,null,5,68.722224779103357,68.722224779103357,68.722224779103357,68.722224779103357,68.722224779103357,68.722224779103357,68.722224779103357,68.722224779103357,68.722224779103357,68.722224779103357,68.722224779103357,68.722224779103357,null,null,null,5,136.79999999999998,88.032707487804956,88.032707487804956,88.032707487804956,88.032707487804956,88.032707487804956,88.032707487804956,88.032707487804956,88.032707487804956,88.032707487804956,88.032707487804956,88.032707487804956,88.032707487804956,null,null,4847.7154991507332,35.999986483035542,39.599985131339096,39.599985131339096,39.599985131339096,39.599985131339096,39.599985131339096,39.599985131339096,39.599985131339096,39.599985131339096,39.599985131339096,39.599985131339096,39.599985131339096,39.599985131339096,null,null,null,5,136.79999999999998,36.109296807893372,87.56810978847308,87.56810978847308,87.56810978847308,87.56810978847308,87.56810978847308,87.56810978847308,87.56810978847308,87.56810978847308,87.56810978847308,87.56810978847308,87.56810978847308,87.56810978847308,null,null,"May",{"$f":"K13","v":88.032707487804998},{"$f":"K12","v":88.003933804774405},{"$f":"K11","v":85.464488916266404},{"$f":"K10","v":78.221163448790904},{"$f":"K9","v":58.623290423830099}]
[null,null,"Mar",1,null,12,66.745047418032797,66.745047418032797,66.745047418032797,66.745047418032797,66.745047418032797,66.745047418032797,66.745047418032797,66.745047418032797,66.745047418032797,66.745047418032797,66.745047418032797,66.745047418032797,349.6,null,null,null,null,null,null,null,null,null,null,null,28.817581618459393,29.3782935151504,29.440320734353335,29.061673536430654,28.257573008221097,27.306018050167761,26.516972163982036,25.868165965963932,25.69694170594618,26.052773357725997,26.835654240493991,27.872933198984121,27.592075091323238,null,6,66.913124166976758,66.913124166976758,66.913124166976758,66.913124166976758,66.913124166976758,66.913124166976758,66.913124166976758,66.913124166976758,66.913124166976758,66.913124166976758,66.913124166976758,66.913124166976758,null,null,null,6,167.2,86.558151338824459,86.558151338824459,86.558151338824459,86.558151338824459,86.558151338824459,86.558151338824459,86.558151338824459,86.558151338824459,86.558151338824459,86.558151338824459,86.558151338824459,86.558151338824459,null,null,5933.9678527954839,35.731985317261554,39.30518384898771,39.30518384898771,39.30518384898771,39.30518384898771,39.30518384898771,39.30518384898771,39.30518384898771,39.30518384898771,39.30518384898771,39.30518384898771,39.30518384898771,39.30518384898771,null,null,null,6,167.2,35.496660587478296,86.082414952178851,86.082414952178851,86.082414952178851,86.082414952178851,86.082414952178851,86.082414952178851,86.082414952178851,86.082414952178851,86.082414952178851,86.082414952178851,86.082414952178851,86.082414952178851,null,null,"Jun",{"$f":"L14","v":86.558151338824501},{"$f":"L13","v":88.032707487804998},{"$f":"L12","v":88.003933804774405},{"$f":"L11","v":85.464488916266404},{"$f":"L10","v":78.221163448790904},{"$f":"L9","v":58.623290423830099}]
[null,null,"Apr",1,null,13,63.061462470774998,63.061462470774998,63.061462470774998,63.061462470774998,63.061462470774998,63.061462470774998,63.061462470774998,63.061462470774998,63.061462470774998,63.061462470774998,63.061462470774998,63.061462470774998,380,null,null,null,null,null,null,null,null,null,null,null,27.571268979741973,28.151191730634956,28.288760708399646,27.971771677740087,27.275862203158567,26.354175356994787,25.625290535484211,25.090880141803506,24.915093750223829,25.155159746979088,25.752418255612813,26.719210717603207,26.572590317031395,null,7,64.440787053412421,64.440787053412421,64.440787053412421,64.440787053412421,64.440787053412421,64.440787053412421,64.440787053412421,64.440787053412421,64.440787053412421,64.440787053412421,64.440787053412421,64.440787053412421,null,null,null,7,197.59999999999997,84.141074348601151,84.141074348601151,84.141074348601151,84.141074348601151,84.141074348601151,84.141074348601151,84.141074348601151,84.141074348601151,84.141074348601151,84.141074348601151,84.141074348601151,84.141074348601151,null,null,6999.4501753876002,35.048760611582772,38.55363667274105,38.55363667274105,38.55363667274105,38.55363667274105,38.55363667274105,38.55363667274105,38.55363667274105,38.55363667274105,38.55363667274105,38.55363667274105,38.55363667274105,38.55363667274105,null,null,null,7,197.59999999999997,34.548177182076486,83.782262184911048,83.782262184911048,83.782262184911048,83.782262184911048,83.782262184911048,83.782262184911048,83.782262184911048,83.782262184911048,83.782262184911048,83.782262184911048,83.782262184911048,83.782262184911048,null,null,"Jul",{"$f":"M15","v":84.141074348601194},{"$f":"M14","v":86.558151338824501},{"$f":"M13","v":88.032707487804998},{"$f":"M12","v":88.003933804774405},{"$f":"M11","v":85.464488916266404},{"$f":"M10","v":78.221163448790904},{"$f":"M9","v":58.623290423830099}]
[null,null,"May",1,null,14,59.451247061958398,59.451247061958398,59.451247061958398,59.451247061958398,59.451247061958398,59.451247061958398,59.451247061958398,59.451247061958398,59.451247061958398,59.451247061958398,59.451247061958398,59.451247061958398,410.4,null,null,null,null,null,null,null,null,null,null,null,26.216325832460857,26.807456043389838,27.021079420744968,26.77564465882994,26.188437082886853,25.311393689559935,24.611082997734457,24.160125620658963,23.979791795495249,24.13294617436156,24.584436417233199,25.464595202242165,25.437776244633167,null,8,61.68876660255863,61.68876660255863,61.68876660255863,61.68876660255863,61.68876660255863,61.68876660255863,61.68876660255863,61.68876660255863,61.68876660255863,61.68876660255863,61.68876660255863,61.68876660255863,null,null,null,8,227.99999999999997,81.128079439953297,81.128079439953297,81.128079439953297,81.128079439953297,81.128079439953297,81.128079439953297,81.128079439953297,81.128079439953297,81.128079439953297,81.128079439953297,81.128079439953297,81.128079439953297,null,null,8035.7843200296666,34.089938968489008,37.498932865337913,37.498932865337913,37.498932865337913,37.498932865337913,37.498932865337913,37.498932865337913,37.498932865337913,37.498932865337913,37.498932865337913,37.498932865337913,37.498932865337913,37.498932865337913,null,null,null,8,227.99999999999997,33.299759568262758,80.754743503228866,80.754743503228866,80.754743503228866,80.754743503228866,80.754743503228866,80.754743503228866,80.754743503228866,80.754743503228866,80.754743503228866,80.754743503228866,80.754743503228866,80.754743503228866,null,null,"Aug",{"$f":"N16","v":81.128079439953297},{"$f":"N15","v":84.141074348601194},{"$f":"N14","v":86.558151338824501},{"$f":"N13","v":88.032707487804998},{"$f":"N12","v":88.003933804774405},{"$f":"N11","v":85.464488916266404},{"$f":"N10","v":78.221163448790904},{"$f":"N9","v":58.623290423830099}]
[null,null,"Jun",1,null,15,55.942962635611899,55.942962635611899,55.942962635611899,55.942962635611899,55.942962635611899,55.942962635611899,55.942962635611899,55.942962635611899,55.942962635611899,55.942962635611899,55.942962635611899,55.942962635611899,440.8,null,null,null,null,null,null,null,null,null,null,null,24.881210843925466,25.477691662328336,25.761143797897091,25.594975464235691,25.10746682335029,24.288641039818707,23.588229306832762,23.170799074942369,22.974772186693361,23.071021936823467,23.433918611931105,24.221651395658338,24.297626845369749,null,9,58.923807531183535,58.923807531183535,58.923807531183535,58.923807531183535,58.923807531183535,58.923807531183535,58.923807531183535,58.923807531183535,58.923807531183535,58.923807531183535,58.923807531183535,58.923807531183535,null,null,null,9,258.39999999999998,77.747360513710888,77.747360513710888,77.747360513710888,77.747360513710888,77.747360513710888,77.747360513710888,77.747360513710888,77.747360513710888,77.747360513710888,77.747360513710888,77.747360513710888,77.747360513710888,null,null,9037.4229350854675,32.948638653151342,36.243502518466478,36.243502518466478,36.243502518466478,36.243502518466478,36.243502518466478,36.243502518466478,36.243502518466478,36.243502518466478,36.243502518466478,36.243502518466478,36.243502518466478,36.243502518466478,null,null,null,9,258.39999999999998,31.797022598887558,77.110478797174565,77.110478797174565,77.110478797174565,77.110478797174565,77.110478797174565,77.110478797174565,77.110478797174565,77.110478797174565,77.110478797174565,77.110478797174565,77.110478797174565,77.110478797174565,null,null,"Sep",{"$f":"O17","v":77.747360513710902},{"$f":"O16","v":81.128079439953297},{"$f":"O15","v":84.141074348601194},{"$f":"O14","v":86.558151338824501},{"$f":"O13","v":88.032707487804998},{"$f":"O12","v":88.003933804774405},{"$f":"O11","v":85.464488916266404},{"$f":"O10","v":78.221163448790904},{"$f":"O9","v":58.623290423830099}]
[null,null,"Jul",1,null,16,52.556443935713197,52.556443935713197,52.556443935713197,52.556443935713197,52.556443935713197,52.556443935713197,52.556443935713197,52.556443935713197,52.556443935713197,52.556443935713197,52.556443935713197,52.556443935713197,471.2,null,null,null,null,null,null,null,null,null,null,null,23.643605012193916,24.239947870159018,24.582644181577095,24.500720836003396,24.099699632888267,23.350077137326526,22.628340576456949,22.189830838755231,21.961868975804489,22.027884271351041,22.362751228507932,23.060349625085227,23.220643348842426,null,10,56.312031135591624,56.312031135591624,56.312031135591624,56.312031135591624,56.312031135591624,56.312031135591624,56.312031135591624,56.312031135591624,56.312031135591624,56.312031135591624,56.312031135591624,56.312031135591624,null,null,null,10,288.79999999999995,74.155283335667548,74.155283335667548,74.155283335667548,74.155283335667548,74.155283335667548,74.155283335667548,74.155283335667548,74.155283335667548,74.155283335667548,74.155283335667548,74.155283335667548,74.155283335667548,null,null,10000.789460237997,31.689688327385802,34.858657160124388,34.858657160124388,34.858657160124388,34.858657160124388,34.858657160124388,34.858657160124388,34.858657160124388,34.858657160124388,34.858657160124388,34.858657160124388,34.858657160124388,34.858657160124388,null,null,null,10,288.79999999999995,30.091796606335222,72.97516102224246,72.97516102224246,72.97516102224246,72.97516102224246,72.97516102224246,72.97516102224246,72.97516102224246,72.97516102224246,72.97516102224246,72.97516102224246,72.97516102224246,72.97516102224246,null,null,"Oct",{"$f":"P18","v":74.155283335667505},{"$f":"P17","v":77.747360513710902},{"$f":"P16","v":81.128079439953297},{"$f":"P15","v":84.141074348601194},{"$f":"P14","v":86.558151338824501},{"$f":"P13","v":88.032707487804998},{"$f":"P12","v":88.003933804774405},{"$f":"P11","v":85.464488916266404},{"$f":"P10","v":78.221163448790904},{"$f":"P9","v":58.623290423830099}]
[null,null,"Aug",1,null,17,49.304957609629,49.304957609629,49.304957609629,49.304957609629,49.304957609629,49.304957609629,49.304957609629,49.304957609629,49.304957609629,49.304957609629,49.304957609629,49.304957609629,501.6,null,null,null,null,null,null,null,null,null,null,null,22.538876952978026,23.128647682246605,23.517594080202624,23.521742805678681,23.193954893397205,22.521031660027909,21.767316376712927,21.259819229096454,20.983592665336953,21.039438895098986,21.399237877545364,22.014845849361041,22.240508247306895,null,11,53.935120318540271,53.935120318540271,53.935120318540271,53.935120318540271,53.935120318540271,53.935120318540271,53.935120318540271,53.935120318540271,53.935120318540271,53.935120318540271,53.935120318540271,53.935120318540271,null,null,null,11,319.2,70.4617277736712,70.4617277736712,70.4617277736712,70.4617277736712,70.4617277736712,70.4617277736712,70.4617277736712,70.4617277736712,70.4617277736712,70.4617277736712,70.4617277736712,70.4617277736712,null,null,10923.719184799929,30.359530413221478,33.39548345454363,33.39548345454363,33.39548345454363,33.39548345454363,33.39548345454363,33.39548345454363,33.39548345454363,33.39548345454363,33.39548345454363,33.39548345454363,33.39548345454363,33.39548345454363,null,null,null,11,319.2,28.238496432890756,68.480750789814309,68.480750789814309,68.480750789814309,68.480750789814309,68.480750789814309,68.480750789814309,68.480750789814309,68.480750789814309,68.480750789814309,68.480750789814309,68.480750789814309,68.480750789814309,null,null,"Nov",{"$f":"Q19","v":70.4617277736712},{"$f":"Q18","v":74.155283335667505},{"$f":"Q17","v":77.747360513710902},{"$f":"Q16","v":81.128079439953297},{"$f":"Q15","v":84.141074348601194},{"$f":"Q14","v":86.558151338824501},{"$f":"Q13","v":88.032707487804998},{"$f":"Q12","v":88.003933804774405},{"$f":"Q11","v":85.464488916266404},{"$f":"Q10","v":78.221163448790904},{"$f":"Q9","v":58.623290423830099}]
[null,null,"Sep",1,null,18,46.196794198333698,46.196794198333698,46.196794198333698,46.196794198333698,46.196794198333698,46.196794198333698,46.196794198333698,46.196794198333698,46.196794198333698,46.196794198333698,46.196794198333698,46.196794198333698,532,null,null,null,null,null,null,null,null,null,null,null,21.568548186548355,22.143517505472836,22.564829920371196,22.653440226295775,22.388615301492504,21.795982445045677,21.01190183298495,20.402664867070303,20.065708951789713,20.122800545522775,20.54484011096023,21.090261706057245,21.362759299967632,null,12,51.806504616156403,51.806504616156403,51.806504616156403,51.806504616156403,51.806504616156403,51.806504616156403,51.806504616156403,51.806504616156403,51.806504616156403,51.806504616156403,51.806504616156403,51.806504616156403,null,null,null,12,349.59999999999997,66.745047418032783,66.745047418032783,66.745047418032783,66.745047418032783,66.745047418032783,66.745047418032783,66.745047418032783,66.745047418032783,66.745047418032783,66.745047418032783,66.745047418032783,66.745047418032783,null,null,11805.077946355224,28.992064524845265,31.891270977329793,31.891270977329793,31.891270977329793,31.891270977329793,31.891270977329793,31.891270977329793,31.891270977329793,31.891270977329793,31.891270977329793,31.891270977329793,31.891270977329793,31.891270977329793,null,null,null,12,349.59999999999997,26.290756727598154,63.75731667643808,63.75731667643808,63.75731667643808,63.75731667643808,63.75731667643808,63.75731667643808,63.75731667643808,63.75731667643808,63.75731667643808,63.75731667643808,63.75731667643808,63.75731667643808,null,null,"Dec",{"$f":"R20","v":66.745047418032797},{"$f":"R19","v":70.4617277736712},{"$f":"R18","v":74.155283335667505},{"$f":"R17","v":77.747360513710902},{"$f":"R16","v":81.128079439953297},{"$f":"R15","v":84.141074348601194},{"$f":"R14","v":86.558151338824501},{"$f":"R13","v":88.032707487804998},{"$f":"R12","v":88.003933804774405},{"$f":"R11","v":85.464488916266404},{"$f":"R10","v":78.221163448790904},{"$f":"R9","v":58.623290423830099}]
[null,null,"Oct",1,null,19,43.2364614980076,43.2364614980076,43.2364614980076,43.2364614980076,43.2364614980076,43.2364614980076,43.2364614980076,43.2364614980076,43.2364614980076,43.2364614980076,43.2364614980076,43.2364614980076,562.4,null,null,null,null,null,null,null,null,null,null,null,20.708758424639221,21.258516797097318,21.698510798343492,21.866380304366484,21.659119009670523,21.146533699470151,20.346244724785898,19.623204999094384,19.219817469120962,19.280093520510945,19.780918141559347,20.269464558607098,20.571463537272148,null,13,49.887545224852929,49.887545224852929,49.887545224852929,49.887545224852929,49.887545224852929,49.887545224852929,49.887545224852929,49.887545224852929,49.887545224852929,49.887545224852929,49.887545224852929,49.887545224852929,null,null,null,13,379.99999999999994,63.061462470775048,63.061462470775048,63.061462470775048,63.061462470775048,63.061462470775048,63.061462470775048,63.061462470775048,63.061462470775048,63.061462470775048,63.061462470775048,63.061462470775048,63.061462470775048,null,null,12644.492389661895,27.612317214035198,30.37354893543872,30.37354893543872,30.37354893543872,30.37354893543872,30.37354893543872,30.37354893543872,30.37354893543872,30.37354893543872,30.37354893543872,30.37354893543872,30.37354893543872,30.37354893543872,null,null,null,13,379.99999999999994,24.298641818966011,58.926268928307458,58.926268928307458,58.926268928307458,58.926268928307458,58.926268928307458,58.926268928307458,58.926268928307458,58.926268928307458,58.926268928307458,58.926268928307458,58.926268928307458,58.926268928307458,null,null,"Jan",{"$f":"G21","v":63.061462470774998},{"$f":"G20","v":66.745047418032797},{"$f":"G19","v":70.4617277736712},{"$f":"G18","v":74.155283335667505},{"$f":"G17","v":77.747360513710902},{"$f":"G16","v":81.128079439953297},{"$f":"G15","v":84.141074348601194},{"$f":"G14","v":86.558151338824501},{"$f":"G13","v":88.032707487804998},{"$f":"G12","v":88.003933804774405},{"$f":"G11","v":85.464488916266404},{"$f":"G10","v":78.221163448790904}]
[null,null,"Nov",1,null,20,40.425590991469797,40.425590991469797,40.425590991469797,40.425590991469797,40.425590991469797,40.425590991469797,40.425590991469797,40.425590991469797,40.425590991469797,40.425590991469797,40.425590991469797,40.425590991469797,592.79999999999995,null,null,null,null,null,null,null,null,null,null,null,19.918730857353719,20.430767723618402,20.876618231526649,21.11493013186923,20.965451767470544,20.529394211148329,19.738452584607501,18.912847818107593,18.445930532216753,18.502252218517377,19.075471562594352,19.519847543434214,19.83589126520539,null,14,48.103720028245448,48.103720028245448,48.103720028245448,48.103720028245448,48.103720028245448,48.103720028245448,48.103720028245448,48.103720028245448,48.103720028245448,48.103720028245448,48.103720028245448,48.103720028245448,null,null,null,14,410.4,59.451247061958433,59.451247061958433,59.451247061958433,59.451247061958433,59.451247061958433,59.451247061958433,59.451247061958433,59.451247061958433,59.451247061958433,59.451247061958433,59.451247061958433,59.451247061958433,null,null,13442.15378845695,26.238861802468929,28.862747982715824,28.862747982715824,28.862747982715824,28.862747982715824,28.862747982715824,28.862747982715824,28.862747982715824,28.862747982715824,28.862747982715824,28.862747982715824,28.862747982715824,28.862747982715824,null,null,null,14,410.4,22.30660455121356,54.095409465900403,54.095409465900403,54.095409465900403,54.095409465900403,54.095409465900403,54.095409465900403,54.095409465900403,54.095409465900403,54.095409465900403,54.095409465900403,54.095409465900403,54.095409465900403,null,null,"Feb",{"$f":"H22","v":59.451247061958398},{"$f":"H21","v":63.061462470774998},{"$f":"H20","v":66.745047418032797},{"$f":"H19","v":70.4617277736712},{"$f":"H18","v":74.155283335667505},{"$f":"H17","v":77.747360513710902},{"$f":"H16","v":81.128079439953297},{"$f":"H15","v":84.141074348601194},{"$f":"H14","v":86.558151338824501},{"$f":"H13","v":88.032707487804998},{"$f":"H12","v":88.003933804774405},{"$f":"H11","v":85.464488916266404}]
[null,null,"Dec",1,null,21,37.763633688577002,37.763633688577002,37.763633688577002,37.763633688577002,37.763633688577002,37.763633688577002,37.763633688577002,37.763633688577002,37.763633688577002,37.763633688577002,37.763633688577002,37.763633688577002,623.20000000000005,null,null,null,null,null,null,null,null,null,null,null,19.149237440068742,19.609484819634044,20.049455909957569,20.345888218238027,20.259639062636737,19.894355559473102,19.147149796770638,18.253206784778097,17.73505188035962,17.772821678693614,18.389880067316575,18.800109617081088,19.117190069583987,null,15,46.360808624068653,46.360808624068653,46.360808624068653,46.360808624068653,46.360808624068653,46.360808624068653,46.360808624068653,46.360808624068653,46.360808624068653,46.360808624068653,46.360808624068653,46.360808624068653,null,null,null,15,440.79999999999995,55.942962635611856,55.942962635611856,55.942962635611856,55.942962635611856,55.942962635611856,55.942962635611856,55.942962635611856,55.942962635611856,55.942962635611856,55.942962635611856,55.942962635611856,55.942962635611856,null,null,14198.672299441734,24.885477335025787,27.374025068528368,27.374025068528368,27.374025068528368,27.374025068528368,27.374025068528368,27.374025068528368,27.374025068528368,27.374025068528368,27.374025068528368,27.374025068528368,27.374025068528368,27.374025068528368,null,null,null,15,440.79999999999995,20.352236617408998,49.355901335765381,49.355901335765381,49.355901335765381,49.355901335765381,49.355901335765381,49.355901335765381,49.355901335765381,49.355901335765381,49.355901335765381,49.355901335765381,49.355901335765381,49.355901335765381,null,null,"Mar",{"$f":"I23","v":55.942962635611899},{"$f":"I22","v":59.451247061958398},{"$f":"I21","v":63.061462470774998},{"$f":"I20","v":66.745047418032797},{"$f":"I19","v":70.4617277736712},{"$f":"I18","v":74.155283335667505},{"$f":"I17","v":77.747360513710902},{"$f":"I16","v":81.128079439953297},{"$f":"I15","v":84.141074348601194},{"$f":"I14","v":86.558151338824501},{"$f":"I13","v":88.032707487804998},{"$f":"I12","v":88.003933804774405}]
[null,null,null,{"$f":"AVERAGE(D18:D29)","v":1},null,22,35.248398812336099,35.248398812336099,35.248398812336099,35.248398812336099,35.248398812336099,35.248398812336099,35.248398812336099,35.248398812336099,35.248398812336099,35.248398812336099,35.248398812336099,35.248398812336099,653.6,null,null,null,null,null,null,null,null,null,null,null,18.351064180340003,18.744904646702665,19.168149447786199,19.507116022351518,19.493238262280109,19.19227032617243,18.528034696275562,17.619734948711283,17.071755420697187,17.071758121021126,17.685644168531859,18.067035603337658,18.375058820350635,null,16,44.561077351093076,44.561077351093076,44.561077351093076,44.561077351093076,44.561077351093076,44.561077351093076,44.561077351093076,44.561077351093076,44.561077351093076,44.561077351093076,44.561077351093076,44.561077351093076,null,null,null,16,471.2,52.556443935713212,52.556443935713212,52.556443935713212,52.556443935713212,52.556443935713212,52.556443935713212,52.556443935713212,52.556443935713212,52.556443935713212,52.556443935713212,52.556443935713212,52.556443935713212,null,null,14914.96689708775,23.562322290987389,25.918554520086129,25.918554520086129,25.918554520086129,25.918554520086129,25.918554520086129,25.918554520086129,25.918554520086129,25.918554520086129,25.918554520086129,25.918554520086129,25.918554520086129,25.918554520086129,null,null,null,16,471.2,18.465747482454866,44.781005054530851,44.781005054530851,44.781005054530851,44.781005054530851,44.781005054530851,44.781005054530851,44.781005054530851,44.781005054530851,44.781005054530851,44.781005054530851,44.781005054530851,44.781005054530851,null,null,"Apr",{"$f":"J24","v":52.556443935713197},{"$f":"J23","v":55.942962635611899},{"$f":"J22","v":59.451247061958398},{"$f":"J21","v":63.061462470774998},{"$f":"J20","v":66.745047418032797},{"$f":"J19","v":70.4617277736712},{"$f":"J18","v":74.155283335667505},{"$f":"J17","v":77.747360513710902},{"$f":"J16","v":81.128079439953297},{"$f":"J15","v":84.141074348601194},{"$f":"J14","v":86.558151338824501},{"$f":"J13","v":88.032707487804998}]
[null,null,null,{"$f":"update(BG6,BH2,\"Wood's curves\")","v":" Wood's curves"},null,23,32.876473528369502,32.876473528369502,32.876473528369502,32.876473528369502,32.876473528369502,32.876473528369502,32.876473528369502,32.876473528369502,32.876473528369502,32.876473528369502,32.876473528369502,32.876473528369502,684,null,null,null,null,null,null,null,null,null,null,null,17.483476424807066,17.797215452204014,18.193146134758841,18.556169484521959,18.624830754040499,18.383030306098551,17.840436667652185,16.985359269657739,16.436763971710782,16.379229486443627,16.931125918155427,17.282276240369843,17.574421675868376,null,17,42.619464316041501,42.619464316041501,42.619464316041501,42.619464316041501,42.619464316041501,42.619464316041501,42.619464316041501,42.619464316041501,42.619464316041501,42.619464316041501,42.619464316041501,42.619464316041501,null,null,null,17,501.59999999999997,49.304957609628978,49.304957609628978,49.304957609628978,49.304957609628978,49.304957609628978,49.304957609628978,49.304957609628978,49.304957609628978,49.304957609628978,49.304957609628978,49.304957609628978,49.304957609628978,null,null,15592.181211311259,22.276786652089097,24.50446531729801,24.50446531729801,24.50446531729801,24.50446531729801,24.50446531729801,24.50446531729801,24.50446531729801,24.50446531729801,24.50446531729801,24.50446531729801,24.50446531729801,24.50446531729801,null,null,null,17,501.59999999999997,16.670041489351405,40.426265598138855,40.426265598138855,40.426265598138855,40.426265598138855,40.426265598138855,40.426265598138855,40.426265598138855,40.426265598138855,40.426265598138855,40.426265598138855,40.426265598138855,40.426265598138855,null,null,"May",{"$f":"K25","v":49.304957609629},{"$f":"K24","v":52.556443935713197},{"$f":"K23","v":55.942962635611899},{"$f":"K22","v":59.451247061958398},{"$f":"K21","v":63.061462470774998},{"$f":"K20","v":66.745047418032797},{"$f":"K19","v":70.4617277736712},{"$f":"K18","v":74.155283335667505},{"$f":"K17","v":77.747360513710902},{"$f":"K16","v":81.128079439953297},{"$f":"K15","v":84.141074348601194},{"$f":"K14","v":86.558151338824501}]
[null,null,"lact 1, a",10,null,24,30.643551529999701,30.643551529999701,30.643551529999701,30.643551529999701,30.643551529999701,30.643551529999701,30.643551529999701,30.643551529999701,30.643551529999701,30.643551529999701,30.643551529999701,30.643551529999701,714.4,null,null,null,null,null,null,null,null,null,null,null,16.522684146098349,16.745486828200036,17.102714687701436,17.468930558484235,17.627514087248517,17.443544718017158,17.05387324381033,16.324114938721205,15.809528006684056,15.679415976999358,16.108289626766727,16.419128227848084,16.692102087214959,null,18,40.479764420505646,40.479764420505646,40.479764420505646,40.479764420505646,40.479764420505646,40.479764420505646,40.479764420505646,40.479764420505646,40.479764420505646,40.479764420505646,40.479764420505646,40.479764420505646,null,null,null,18,532,46.196794198333663,46.196794198333663,46.196794198333663,46.196794198333663,46.196794198333663,46.196794198333663,46.196794198333663,46.196794198333663,46.196794198333663,46.196794198333663,46.196794198333663,46.196794198333663,null,null,16231.618572832753,21.034123734259659,23.137536107685627,23.137536107685627,23.137536107685627,23.137536107685627,23.137536107685627,23.137536107685627,23.137536107685627,23.137536107685627,23.137536107685627,23.137536107685627,23.137536107685627,23.137536107685627,null,null,null,18,532,14.981233151031358,36.330762028283367,36.330762028283367,36.330762028283367,36.330762028283367,36.330762028283367,36.330762028283367,36.330762028283367,36.330762028283367,36.330762028283367,36.330762028283367,36.330762028283367,36.330762028283367,null,null,"Jun",{"$f":"L26","v":46.196794198333698},{"$f":"L25","v":49.304957609629},{"$f":"L24","v":52.556443935713197},{"$f":"L23","v":55.942962635611899},{"$f":"L22","v":59.451247061958398},{"$f":"L21","v":63.061462470774998},{"$f":"L20","v":66.745047418032797},{"$f":"L19","v":70.4617277736712},{"$f":"L18","v":74.155283335667505},{"$f":"L17","v":77.747360513710902},{"$f":"L16","v":81.128079439953297},{"$f":"L15","v":84.141074348601194}]
[null,null,"lact 1, b",0.34,null,null,null,null,null,null,null,null,null,null,null,null,null,null,null,null,null,null,null,null,null,null,null,null,null,null,15.470307229736171,15.596599370295733,15.901445002002863,16.248238743384871,16.496394114087526,16.375718415396619,16.154607204889984,15.614779699566556,15.170804397171608,14.964310595953377,15.219442583164261,15.469314274075899,15.723496802477124,null,19,38.130814387862614,38.130814387862614,38.130814387862614,38.130814387862614,38.130814387862614,38.130814387862614,38.130814387862614,38.130814387862614,38.130814387862614,38.130814387862614,38.130814387862614,38.130814387862614,null,null,null,19,562.4,43.236461498007564,43.236461498007564,43.236461498007564,43.236461498007564,43.236461498007564,43.236461498007564,43.236461498007564,43.236461498007564,43.236461498007564,43.236461498007564,43.236461498007564,43.236461498007564,null,null,16834.691553821489,19.837927006208478,21.821719706829327,21.821719706829327,21.821719706829327,21.821719706829327,21.821719706829327,21.821719706829327,21.821719706829327,21.821719706829327,21.821719706829327,21.821719706829327,21.821719706829327,21.821719706829327,null,null,null,19,562.4,13.409441398541698,32.519033611668412,32.519033611668412,32.519033611668412,32.519033611668412,32.519033611668412,32.519033611668412,32.519033611668412,32.519033611668412,32.519033611668412,32.519033611668412,32.519033611668412,32.519033611668412,null,null,"Jul",{"$f":"M27","v":43.2364614980076},{"$f":"M26","v":46.196794198333698},{"$f":"M25","v":49.304957609629},{"$f":"M24","v":52.556443935713197},{"$f":"M23","v":55.942962635611899},{"$f":"M22","v":59.451247061958398},{"$f":"M21","v":63.061462470774998},{"$f":"M20","v":66.745047418032797},{"$f":"M19","v":70.4617277736712},{"$f":"M18","v":74.155283335667505},{"$f":"M17","v":77.747360513710902},{"$f":"M16","v":81.128079439953297}]
[null,null,"lact 1, c",2.8E-3,null,null,"Lactation 2",null,null,null,null,null,null,null,null,null,null,null,null,null,null,null,null,null,null,null,null,null,null,null,14.361840761041744,14.394174336500031,14.628747903098242,14.932522615771022,15.256077130755592,15.214430097197138,15.152203677111565,14.844508169627751,14.505235156467586,14.237519687929861,14.293975773920456,14.449763143118425,14.689249871044952,null,20,35.62267779019156,35.62267779019156,35.62267779019156,35.62267779019156,35.62267779019156,35.62267779019156,35.62267779019156,35.62267779019156,35.62267779019156,35.62267779019156,35.62267779019156,35.62267779019156,null,null,null,20,592.80000000000007,40.425590991469768,40.425590991469768,40.425590991469768,40.425590991469768,40.425590991469768,40.425590991469768,40.425590991469768,40.425590991469768,40.425590991469768,40.425590991469768,40.425590991469768,40.425590991469768,null,null,17402.882607962641,18.690495202011622,20.559544722212785,20.559544722212785,20.559544722212785,20.559544722212785,20.559544722212785,20.559544722212785,20.559544722212785,20.559544722212785,20.559544722212785,20.559544722212785,20.559544722212785,20.559544722212785,null,null,null,20,592.80000000000007,11.959724118552833,29.003346152793249,29.003346152793249,29.003346152793249,29.003346152793249,29.003346152793249,29.003346152793249,29.003346152793249,29.003346152793249,29.003346152793249,29.003346152793249,29.003346152793249,29.003346152793249,null,null,"Aug",{"$f":"N28","v":40.425590991469797},{"$f":"N27","v":43.2364614980076},{"$f":"N26","v":46.196794198333698},{"$f":"N25","v":49.304957609629},{"$f":"N24","v":52.556443935713197},{"$f":"N23","v":55.942962635611899},{"$f":"N22","v":59.451247061958398},{"$f":"N21","v":63.061462470774998},{"$f":"N20","v":66.745047418032797},{"$f":"N19","v":70.4617277736712},{"$f":"N18","v":74.155283335667505},{"$f":"N17","v":77.747360513710902}]
[null,null,"lact 2, a",19.3,null,"month","Jan","Feb","Mar","Apr","May","Jun","Jul","Aug","Sep","Oct","Nov","Dec","day",null,null,null,null,null,null,null,null,null,null,null,13.275120312040221,13.227503306086634,13.367354897952218,13.604431361579502,13.968162018627471,14.035510518659978,14.086087231626182,14.012466161315809,13.803926183074315,13.518063479044393,13.395104602936497,13.409389701930962,13.641926647906182,null,21,33.082830075190223,33.082830075190223,33.082830075190223,33.082830075190223,33.082830075190223,33.082830075190223,33.082830075190223,33.082830075190223,33.082830075190223,33.082830075190223,33.082830075190223,33.082830075190223,null,null,null,21,623.20000000000005,37.763633688576967,37.763633688576967,37.763633688576967,37.763633688576967,37.763633688576967,37.763633688576967,37.763633688576967,37.763633688576967,37.763633688576967,37.763633688576967,37.763633688576967,37.763633688576967,null,null,17937.713312767508,17.593115289633776,19.352426818597156,19.352426818597156,19.352426818597156,19.352426818597156,19.352426818597156,19.352426818597156,19.352426818597156,19.352426818597156,19.352426818597156,19.352426818597156,19.352426818597156,19.352426818597156,null,null,null,21,623.20000000000005,10.633044531361897,25.786035542638512,25.786035542638512,25.786035542638512,25.786035542638512,25.786035542638512,25.786035542638512,25.786035542638512,25.786035542638512,25.786035542638512,25.786035542638512,25.786035542638512,25.786035542638512,null,null,"Sep",{"$f":"O29","v":37.763633688577002},{"$f":"O28","v":40.425590991469797},{"$f":"O27","v":43.2364614980076},{"$f":"O26","v":46.196794198333698},{"$f":"O25","v":49.304957609629},{"$f":"O24","v":52.556443935713197},{"$f":"O23","v":55.942962635611899},{"$f":"O22","v":59.451247061958398},{"$f":"O21","v":63.061462470774998},{"$f":"O20","v":66.745047418032797},{"$f":"O19","v":70.4617277736712},{"$f":"O18","v":74.155283335667505}]
[null,null,"lact 2, b",0.255,null,1,88.963124879351895,88.963124879351895,88.963124879351895,88.963124879351895,88.963124879351895,88.963124879351895,88.963124879351895,88.963124879351895,88.963124879351895,88.963124879351895,88.963124879351895,88.963124879351895,15.2,null,null,null,null,null,null,null,null,null,null,null,12.338787228365701,12.2404778384549,12.251817926542268,12.399466308125774,12.738732385416547,12.963720702096639,13.032098983365893,13.133465003226769,13.067026004170906,12.844176617036263,12.626609610997177,12.435874967487518,12.672687797940528,null,22,30.732343593091446,30.732343593091446,30.732343593091446,30.732343593091446,30.732343593091446,30.732343593091446,30.732343593091446,30.732343593091446,30.732343593091446,30.732343593091446,30.732343593091446,30.732343593091446,null,null,null,22,653.6,35.248398812336113,35.248398812336113,35.248398812336113,35.248398812336113,35.248398812336113,35.248398812336113,35.248398812336113,35.248398812336113,35.248398812336113,35.248398812336113,35.248398812336113,35.248398812336113,null,null,18440.720345439233,16.546283969464678,18.200912366411149,18.200912366411149,18.200912366411149,18.200912366411149,18.200912366411149,18.200912366411149,18.200912366411149,18.200912366411149,18.200912366411149,18.200912366411149,18.200912366411149,18.200912366411149,null,null,null,22,653.6,9.4271930125310828,22.861743254385168,22.861743254385168,22.861743254385168,22.861743254385168,22.861743254385168,22.861743254385168,22.861743254385168,22.861743254385168,22.861743254385168,22.861743254385168,22.861743254385168,22.861743254385168,null,null,"Oct",{"$f":"P30","v":35.248398812336099},{"$f":"P29","v":37.763633688577002},{"$f":"P28","v":40.425590991469797},{"$f":"P27","v":43.2364614980076},{"$f":"P26","v":46.196794198333698},{"$f":"P25","v":49.304957609629},{"$f":"P24","v":52.556443935713197},{"$f":"P23","v":55.942962635611899},{"$f":"P22","v":59.451247061958398},{"$f":"P21","v":63.061462470774998},{"$f":"P20","v":66.745047418032797},{"$f":"P19","v":70.4617277736712}]
[null,null,"lact 2, c",3.3999999999999998E-3,null,2,106.166444135502,106.166444135502,106.166444135502,106.166444135502,106.166444135502,106.166444135502,106.166444135502,106.166444135502,106.166444135502,106.166444135502,106.166444135502,106.166444135502,45.6,null,null,null,null,null,null,null,null,null,null,null,11.4024541446912,11.253452370823201,11.1362809551323,11.194501254672,11.509302752205601,11.8919308855333,11.9781107351056,12.2544638451377,12.330125825267499,12.170289755028101,11.858114619057901,11.4623602330441,11.703448947974875,null,23,28.381857110992673,28.381857110992673,28.381857110992673,28.381857110992673,28.381857110992673,28.381857110992673,28.381857110992673,28.381857110992673,28.381857110992673,28.381857110992673,28.381857110992673,28.381857110992673,null,null,null,23,684,32.876473528369452,32.876473528369452,32.876473528369452,32.876473528369452,32.876473528369452,32.876473528369452,32.876473528369452,32.876473528369452,32.876473528369452,32.876473528369452,32.876473528369452,32.876473528369452,null,null,18913.436772617279,15.549882472962066,17.104870720258273,17.104870720258273,17.104870720258273,17.104870720258273,17.104870720258273,17.104870720258273,17.104870720258273,17.104870720258273,17.104870720258273,17.104870720258273,17.104870720258273,17.104870720258273,null,null,null,23,684,8.3376168742728218,20.219428633707114,20.219428633707114,20.219428633707114,20.219428633707114,20.219428633707114,20.219428633707114,20.219428633707114,20.219428633707114,20.219428633707114,20.219428633707114,20.219428633707114,20.219428633707114,null,null,"Nov",{"$f":"Q31","v":32.876473528369502},{"$f":"Q30","v":35.248398812336099},{"$f":"Q29","v":37.763633688577002},{"$f":"Q28","v":40.425590991469797},{"$f":"Q27","v":43.2364614980076},{"$f":"Q26","v":46.196794198333698},{"$f":"Q25","v":49.304957609629},{"$f":"Q24","v":52.556443935713197},{"$f":"Q23","v":55.942962635611899},{"$f":"Q22","v":59.451247061958398},{"$f":"Q21","v":63.061462470774998},{"$f":"Q20","v":66.745047418032797}]
[null,null,"lact 3+, a",21,null,3,109.06113803061299,109.06113803061299,109.06113803061299,109.06113803061299,109.06113803061299,109.06113803061299,109.06113803061299,109.06113803061299,109.06113803061299,109.06113803061299,109.06113803061299,109.06113803061299,76,null,null,null,null,null,null,null,null,null,null,null,10.4661210610167,10.2664269031914,10.020743983722401,9.9895362012183195,10.279873118994701,10.820141068970001,10.924122486845301,11.375462687048699,11.5932256463641,11.496402893020001,11.0896196271185,10.4888454986006,10.734210098009228,null,24,26.031370628893921,26.031370628893921,26.031370628893921,26.031370628893921,26.031370628893921,26.031370628893921,26.031370628893921,26.031370628893921,26.031370628893921,26.031370628893921,26.031370628893921,26.031370628893921,null,null,null,24,714.4,30.643551529999744,30.643551529999744,30.643551529999744,30.643551529999744,30.643551529999744,30.643551529999744,30.643551529999744,30.643551529999744,30.643551529999744,30.643551529999744,30.643551529999744,30.643551529999744,null,null,19357.377561218796,14.603315414523571,16.06364695597593,16.06364695597593,16.06364695597593,16.06364695597593,16.06364695597593,16.06364695597593,16.06364695597593,16.06364695597593,16.06364695597593,16.06364695597593,16.06364695597593,16.06364695597593,null,null,null,24,714.4,7.3581339515401174,17.844099405610859,17.844099405610859,17.844099405610859,17.844099405610859,17.844099405610859,17.844099405610859,17.844099405610859,17.844099405610859,17.844099405610859,17.844099405610859,17.844099405610859,17.844099405610859,null,null,"Dec",{"$f":"R32","v":30.643551529999701},{"$f":"R31","v":32.876473528369502},{"$f":"R30","v":35.248398812336099},{"$f":"R29","v":37.763633688577002},{"$f":"R28","v":40.425590991469797},{"$f":"R27","v":43.2364614980076},{"$f":"R26","v":46.196794198333698},{"$f":"R25","v":49.304957609629},{"$f":"R24","v":52.556443935713197},{"$f":"R23","v":55.942962635611899},{"$f":"R22","v":59.451247061958398},{"$f":"R21","v":63.061462470774998}]
[null,null,"lact 3+, b",0.25,null,4,107.162786197218,107.162786197218,107.162786197218,107.162786197218,107.162786197218,107.162786197218,107.162786197218,107.162786197218,107.162786197218,107.162786197218,107.162786197218,107.162786197218,106.4,null,null,null,null,null,null,null,null,null,null,null,null,null,null,null,null,null,null,null,null,null,null,null,null,null,null,null,null,null,null,null,null,null,null,null,null,null,null,null,null,null,null,null,null,null,null,null,null,null,null,null,null,null,null,null,null,null,null,null,null,null,null,null,null,null,null,null,null,null,null,null,null,null,null,null,null,null,null,null,null,null,null,null,null,null,null,null,null,null,null,null,"Jan",null,{"$f":"G32","v":30.643551529999701},{"$f":"G31","v":32.876473528369502},{"$f":"G30","v":35.248398812336099},{"$f":"G29","v":37.763633688577002},{"$f":"G28","v":40.425590991469797},{"$f":"G27","v":43.2364614980076},{"$f":"G26","v":46.196794198333698},{"$f":"G25","v":49.304957609629},{"$f":"G24","v":52.556443935713197},{"$f":"G23","v":55.942962635611899},{"$f":"G22","v":59.451247061958398}]
[null,null,"lact 3+, c",3.5000000000000001E-3,null,5,103.03556541264599,103.03556541264599,103.03556541264599,103.03556541264599,103.03556541264599,103.03556541264599,103.03556541264599,103.03556541264599,103.03556541264599,103.03556541264599,103.03556541264599,103.03556541264599,136.80000000000001,null,null,null,null,null,null,null,null,null,null,null,null,null,null,null,null,null,null,null,null,null,null,null,null,null,null,null,null,null,null,null,null,null,null,null,null,null,null,null,null,null,null,null,null,"woodscurves2",null,null,null,null,null,null,null,null,null,null,null,null,null,null,null,"peakmilkcurves2",null,null,null,null,null,null,null,null,null,null,null,null,null,null,null,null,null,null,null,null,null,null,null,null,null,null,null,null,null,null,"Feb",null,null,{"$f":"H32","v":30.643551529999701},{"$f":"H31","v":32.876473528369502},{"$f":"H30","v":35.248398812336099},{"$f":"H29","v":37.763633688577002},{"$f":"H28","v":40.425590991469797},{"$f":"H27","v":43.2364614980076},{"$f":"H26","v":46.196794198333698},{"$f":"H25","v":49.304957609629},{"$f":"H24","v":52.556443935713197},{"$f":"H23","v":55.942962635611899}]
[null,null,null,null,null,6,97.796154012328003,97.796154012328003,97.796154012328003,97.796154012328003,97.796154012328003,97.796154012328003,97.796154012328003,97.796154012328003,97.796154012328003,97.796154012328003,97.796154012328003,97.796154012328003,167.2,null,null,null,null,null,null,null,null,null,null,null,"Jan","Feb","Mar","Apr","May","Jun","Jul","Aug","Sep","Oct","Nov","Dec","Avg",null,"mim",null,"floridacurves2",null,null,null,null,null,null,null,null,null,null,null,null,null,"mim",null,"Jan","Feb","Mar","Apr","May","Jun","Jul","Aug","Sep","Oct","Nov","Dec",null,null,null,null,"Jan","Feb","Mar","Apr","May","Jun","Jul","Aug","Sep","Oct","Nov","Dec",null,null,null,null,null,null,"diphasiccurves2",null,null,null,null,null,null,null,null,null,null,null,null,null,"Mar",null,null,null,{"$f":"I32","v":30.643551529999701},{"$f":"I31","v":32.876473528369502},{"$f":"I30","v":35.248398812336099},{"$f":"I29","v":37.763633688577002},{"$f":"I28","v":40.425590991469797},{"$f":"I27","v":43.2364614980076},{"$f":"I26","v":46.196794198333698},{"$f":"I25","v":49.304957609629},{"$f":"I24","v":52.556443935713197}]
[null,null,null,{"$f":"update(BG6,BH3,\"Fit curves\")","v":"Fit curves"},null,7,92.030868029078903,92.030868029078903,92.030868029078903,92.030868029078903,92.030868029078903,92.030868029078903,92.030868029078903,92.030868029078903,92.030868029078903,92.030868029078903,92.030868029078903,92.030868029078903,197.6,null,null,null,null,null,null,null,null,null,null,null,34.548852208420691,35.23538980766137,35.512299558446728,33.960446798244021,31.511224817909937,28.905194501168133,26.687365200250063,26.269589958113134,27.592637356811487,29.786862267128409,31.591681201795577,32.972816516858501,31.214530016067339,null,1,{"$f":"((mseasonality*AE42*msea1+(1-mseasonality)*$AQ42)+mabs)*(1+pct)*lbs","v":75.697884840700127},{"$f":"((mseasonality*AF42*msea2+(1-mseasonality)*$AQ42)+mabs)*(1+pct)*lbs","v":75.697884840700127},{"$f":"((mseasonality*AG42*msea3+(1-mseasonality)*$AQ42)+mabs)*(1+pct)*lbs","v":75.697884840700127},{"$f":"((mseasonality*AH42*msea4+(1-mseasonality)*$AQ42)+mabs)*(1+pct)*lbs","v":75.697884840700127},{"$f":"((mseasonality*AI42*msea5+(1-mseasonality)*$AQ42)+mabs)*(1+pct)*lbs","v":75.697884840700127},{"$f":"((mseasonality*AJ42*msea6+(1-mseasonality)*$AQ42)+mabs)*(1+pct)*lbs","v":75.697884840700127},{"$f":"((mseasonality*AK42*msea7+(1-mseasonality)*$AQ42)+mabs)*(1+pct)*lbs","v":75.697884840700127},{"$f":"((mseasonality*AL42*msea8+(1-mseasonality)*$AQ42)+mabs)*(1+pct)*lbs","v":75.697884840700127},{"$f":"((mseasonality*AM42*msea9+(1-mseasonality)*$AQ42)+mabs)*(1+pct)*lbs","v":75.697884840700127},{"$f":"((mseasonality*AN42*msea10+(1-mseasonality)*$AQ42)+mabs)*(1+pct)*lbs","v":75.697884840700127},{"$f":"((mseasonality*AO42*msea11+(1-mseasonality)*$AQ42)+mabs)*(1+pct)*lbs","v":75.697884840700127},{"$f":"((mseasonality*AP42*msea12+(1-mseasonality)*$AQ42)+mabs)*(1+pct)*lbs","v":75.697884840700127},null,null,null,1,{"$f":"(BI42-1)*30.4+15.2","v":15.2},{"$f":"((mseasonality*($D$35*($BJ42)^$D$36*EXP(-$D$37*$BJ42)*msea1) +(1-mseasonality)*($D$35*($BJ42)^$D$36*EXP(-$D$37*$BJ42)*mseaavg)))*(1+pct)*lbs+mabs","v":88.963124879351852},{"$f":"((mseasonality*($D$35*($BJ42)^$D$36*EXP(-$D$37*$BJ42)*msea2) +(1-mseasonality)*($D$35*($BJ42)^$D$36*EXP(-$D$37*$BJ42)*mseaavg)))*(1+pct)*lbs+mabs","v":88.963124879351852},{"$f":"((mseasonality*($D$35*($BJ42)^$D$36*EXP(-$D$37*$BJ42)*msea3) +(1-mseasonality)*($D$35*($BJ42)^$D$36*EXP(-$D$37*$BJ42)*mseaavg)))*(1+pct)*lbs+mabs","v":88.963124879351852},{"$f":"((mseasonality*($D$35*($BJ42)^$D$36*EXP(-$D$37*$BJ42)*msea4) +(1-mseasonality)*($D$35*($BJ42)^$D$36*EXP(-$D$37*$BJ42)*mseaavg)))*(1+pct)*lbs+mabs","v":88.963124879351852},{"$f":"((mseasonality*($D$35*($BJ42)^$D$36*EXP(-$D$37*$BJ42)*msea5) +(1-mseasonality)*($D$35*($BJ42)^$D$36*EXP(-$D$37*$BJ42)*mseaavg)))*(1+pct)*lbs+mabs","v":88.963124879351852},{"$f":"((mseasonality*($D$35*($BJ42)^$D$36*EXP(-$D$37*$BJ42)*msea6) +(1-mseasonality)*($D$35*($BJ42)^$D$36*EXP(-$D$37*$BJ42)*mseaavg)))*(1+pct)*lbs+mabs","v":88.963124879351852},{"$f":"((mseasonality*($D$35*($BJ42)^$D$36*EXP(-$D$37*$BJ42)*msea7) +(1-mseasonality)*($D$35*($BJ42)^$D$36*EXP(-$D$37*$BJ42)*mseaavg)))*(1+pct)*lbs+mabs","v":88.963124879351852},{"$f":"((mseasonality*($D$35*($BJ42)^$D$36*EXP(-$D$37*$BJ42)*msea8) +(1-mseasonality)*($D$35*($BJ42)^$D$36*EXP(-$D$37*$BJ42)*mseaavg)))*(1+pct)*lbs+mabs","v":88.963124879351852},{"$f":"((mseasonality*($D$35*($BJ42)^$D$36*EXP(-$D$37*$BJ42)*msea9) +(1-mseasonality)*($D$35*($BJ42)^$D$36*EXP(-$D$37*$BJ42)*mseaavg)))*(1+pct)*lbs+mabs","v":88.963124879351852},{"$f":"((mseasonality*($D$35*($BJ42)^$D$36*EXP(-$D$37*$BJ42)*msea10) +(1-mseasonality)*($D$35*($BJ42)^$D$36*EXP(-$D$37*$BJ42)*mseaavg)))*(1+pct)*lbs+mabs","v":88.963124879351852},{"$f":"((mseasonality*($D$35*($BJ42)^$D$36*EXP(-$D$37*$BJ42)*msea11) +(1-mseasonality)*($D$35*($BJ42)^$D$36*EXP(-$D$37*$BJ42)*mseaavg)))*(1+pct)*lbs+mabs","v":88.963124879351852},{"$f":"((mseasonality*($D$35*($BJ42)^$D$36*EXP(-$D$37*$BJ42)*msea12) +(1-mseasonality)*($D$35*($BJ42)^$D$36*EXP(-$D$37*$BJ42)*mseaavg)))*(1+pct)*lbs+mabs","v":88.963124879351852},null,null,{"$f":"BZ42*30.4","v":1129.1643682739077},{"$f":"(CK$5*($BJ42)^CL$5*EXP(-CM$5*$BJ42))","v":37.143564745852231},{"$f":"((mseasonality*$BZ42*msea1+(1-mseasonality)*$BZ42*mseaavg))*(1+pct)+mabs","v":40.857921220437454},{"$f":"((mseasonality*$BZ42*msea2+(1-mseasonality)*$BZ42*mseaavg))*(1+pct)+mabs","v":40.857921220437454},{"$f":"((mseasonality*$BZ42*msea3+(1-mseasonality)*$BZ42*mseaavg))*(1+pct)+mabs","v":40.857921220437454},{"$f":"((mseasonality*$BZ42*msea4+(1-mseasonality)*$BZ42*mseaavg))*(1+pct)+mabs","v":40.857921220437454},{"$f":"((mseasonality*$BZ42*msea5+(1-mseasonality)*$BZ42*mseaavg))*(1+pct)+mabs","v":40.857921220437454},{"$f":"((mseasonality*$BZ42*msea6+(1-mseasonality)*$BZ42*mseaavg))*(1+pct)+mabs","v":40.857921220437454},{"$f":"((mseasonality*$BZ42*msea7+(1-mseasonality)*$BZ42*mseaavg))*(1+pct)+mabs","v":40.857921220437454},{"$f":"((mseasonality*$BZ42*msea8+(1-mseasonality)*$BZ42*mseaavg))*(1+pct)+mabs","v":40.857921220437454},{"$f":"((mseasonality*$BZ42*msea9+(1-mseasonality)*$BZ42*mseaavg))*(1+pct)+mabs","v":40.857921220437454},{"$f":"((mseasonality*$BZ42*msea10+(1-mseasonality)*$BZ42*mseaavg))*(1+pct)+mabs","v":40.857921220437454},{"$f":"((mseasonality*$BZ42*msea11+(1-mseasonality)*$BZ42*mseaavg))*(1+pct)+mabs","v":40.857921220437454},{"$f":"((mseasonality*$BZ42*msea12+(1-mseasonality)*$BZ42*mseaavg))*(1+pct)+mabs","v":40.857921220437454},null,null,null,1,{"$f":"(CP42-1)*30.4+15.2","v":15.2},{"$f":"dp2_1a*dp2_1b*(1-(TANH(dp2_1b*($CQ42-dp2_1c)))^2)+dp2_2a*dp2_2b*(1-(TANH(dp2_2b*($CQ42-dp2_2c)))^2)","v":41.807102335286068},{"$f":"((mseasonality*$CR42*msea1+(1-mseasonality)*$CR42*mseaavg)*(1+pct)*lbs)+mabs","v":101.38577183352913},{"$f":"((mseasonality*$CR42*msea2+(1-mseasonality)*$CR42*mseaavg)*(1+pct)*lbs)+mabs","v":101.38577183352913},{"$f":"((mseasonality*$CR42*msea3+(1-mseasonality)*$CR42*mseaavg)*(1+pct)*lbs)+mabs","v":101.38577183352913},{"$f":"((mseasonality*$CR42*msea4+(1-mseasonality)*$CR42*mseaavg)*(1+pct)*lbs)+mabs","v":101.38577183352913},{"$f":"((mseasonality*$CR42*msea5+(1-mseasonality)*$CR42*mseaavg)*(1+pct)*lbs)+mabs","v":101.38577183352913},{"$f":"((mseasonality*$CR42*msea6+(1-mseasonality)*$CR42*mseaavg)*(1+pct)*lbs)+mabs","v":101.38577183352913},{"$f":"((mseasonality*$CR42*msea7+(1-mseasonality)*$CR42*mseaavg)*(1+pct)*lbs)+mabs","v":101.38577183352913},{"$f":"((mseasonality*$CR42*msea8+(1-mseasonality)*$CR42*mseaavg)*(1+pct)*lbs)+mabs","v":101.38577183352913},{"$f":"((mseasonality*$CR42*msea9+(1-mseasonality)*$CR42*mseaavg)*(1+pct)*lbs)+mabs","v":101.38577183352913},{"$f":"((mseasonality*$CR42*msea10+(1-mseasonality)*$CR42*mseaavg)*(1+pct)*lbs)+mabs","v":101.38577183352913},{"$f":"((mseasonality*$CR42*msea11+(1-mseasonality)*$CR42*mseaavg)*(1+pct)*lbs)+mabs","v":101.38577183352913},{"$f":"((mseasonality*$CR42*msea12+(1-mseasonality)*$CR42*mseaavg)*(1+pct)*lbs)+mabs","v":101.38577183352913},null,null,"Apr",null,null,null,null,{"$f":"J32","v":30.643551529999701},{"$f":"J31","v":32.876473528369502},{"$f":"J30","v":35.248398812336099},{"$f":"J29","v":37.763633688577002},{"$f":"J28","v":40.425590991469797},{"$f":"J27","v":43.2364614980076},{"$f":"J26","v":46.196794198333698},{"$f":"J25","v":49.304957609629}]
[null,null,"lact 1, peak",36,null,8,86.078077127202306,86.078077127202306,86.078077127202306,86.078077127202306,86.078077127202306,86.078077127202306,86.078077127202306,86.078077127202306,86.078077127202306,86.078077127202306,86.078077127202306,86.078077127202306,228,null,null,null,null,null,null,null,null,null,null,null,35.050352282715437,35.915997416231022,36.62918983350567,36.281312306769664,35.125301253040483,33.405211141680077,31.636847826248765,30.453089307637594,30.406455569383326,31.178360163688211,32.42241383364405,33.874453070518449,33.531582000421899,null,2,81.316932578766469,81.316932578766469,81.316932578766469,81.316932578766469,81.316932578766469,81.316932578766469,81.316932578766469,81.316932578766469,81.316932578766469,81.316932578766469,81.316932578766469,81.316932578766469,null,null,null,2,{"$f":"(BI43-1)*30.4+15.2","v":45.599999999999994},106.16644413550192,106.16644413550192,106.16644413550192,106.16644413550192,106.16644413550192,106.16644413550192,106.16644413550192,106.16644413550192,106.16644413550192,106.16644413550192,106.16644413550192,106.16644413550192,null,null,2461.6942881487444,{"$f":"(CK$5*($BJ43)^CL$5*EXP(-CM$5*$BJ43))","v":43.833221048514368},48.216543153365805,48.216543153365805,48.216543153365805,48.216543153365805,48.216543153365805,48.216543153365805,48.216543153365805,48.216543153365805,48.216543153365805,48.216543153365805,48.216543153365805,48.216543153365805,null,null,null,2,{"$f":"(CP43-1)*30.4+15.2","v":45.599999999999994},{"$f":"dp2_1a*dp2_1b*(1-(TANH(dp2_1b*($CQ43-dp2_1c)))^2)+dp2_2a*dp2_2b*(1-(TANH(dp2_2b*($CQ43-dp2_2c)))^2)","v":42.957728082241921},104.17613693731172,104.17613693731172,104.17613693731172,104.17613693731172,104.17613693731172,104.17613693731172,104.17613693731172,104.17613693731172,104.17613693731172,104.17613693731172,104.17613693731172,104.17613693731172,null,null,"May",null,null,null,null,null,{"$f":"K32","v":30.643551529999701},{"$f":"K31","v":32.876473528369502},{"$f":"K30","v":35.248398812336099},{"$f":"K29","v":37.763633688577002},{"$f":"K28","v":40.425590991469797},{"$f":"K27","v":43.2364614980076},{"$f":"K26","v":46.196794198333698}]
[null,null,"lact 1, dim",137,null,9,80.142905464492003,80.142905464492003,80.142905464492003,80.142905464492003,80.142905464492003,80.142905464492003,80.142905464492003,80.142905464492003,80.142905464492003,80.142905464492003,80.142905464492003,80.142905464492003,258.39999999999998,null,null,null,null,null,null,null,null,null,null,null,34.668114199724755,35.555105391755383,36.306596177241808,36.459548270361758,35.93332123746054,34.767247364214775,33.393237141828571,32.04061991535599,31.40579001262013,31.503558998705408,32.38162437376468,33.702145797634742,34.009742406722374,null,3,82.476512151256728,82.476512151256728,82.476512151256728,82.476512151256728,82.476512151256728,82.476512151256728,82.476512151256728,82.476512151256728,82.476512151256728,82.476512151256728,82.476512151256728,82.476512151256728,null,null,null,3,76,109.0611380306128,109.0611380306128,109.0611380306128,109.0611380306128,109.0611380306128,109.0611380306128,109.0611380306128,109.0611380306128,109.0611380306128,109.0611380306128,109.0611380306128,109.0611380306128,null,null,3829.6942881487444,45,49.500000000000007,49.500000000000007,49.500000000000007,49.500000000000007,49.500000000000007,49.500000000000007,49.500000000000007,49.500000000000007,49.500000000000007,49.500000000000007,49.500000000000007,49.500000000000007,null,null,null,3,76,43.110748759755054,104.54722506898223,104.54722506898223,104.54722506898223,104.54722506898223,104.54722506898223,104.54722506898223,104.54722506898223,104.54722506898223,104.54722506898223,104.54722506898223,104.54722506898223,104.54722506898223,null,null,"Jun",null,null,null,null,null,null,{"$f":"L32","v":30.643551529999701},{"$f":"L31","v":32.876473528369502},{"$f":"L30","v":35.248398812336099},{"$f":"L29","v":37.763633688577002},{"$f":"L28","v":40.425590991469797},{"$f":"L27","v":43.2364614980076}]
[null,null,"lact 1, 305m",10000,null,10,74.352247148052598,74.352247148052598,74.352247148052598,74.352247148052598,74.352247148052598,74.352247148052598,74.352247148052598,74.352247148052598,74.352247148052598,74.352247148052598,74.352247148052598,74.352247148052598,288.8,null,null,null,null,null,null,null,null,null,null,null,33.6366117473031,34.45975231388185,35.037581527937043,35.255320332702837,34.926919642739783,34.066644835837401,33.00771471910015,31.824264070513706,31.090949604308683,30.994830961917359,31.658102528383264,32.758325612671165,33.226418158108032,null,4,80.576884358238075,80.576884358238075,80.576884358238075,80.576884358238075,80.576884358238075,80.576884358238075,80.576884358238075,80.576884358238075,80.576884358238075,80.576884358238075,80.576884358238075,80.576884358238075,null,null,null,4,106.39999999999999,107.16278619721847,107.16278619721847,107.16278619721847,107.16278619721847,107.16278619721847,107.16278619721847,107.16278619721847,107.16278619721847,107.16278619721847,107.16278619721847,107.16278619721847,107.16278619721847,null,null,5177.2481286604188,44.327428964199818,48.760171860619806,48.760171860619806,48.760171860619806,48.760171860619806,48.760171860619806,48.760171860619806,48.760171860619806,48.760171860619806,48.760171860619806,48.760171860619806,48.760171860619806,48.760171860619806,null,null,null,4,106.39999999999999,42.25912843332096,102.48197349014301,102.48197349014301,102.48197349014301,102.48197349014301,102.48197349014301,102.48197349014301,102.48197349014301,102.48197349014301,102.48197349014301,102.48197349014301,102.48197349014301,102.48197349014301,null,null,"Jul",null,null,null,null,null,null,null,{"$f":"M32","v":30.643551529999701},{"$f":"M31","v":32.876473528369502},{"$f":"M30","v":35.248398812336099},{"$f":"M29","v":37.763633688577002},{"$f":"M28","v":40.425590991469797}]
[null,null,"lact 2, peak",45,null,11,68.784276411959596,68.784276411959596,68.784276411959596,68.784276411959596,68.784276411959596,68.784276411959596,68.784276411959596,68.784276411959596,68.784276411959596,68.784276411959596,68.784276411959596,68.784276411959596,319.2,null,null,null,null,null,null,null,null,null,null,null,32.154692366735823,32.882042837026979,33.212214124722976,33.265545598018761,32.885928044321531,32.155735758190744,31.321438988623704,30.450754600233115,29.882758754162914,29.863732233630515,30.424033205378077,31.29534129381053,31.649518150404635,null,5,76.752767989130874,76.752767989130874,76.752767989130874,76.752767989130874,76.752767989130874,76.752767989130874,76.752767989130874,76.752767989130874,76.752767989130874,76.752767989130874,76.752767989130874,76.752767989130874,null,null,null,5,136.79999999999998,103.03556541264604,103.03556541264604,103.03556541264604,103.03556541264604,103.03556541264604,103.03556541264604,103.03556541264604,103.03556541264604,103.03556541264604,103.03556541264604,103.03556541264604,103.03556541264604,null,null,6478.1347359779948,42.792322609130785,47.071554870043869,47.071554870043869,47.071554870043869,47.071554870043869,47.071554870043869,47.071554870043869,47.071554870043869,47.071554870043869,47.071554870043869,47.071554870043869,47.071554870043869,47.071554870043869,null,null,null,5,136.79999999999998,40.489214893894278,98.189782923232244,98.189782923232244,98.189782923232244,98.189782923232244,98.189782923232244,98.189782923232244,98.189782923232244,98.189782923232244,98.189782923232244,98.189782923232244,98.189782923232244,98.189782923232244,null,null,"Aug",null,null,null,null,null,null,null,null,{"$f":"N32","v":30.643551529999701},{"$f":"N31","v":32.876473528369502},{"$f":"N30","v":35.248398812336099},{"$f":"N29","v":37.763633688577002}]
[null,null,"lact 2, dim",76,null,12,63.485591950663,63.485591950663,63.485591950663,63.485591950663,63.485591950663,63.485591950663,63.485591950663,63.485591950663,63.485591950663,63.485591950663,63.485591950663,63.485591950663,349.6,null,null,null,null,null,null,null,null,null,null,null,30.388150415457591,31.02403262551347,31.128027548204766,30.940659154901187,30.399896114385143,29.685827212248174,28.985525936114836,28.434063806395965,28.128184327314571,28.300576131683428,28.834683679919788,29.51949590965835,29.647426905149775,null,6,71.897526777878767,71.897526777878767,71.897526777878767,71.897526777878767,71.897526777878767,71.897526777878767,71.897526777878767,71.897526777878767,71.897526777878767,71.897526777878767,71.897526777878767,71.897526777878767,null,null,null,6,167.2,97.796154012327975,97.796154012327975,97.796154012327975,97.796154012327975,97.796154012327975,97.796154012327975,97.796154012327975,97.796154012327975,97.796154012327975,97.796154012327975,97.796154012327975,97.796154012327975,null,null,7718.9843668298372,40.81742206749481,44.899164274244292,44.899164274244292,44.899164274244292,44.899164274244292,44.899164274244292,44.899164274244292,44.899164274244292,44.899164274244292,44.899164274244292,44.899164274244292,44.899164274244292,44.899164274244292,null,null,null,6,167.2,37.9628149923753,92.063048716172275,92.063048716172275,92.063048716172275,92.063048716172275,92.063048716172275,92.063048716172275,92.063048716172275,92.063048716172275,92.063048716172275,92.063048716172275,92.063048716172275,92.063048716172275,null,null,"Sep",null,null,null,null,null,null,null,null,null,{"$f":"O32","v":30.643551529999701},{"$f":"O31","v":32.876473528369502},{"$f":"O30","v":35.248398812336099}]
[null,null,"lact 2, 305m",12000,null,13,58.481782297351799,58.481782297351799,58.481782297351799,58.481782297351799,58.481782297351799,58.481782297351799,58.481782297351799,58.481782297351799,58.481782297351799,58.481782297351799,58.481782297351799,58.481782297351799,380,null,null,null,null,null,null,null,null,null,null,null,28.47230042977095,29.04261328870723,29.00048076108494,28.601380600130025,27.889613014708463,27.129185503066683,26.481029799150367,26.167992402525826,26.105962607803924,26.474006258409769,27.028090760111308,27.595083245946416,27.498978222617989,null,7,66.687356358118109,66.687356358118109,66.687356358118109,66.687356358118109,66.687356358118109,66.687356358118109,66.687356358118109,66.687356358118109,66.687356358118109,66.687356358118109,66.687356358118109,66.687356358118109,null,null,null,7,197.59999999999997,92.030868029078917,92.030868029078917,92.030868029078917,92.030868029078917,92.030868029078917,92.030868029078917,92.030868029078917,92.030868029078917,92.030868029078917,92.030868029078917,92.030868029078917,92.030868029078917,null,null,8893.1737551028873,38.624650930034541,42.487116023037999,42.487116023037999,42.487116023037999,42.487116023037999,42.487116023037999,42.487116023037999,42.487116023037999,42.487116023037999,42.487116023037999,42.487116023037999,42.487116023037999,42.487116023037999,null,null,null,7,197.59999999999997,34.887245075395427,84.6045306069704,84.6045306069704,84.6045306069704,84.6045306069704,84.6045306069704,84.6045306069704,84.6045306069704,84.6045306069704,84.6045306069704,84.6045306069704,84.6045306069704,84.6045306069704,null,null,"Oct",null,null,null,null,null,null,null,null,null,null,{"$f":"P32","v":30.643551529999701},{"$f":"P31","v":32.876473528369502}]
[null,null,"lact 3+, peak",45,null,14,53.784233011132301,53.784233011132301,53.784233011132301,53.784233011132301,53.784233011132301,53.784233011132301,53.784233011132301,53.784233011132301,53.784233011132301,53.784233011132301,53.784233011132301,53.784233011132301,410.4,null,null,null,null,null,null,null,null,null,null,null,26.514550387564789,27.054397316154407,26.973418148787236,26.455480562495893,25.628628789530232,24.801020504539842,24.138923763874189,23.938758450670509,24.03222626207047,24.530569647601361,25.124747952627668,25.64842423223643,25.403428834846093,null,8,61.605471218348136,61.605471218348136,61.605471218348136,61.605471218348136,61.605471218348136,61.605471218348136,61.605471218348136,61.605471218348136,61.605471218348136,61.605471218348136,61.605471218348136,61.605471218348136,null,null,null,8,227.99999999999997,86.078077127202334,86.078077127202334,86.078077127202334,86.078077127202334,86.078077127202334,86.078077127202334,86.078077127202334,86.078077127202334,86.078077127202334,86.078077127202334,86.078077127202334,86.078077127202334,null,null,9997.9930242884748,36.342739117946962,39.977013029741663,39.977013029741663,39.977013029741663,39.977013029741663,39.977013029741663,39.977013029741663,39.977013029741663,39.977013029741663,39.977013029741663,39.977013029741663,39.977013029741663,39.977013029741663,null,null,null,8,227.99999999999997,31.482304168942818,76.347259890628806,76.347259890628806,76.347259890628806,76.347259890628806,76.347259890628806,76.347259890628806,76.347259890628806,76.347259890628806,76.347259890628806,76.347259890628806,76.347259890628806,76.347259890628806,null,null,"Nov",null,null,null,null,null,null,null,null,null,null,null,{"$f":"Q32","v":30.643551529999701}]
[null,null,"lact 3+, dim",76,null,15,49.394663563242098,49.394663563242098,49.394663563242098,49.394663563242098,49.394663563242098,49.394663563242098,49.394663563242098,49.394663563242098,49.394663563242098,49.394663563242098,49.394663563242098,49.394663563242098,440.8,null,null,null,null,null,null,null,null,null,null,null,24.596974971032843,25.140603012718426,25.129529560080414,24.614547226622598,23.764775758412512,22.881470004150835,22.160080661703113,21.93758629828449,22.066131302443601,22.594289911471186,23.22729262835589,23.771903368623605,23.490432058658296,null,9,56.966291657100378,56.966291657100378,56.966291657100378,56.966291657100378,56.966291657100378,56.966291657100378,56.966291657100378,56.966291657100378,56.966291657100378,56.966291657100378,56.966291657100378,56.966291657100378,null,null,null,9,258.39999999999998,80.142905464492003,80.142905464492003,80.142905464492003,80.142905464492003,80.142905464492003,80.142905464492003,80.142905464492003,80.142905464492003,80.142905464492003,80.142905464492003,80.142905464492003,80.142905464492003,null,null,11033.129715599132,34.050549056271635,37.455603961898802,37.455603961898802,37.455603961898802,37.455603961898802,37.455603961898802,37.455603961898802,37.455603961898802,37.455603961898802,37.455603961898802,37.455603961898802,37.455603961898802,37.455603961898802,null,null,null,9,258.39999999999998,27.952165756808686,67.786374595994829,67.786374595994829,67.786374595994829,67.786374595994829,67.786374595994829,67.786374595994829,67.786374595994829,67.786374595994829,67.786374595994829,67.786374595994829,67.786374595994829,67.786374595994829,null,null,null,"chartmilk2"]
[null,null,"lact 3+, 305m",12000,null,16,45.308230005824001,45.308230005824001,45.308230005824001,45.308230005824001,45.308230005824001,45.308230005824001,45.308230005824001,45.308230005824001,45.308230005824001,45.308230005824001,45.308230005824001,45.308230005824001,471.2,null,null,null,null,null,null,null,null,null,null,null,22.778888829392177,23.351939433717007,23.500810347702114,23.110752856789574,22.34168990910311,21.437584047725412,20.635253666032696,20.27329551511135,20.315484050633316,20.766240387616413,21.420193188034862,22.028005152440304,21.830011448691526,null,10,52.93963073810874,52.93963073810874,52.93963073810874,52.93963073810874,52.93963073810874,52.93963073810874,52.93963073810874,52.93963073810874,52.93963073810874,52.93963073810874,52.93963073810874,52.93963073810874,null,null,null,10,288.79999999999995,74.352247148052626,74.352247148052626,74.352247148052626,74.352247148052626,74.352247148052626,74.352247148052626,74.352247148052626,74.352247148052626,74.352247148052626,74.352247148052626,74.352247148052626,74.352247148052626,null,null,11999.779916397843,31.797703973641834,34.977474371006018,34.977474371006018,34.977474371006018,34.977474371006018,34.977474371006018,34.977474371006018,34.977474371006018,34.977474371006018,34.977474371006018,34.977474371006018,34.977474371006018,34.977474371006018,null,null,null,10,288.79999999999995,24.466750965358248,59.333947877749196,59.333947877749196,59.333947877749196,59.333947877749196,59.333947877749196,59.333947877749196,59.333947877749196,59.333947877749196,59.333947877749196,59.333947877749196,59.333947877749196,59.333947877749196,null,null,"Jan",{"$f":"G36","v":88.963124879351895}]
[null,null,null,null,null,17,41.515688205529202,41.515688205529202,41.515688205529202,41.515688205529202,41.515688205529202,41.515688205529202,41.515688205529202,41.515688205529202,41.515688205529202,41.515688205529202,41.515688205529202,41.515688205529202,501.6,null,null,null,null,null,null,null,null,null,null,null,21.099419841601708,21.713491320059223,22.079021408982662,21.913620320754365,21.320332290397996,20.44530928418493,19.565056988943102,18.984889830066177,18.842368101220902,19.124117285981416,19.769436227895206,20.453350504959648,20.442534450420613,null,11,49.574881245479212,49.574881245479212,49.574881245479212,49.574881245479212,49.574881245479212,49.574881245479212,49.574881245479212,49.574881245479212,49.574881245479212,49.574881245479212,49.574881245479212,49.574881245479212,null,null,null,11,319.2,68.784276411959581,68.784276411959581,68.784276411959581,68.784276411959581,68.784276411959581,68.784276411959581,68.784276411959581,68.784276411959581,68.784276411959581,68.784276411959581,68.784276411959581,68.784276411959581,null,null,12900.093781143765,29.615587656115878,32.57714642172747,32.57714642172747,32.57714642172747,32.57714642172747,32.57714642172747,32.57714642172747,32.57714642172747,32.57714642172747,32.57714642172747,32.57714642172747,32.57714642172747,32.57714642172747,null,null,null,11,319.2,21.153338397295428,51.298641151111255,51.298641151111255,51.298641151111255,51.298641151111255,51.298641151111255,51.298641151111255,51.298641151111255,51.298641151111255,51.298641151111255,51.298641151111255,51.298641151111255,51.298641151111255,null,null,"Feb",{"$f":"H37","v":106.166444135502},{"$f":"H36","v":88.963124879351895}]
[null,null,null,{"$f":"update(BG6,BH4,\"Florida curves\")","v":"Florida curves"},null,18,38.004923318848803,38.004923318848803,38.004923318848803,38.004923318848803,38.004923318848803,38.004923318848803,38.004923318848803,38.004923318848803,38.004923318848803,38.004923318848803,38.004923318848803,38.004923318848803,532,null,null,null,null,null,null,null,null,null,null,null,19.580082379080682,20.229604033382522,20.826149226468907,20.946789613575071,20.600510405003742,19.811473310299316,18.879946577904924,18.054146068118012,17.668771285149649,17.721812835820785,18.322213705299156,19.062733198099117,19.308686053183489,null,12,46.82520263885953,46.82520263885953,46.82520263885953,46.82520263885953,46.82520263885953,46.82520263885953,46.82520263885953,46.82520263885953,46.82520263885953,46.82520263885953,46.82520263885953,46.82520263885953,null,null,null,12,349.59999999999997,63.48559195066295,63.48559195066295,63.48559195066295,63.48559195066295,63.48559195066295,63.48559195066295,63.48559195066295,63.48559195066295,63.48559195066295,63.48559195066295,63.48559195066295,63.48559195066295,null,null,13736.814482444548,27.523707279631029,30.276078007594133,30.276078007594133,30.276078007594133,30.276078007594133,30.276078007594133,30.276078007594133,30.276078007594133,30.276078007594133,30.276078007594133,30.276078007594133,30.276078007594133,30.276078007594133,null,null,null,12,349.59999999999997,18.096505968025113,43.885563040080477,43.885563040080477,43.885563040080477,43.885563040080477,43.885563040080477,43.885563040080477,43.885563040080477,43.885563040080477,43.885563040080477,43.885563040080477,43.885563040080477,43.885563040080477,null,null,"Mar",{"$f":"I38","v":109.06113803061299},{"$f":"I37","v":106.166444135502},{"$f":"I36","v":88.963124879351895}]
[null,null,null,null,null,19,34.762041306305001,34.762041306305001,34.762041306305001,34.762041306305001,34.762041306305001,34.762041306305001,34.762041306305001,34.762041306305001,34.762041306305001,34.762041306305001,34.762041306305001,34.762041306305001,562.4,null,null,null,null,null,null,null,null,null,null,null,18.227350568427166,18.888768491189758,19.684865908548062,20.104784381432818,20.042399602399922,19.395769015440088,18.460200812485049,17.418203087172273,16.782212633215515,16.588988432662358,17.106610104380426,17.853156281124193,18.379442443206472,null,13,44.571708008609157,44.571708008609157,44.571708008609157,44.571708008609157,44.571708008609157,44.571708008609157,44.571708008609157,44.571708008609157,44.571708008609157,44.571708008609157,44.571708008609157,44.571708008609157,null,null,null,13,379.99999999999994,58.481782297351849,58.481782297351849,58.481782297351849,58.481782297351849,58.481782297351849,58.481782297351849,58.481782297351849,58.481782297351849,58.481782297351849,58.481782297351849,58.481782297351849,58.481782297351849,null,null,14513.036052724447,25.533604285522994,28.086964714075297,28.086964714075297,28.086964714075297,28.086964714075297,28.086964714075297,28.086964714075297,28.086964714075297,28.086964714075297,28.086964714075297,28.086964714075297,28.086964714075297,28.086964714075297,null,null,null,13,379.99999999999994,15.343419368976617,37.209094349891174,37.209094349891174,37.209094349891174,37.209094349891174,37.209094349891174,37.209094349891174,37.209094349891174,37.209094349891174,37.209094349891174,37.209094349891174,37.209094349891174,37.209094349891174,null,null,"Apr",{"$f":"J39","v":107.162786197218},{"$f":"J38","v":109.06113803061299},{"$f":"J37","v":106.166444135502},{"$f":"J36","v":88.963124879351895}]
[null,null,null,{"$f":"update(BG6,BH5,\"Diphasic curves\")","v":"Diphasic curves"},null,20,31.7721517964554,31.7721517964554,31.7721517964554,31.7721517964554,31.7721517964554,31.7721517964554,31.7721517964554,31.7721517964554,31.7721517964554,31.7721517964554,31.7721517964554,31.7721517964554,592.79999999999995,null,null,null,null,null,null,null,null,null,null,null,17.035231554136558,17.668506101986242,18.588989230071515,19.269778445454218,19.488064471701549,19.032738926333327,18.155901201052476,16.982150714953164,16.141369339557841,15.730647785270234,16.131289601684081,16.807868507351952,17.586044656629429,null,14,42.647651030968909,42.647651030968909,42.647651030968909,42.647651030968909,42.647651030968909,42.647651030968909,42.647651030968909,42.647651030968909,42.647651030968909,42.647651030968909,42.647651030968909,42.647651030968909,null,null,null,14,410.4,53.784233011132272,53.784233011132272,53.784233011132272,53.784233011132272,53.784233011132272,53.784233011132272,53.784233011132272,53.784233011132272,53.784233011132272,53.784233011132272,53.784233011132272,53.784233011132272,null,null,15232.037764233335,23.65137208910819,26.01650929801901,26.01650929801901,26.01650929801901,26.01650929801901,26.01650929801901,26.01650929801901,26.01650929801901,26.01650929801901,26.01650929801901,26.01650929801901,26.01650929801901,26.01650929801901,null,null,null,14,410.4,12.911619304290122,31.311772776973331,31.311772776973331,31.311772776973331,31.311772776973331,31.311772776973331,31.311772776973331,31.311772776973331,31.311772776973331,31.311772776973331,31.311772776973331,31.311772776973331,31.311772776973331,null,null,"May",{"$f":"K40","v":103.03556541264599},{"$f":"K39","v":107.162786197218},{"$f":"K38","v":109.06113803061299},{"$f":"K37","v":106.166444135502},{"$f":"K36","v":88.963124879351895}]
[null,null,"lact 1, phase 1, a",11111.9143868501,null,21,29.019929952484201,29.019929952484201,29.019929952484201,29.019929952484201,29.019929952484201,29.019929952484201,29.019929952484201,29.019929952484201,29.019929952484201,29.019929952484201,29.019929952484201,29.019929952484201,623.20000000000005,null,null,null,null,null,null,null,null,null,null,null,15.987838761320081,16.540253700416756,17.473942672978673,18.328362325533835,18.782980234521496,18.5537595518127,17.806913077484182,16.631618685886124,15.68170372515003,15.126710062607788,15.385183231806414,15.900400760854701,16.849972232531066,null,15,40.862612923230877,40.862612923230877,40.862612923230877,40.862612923230877,40.862612923230877,40.862612923230877,40.862612923230877,40.862612923230877,40.862612923230877,40.862612923230877,40.862612923230877,40.862612923230877,null,null,null,15,440.79999999999995,49.394663563242091,49.394663563242091,49.394663563242091,49.394663563242091,49.394663563242091,49.394663563242091,49.394663563242091,49.394663563242091,49.394663563242091,49.394663563242091,49.394663563242091,49.394663563242091,null,null,15897.169577690018,21.879335968969837,24.067269565866823,24.067269565866823,24.067269565866823,24.067269565866823,24.067269565866823,24.067269565866823,24.067269565866823,24.067269565866823,24.067269565866823,24.067269565866823,24.067269565866823,24.067269565866823,null,null,null,15,440.79999999999995,10.797202729559494,26.184133107343865,26.184133107343865,26.184133107343865,26.184133107343865,26.184133107343865,26.184133107343865,26.184133107343865,26.184133107343865,26.184133107343865,26.184133107343865,26.184133107343865,26.184133107343865,null,null,"Jun",{"$f":"L41","v":97.796154012328003},{"$f":"L40","v":103.03556541264599},{"$f":"L39","v":107.162786197218},{"$f":"L38","v":109.06113803061299},{"$f":"L37","v":106.166444135502},{"$f":"L36","v":88.963124879351895}]
[null,null,"lact 1, phase 1, b",2.2119208448299001E-3,null,22,26.490018089881399,26.490018089881399,26.490018089881399,26.490018089881399,26.490018089881399,26.490018089881399,26.490018089881399,26.490018089881399,26.490018089881399,26.490018089881399,26.490018089881399,26.490018089881399,653.6,null,null,null,null,null,null,null,null,null,null,null,15.061965158423266,15.474248482402608,16.287215466920784,17.188309764156635,17.797554137832922,17.80902572757244,17.262866297870946,16.245365577980238,15.32109020129025,14.731583040800707,14.837176053034813,15.098602483163578,16.092916865954098,null,16,39.026689398908111,39.026689398908111,39.026689398908111,39.026689398908111,39.026689398908111,39.026689398908111,39.026689398908111,39.026689398908111,39.026689398908111,39.026689398908111,39.026689398908111,39.026689398908111,null,null,null,16,471.2,45.308230005824001,45.308230005824001,45.308230005824001,45.308230005824001,45.308230005824001,45.308230005824001,45.308230005824001,45.308230005824001,45.308230005824001,45.308230005824001,45.308230005824001,45.308230005824001,null,null,16511.7726259843,20.217205535996086,22.238926089595697,22.238926089595697,22.238926089595697,22.238926089595697,22.238926089595697,22.238926089595697,22.238926089595697,22.238926089595697,22.238926089595697,22.238926089595697,22.238926089595697,22.238926089595697,null,null,null,16,471.2,8.9821459356558044,21.782466316476636,21.782466316476636,21.782466316476636,21.782466316476636,21.782466316476636,21.782466316476636,21.782466316476636,21.782466316476636,21.782466316476636,21.782466316476636,21.782466316476636,21.782466316476636,null,null,"Jul",{"$f":"M42","v":92.030868029078903},{"$f":"M41","v":97.796154012328003},{"$f":"M40","v":103.03556541264599},{"$f":"M39","v":107.162786197218},{"$f":"M38","v":109.06113803061299},{"$f":"M37","v":106.166444135502},{"$f":"M36","v":88.963124879351895}]
[null,null,"lact 1, phase 1, c",84.8372778027001,null,23,24.167309952636899,24.167309952636899,24.167309952636899,24.167309952636899,24.167309952636899,24.167309952636899,24.167309952636899,24.167309952636899,24.167309952636899,24.167309952636899,24.167309952636899,24.167309952636899,684,null,null,null,null,null,null,null,null,null,null,null,14.229656519944465,14.444412940278653,14.998822629884778,15.795344250220458,16.448646846831686,16.689534960920344,16.403135937223198,15.707867749710665,14.965442233092126,14.473736250099989,14.435794312987642,14.368678099972179,15.246756060930515,null,17,36.974677622904458,36.974677622904458,36.974677622904458,36.974677622904458,36.974677622904458,36.974677622904458,36.974677622904458,36.974677622904458,36.974677622904458,36.974677622904458,36.974677622904458,36.974677622904458,null,null,null,17,501.59999999999997,41.515688205529152,41.515688205529152,41.515688205529152,41.515688205529152,41.515688205529152,41.515688205529152,41.515688205529152,41.515688205529152,41.515688205529152,41.515688205529152,41.515688205529152,41.515688205529152,null,null,17079.124255759285,18.662882558387608,20.529170814226369,20.529170814226369,20.529170814226369,20.529170814226369,20.529170814226369,20.529170814226369,20.529170814226369,20.529170814226369,20.529170814226369,20.529170814226369,20.529170814226369,20.529170814226369,null,null,null,17,501.59999999999997,7.4402133586122314,18.043148934824966,18.043148934824966,18.043148934824966,18.043148934824966,18.043148934824966,18.043148934824966,18.043148934824966,18.043148934824966,18.043148934824966,18.043148934824966,18.043148934824966,18.043148934824966,null,null,"Aug",{"$f":"N43","v":86.078077127202306},{"$f":"N42","v":92.030868029078903},{"$f":"N41","v":97.796154012328003},{"$f":"N40","v":103.03556541264599},{"$f":"N39","v":107.162786197218},{"$f":"N38","v":109.06113803061299},{"$f":"N37","v":106.166444135502},{"$f":"N36","v":88.963124879351895}]
[null,null,"lact 1, phase 2, a",4532.3905743120704,null,24,22.037148447132399,22.037148447132399,22.037148447132399,22.037148447132399,22.037148447132399,22.037148447132399,22.037148447132399,22.037148447132399,22.037148447132399,22.037148447132399,22.037148447132399,22.037148447132399,714.4,null,null,null,null,null,null,null,null,null,null,null,13.460784689153334,13.433239797930332,13.611765008817081,14.149905542858477,14.721093837798776,15.149071775530775,15.156822986176868,14.921908276901069,14.514339302975431,14.255274121844977,14.108892614254101,13.679223447840169,14.263526783506782,null,18,34.590263166684387,34.590263166684387,34.590263166684387,34.590263166684387,34.590263166684387,34.590263166684387,34.590263166684387,34.590263166684387,34.590263166684387,34.590263166684387,34.590263166684387,34.590263166684387,null,null,null,18,532,38.004923318848761,38.004923318848761,38.004923318848761,38.004923318848761,38.004923318848761,38.004923318848761,38.004923318848761,38.004923318848761,38.004923318848761,38.004923318848761,38.004923318848761,38.004923318848761,null,null,17602.400566935306,17.213036551842833,18.93434020702712,18.93434020702712,18.93434020702712,18.93434020702712,18.93434020702712,18.93434020702712,18.93434020702712,18.93434020702712,18.93434020702712,18.93434020702712,18.93434020702712,18.93434020702712,null,null,null,18,532,6.1413572056412136,14.893312514362274,14.893312514362274,14.893312514362274,14.893312514362274,14.893312514362274,14.893312514362274,14.893312514362274,14.893312514362274,14.893312514362274,14.893312514362274,14.893312514362274,14.893312514362274,null,null,"Sep",{"$f":"O44","v":80.142905464492003},{"$f":"O43","v":86.078077127202306},{"$f":"O42","v":92.030868029078903},{"$f":"O41","v":97.796154012328003},{"$f":"O40","v":103.03556541264599},{"$f":"O39","v":107.162786197218},{"$f":"O38","v":109.06113803061299},{"$f":"O37","v":106.166444135502},{"$f":"O36","v":88.963124879351895}]
[null,null,"lact 1, phase 2, b",2.6179328048536602E-3,null,null,null,null,null,null,null,null,null,null,null,null,null,null,null,null,null,null,null,null,null,null,null,null,null,null,12.725620840809336,12.43667694593071,12.172489320247459,12.323916195261662,12.68922679096273,13.226192056197657,13.522735047699213,13.821165889606043,13.866653874156777,13.951509135426374,13.763341080034104,13.005262200896905,13.125399114769081,null,19,31.830206963442681,31.830206963442681,31.830206963442681,31.830206963442681,31.830206963442681,31.830206963442681,31.830206963442681,31.830206963442681,31.830206963442681,31.830206963442681,31.830206963442681,31.830206963442681,null,null,null,19,562.4,34.762041306304958,34.762041306304958,34.762041306304958,34.762041306304958,34.762041306304958,34.762041306304958,34.762041306304958,34.762041306304958,34.762041306304958,34.762041306304958,34.762041306304958,34.762041306304958,null,null,18084.651570438778,15.863519852087926,17.449871837296719,17.449871837296719,17.449871837296719,17.449871837296719,17.449871837296719,17.449871837296719,17.449871837296719,17.449871837296719,17.449871837296719,17.449871837296719,17.449871837296719,17.449871837296719,null,null,null,19,562.4,5.0547644333027488,12.258232809273794,12.258232809273794,12.258232809273794,12.258232809273794,12.258232809273794,12.258232809273794,12.258232809273794,12.258232809273794,12.258232809273794,12.258232809273794,12.258232809273794,12.258232809273794,null,null,"Oct",{"$f":"P45","v":74.352247148052598},{"$f":"P44","v":80.142905464492003},{"$f":"P43","v":86.078077127202306},{"$f":"P42","v":92.030868029078903},{"$f":"P41","v":97.796154012328003},{"$f":"P40","v":103.03556541264599},{"$f":"P39","v":107.162786197218},{"$f":"P38","v":109.06113803061299},{"$f":"P37","v":106.166444135502},{"$f":"P36","v":88.963124879351895}]
[null,null,"lact 1, phase 2, c",124.146313312345,null,null,"Lactation 3",null,null,null,null,null,null,null,null,null,null,null,null,null,null,null,null,null,null,null,null,null,null,null,11.997408743880237,11.469012376677508,10.781348190912839,10.477548078501231,10.538394983362062,11.066207393587469,11.589367033794677,12.382803908993527,12.926178354140312,13.410534965249262,13.284712519778159,12.332282297545039,11.854649903868527,null,20,28.748532263274317,28.748532263274317,28.748532263274317,28.748532263274317,28.748532263274317,28.748532263274317,28.748532263274317,28.748532263274317,28.748532263274317,28.748532263274317,28.748532263274317,28.748532263274317,null,null,null,20,592.80000000000007,31.772151796455425,31.772151796455425,31.772151796455425,31.772151796455425,31.772151796455425,31.772151796455425,31.772151796455425,31.772151796455425,31.772151796455425,31.772151796455425,31.772151796455425,31.772151796455425,null,null,18528.785519535282,14.609669378174523,16.070636315991976,16.070636315991976,16.070636315991976,16.070636315991976,16.070636315991976,16.070636315991976,16.070636315991976,16.070636315991976,16.070636315991976,16.070636315991976,16.070636315991976,16.070636315991976,null,null,null,20,592.80000000000007,4.1508101711515852,10.066066994111543,10.066066994111543,10.066066994111543,10.066066994111543,10.066066994111543,10.066066994111543,10.066066994111543,10.066066994111543,10.066066994111543,10.066066994111543,10.066066994111543,10.066066994111543,null,null,"Nov",{"$f":"Q46","v":68.784276411959596},{"$f":"Q45","v":74.352247148052598},{"$f":"Q44","v":80.142905464492003},{"$f":"Q43","v":86.078077127202306},{"$f":"Q42","v":92.030868029078903},{"$f":"Q41","v":97.796154012328003},{"$f":"Q40","v":103.03556541264599},{"$f":"Q39","v":107.162786197218},{"$f":"Q38","v":109.06113803061299},{"$f":"Q37","v":106.166444135502},{"$f":"Q36","v":88.963124879351895}]
[null,null,"lact 2, phase 1, a",7573.8781797789497,null,"month","Jan","Feb","Mar","Apr","May","Jun","Jul","Aug","Sep","Oct","Nov","Dec","day",null,null,null,null,null,null,null,null,null,null,null,11.254938024260596,10.567759119530137,9.6030601983811437,8.8759889053511287,8.586486681707683,8.9431694289922472,9.554881862210717,10.640059184227251,11.607252058208415,12.45279962769612,12.536969594827223,11.660272367164154,10.523636421046403,null,21,25.52071158834422,25.52071158834422,25.52071158834422,25.52071158834422,25.52071158834422,25.52071158834422,25.52071158834422,25.52071158834422,25.52071158834422,25.52071158834422,25.52071158834422,25.52071158834422,null,null,null,21,623.20000000000005,29.019929952484173,29.019929952484173,29.019929952484173,29.019929952484173,29.019929952484173,29.019929952484173,29.019929952484173,29.019929952484173,29.019929952484173,29.019929952484173,29.019929952484173,29.019929952484173,null,null,18937.559940510215,13.446527005754364,14.791179706329801,14.791179706329801,14.791179706329801,14.791179706329801,14.791179706329801,14.791179706329801,14.791179706329801,14.791179706329801,14.791179706329801,14.791179706329801,14.791179706329801,14.791179706329801,null,null,null,21,623.20000000000005,3.4021900002328245,8.2505995352561996,8.2505995352561996,8.2505995352561996,8.2505995352561996,8.2505995352561996,8.2505995352561996,8.2505995352561996,8.2505995352561996,8.2505995352561996,8.2505995352561996,8.2505995352561996,8.2505995352561996,null,null,"Dec",{"$f":"R47","v":63.485591950663},{"$f":"R46","v":68.784276411959596},{"$f":"R45","v":74.352247148052598},{"$f":"R44","v":80.142905464492003},{"$f":"R43","v":86.078077127202306},{"$f":"R42","v":92.030868029078903},{"$f":"R41","v":97.796154012328003},{"$f":"R40","v":103.03556541264599},{"$f":"R39","v":107.162786197218},{"$f":"R38","v":109.06113803061299},{"$f":"R37","v":106.166444135502},{"$f":"R36","v":88.963124879351895}]
[null,null,"lact 2, phase 1, b",3.7891438428152399E-3,null,1,95.346042037239201,95.346042037239201,95.346042037239201,95.346042037239201,95.346042037239201,95.346042037239201,95.346042037239201,95.346042037239201,95.346042037239201,95.346042037239201,95.346042037239201,95.346042037239201,15.2,null,null,null,null,null,null,null,null,null,null,null,10.48511742749027,9.7985401759467337,8.8771699116751215,7.9062087541104775,7.3054505352453178,7.2818541990825727,7.7470911531436606,8.6948310293491424,9.8403881729123874,10.87067862808985,11.362151984052593,11.007758156814361,9.2647700106593742,null,22,22.46785368805703,22.46785368805703,22.46785368805703,22.46785368805703,22.46785368805703,22.46785368805703,22.46785368805703,22.46785368805703,22.46785368805703,22.46785368805703,22.46785368805703,22.46785368805703,null,null,null,22,653.6,26.490018089881399,26.490018089881399,26.490018089881399,26.490018089881399,26.490018089881399,26.490018089881399,26.490018089881399,26.490018089881399,26.490018089881399,26.490018089881399,26.490018089881399,26.490018089881399,null,null,19313.577559831545,12.369000635570016,13.605900699127019,13.605900699127019,13.605900699127019,13.605900699127019,13.605900699127019,13.605900699127019,13.605900699127019,13.605900699127019,13.605900699127019,13.605900699127019,13.605900699127019,13.605900699127019,null,null,null,22,653.6,2.7844721937840422,6.7525814214950559,6.7525814214950559,6.7525814214950559,6.7525814214950559,6.7525814214950559,6.7525814214950559,6.7525814214950559,6.7525814214950559,6.7525814214950559,6.7525814214950559,6.7525814214950559,6.7525814214950559,null,null,"Jan",{"$f":"G48","v":58.481782297351799},{"$f":"G47","v":63.485591950663},{"$f":"G46","v":68.784276411959596},{"$f":"G45","v":74.352247148052598},{"$f":"G44","v":80.142905464492003},{"$f":"G43","v":86.078077127202306},{"$f":"G42","v":92.030868029078903},{"$f":"G41","v":97.796154012328003},{"$f":"G40","v":103.03556541264599},{"$f":"G39","v":107.162786197218},{"$f":"G38","v":109.06113803061299},{"$f":"G37","v":106.166444135502}]
[null,null,"lact 2, phase 1, c",55.7223134200621,null,2,112.816871003835,112.816871003835,112.816871003835,112.816871003835,112.816871003835,112.816871003835,112.816871003835,112.816871003835,112.816871003835,112.816871003835,112.816871003835,112.816871003835,45.6,null,null,null,null,null,null,null,null,null,null,null,9.7152968307199501,9.0293212323633298,8.1512796249690993,6.9364286028698299,6.02441438878295,5.6205389691729,5.9393004440766104,6.7496028744710301,8.0735242876163706,9.2885576284835807,10.187334373278,10.355243946464601,8.0059036002723545,null,23,19.414995787769858,19.414995787769858,19.414995787769858,19.414995787769858,19.414995787769858,19.414995787769858,19.414995787769858,19.414995787769858,19.414995787769858,19.414995787769858,19.414995787769858,19.414995787769858,null,null,null,23,684,24.167309952636852,24.167309952636852,24.167309952636852,24.167309952636852,24.167309952636852,24.167309952636852,24.167309952636852,24.167309952636852,24.167309952636852,24.167309952636852,24.167309952636852,24.167309952636852,null,null,19659.285798811779,11.371981545402418,12.509179699942662,12.509179699942662,12.509179699942662,12.509179699942662,12.509179699942662,12.509179699942662,12.509179699942662,12.509179699942662,12.509179699942662,12.509179699942662,12.509179699942662,12.509179699942662,null,null,null,23,684,2.276263432032104,5.52013203647049,5.52013203647049,5.52013203647049,5.52013203647049,5.52013203647049,5.52013203647049,5.52013203647049,5.52013203647049,5.52013203647049,5.52013203647049,5.52013203647049,5.52013203647049,null,null,"Feb",{"$f":"H49","v":53.784233011132301},{"$f":"H48","v":58.481782297351799},{"$f":"H47","v":63.485591950663},{"$f":"H46","v":68.784276411959596},{"$f":"H45","v":74.352247148052598},{"$f":"H44","v":80.142905464492003},{"$f":"H43","v":86.078077127202306},{"$f":"H42","v":92.030868029078903},{"$f":"H41","v":97.796154012328003},{"$f":"H40","v":103.03556541264599},{"$f":"H39","v":107.162786197218},{"$f":"H38","v":109.06113803061299}]
[null,null,"lact 2, phase 2, a",4609.7805615738698,null,3,115.24638323304301,115.24638323304301,115.24638323304301,115.24638323304301,115.24638323304301,115.24638323304301,115.24638323304301,115.24638323304301,115.24638323304301,115.24638323304301,115.24638323304301,115.24638323304301,76,null,null,null,null,null,null,null,null,null,null,null,8.9454762339496199,8.2601022887799296,7.42538933826307,5.9666484516291796,4.7433782423205804,3.9592237392632299,4.1315097350095504,4.8043747195929196,6.3066604023203396,7.7064366288773103,9.0125167625033296,9.7027297361147706,6.7470371898853196,null,24,16.362137887482653,16.362137887482653,16.362137887482653,16.362137887482653,16.362137887482653,16.362137887482653,16.362137887482653,16.362137887482653,16.362137887482653,16.362137887482653,16.362137887482653,16.362137887482653,null,null,null,24,714.4,22.037148447132413,22.037148447132413,22.037148447132413,22.037148447132413,22.037148447132413,22.037148447132413,22.037148447132413,22.037148447132413,22.037148447132413,22.037148447132413,22.037148447132413,22.037148447132413,null,null,19976.978847062615,10.45042921877746,11.495472140655206,11.495472140655206,11.495472140655206,11.495472140655206,11.495472140655206,11.495472140655206,11.495472140655206,11.495472140655206,11.495472140655206,11.495472140655206,11.495472140655206,11.495472140655206,null,null,null,24,714.4,1.8591331875835273,4.5085557868332824,4.5085557868332824,4.5085557868332824,4.5085557868332824,4.5085557868332824,4.5085557868332824,4.5085557868332824,4.5085557868332824,4.5085557868332824,4.5085557868332824,4.5085557868332824,4.5085557868332824,null,null,"Mar",{"$f":"I50","v":49.394663563242098},{"$f":"I49","v":53.784233011132301},{"$f":"I48","v":58.481782297351799},{"$f":"I47","v":63.485591950663},{"$f":"I46","v":68.784276411959596},{"$f":"I45","v":74.352247148052598},{"$f":"I44","v":80.142905464492003},{"$f":"I43","v":86.078077127202306},{"$f":"I42","v":92.030868029078903},{"$f":"I41","v":97.796154012328003},{"$f":"I40","v":103.03556541264599},{"$f":"I39","v":107.162786197218}]
[null,null,"lact 2, phase 2, b",3.1718183841241798E-3,null,4,112.70686787317101,112.70686787317101,112.70686787317101,112.70686787317101,112.70686787317101,112.70686787317101,112.70686787317101,112.70686787317101,112.70686787317101,112.70686787317101,112.70686787317101,112.70686787317101,106.4,null,null,null,null,null,null,null,null,null,null,null,null,null,null,null,null,null,null,null,null,null,null,null,null,null,null,null,null,null,null,null,null,null,null,null,null,null,null,null,null,null,null,null,null,null,null,null,null,null,null,null,null,null,null,null,null,null,null,null,null,null,null,null,null,null,null,null,null,null,null,null,null,null,null,null,null,null,null,null,null,null,null,null,null,null,null,null,null,null,null,null,"Apr",{"$f":"J51","v":45.308230005824001},{"$f":"J50","v":49.394663563242098},{"$f":"J49","v":53.784233011132301},{"$f":"J48","v":58.481782297351799},{"$f":"J47","v":63.485591950663},{"$f":"J46","v":68.784276411959596},{"$f":"J45","v":74.352247148052598},{"$f":"J44","v":80.142905464492003},{"$f":"J43","v":86.078077127202306},{"$f":"J42","v":92.030868029078903},{"$f":"J41","v":97.796154012328003},{"$f":"J40","v":103.03556541264599}]
[null,null,"lact 2, phase 2, c",92.585956781865804,null,5,107.901520690724,107.901520690724,107.901520690724,107.901520690724,107.901520690724,107.901520690724,107.901520690724,107.901520690724,107.901520690724,107.901520690724,107.901520690724,107.901520690724,136.80000000000001,null,null,null,null,null,null,null,null,null,null,null,null,null,null,null,null,null,null,null,null,null,null,null,null,null,null,null,null,null,null,null,null,null,null,null,null,null,null,null,null,null,null,null,null,"woodscurves3",null,null,null,null,null,null,null,null,null,null,null,null,null,null,null,"peakmilkcurves3",null,null,null,null,null,null,null,null,null,null,null,null,null,null,null,null,null,null,null,null,null,null,null,null,null,null,null,null,null,null,"May",{"$f":"K52","v":41.515688205529202},{"$f":"K51","v":45.308230005824001},{"$f":"K50","v":49.394663563242098},{"$f":"K49","v":53.784233011132301},{"$f":"K48","v":58.481782297351799},{"$f":"K47","v":63.485591950663},{"$f":"K46","v":68.784276411959596},{"$f":"K45","v":74.352247148052598},{"$f":"K44","v":80.142905464492003},{"$f":"K43","v":86.078077127202306},{"$f":"K42","v":92.030868029078903},{"$f":"K41","v":97.796154012328003}]
[null,null,"lact 3+, phase 1, a",7928.5272875363298,null,6,102.001410288806,102.001410288806,102.001410288806,102.001410288806,102.001410288806,102.001410288806,102.001410288806,102.001410288806,102.001410288806,102.001410288806,102.001410288806,102.001410288806,167.2,null,null,null,null,null,null,null,null,null,null,null,"Jan","Feb","Mar","Apr","May","Jun","Jul","Aug","Sep","Oct","Nov","Dec","Avg",null,"mim",null,"floridacurves3",null,null,null,null,null,null,null,null,null,null,null,null,null,"mim",null,"Jan","Feb","Mar","Apr","May","Jun","Jul","Aug","Sep","Oct","Nov","Dec",null,null,null,null,"Jan","Feb","Mar","Apr","May","Jun","Jul","Aug","Sep","Oct","Nov","Dec",null,null,null,null,null,null,"diphasiccurves3",null,null,null,null,null,null,null,null,null,null,null,null,null,"Jun",{"$f":"L53","v":38.004923318848803},{"$f":"L52","v":41.515688205529202},{"$f":"L51","v":45.308230005824001},{"$f":"L50","v":49.394663563242098},{"$f":"L49","v":53.784233011132301},{"$f":"L48","v":58.481782297351799},{"$f":"L47","v":63.485591950663},{"$f":"L46","v":68.784276411959596},{"$f":"L45","v":74.352247148052598},{"$f":"L44","v":80.142905464492003},{"$f":"L43","v":86.078077127202306},{"$f":"L42","v":92.030868029078903}]
[null,null,"lact 3+, phase 1, b",3.9198545299194898E-3,null,7,95.616955270286596,95.616955270286596,95.616955270286596,95.616955270286596,95.616955270286596,95.616955270286596,95.616955270286596,95.616955270286596,95.616955270286596,95.616955270286596,95.616955270286596,95.616955270286596,197.6,null,null,null,null,null,null,null,null,null,null,null,36.169440075562811,36.472720928580898,35.848122243780793,34.511162374965174,32.299548085011892,28.786204712749136,26.57889559441151,26.391090917225338,27.650559765187161,30.170789990568291,32.471185701776001,34.489042155207414,31.8198968787522,null,1,{"$f":"((mseasonality*AE69*msea1+(1-mseasonality)*$AQ69)+mabs)*(1+pct)*lbs","v":77.165950867460936},{"$f":"((mseasonality*AF69*msea2+(1-mseasonality)*$AQ69)+mabs)*(1+pct)*lbs","v":77.165950867460936},{"$f":"((mseasonality*AG69*msea3+(1-mseasonality)*$AQ69)+mabs)*(1+pct)*lbs","v":77.165950867460936},{"$f":"((mseasonality*AH69*msea4+(1-mseasonality)*$AQ69)+mabs)*(1+pct)*lbs","v":77.165950867460936},{"$f":"((mseasonality*AI69*msea5+(1-mseasonality)*$AQ69)+mabs)*(1+pct)*lbs","v":77.165950867460936},{"$f":"((mseasonality*AJ69*msea6+(1-mseasonality)*$AQ69)+mabs)*(1+pct)*lbs","v":77.165950867460936},{"$f":"((mseasonality*AK69*msea7+(1-mseasonality)*$AQ69)+mabs)*(1+pct)*lbs","v":77.165950867460936},{"$f":"((mseasonality*AL69*msea8+(1-mseasonality)*$AQ69)+mabs)*(1+pct)*lbs","v":77.165950867460936},{"$f":"((mseasonality*AM69*msea9+(1-mseasonality)*$AQ69)+mabs)*(1+pct)*lbs","v":77.165950867460936},{"$f":"((mseasonality*AN69*msea10+(1-mseasonality)*$AQ69)+mabs)*(1+pct)*lbs","v":77.165950867460936},{"$f":"((mseasonality*AO69*msea11+(1-mseasonality)*$AQ69)+mabs)*(1+pct)*lbs","v":77.165950867460936},{"$f":"((mseasonality*AP69*msea12+(1-mseasonality)*$AQ69)+mabs)*(1+pct)*lbs","v":77.165950867460936},null,null,null,1,{"$f":"(BI69-1)*30.4+15.2","v":15.2},{"$f":"((mseasonality*($D$38*($BJ69)^$D$39*EXP(-$D$40*$BJ69)*msea1) +(1-mseasonality)*($D$38*($BJ69)^$D$39*EXP(-$D$40*$BJ69)*mseaavg)))*(1+pct)*lbs+mabs","v":95.346042037239158},{"$f":"((mseasonality*($D$38*($BJ69)^$D$39*EXP(-$D$40*$BJ69)*msea2) +(1-mseasonality)*($D$38*($BJ69)^$D$39*EXP(-$D$40*$BJ69)*mseaavg)))*(1+pct)*lbs+mabs","v":95.346042037239158},{"$f":"((mseasonality*($D$38*($BJ69)^$D$39*EXP(-$D$40*$BJ69)*msea3) +(1-mseasonality)*($D$38*($BJ69)^$D$39*EXP(-$D$40*$BJ69)*mseaavg)))*(1+pct)*lbs+mabs","v":95.346042037239158},{"$f":"((mseasonality*($D$38*($BJ69)^$D$39*EXP(-$D$40*$BJ69)*msea4) +(1-mseasonality)*($D$38*($BJ69)^$D$39*EXP(-$D$40*$BJ69)*mseaavg)))*(1+pct)*lbs+mabs","v":95.346042037239158},{"$f":"((mseasonality*($D$38*($BJ69)^$D$39*EXP(-$D$40*$BJ69)*msea5) +(1-mseasonality)*($D$38*($BJ69)^$D$39*EXP(-$D$40*$BJ69)*mseaavg)))*(1+pct)*lbs+mabs","v":95.346042037239158},{"$f":"((mseasonality*($D$38*($BJ69)^$D$39*EXP(-$D$40*$BJ69)*msea6) +(1-mseasonality)*($D$38*($BJ69)^$D$39*EXP(-$D$40*$BJ69)*mseaavg)))*(1+pct)*lbs+mabs","v":95.346042037239158},{"$f":"((mseasonality*($D$38*($BJ69)^$D$39*EXP(-$D$40*$BJ69)*msea7) +(1-mseasonality)*($D$38*($BJ69)^$D$39*EXP(-$D$40*$BJ69)*mseaavg)))*(1+pct)*lbs+mabs","v":95.346042037239158},{"$f":"((mseasonality*($D$38*($BJ69)^$D$39*EXP(-$D$40*$BJ69)*msea8) +(1-mseasonality)*($D$38*($BJ69)^$D$39*EXP(-$D$40*$BJ69)*mseaavg)))*(1+pct)*lbs+mabs","v":95.346042037239158},{"$f":"((mseasonality*($D$38*($BJ69)^$D$39*EXP(-$D$40*$BJ69)*msea9) +(1-mseasonality)*($D$38*($BJ69)^$D$39*EXP(-$D$40*$BJ69)*mseaavg)))*(1+pct)*lbs+mabs","v":95.346042037239158},{"$f":"((mseasonality*($D$38*($BJ69)^$D$39*EXP(-$D$40*$BJ69)*msea10) +(1-mseasonality)*($D$38*($BJ69)^$D$39*EXP(-$D$40*$BJ69)*mseaavg)))*(1+pct)*lbs+mabs","v":95.346042037239158},{"$f":"((mseasonality*($D$38*($BJ69)^$D$39*EXP(-$D$40*$BJ69)*msea11) +(1-mseasonality)*($D$38*($BJ69)^$D$39*EXP(-$D$40*$BJ69)*mseaavg)))*(1+pct)*lbs+mabs","v":95.346042037239158},{"$f":"((mseasonality*($D$38*($BJ69)^$D$39*EXP(-$D$40*$BJ69)*msea12) +(1-mseasonality)*($D$38*($BJ69)^$D$39*EXP(-$D$40*$BJ69)*mseaavg)))*(1+pct)*lbs+mabs","v":95.346042037239158},null,null,{"$f":"BZ69*30.4","v":1129.1643682739077},{"$f":"(CK$6*($BJ69)^CL$6*EXP(-CM$6*$BJ69))","v":37.143564745852231},{"$f":"((mseasonality*$BZ69*msea1+(1-mseasonality)*$BZ69*mseaavg))*(1+pct)+mabs","v":40.857921220437454},{"$f":"((mseasonality*$BZ69*msea2+(1-mseasonality)*$BZ69*mseaavg))*(1+pct)+mabs","v":40.857921220437454},{"$f":"((mseasonality*$BZ69*msea3+(1-mseasonality)*$BZ69*mseaavg))*(1+pct)+mabs","v":40.857921220437454},{"$f":"((mseasonality*$BZ69*msea4+(1-mseasonality)*$BZ69*mseaavg))*(1+pct)+mabs","v":40.857921220437454},{"$f":"((mseasonality*$BZ69*msea5+(1-mseasonality)*$BZ69*mseaavg))*(1+pct)+mabs","v":40.857921220437454},{"$f":"((mseasonality*$BZ69*msea6+(1-mseasonality)*$BZ69*mseaavg))*(1+pct)+mabs","v":40.857921220437454},{"$f":"((mseasonality*$BZ69*msea7+(1-mseasonality)*$BZ69*mseaavg))*(1+pct)+mabs","v":40.857921220437454},{"$f":"((mseasonality*$BZ69*msea8+(1-mseasonality)*$BZ69*mseaavg))*(1+pct)+mabs","v":40.857921220437454},{"$f":"((mseasonality*$BZ69*msea9+(1-mseasonality)*$BZ69*mseaavg))*(1+pct)+mabs","v":40.857921220437454},{"$f":"((mseasonality*$BZ69*msea10+(1-mseasonality)*$BZ69*mseaavg))*(1+pct)+mabs","v":40.857921220437454},{"$f":"((mseasonality*$BZ69*msea11+(1-mseasonality)*$BZ69*mseaavg))*(1+pct)+mabs","v":40.857921220437454},{"$f":"((mseasonality*$BZ69*msea12+(1-mseasonality)*$BZ69*mseaavg))*(1+pct)+mabs","v":40.857921220437454},null,null,null,1,{"$f":"(CP69-1)*30.4+15.2","v":15.2},{"$f":"dp3_1a*dp3_1b*(1-(TANH(dp3_1b*($CQ69-dp3_1c)))^2)+dp3_2a*dp3_2b*(1-(TANH(dp3_2b*($CQ69-dp3_2c)))^2)","v":44.574945722666357},{"$f":"((mseasonality*$CR69*msea1+(1-mseasonality)*$CR69*mseaavg)*(1+pct)*lbs)+mabs","v":108.09802698800875},{"$f":"((mseasonality*$CR69*msea2+(1-mseasonality)*$CR69*mseaavg)*(1+pct)*lbs)+mabs","v":108.09802698800875},{"$f":"((mseasonality*$CR69*msea3+(1-mseasonality)*$CR69*mseaavg)*(1+pct)*lbs)+mabs","v":108.09802698800875},{"$f":"((mseasonality*$CR69*msea4+(1-mseasonality)*$CR69*mseaavg)*(1+pct)*lbs)+mabs","v":108.09802698800875},{"$f":"((mseasonality*$CR69*msea5+(1-mseasonality)*$CR69*mseaavg)*(1+pct)*lbs)+mabs","v":108.09802698800875},{"$f":"((mseasonality*$CR69*msea6+(1-mseasonality)*$CR69*mseaavg)*(1+pct)*lbs)+mabs","v":108.09802698800875},{"$f":"((mseasonality*$CR69*msea7+(1-mseasonality)*$CR69*mseaavg)*(1+pct)*lbs)+mabs","v":108.09802698800875},{"$f":"((mseasonality*$CR69*msea8+(1-mseasonality)*$CR69*mseaavg)*(1+pct)*lbs)+mabs","v":108.09802698800875},{"$f":"((mseasonality*$CR69*msea9+(1-mseasonality)*$CR69*mseaavg)*(1+pct)*lbs)+mabs","v":108.09802698800875},{"$f":"((mseasonality*$CR69*msea10+(1-mseasonality)*$CR69*mseaavg)*(1+pct)*lbs)+mabs","v":108.09802698800875},{"$f":"((mseasonality*$CR69*msea11+(1-mseasonality)*$CR69*mseaavg)*(1+pct)*lbs)+mabs","v":108.09802698800875},{"$f":"((mseasonality*$CR69*msea12+(1-mseasonality)*$CR69*mseaavg)*(1+pct)*lbs)+mabs","v":108.09802698800875},null,null,"Jul",{"$f":"M54","v":34.762041306305001},{"$f":"M53","v":38.004923318848803},{"$f":"M52","v":41.515688205529202},{"$f":"M51","v":45.308230005824001},{"$f":"M50","v":49.394663563242098},{"$f":"M49","v":53.784233011132301},{"$f":"M48","v":58.481782297351799},{"$f":"M47","v":63.485591950663},{"$f":"M46","v":68.784276411959596},{"$f":"M45","v":74.352247148052598},{"$f":"M44","v":80.142905464492003},{"$f":"M43","v":86.078077127202306}]
[null,null,"lact 3+, phase 1, c",55.119172393741401,null,8,89.096973961338406,89.096973961338406,89.096973961338406,89.096973961338406,89.096973961338406,89.096973961338406,89.096973961338406,89.096973961338406,89.096973961338406,89.096973961338406,89.096973961338406,89.096973961338406,228,null,null,null,null,null,null,null,null,null,null,null,36.828631410686626,37.756007981637254,37.7501128696506,37.423183801579924,36.416841769680431,34.474674280889971,32.554494357796919,31.364469220672074,31.219886714418116,32.149629439024366,33.534668620452749,35.332759346833711,34.733779984443565,null,2,84.232364734988295,84.232364734988295,84.232364734988295,84.232364734988295,84.232364734988295,84.232364734988295,84.232364734988295,84.232364734988295,84.232364734988295,84.232364734988295,84.232364734988295,84.232364734988295,null,null,null,2,{"$f":"(BI70-1)*30.4+15.2","v":45.599999999999994},112.81687100383465,112.81687100383465,112.81687100383465,112.81687100383465,112.81687100383465,112.81687100383465,112.81687100383465,112.81687100383465,112.81687100383465,112.81687100383465,112.81687100383465,112.81687100383465,null,null,2461.6942881487444,{"$f":"(CK$6*($BJ70)^CL$6*EXP(-CM$6*$BJ70))","v":43.833221048514368},48.216543153365805,48.216543153365805,48.216543153365805,48.216543153365805,48.216543153365805,48.216543153365805,48.216543153365805,48.216543153365805,48.216543153365805,48.216543153365805,48.216543153365805,48.216543153365805,null,null,null,2,{"$f":"(CP70-1)*30.4+15.2","v":45.599999999999994},45.831325709379939,111.14485509983523,111.14485509983523,111.14485509983523,111.14485509983523,111.14485509983523,111.14485509983523,111.14485509983523,111.14485509983523,111.14485509983523,111.14485509983523,111.14485509983523,111.14485509983523,null,null,"Aug",{"$f":"N55","v":31.7721517964554},{"$f":"N54","v":34.762041306305001},{"$f":"N53","v":38.004923318848803},{"$f":"N52","v":41.515688205529202},{"$f":"N51","v":45.308230005824001},{"$f":"N50","v":49.394663563242098},{"$f":"N49","v":53.784233011132301},{"$f":"N48","v":58.481782297351799},{"$f":"N47","v":63.485591950663},{"$f":"N46","v":68.784276411959596},{"$f":"N45","v":74.352247148052598},{"$f":"N44","v":80.142905464492003}]
[null,null,"lact 3+, phase 2, a",4707.01209506332,null,9,82.650110180537098,82.650110180537098,82.650110180537098,82.650110180537098,82.650110180537098,82.650110180537098,82.650110180537098,82.650110180537098,82.650110180537098,82.650110180537098,82.650110180537098,82.650110180537098,258.39999999999998,null,null,null,null,null,null,null,null,null,null,null,36.31421216145398,37.471219797033172,37.753550853609305,37.82797141319783,37.375772240825142,36.311508161176974,34.742656453501553,33.279747931551618,32.546290424000745,32.662552051675583,33.506393573176965,34.996627014748427,35.399041839662608,null,3,85.845681202651264,85.845681202651264,85.845681202651264,85.845681202651264,85.845681202651264,85.845681202651264,85.845681202651264,85.845681202651264,85.845681202651264,85.845681202651264,85.845681202651264,85.845681202651264,null,null,null,3,76,115.2463832330433,115.2463832330433,115.2463832330433,115.2463832330433,115.2463832330433,115.2463832330433,115.2463832330433,115.2463832330433,115.2463832330433,115.2463832330433,115.2463832330433,115.2463832330433,null,null,3829.6942881487444,45,49.500000000000007,49.500000000000007,49.500000000000007,49.500000000000007,49.500000000000007,49.500000000000007,49.500000000000007,49.500000000000007,49.500000000000007,49.500000000000007,49.500000000000007,49.500000000000007,null,null,null,3,76,45.955691424992253,111.44645251660575,111.44645251660575,111.44645251660575,111.44645251660575,111.44645251660575,111.44645251660575,111.44645251660575,111.44645251660575,111.44645251660575,111.44645251660575,111.44645251660575,111.44645251660575,null,null,"Sep",{"$f":"O56","v":29.019929952484201},{"$f":"O55","v":31.7721517964554},{"$f":"O54","v":34.762041306305001},{"$f":"O53","v":38.004923318848803},{"$f":"O52","v":41.515688205529202},{"$f":"O51","v":45.308230005824001},{"$f":"O50","v":49.394663563242098},{"$f":"O49","v":53.784233011132301},{"$f":"O48","v":58.481782297351799},{"$f":"O47","v":63.485591950663},{"$f":"O46","v":68.784276411959596},{"$f":"O45","v":74.352247148052598}]
[null,null,"lact 3+, phase 2, b",3.2127911962137102E-3,null,10,76.403046126361303,76.403046126361303,76.403046126361303,76.403046126361303,76.403046126361303,76.403046126361303,76.403046126361303,76.403046126361303,76.403046126361303,76.403046126361303,76.403046126361303,76.403046126361303,288.8,null,null,null,null,null,null,null,null,null,null,null,34.983644720564698,36.126330802611903,36.490228166928105,36.597543197405081,36.286078400470139,35.620967250251773,34.395972696450656,33.084208333385128,32.271509357142527,32.091672831357059,32.661625653947411,33.830126718490064,34.536659010750377,null,4,83.75432964175981,83.75432964175981,83.75432964175981,83.75432964175981,83.75432964175981,83.75432964175981,83.75432964175981,83.75432964175981,83.75432964175981,83.75432964175981,83.75432964175981,83.75432964175981,null,null,null,4,106.39999999999999,112.7068678731713,112.7068678731713,112.7068678731713,112.7068678731713,112.7068678731713,112.7068678731713,112.7068678731713,112.7068678731713,112.7068678731713,112.7068678731713,112.7068678731713,112.7068678731713,null,null,5177.2481286604188,44.327428964199818,48.760171860619806,48.760171860619806,48.760171860619806,48.760171860619806,48.760171860619806,48.760171860619806,48.760171860619806,48.760171860619806,48.760171860619806,48.760171860619806,48.760171860619806,48.760171860619806,null,null,null,4,106.39999999999999,44.944872525996857,108.99513088621214,108.99513088621214,108.99513088621214,108.99513088621214,108.99513088621214,108.99513088621214,108.99513088621214,108.99513088621214,108.99513088621214,108.99513088621214,108.99513088621214,108.99513088621214,null,null,"Oct",{"$f":"P57","v":26.490018089881399},{"$f":"P56","v":29.019929952484201},{"$f":"P55","v":31.7721517964554},{"$f":"P54","v":34.762041306305001},{"$f":"P53","v":38.004923318848803},{"$f":"P52","v":41.515688205529202},{"$f":"P51","v":45.308230005824001},{"$f":"P50","v":49.394663563242098},{"$f":"P49","v":53.784233011132301},{"$f":"P48","v":58.481782297351799},{"$f":"P47","v":63.485591950663},{"$f":"P46","v":68.784276411959596}]
[null,null,"lact 3+, phase 2, c",91.6869714211808,null,11,70.4316989346041,70.4316989346041,70.4316989346041,70.4316989346041,70.4316989346041,70.4316989346041,70.4316989346041,70.4316989346041,70.4316989346041,70.4316989346041,70.4316989346041,70.4316989346041,319.2,null,null,null,null,null,null,null,null,null,null,null,33.131283096618453,34.131187910828793,34.465362666447646,34.421131033935154,34.022615345637192,33.451532188239028,32.515360750415027,31.547954254447944,30.928973136206569,30.764162124266804,31.239172155659322,32.122872768180315,32.728467285906852,null,5,79.369311226084278,79.369311226084278,79.369311226084278,79.369311226084278,79.369311226084278,79.369311226084278,79.369311226084278,79.369311226084278,79.369311226084278,79.369311226084278,79.369311226084278,79.369311226084278,null,null,null,5,136.79999999999998,107.9015206907235,107.9015206907235,107.9015206907235,107.9015206907235,107.9015206907235,107.9015206907235,107.9015206907235,107.9015206907235,107.9015206907235,107.9015206907235,107.9015206907235,107.9015206907235,null,null,6478.1347359779948,42.792322609130785,47.071554870043869,47.071554870043869,47.071554870043869,47.071554870043869,47.071554870043869,47.071554870043869,47.071554870043869,47.071554870043869,47.071554870043869,47.071554870043869,47.071554870043869,47.071554870043869,null,null,null,5,136.79999999999998,42.907786316987924,104.05502391741388,104.05502391741388,104.05502391741388,104.05502391741388,104.05502391741388,104.05502391741388,104.05502391741388,104.05502391741388,104.05502391741388,104.05502391741388,104.05502391741388,104.05502391741388,null,null,"Nov",{"$f":"Q58","v":24.167309952636899},{"$f":"Q57","v":26.490018089881399},{"$f":"Q56","v":29.019929952484201},{"$f":"Q55","v":31.7721517964554},{"$f":"Q54","v":34.762041306305001},{"$f":"Q53","v":38.004923318848803},{"$f":"Q52","v":41.515688205529202},{"$f":"Q51","v":45.308230005824001},{"$f":"Q50","v":49.394663563242098},{"$f":"Q49","v":53.784233011132301},{"$f":"Q48","v":58.481782297351799},{"$f":"Q47","v":63.485591950663}]
[null,null,null,null,null,12,64.779317325335299,64.779317325335299,64.779317325335299,64.779317325335299,64.779317325335299,64.779317325335299,64.779317325335299,64.779317325335299,64.779317325335299,64.779317325335299,64.779317325335299,64.779317325335299,349.6,null,null,null,null,null,null,null,null,null,null,null,30.993711926740168,31.806690398414414,32.069821894752295,31.823506243633485,31.249020446518774,30.603265655469624,29.874184108235987,29.279632570601791,28.952261979690263,28.95551877094864,29.443190822768134,30.109490980755531,30.430024649877424,null,6,73.795392737305079,73.795392737305079,73.795392737305079,73.795392737305079,73.795392737305079,73.795392737305079,73.795392737305079,73.795392737305079,73.795392737305079,73.795392737305079,73.795392737305079,73.795392737305079,null,null,null,6,167.2,102.00141028880601,102.00141028880601,102.00141028880601,102.00141028880601,102.00141028880601,102.00141028880601,102.00141028880601,102.00141028880601,102.00141028880601,102.00141028880601,102.00141028880601,102.00141028880601,null,null,7718.9843668298372,40.81742206749481,44.899164274244292,44.899164274244292,44.899164274244292,44.899164274244292,44.899164274244292,44.899164274244292,44.899164274244292,44.899164274244292,44.899164274244292,44.899164274244292,44.899164274244292,44.899164274244292,null,null,null,6,167.2,40.04145557230067,97.103928561661007,97.103928561661007,97.103928561661007,97.103928561661007,97.103928561661007,97.103928561661007,97.103928561661007,97.103928561661007,97.103928561661007,97.103928561661007,97.103928561661007,97.103928561661007,null,null,"Dec",{"$f":"R59","v":22.037148447132399},{"$f":"R58","v":24.167309952636899},{"$f":"R57","v":26.490018089881399},{"$f":"R56","v":29.019929952484201},{"$f":"R55","v":31.7721517964554},{"$f":"R54","v":34.762041306305001},{"$f":"R53","v":38.004923318848803},{"$f":"R52","v":41.515688205529202},{"$f":"R51","v":45.308230005824001},{"$f":"R50","v":49.394663563242098},{"$f":"R49","v":53.784233011132301},{"$f":"R48","v":58.481782297351799}]
[null,null,null,null,null,13,59.467608988236499,59.467608988236499,59.467608988236499,59.467608988236499,59.467608988236499,59.467608988236499,59.467608988236499,59.467608988236499,59.467608988236499,59.467608988236499,59.467608988236499,59.467608988236499,380,null,null,null,null,null,null,null,null,null,null,null,28.755085489205456,29.393969786037644,29.592346880344511,29.183305137422032,28.441379424651192,27.655174669204023,27.04237107205034,26.742153708126903,26.683566139203965,26.892843257275114,27.444998103953317,27.974497436198238,27.983474258639394,null,7,67.862300370462549,67.862300370462549,67.862300370462549,67.862300370462549,67.862300370462549,67.862300370462549,67.862300370462549,67.862300370462549,67.862300370462549,67.862300370462549,67.862300370462549,67.862300370462549,null,null,null,7,197.59999999999997,95.616955270286596,95.616955270286596,95.616955270286596,95.616955270286596,95.616955270286596,95.616955270286596,95.616955270286596,95.616955270286596,95.616955270286596,95.616955270286596,95.616955270286596,95.616955270286596,null,null,8893.1737551028873,38.624650930034541,42.487116023037999,42.487116023037999,42.487116023037999,42.487116023037999,42.487116023037999,42.487116023037999,42.487116023037999,42.487116023037999,42.487116023037999,42.487116023037999,42.487116023037999,42.487116023037999,null,null,null,7,197.59999999999997,36.592559019999811,88.740061673094274,88.740061673094274,88.740061673094274,88.740061673094274,88.740061673094274,88.740061673094274,88.740061673094274,88.740061673094274,88.740061673094274,88.740061673094274,88.740061673094274,88.740061673094274,null,null,"Jan",null,{"$f":"G59","v":22.037148447132399},{"$f":"G58","v":24.167309952636899},{"$f":"G57","v":26.490018089881399},{"$f":"G56","v":29.019929952484201},{"$f":"G55","v":31.7721517964554},{"$f":"G54","v":34.762041306305001},{"$f":"G53","v":38.004923318848803},{"$f":"G52","v":41.515688205529202},{"$f":"G51","v":45.308230005824001},{"$f":"G50","v":49.394663563242098},{"$f":"G49","v":53.784233011132301}]
[null,null,null,null,null,14,54.503887960583803,54.503887960583803,54.503887960583803,54.503887960583803,54.503887960583803,54.503887960583803,54.503887960583803,54.503887960583803,54.503887960583803,54.503887960583803,54.503887960583803,54.503887960583803,410.4,null,null,null,null,null,null,null,null,null,null,null,26.552466716066029,27.063569717968839,27.231775937819151,26.751354565263952,25.911892431087637,24.992572880355475,24.410533733515294,24.268412146554216,24.382145336449671,24.758110865430446,25.384877404782166,25.857177233768599,25.630407414088456,null,8,62.155913539406633,62.155913539406633,62.155913539406633,62.155913539406633,62.155913539406633,62.155913539406633,62.155913539406633,62.155913539406633,62.155913539406633,62.155913539406633,62.155913539406633,62.155913539406633,null,null,null,8,227.99999999999997,89.09697396133835,89.09697396133835,89.09697396133835,89.09697396133835,89.09697396133835,89.09697396133835,89.09697396133835,89.09697396133835,89.09697396133835,89.09697396133835,89.09697396133835,89.09697396133835,null,null,9997.9930242884748,36.342739117946962,39.977013029741663,39.977013029741663,39.977013029741663,39.977013029741663,39.977013029741663,39.977013029741663,39.977013029741663,39.977013029741663,39.977013029741663,39.977013029741663,39.977013029741663,39.977013029741663,null,null,null,8,227.99999999999997,32.816566228835725,79.582958640701264,79.582958640701264,79.582958640701264,79.582958640701264,79.582958640701264,79.582958640701264,79.582958640701264,79.582958640701264,79.582958640701264,79.582958640701264,79.582958640701264,79.582958640701264,null,null,"Feb",null,null,{"$f":"H59","v":22.037148447132399},{"$f":"H58","v":24.167309952636899},{"$f":"H57","v":26.490018089881399},{"$f":"H56","v":29.019929952484201},{"$f":"H55","v":31.7721517964554},{"$f":"H54","v":34.762041306305001},{"$f":"H53","v":38.004923318848803},{"$f":"H52","v":41.515688205529202},{"$f":"H51","v":45.308230005824001},{"$f":"H50","v":49.394663563242098}]
[null,null,null,null,null,15,49.885819242196,49.885819242196,49.885819242196,49.885819242196,49.885819242196,49.885819242196,49.885819242196,49.885819242196,49.885819242196,49.885819242196,49.885819242196,49.885819242196,440.8,null,null,null,null,null,null,null,null,null,null,null,24.481166205775114,24.92462584174293,25.109268468037786,24.668997465128193,23.832540124571299,22.834442870213334,22.214086954033426,22.077006921497503,22.23278820019971,22.691444824893409,23.373887340373585,23.856463248235929,23.524726538725186,null,9,57.049458682246637,57.049458682246637,57.049458682246637,57.049458682246637,57.049458682246637,57.049458682246637,57.049458682246637,57.049458682246637,57.049458682246637,57.049458682246637,57.049458682246637,57.049458682246637,null,null,null,9,258.39999999999998,82.650110180537112,82.650110180537112,82.650110180537112,82.650110180537112,82.650110180537112,82.650110180537112,82.650110180537112,82.650110180537112,82.650110180537112,82.650110180537112,82.650110180537112,82.650110180537112,null,null,11033.129715599132,34.050549056271635,37.455603961898802,37.455603961898802,37.455603961898802,37.455603961898802,37.455603961898802,37.455603961898802,37.455603961898802,37.455603961898802,37.455603961898802,37.455603961898802,37.455603961898802,37.455603961898802,null,null,null,9,258.39999999999998,28.944590755190958,70.193089456090561,70.193089456090561,70.193089456090561,70.193089456090561,70.193089456090561,70.193089456090561,70.193089456090561,70.193089456090561,70.193089456090561,70.193089456090561,70.193089456090561,70.193089456090561,null,null,"Mar",null,null,null,{"$f":"I59","v":22.037148447132399},{"$f":"I58","v":24.167309952636899},{"$f":"I57","v":26.490018089881399},{"$f":"I56","v":29.019929952484201},{"$f":"I55","v":31.7721517964554},{"$f":"I54","v":34.762041306305001},{"$f":"I53","v":38.004923318848803},{"$f":"I52","v":41.515688205529202},{"$f":"I51","v":45.308230005824001}]
[null,null,null,null,null,16,45.604647148142298,45.604647148142298,45.604647148142298,45.604647148142298,45.604647148142298,45.604647148142298,45.604647148142298,45.604647148142298,45.604647148142298,45.604647148142298,45.604647148142298,45.604647148142298,471.2,null,null,null,null,null,null,null,null,null,null,null,22.600081235812883,23.034045687822545,23.280528758303028,22.98641841195413,22.258749749708457,21.260798447166295,20.557367344977635,20.287962127485564,20.354271703275419,20.794389463420298,21.495669988061888,22.03581488611016,21.745508150341522,null,10,52.734703066801011,52.734703066801011,52.734703066801011,52.734703066801011,52.734703066801011,52.734703066801011,52.734703066801011,52.734703066801011,52.734703066801011,52.734703066801011,52.734703066801011,52.734703066801011,null,null,null,10,288.79999999999995,76.403046126361318,76.403046126361318,76.403046126361318,76.403046126361318,76.403046126361318,76.403046126361318,76.403046126361318,76.403046126361318,76.403046126361318,76.403046126361318,76.403046126361318,76.403046126361318,null,null,11999.779916397843,31.797703973641834,34.977474371006018,34.977474371006018,34.977474371006018,34.977474371006018,34.977474371006018,34.977474371006018,34.977474371006018,34.977474371006018,34.977474371006018,34.977474371006018,34.977474371006018,34.977474371006018,null,null,null,10,288.79999999999995,25.163061341426065,61.022559643930997,61.022559643930997,61.022559643930997,61.022559643930997,61.022559643930997,61.022559643930997,61.022559643930997,61.022559643930997,61.022559643930997,61.022559643930997,61.022559643930997,61.022559643930997,null,null,"Apr",null,null,null,null,{"$f":"J59","v":22.037148447132399},{"$f":"J58","v":24.167309952636899},{"$f":"J57","v":26.490018089881399},{"$f":"J56","v":29.019929952484201},{"$f":"J55","v":31.7721517964554},{"$f":"J54","v":34.762041306305001},{"$f":"J53","v":38.004923318848803},{"$f":"J52","v":41.515688205529202}]
[null,null,null,null,null,17,41.647432069435503,41.647432069435503,41.647432069435503,41.647432069435503,41.647432069435503,41.647432069435503,41.647432069435503,41.647432069435503,41.647432069435503,41.647432069435503,41.647432069435503,41.647432069435503,501.6,null,null,null,null,null,null,null,null,null,null,null,20.937034775311869,21.405688549261143,21.74802978253285,21.68096916661618,21.153061215141559,20.240046943425693,19.43775224791607,18.938447420794354,18.807820599525812,19.133183358027811,19.808259140060578,20.428096841873352,20.309865836707274,null,11,49.25314859604709,49.25314859604709,49.25314859604709,49.25314859604709,49.25314859604709,49.25314859604709,49.25314859604709,49.25314859604709,49.25314859604709,49.25314859604709,49.25314859604709,49.25314859604709,null,null,null,11,319.2,70.431698934604128,70.431698934604128,70.431698934604128,70.431698934604128,70.431698934604128,70.431698934604128,70.431698934604128,70.431698934604128,70.431698934604128,70.431698934604128,70.431698934604128,70.431698934604128,null,null,12900.093781143765,29.615587656115878,32.57714642172747,32.57714642172747,32.57714642172747,32.57714642172747,32.57714642172747,32.57714642172747,32.57714642172747,32.57714642172747,32.57714642172747,32.57714642172747,32.57714642172747,32.57714642172747,null,null,null,11,319.2,21.606244289143014,52.396976382399558,52.396976382399558,52.396976382399558,52.396976382399558,52.396976382399558,52.396976382399558,52.396976382399558,52.396976382399558,52.396976382399558,52.396976382399558,52.396976382399558,52.396976382399558,null,null,"May",null,null,null,null,null,{"$f":"K59","v":22.037148447132399},{"$f":"K58","v":24.167309952636899},{"$f":"K57","v":26.490018089881399},{"$f":"K56","v":29.019929952484201},{"$f":"K55","v":31.7721517964554},{"$f":"K54","v":34.762041306305001},{"$f":"K53","v":38.004923318848803}]
[null,null,null,null,null,18,37.998619750911999,37.998619750911999,37.998619750911999,37.998619750911999,37.998619750911999,37.998619750911999,37.998619750911999,37.998619750911999,37.998619750911999,37.998619750911999,37.998619750911999,37.998619750911999,532,null,null,null,null,null,null,null,null,null,null,null,19.494114497682382,20.019545361366124,20.473237001434907,20.675494224888439,20.408793171722312,19.656351511748763,18.769778714837109,17.998498522279178,17.605566860806274,17.742032485975994,18.345888556126162,19.040457854211162,19.185813230256567,null,12,46.527225613570792,46.527225613570792,46.527225613570792,46.527225613570792,46.527225613570792,46.527225613570792,46.527225613570792,46.527225613570792,46.527225613570792,46.527225613570792,46.527225613570792,46.527225613570792,null,null,null,12,349.59999999999997,64.779317325335342,64.779317325335342,64.779317325335342,64.779317325335342,64.779317325335342,64.779317325335342,64.779317325335342,64.779317325335342,64.779317325335342,64.779317325335342,64.779317325335342,64.779317325335342,null,null,13736.814482444548,27.523707279631029,30.276078007594133,30.276078007594133,30.276078007594133,30.276078007594133,30.276078007594133,30.276078007594133,30.276078007594133,30.276078007594133,30.276078007594133,30.276078007594133,30.276078007594133,30.276078007594133,null,null,null,12,349.59999999999997,18.35849618713285,44.520911559670516,44.520911559670516,44.520911559670516,44.520911559670516,44.520911559670516,44.520911559670516,44.520911559670516,44.520911559670516,44.520911559670516,44.520911559670516,44.520911559670516,44.520911559670516,null,null,"Jun",null,null,null,null,null,null,{"$f":"L59","v":22.037148447132399},{"$f":"L58","v":24.167309952636899},{"$f":"L57","v":26.490018089881399},{"$f":"L56","v":29.019929952484201},{"$f":"L55","v":31.7721517964554},{"$f":"L54","v":34.762041306305001}]
[null,null,null,null,null,19,34.641150615001798,34.641150615001798,34.641150615001798,34.641150615001798,34.641150615001798,34.641150615001798,34.641150615001798,34.641150615001798,34.641150615001798,34.641150615001798,34.641150615001798,34.641150615001798,562.4,null,null,null,null,null,null,null,null,null,null,null,18.253011793237931,18.830918581361971,19.38883216268087,19.856656366409293,19.873709090684784,19.336993422161907,18.409262488374285,17.386737720206835,16.719009113957231,16.626383375751157,17.120800216221937,17.859209462244351,18.305126982774382,null,13,44.391486709016426,44.391486709016426,44.391486709016426,44.391486709016426,44.391486709016426,44.391486709016426,44.391486709016426,44.391486709016426,44.391486709016426,44.391486709016426,44.391486709016426,44.391486709016426,null,null,null,13,379.99999999999994,59.46760898823652,59.46760898823652,59.46760898823652,59.46760898823652,59.46760898823652,59.46760898823652,59.46760898823652,59.46760898823652,59.46760898823652,59.46760898823652,59.46760898823652,59.46760898823652,null,null,{"$f":"BZ81*30.4+BY80","v":14513.036052724447},25.533604285522994,28.086964714075297,28.086964714075297,28.086964714075297,28.086964714075297,28.086964714075297,28.086964714075297,28.086964714075297,28.086964714075297,28.086964714075297,28.086964714075297,28.086964714075297,28.086964714075297,null,null,null,13,379.99999999999994,15.462180923879355,37.497101201248611,37.497101201248611,37.497101201248611,37.497101201248611,37.497101201248611,37.497101201248611,37.497101201248611,37.497101201248611,37.497101201248611,37.497101201248611,37.497101201248611,37.497101201248611,null,null,"Jul",null,null,null,null,null,null,null,{"$f":"M59","v":22.037148447132399},{"$f":"M58","v":24.167309952636899},{"$f":"M57","v":26.490018089881399},{"$f":"M56","v":29.019929952484201},{"$f":"M55","v":31.7721517964554}]
[null,null,null,null,null,20,31.557246096870401,31.557246096870401,31.557246096870401,31.557246096870401,31.557246096870401,31.557246096870401,31.557246096870401,31.557246096870401,31.557246096870401,31.557246096870401,31.557246096870401,31.557246096870401,592.79999999999995,null,null,null,null,null,null,null,null,null,null,null,17.180360781820653,17.77960206805335,18.410937101080727,19.093262203646045,19.373683341818484,19.079734358683975,18.177416982031232,16.986094373087774,16.087472077782838,15.766196258048794,16.125052573181765,16.854704761760257,17.576209740082991,null,14,42.62380052353641,42.62380052353641,42.62380052353641,42.62380052353641,42.62380052353641,42.62380052353641,42.62380052353641,42.62380052353641,42.62380052353641,42.62380052353641,42.62380052353641,42.62380052353641,null,null,null,14,410.4,54.503887960583803,54.503887960583803,54.503887960583803,54.503887960583803,54.503887960583803,54.503887960583803,54.503887960583803,54.503887960583803,54.503887960583803,54.503887960583803,54.503887960583803,54.503887960583803,null,null,15232.037764233335,23.65137208910819,26.01650929801901,26.01650929801901,26.01650929801901,26.01650929801901,26.01650929801901,26.01650929801901,26.01650929801901,26.01650929801901,26.01650929801901,26.01650929801901,26.01650929801901,26.01650929801901,null,null,null,14,410.4,12.927733442970148,31.350850931072717,31.350850931072717,31.350850931072717,31.350850931072717,31.350850931072717,31.350850931072717,31.350850931072717,31.350850931072717,31.350850931072717,31.350850931072717,31.350850931072717,31.350850931072717,null,null,"Aug",null,null,null,null,null,null,null,null,{"$f":"N59","v":22.037148447132399},{"$f":"N58","v":24.167309952636899},{"$f":"N57","v":26.490018089881399},{"$f":"N56","v":29.019929952484201}]
[null,null,null,null,null,21,28.7289647341033,28.7289647341033,28.7289647341033,28.7289647341033,28.7289647341033,28.7289647341033,28.7289647341033,28.7289647341033,28.7289647341033,28.7289647341033,28.7289647341033,28.7289647341033,623.20000000000005,null,null,null,null,null,null,null,null,null,null,null,16.23307732542672,16.799060961488244,17.451337538757127,18.254587730859544,18.736367271641456,18.680178716049546,17.884972260406663,16.659525412508277,15.62656600002965,15.119218216756504,15.332328805373901,15.986217161444298,16.896953116728493,null,15,40.976545555241046,40.976545555241046,40.976545555241046,40.976545555241046,40.976545555241046,40.976545555241046,40.976545555241046,40.976545555241046,40.976545555241046,40.976545555241046,40.976545555241046,40.976545555241046,null,null,null,15,440.79999999999995,49.885819242195971,49.885819242195971,49.885819242195971,49.885819242195971,49.885819242195971,49.885819242195971,49.885819242195971,49.885819242195971,49.885819242195971,49.885819242195971,49.885819242195971,49.885819242195971,null,null,15897.169577690018,21.879335968969837,24.067269565866823,24.067269565866823,24.067269565866823,24.067269565866823,24.067269565866823,24.067269565866823,24.067269565866823,24.067269565866823,24.067269565866823,24.067269565866823,24.067269565866823,24.067269565866823,null,null,null,15,440.79999999999995,10.743497313615428,26.053892915056387,26.053892915056387,26.053892915056387,26.053892915056387,26.053892915056387,26.053892915056387,26.053892915056387,26.053892915056387,26.053892915056387,26.053892915056387,26.053892915056387,26.053892915056387,null,null,"Sep",null,null,null,null,null,null,null,null,null,{"$f":"O59","v":22.037148447132399},{"$f":"O58","v":24.167309952636899},{"$f":"O57","v":26.490018089881399}]
[null,null,null,null,null,22,26.138592191810499,26.138592191810499,26.138592191810499,26.138592191810499,26.138592191810499,26.138592191810499,26.138592191810499,26.138592191810499,26.138592191810499,26.138592191810499,26.138592191810499,26.138592191810499,653.6,null,null,null,null,null,null,null,null,null,null,null,15.363698040831757,15.825611562621077,16.429706885319685,17.228703873068799,17.814855281573369,17.959135896432176,17.356294019419281,16.265735845962606,15.236646094365305,14.624256339936917,14.699745069364754,15.206819139111452,16.167600670667266,null,16,39.207803964648249,39.207803964648249,39.207803964648249,39.207803964648249,39.207803964648249,39.207803964648249,39.207803964648249,39.207803964648249,39.207803964648249,39.207803964648249,39.207803964648249,39.207803964648249,null,null,null,16,471.2,45.604647148142327,45.604647148142327,45.604647148142327,45.604647148142327,45.604647148142327,45.604647148142327,45.604647148142327,45.604647148142327,45.604647148142327,45.604647148142327,45.604647148142327,45.604647148142327,null,null,16511.7726259843,20.217205535996086,22.238926089595697,22.238926089595697,22.238926089595697,22.238926089595697,22.238926089595697,22.238926089595697,22.238926089595697,22.238926089595697,22.238926089595697,22.238926089595697,22.238926089595697,22.238926089595697,null,null,null,16,471.2,8.8840826150232246,21.54465444013185,21.54465444013185,21.54465444013185,21.54465444013185,21.54465444013185,21.54465444013185,21.54465444013185,21.54465444013185,21.54465444013185,21.54465444013185,21.54465444013185,21.54465444013185,null,null,"Oct",null,null,null,null,null,null,null,null,null,null,{"$f":"P59","v":22.037148447132399},{"$f":"P58","v":24.167309952636899}]
[null,null,null,null,null,23,23.768910465704302,23.768910465704302,23.768910465704302,23.768910465704302,23.768910465704302,23.768910465704302,23.768910465704302,23.768910465704302,23.768910465704302,23.768910465704302,23.768910465704302,23.768910465704302,684,null,null,null,null,null,null,null,null,null,null,null,14.525719312216282,14.807601212975836,15.285830038039316,15.94080203501561,16.511350906108607,16.789982606167687,16.453502566532752,15.674899259685162,14.811271977357208,14.204450870810611,14.1696587525827,14.468260997937749,15.30361087795246,null,17,37.112555380133259,37.112555380133259,37.112555380133259,37.112555380133259,37.112555380133259,37.112555380133259,37.112555380133259,37.112555380133259,37.112555380133259,37.112555380133259,37.112555380133259,37.112555380133259,null,null,null,17,501.59999999999997,41.647432069435524,41.647432069435524,41.647432069435524,41.647432069435524,41.647432069435524,41.647432069435524,41.647432069435524,41.647432069435524,41.647432069435524,41.647432069435524,41.647432069435524,41.647432069435524,null,null,17079.124255759285,18.662882558387608,20.529170814226369,20.529170814226369,20.529170814226369,20.529170814226369,20.529170814226369,20.529170814226369,20.529170814226369,20.529170814226369,20.529170814226369,20.529170814226369,20.529170814226369,20.529170814226369,null,null,null,17,501.59999999999997,7.3168128929550349,17.743892331127942,17.743892331127942,17.743892331127942,17.743892331127942,17.743892331127942,17.743892331127942,17.743892331127942,17.743892331127942,17.743892331127942,17.743892331127942,17.743892331127942,17.743892331127942,null,null,"Nov",null,null,null,null,null,null,null,null,null,null,null,{"$f":"Q59","v":22.037148447132399}]
[null,null,null,null,null,24,21.6033786573025,21.6033786573025,21.6033786573025,21.6033786573025,21.6033786573025,21.6033786573025,21.6033786573025,21.6033786573025,21.6033786573025,21.6033786573025,21.6033786573025,21.6033786573025,714.4,null,null,null,null,null,null,null,null,null,null,null,13.678936303791103,13.714588174309188,13.991827182022551,14.371519650129189,14.800832890989355,15.126025152477439,15.100591800980657,14.784378321482661,14.245667105451206,13.770548358739038,13.67147672598187,13.725849622691758,14.248520107420502,null,18,34.553870703378479,34.553870703378479,34.553870703378479,34.553870703378479,34.553870703378479,34.553870703378479,34.553870703378479,34.553870703378479,34.553870703378479,34.553870703378479,34.553870703378479,34.553870703378479,null,null,null,18,532,37.998619750911971,37.998619750911971,37.998619750911971,37.998619750911971,37.998619750911971,37.998619750911971,37.998619750911971,37.998619750911971,37.998619750911971,37.998619750911971,37.998619750911971,37.998619750911971,null,null,17602.400566935306,17.213036551842833,18.93434020702712,18.93434020702712,18.93434020702712,18.93434020702712,18.93434020702712,18.93434020702712,18.93434020702712,18.93434020702712,18.93434020702712,18.93434020702712,18.93434020702712,18.93434020702712,null,null,null,18,532,6.00632084842856,14.565837885965514,14.565837885965514,14.565837885965514,14.565837885965514,14.565837885965514,14.565837885965514,14.565837885965514,14.565837885965514,14.565837885965514,14.565837885965514,14.565837885965514,14.565837885965514,null,null,null,"chartmilk3"]
[null,null,null,null,null,null,null,null,null,null,null,null,null,null,null,null,null,null,null,null,null,null,null,null,null,null,null,null,null,null,12.794781972422754,12.54652150827361,12.564377590385858,12.575265729490784,12.754721271378699,13.027861740191593,13.307548193991419,13.53444528356628,13.445178211950266,13.22417481020744,13.123463596705943,12.943327235966082,12.986805595377561,null,19,31.494105914823134,31.494105914823134,31.494105914823134,31.494105914823134,31.494105914823134,31.494105914823134,31.494105914823134,31.494105914823134,31.494105914823134,31.494105914823134,31.494105914823134,31.494105914823134,null,null,null,19,562.4,34.641150615001784,34.641150615001784,34.641150615001784,34.641150615001784,34.641150615001784,34.641150615001784,34.641150615001784,34.641150615001784,34.641150615001784,34.641150615001784,34.641150615001784,34.641150615001784,null,null,18084.651570438778,15.863519852087926,17.449871837296719,17.449871837296719,17.449871837296719,17.449871837296719,17.449871837296719,17.449871837296719,17.449871837296719,17.449871837296719,17.449871837296719,17.449871837296719,17.449871837296719,17.449871837296719,null,null,null,19,562.4,4.9175844661602204,11.925559744843191,11.925559744843191,11.925559744843191,11.925559744843191,11.925559744843191,11.925559744843191,11.925559744843191,11.925559744843191,11.925559744843191,11.925559744843191,11.925559744843191,11.925559744843191,null,null,"Jan",{"$f":"G63","v":95.346042037239201}]
[null,null,null,null,null,null,"Milk yield in lactations 4+ compared to lactation 3",null,null,null,null,null,null,null,null,null,null,null,null,null,null,null,null,null,null,null,null,null,null,null,11.861666080258903,11.342920956080507,11.076943424429968,10.698546410798299,10.564543450033707,10.690744768472396,11.194469769013271,11.924002485383831,12.33373474399316,12.461108839807777,12.434549960751939,12.097750154408841,11.55674842028605,null,20,28.026095879113083,28.026095879113083,28.026095879113083,28.026095879113083,28.026095879113083,28.026095879113083,28.026095879113083,28.026095879113083,28.026095879113083,28.026095879113083,28.026095879113083,28.026095879113083,null,null,null,20,592.80000000000007,31.557246096870383,31.557246096870383,31.557246096870383,31.557246096870383,31.557246096870383,31.557246096870383,31.557246096870383,31.557246096870383,31.557246096870383,31.557246096870383,31.557246096870383,31.557246096870383,null,null,18528.785519535282,14.609669378174523,16.070636315991976,16.070636315991976,16.070636315991976,16.070636315991976,16.070636315991976,16.070636315991976,16.070636315991976,16.070636315991976,16.070636315991976,16.070636315991976,16.070636315991976,16.070636315991976,null,null,null,20,592.80000000000007,4.0177622218189413,9.7434144236038449,9.7434144236038449,9.7434144236038449,9.7434144236038449,9.7434144236038449,9.7434144236038449,9.7434144236038449,9.7434144236038449,9.7434144236038449,9.7434144236038449,9.7434144236038449,9.7434144236038449,null,null,"Feb",{"$f":"H64","v":112.816871003835},{"$f":"H63","v":95.346042037239201}]
[null,null,null,null,null,null,4,5,6,7,8,9,10,11,12,"lactation",null,null,null,null,null,null,null,null,null,null,null,null,null,null,10.890314207353784,10.192056818163337,9.6719935338141969,8.9982905073309229,8.5656002754785217,8.4719431275374379,9.0156850819391963,10.026302856451919,10.862308299533144,11.37455482122164,11.506140655634013,11.18436754495516,10.063296477451106,null,21,24.404348150550533,24.404348150550533,24.404348150550533,24.404348150550533,24.404348150550533,24.404348150550533,24.404348150550533,24.404348150550533,24.404348150550533,24.404348150550533,24.404348150550533,24.404348150550533,null,null,null,21,623.20000000000005,28.728964734103293,28.728964734103293,28.728964734103293,28.728964734103293,28.728964734103293,28.728964734103293,28.728964734103293,28.728964734103293,28.728964734103293,28.728964734103293,28.728964734103293,28.728964734103293,null,null,18937.559940510215,13.446527005754364,14.791179706329801,14.791179706329801,14.791179706329801,14.791179706329801,14.791179706329801,14.791179706329801,14.791179706329801,14.791179706329801,14.791179706329801,14.791179706329801,14.791179706329801,14.791179706329801,null,null,null,21,623.20000000000005,3.2771647419009442,7.9474026714074126,7.9474026714074126,7.9474026714074126,7.9474026714074126,7.9474026714074126,7.9474026714074126,7.9474026714074126,7.9474026714074126,7.9474026714074126,7.9474026714074126,7.9474026714074126,7.9474026714074126,null,null,"Mar",{"$f":"I65","v":115.24638323304301},{"$f":"I64","v":112.816871003835},{"$f":"I63","v":95.346042037239201}]
[null,null,null,null,null,null,1,1,1,1,1,1,1,1,1,null,null,null,null,null,null,null,null,null,null,null,null,null,null,null,9.9191067642936037,9.2401298338407312,8.5732272567307675,7.8601750569137518,7.2606321201774566,6.9181044953829387,7.1838722013318792,8.004670419188102,9.0173720643166284,9.8584160382031865,10.233923013047253,10.221500181058666,8.6909274537070829,null,22,21.076236778543802,21.076236778543802,21.076236778543802,21.076236778543802,21.076236778543802,21.076236778543802,21.076236778543802,21.076236778543802,21.076236778543802,21.076236778543802,21.076236778543802,21.076236778543802,null,null,null,22,653.6,26.138592191810542,26.138592191810542,26.138592191810542,26.138592191810542,26.138592191810542,26.138592191810542,26.138592191810542,26.138592191810542,26.138592191810542,26.138592191810542,26.138592191810542,26.138592191810542,null,null,19313.577559831545,12.369000635570016,13.605900699127019,13.605900699127019,13.605900699127019,13.605900699127019,13.605900699127019,13.605900699127019,13.605900699127019,13.605900699127019,13.605900699127019,13.605900699127019,13.605900699127019,13.605900699127019,null,null,null,22,653.6,2.669642006957992,6.4741084714259651,6.4741084714259651,6.4741084714259651,6.4741084714259651,6.4741084714259651,6.4741084714259651,6.4741084714259651,6.4741084714259651,6.4741084714259651,6.4741084714259651,6.4741084714259651,6.4741084714259651,null,null,"Apr",{"$f":"J66","v":112.70686787317101},{"$f":"J65","v":115.24638323304301},{"$f":"J64","v":112.816871003835},{"$f":"J63","v":95.346042037239201}]
[null,null,null,null,null,null,null,null,null,null,null,null,null,null,null,null,null,null,null,null,null,null,null,null,null,null,null,null,null,null,8.9478993212334199,8.2882028495181306,7.4744609796473398,6.7220596064965799,5.9556639648763898,5.3642658632284403,5.3520593207245701,5.9830379819242898,7.1724358291001096,8.3422772551847295,8.9617053704604892,9.2586328171621695,7.3185584299630548,null,23,17.748125406537063,17.748125406537063,17.748125406537063,17.748125406537063,17.748125406537063,17.748125406537063,17.748125406537063,17.748125406537063,17.748125406537063,17.748125406537063,17.748125406537063,17.748125406537063,null,null,null,23,684,23.768910465704277,23.768910465704277,23.768910465704277,23.768910465704277,23.768910465704277,23.768910465704277,23.768910465704277,23.768910465704277,23.768910465704277,23.768910465704277,23.768910465704277,23.768910465704277,null,null,19659.285798811779,11.371981545402418,12.509179699942662,12.509179699942662,12.509179699942662,12.509179699942662,12.509179699942662,12.509179699942662,12.509179699942662,12.509179699942662,12.509179699942662,12.509179699942662,12.509179699942662,12.509179699942662,null,null,null,23,684,2.1725990664070469,5.2687371505910443,5.2687371505910443,5.2687371505910443,5.2687371505910443,5.2687371505910443,5.2687371505910443,5.2687371505910443,5.2687371505910443,5.2687371505910443,5.2687371505910443,5.2687371505910443,5.2687371505910443,null,null,"May",{"$f":"K67","v":107.901520690724},{"$f":"K66","v":112.70686787317101},{"$f":"K65","v":115.24638323304301},{"$f":"K64","v":112.816871003835},{"$f":"K63","v":95.346042037239201}]
[null,null,null,null,null,null,null,null,null,null,null,null,null,null,null,null,null,null,null,null,null,null,null,null,null,null,null,null,null,null,7.9766918781732397,7.3362758651955202,6.3756947025639104,5.5839441560794096,4.6506958095753204,3.8104272310739402,3.52024644011725,3.9614055446604701,5.3274995938835898,6.8261384721662797,7.6894877278737299,8.2957654532656804,5.9461894062190295,null,24,14.420014034530325,14.420014034530325,14.420014034530325,14.420014034530325,14.420014034530325,14.420014034530325,14.420014034530325,14.420014034530325,14.420014034530325,14.420014034530325,14.420014034530325,14.420014034530325,null,null,null,24,714.4,21.603378657302493,21.603378657302493,21.603378657302493,21.603378657302493,21.603378657302493,21.603378657302493,21.603378657302493,21.603378657302493,21.603378657302493,21.603378657302493,21.603378657302493,21.603378657302493,null,null,19976.978847062615,10.45042921877746,11.495472140655206,11.495472140655206,11.495472140655206,11.495472140655206,11.495472140655206,11.495472140655206,11.495472140655206,11.495472140655206,11.495472140655206,11.495472140655206,11.495472140655206,11.495472140655206,null,null,null,24,714.4,1.7667933766747721,4.2846239073917216,4.2846239073917216,4.2846239073917216,4.2846239073917216,4.2846239073917216,4.2846239073917216,4.2846239073917216,4.2846239073917216,4.2846239073917216,4.2846239073917216,4.2846239073917216,4.2846239073917216,null,null,"Jun",{"$f":"L68","v":102.001410288806},{"$f":"L67","v":107.901520690724},{"$f":"L66","v":112.70686787317101},{"$f":"L65","v":115.24638323304301},{"$f":"L64","v":112.816871003835},{"$f":"L63","v":95.346042037239201}]
[null,null,null,null,null,null,null,null,null,null,null,null,null,null,null,null,null,null,null,null,null,null,null,null,null,null,null,null,null,null,null,null,null,null,null,null,null,null,null,null,null,null,null,null,null,null,null,null,null,null,null,null,null,null,null,null,null,null,null,null,null,null,null,null,null,null,null,null,null,null,null,null,null,null,null,null,null,null,null,null,null,null,null,null,null,null,null,null,null,null,null,null,null,null,null,null,null,null,null,null,null,null,null,null,null,null,null,null,null,null,"Jul",{"$f":"M69","v":95.616955270286596},{"$f":"M68","v":102.001410288806},{"$f":"M67","v":107.901520690724},{"$f":"M66","v":112.70686787317101},{"$f":"M65","v":115.24638323304301},{"$f":"M64","v":112.816871003835},{"$f":"M63","v":95.346042037239201}]
[null,null,null,null,null,null,null,null,null,null,null,null,null,null,null,null,null,null,null,null,null,null,null,null,null,null,null,null,null,null,null,null,null,null,null,null,null,null,null,null,null,null,null,null,null,null,null,null,null,null,null,null,null,null,null,null,null,null,null,null,null,null,null,null,null,null,null,null,null,null,null,null,null,null,null,null,null,null,null,null,null,null,null,null,null,null,null,null,null,null,null,null,null,null,null,null,null,null,null,null,null,null,null,null,null,null,null,null,null,null,"Aug",{"$f":"N70","v":89.096973961338406},{"$f":"N69","v":95.616955270286596},{"$f":"N68","v":102.001410288806},{"$f":"N67","v":107.901520690724},{"$f":"N66","v":112.70686787317101},{"$f":"N65","v":115.24638323304301},{"$f":"N64","v":112.816871003835},{"$f":"N63","v":95.346042037239201}]
[null,null,null,null,null,null,null,null,null,null,null,null,null,null,null,null,null,null,null,null,null,null,null,null,null,null,null,null,null,null,null,null,null,null,null,null,null,null,null,null,null,null,null,null,null,null,null,null,null,null,null,null,null,null,null,null,null,null,null,null,null,null,null,null,null,null,null,null,null,null,null,null,null,null,null,null,null,null,null,null,null,null,null,null,null,null,null,null,null,null,null,null,null,null,null,null,null,null,null,null,null,null,null,null,null,null,null,null,null,null,"Sep",{"$f":"O71","v":82.650110180537098},{"$f":"O70","v":89.096973961338406},{"$f":"O69","v":95.616955270286596},{"$f":"O68","v":102.001410288806},{"$f":"O67","v":107.901520690724},{"$f":"O66","v":112.70686787317101},{"$f":"O65","v":115.24638323304301},{"$f":"O64","v":112.816871003835},{"$f":"O63","v":95.346042037239201}]
[null,null,null,null,null,null,null,null,null,null,null,null,null,null,null,null,null,null,null,null,null,null,null,null,null,null,null,null,null,null,null,null,null,null,null,null,null,null,null,null,null,null,null,null,null,null,null,null,null,null,null,null,null,null,null,null,null,null,null,null,null,null,null,null,null,null,null,null,null,null,null,null,null,null,null,null,null,null,null,null,null,null,null,null,null,null,null,null,null,null,null,null,null,null,null,null,null,null,null,null,null,null,null,null,null,null,null,null,null,null,"Oct",{"$f":"P72","v":76.403046126361303},{"$f":"P71","v":82.650110180537098},{"$f":"P70","v":89.096973961338406},{"$f":"P69","v":95.616955270286596},{"$f":"P68","v":102.001410288806},{"$f":"P67","v":107.901520690724},{"$f":"P66","v":112.70686787317101},{"$f":"P65","v":115.24638323304301},{"$f":"P64","v":112.816871003835},{"$f":"P63","v":95.346042037239201}]
[null,null,null,null,null,null,null,null,null,null,null,null,null,null,null,null,null,null,null,null,null,null,null,null,null,null,null,null,null,null,null,null,null,null,null,null,null,null,null,null,null,null,null,null,null,null,null,null,null,null,null,null,null,null,null,null,null,null,null,null,null,null,null,null,null,null,null,null,null,null,null,null,null,null,null,null,null,null,null,null,null,null,null,null,null,null,null,null,null,null,null,null,null,null,null,null,null,null,null,null,null,null,null,null,null,null,null,null,null,null,"Nov",{"$f":"Q73","v":70.4316989346041},{"$f":"Q72","v":76.403046126361303},{"$f":"Q71","v":82.650110180537098},{"$f":"Q70","v":89.096973961338406},{"$f":"Q69","v":95.616955270286596},{"$f":"Q68","v":102.001410288806},{"$f":"Q67","v":107.901520690724},{"$f":"Q66","v":112.70686787317101},{"$f":"Q65","v":115.24638323304301},{"$f":"Q64","v":112.816871003835},{"$f":"Q63","v":95.346042037239201}]
[null,null,null,null,null,null,null,null,null,null,null,null,null,null,null,null,null,null,null,null,null,null,null,null,null,null,null,null,null,null,null,null,null,null,null,null,null,null,null,null,null,null,null,null,null,null,null,null,null,null,null,null,null,null,null,null,null,null,null,null,null,null,null,null,null,null,null,null,null,null,null,null,null,null,null,null,null,null,null,null,null,null,null,null,null,null,null,null,null,null,null,null,null,null,null,null,null,null,null,null,null,null,null,null,null,null,null,null,null,null,"Dec",{"$f":"R74","v":64.779317325335299},{"$f":"R73","v":70.4316989346041},{"$f":"R72","v":76.403046126361303},{"$f":"R71","v":82.650110180537098},{"$f":"R70","v":89.096973961338406},{"$f":"R69","v":95.616955270286596},{"$f":"R68","v":102.001410288806},{"$f":"R67","v":107.901520690724},{"$f":"R66","v":112.70686787317101},{"$f":"R65","v":115.24638323304301},{"$f":"R64","v":112.816871003835},{"$f":"R63","v":95.346042037239201}]
[null,null,null,null,null,null,null,null,null,null,null,null,null,null,null,null,null,null,null,null,null,null,null,null,null,null,null,null,null,null,null,null,null,null,null,null,null,null,null,null,null,null,null,null,null,null,null,null,null,null,null,null,null,null,null,null,null,null,null,null,null,null,null,null,null,null,null,null,null,null,null,null,null,null,null,null,null,null,null,null,null,null,null,null,null,null,null,null,null,null,null,null,null,null,null,null,null,null,null,null,null,null,null,null,null,null,null,null,null,null,"Jan",{"$f":"G75","v":59.467608988236499},{"$f":"G74","v":64.779317325335299},{"$f":"G73","v":70.4316989346041},{"$f":"G72","v":76.403046126361303},{"$f":"G71","v":82.650110180537098},{"$f":"G70","v":89.096973961338406},{"$f":"G69","v":95.616955270286596},{"$f":"G68","v":102.001410288806},{"$f":"G67","v":107.901520690724},{"$f":"G66","v":112.70686787317101},{"$f":"G65","v":115.24638323304301},{"$f":"G64","v":112.816871003835}]
[null,null,null,null,null,null,null,null,null,null,null,null,null,null,null,null,null,null,null,null,null,null,null,null,null,null,null,null,null,null,null,null,null,null,null,null,null,null,null,null,null,null,null,null,null,null,null,null,null,null,null,null,null,null,null,null,null,null,null,null,null,null,null,null,null,null,null,null,null,null,null,null,null,null,null,null,null,null,null,null,null,null,null,null,null,null,null,null,null,null,null,null,null,null,null,null,null,null,null,null,null,null,null,null,null,null,null,null,null,null,"Feb",{"$f":"H76","v":54.503887960583803},{"$f":"H75","v":59.467608988236499},{"$f":"H74","v":64.779317325335299},{"$f":"H73","v":70.4316989346041},{"$f":"H72","v":76.403046126361303},{"$f":"H71","v":82.650110180537098},{"$f":"H70","v":89.096973961338406},{"$f":"H69","v":95.616955270286596},{"$f":"H68","v":102.001410288806},{"$f":"H67","v":107.901520690724},{"$f":"H66","v":112.70686787317101},{"$f":"H65","v":115.24638323304301}]
[null,null,null,null,null,null,null,null,null,null,null,null,null,null,null,null,null,null,null,null,null,null,null,null,null,null,null,null,null,null,null,null,null,null,null,null,null,null,null,null,null,null,null,null,null,null,null,null,null,null,null,null,null,null,null,null,null,null,null,null,null,null,null,null,null,null,null,null,null,null,null,null,null,null,null,null,null,null,null,null,null,null,null,null,null,null,null,null,null,null,null,null,null,null,null,null,null,null,null,null,null,null,null,null,null,null,null,null,null,null,"Mar",{"$f":"I77","v":49.885819242196},{"$f":"I76","v":54.503887960583803},{"$f":"I75","v":59.467608988236499},{"$f":"I74","v":64.779317325335299},{"$f":"I73","v":70.4316989346041},{"$f":"I72","v":76.403046126361303},{"$f":"I71","v":82.650110180537098},{"$f":"I70","v":89.096973961338406},{"$f":"I69","v":95.616955270286596},{"$f":"I68","v":102.001410288806},{"$f":"I67","v":107.901520690724},{"$f":"I66","v":112.70686787317101}]
[null,null,null,null,null,null,null,null,null,null,null,null,null,null,null,null,null,null,null,null,null,null,null,null,null,null,null,null,null,null,null,null,null,null,null,null,null,null,null,null,null,null,null,null,null,null,null,null,null,null,null,null,null,null,null,null,null,null,null,null,null,null,null,null,null,null,null,null,null,null,null,null,null,null,null,null,null,null,null,null,null,null,null,null,null,null,null,null,null,null,null,null,null,null,null,null,null,null,null,null,null,null,null,null,null,null,null,null,null,null,"Apr",{"$f":"J78","v":45.604647148142298},{"$f":"J77","v":49.885819242196},{"$f":"J76","v":54.503887960583803},{"$f":"J75","v":59.467608988236499},{"$f":"J74","v":64.779317325335299},{"$f":"J73","v":70.4316989346041},{"$f":"J72","v":76.403046126361303},{"$f":"J71","v":82.650110180537098},{"$f":"J70","v":89.096973961338406},{"$f":"J69","v":95.616955270286596},{"$f":"J68","v":102.001410288806},{"$f":"J67","v":107.901520690724}]
[null,null,null,null,null,null,null,null,null,null,null,null,null,null,null,null,null,null,null,null,null,null,null,null,null,null,null,null,null,null,null,null,null,null,null,null,null,null,null,null,null,null,null,null,null,null,null,null,null,null,null,null,null,null,null,null,null,null,null,null,null,null,null,null,null,null,null,null,null,null,null,null,null,null,null,null,null,null,null,null,null,null,null,null,null,null,null,null,null,null,null,null,null,null,null,null,null,null,null,null,null,null,null,null,null,null,null,null,null,null,"May",{"$f":"K79","v":41.647432069435503},{"$f":"K78","v":45.604647148142298},{"$f":"K77","v":49.885819242196},{"$f":"K76","v":54.503887960583803},{"$f":"K75","v":59.467608988236499},{"$f":"K74","v":64.779317325335299},{"$f":"K73","v":70.4316989346041},{"$f":"K72","v":76.403046126361303},{"$f":"K71","v":82.650110180537098},{"$f":"K70","v":89.096973961338406},{"$f":"K69","v":95.616955270286596},{"$f":"K68","v":102.001410288806}]
[null,null,null,null,null,null,null,null,null,null,null,null,null,null,null,null,null,null,null,null,null,null,null,null,null,null,null,null,null,null,null,null,null,null,null,null,null,null,null,null,null,null,null,null,null,null,null,null,null,null,null,null,null,null,null,null,null,null,null,null,null,null,null,null,null,null,null,null,null,null,null,null,null,null,null,null,null,null,null,null,null,null,null,null,null,null,null,null,null,null,null,null,null,null,null,null,null,null,null,null,null,null,null,null,null,null,null,null,null,null,"Jun",{"$f":"L80","v":37.998619750911999},{"$f":"L79","v":41.647432069435503},{"$f":"L78","v":45.604647148142298},{"$f":"L77","v":49.885819242196},{"$f":"L76","v":54.503887960583803},{"$f":"L75","v":59.467608988236499},{"$f":"L74","v":64.779317325335299},{"$f":"L73","v":70.4316989346041},{"$f":"L72","v":76.403046126361303},{"$f":"L71","v":82.650110180537098},{"$f":"L70","v":89.096973961338406},{"$f":"L69","v":95.616955270286596}]
[null,null,null,null,null,null,null,null,null,null,null,null,null,null,null,null,null,null,null,null,null,null,null,null,null,null,null,null,null,null,null,null,null,null,null,null,null,null,null,null,null,null,null,null,null,null,null,null,null,null,null,null,null,null,null,null,null,null,null,null,null,null,null,null,null,null,null,null,null,null,null,null,null,null,null,null,null,null,null,null,null,null,null,null,null,null,null,null,null,null,null,null,null,null,null,null,null,null,null,null,null,null,null,null,null,null,null,null,null,null,"Jul",{"$f":"M81","v":34.641150615001798},{"$f":"M80","v":37.998619750911999},{"$f":"M79","v":41.647432069435503},{"$f":"M78","v":45.604647148142298},{"$f":"M77","v":49.885819242196},{"$f":"M76","v":54.503887960583803},{"$f":"M75","v":59.467608988236499},{"$f":"M74","v":64.779317325335299},{"$f":"M73","v":70.4316989346041},{"$f":"M72","v":76.403046126361303},{"$f":"M71","v":82.650110180537098},{"$f":"M70","v":89.096973961338406}]
[null,null,null,null,null,null,null,null,null,null,null,null,null,null,null,null,null,null,null,null,null,null,null,null,null,null,null,null,null,null,null,null,null,null,null,null,null,null,null,null,null,null,null,null,null,null,null,null,null,null,null,null,null,null,null,null,null,null,null,null,null,null,null,null,null,null,null,null,null,null,null,null,null,null,null,null,null,null,null,null,null,null,null,null,null,null,null,null,null,null,null,null,null,null,null,null,null,null,null,null,null,null,null,null,null,null,null,null,null,null,"Aug",{"$f":"N82","v":31.557246096870401},{"$f":"N81","v":34.641150615001798},{"$f":"N80","v":37.998619750911999},{"$f":"N79","v":41.647432069435503},{"$f":"N78","v":45.604647148142298},{"$f":"N77","v":49.885819242196},{"$f":"N76","v":54.503887960583803},{"$f":"N75","v":59.467608988236499},{"$f":"N74","v":64.779317325335299},{"$f":"N73","v":70.4316989346041},{"$f":"N72","v":76.403046126361303},{"$f":"N71","v":82.650110180537098}]
[null,null,null,null,null,null,null,null,null,null,null,null,null,null,null,null,null,null,null,null,null,null,null,null,null,null,null,null,null,null,null,null,null,null,null,null,null,null,null,null,null,null,null,null,null,null,null,null,null,null,null,null,null,null,null,null,null,null,null,null,null,null,null,null,null,null,null,null,null,null,null,null,null,null,null,null,null,null,null,null,null,null,null,null,null,null,null,null,null,null,null,null,null,null,null,null,null,null,null,null,null,null,null,null,null,null,null,null,null,null,"Sep",{"$f":"O83","v":28.7289647341033},{"$f":"O82","v":31.557246096870401},{"$f":"O81","v":34.641150615001798},{"$f":"O80","v":37.998619750911999},{"$f":"O79","v":41.647432069435503},{"$f":"O78","v":45.604647148142298},{"$f":"O77","v":49.885819242196},{"$f":"O76","v":54.503887960583803},{"$f":"O75","v":59.467608988236499},{"$f":"O74","v":64.779317325335299},{"$f":"O73","v":70.4316989346041},{"$f":"O72","v":76.403046126361303}]
[null,null,null,null,null,null,null,null,null,null,null,null,null,null,null,null,null,null,null,null,null,null,null,null,null,null,null,null,null,null,null,null,null,null,null,null,null,null,null,null,null,null,null,null,null,null,null,null,null,null,null,null,null,null,null,null,null,null,null,null,null,null,null,null,null,null,null,null,null,null,null,null,null,null,null,null,null,null,null,null,null,null,null,null,null,null,null,null,null,null,null,null,null,null,null,null,null,null,null,null,null,null,null,null,null,null,null,null,null,null,"Oct",{"$f":"P84","v":26.138592191810499},{"$f":"P83","v":28.7289647341033},{"$f":"P82","v":31.557246096870401},{"$f":"P81","v":34.641150615001798},{"$f":"P80","v":37.998619750911999},{"$f":"P79","v":41.647432069435503},{"$f":"P78","v":45.604647148142298},{"$f":"P77","v":49.885819242196},{"$f":"P76","v":54.503887960583803},{"$f":"P75","v":59.467608988236499},{"$f":"P74","v":64.779317325335299},{"$f":"P73","v":70.4316989346041}]
[null,null,null,null,null,null,null,null,null,null,null,null,null,null,null,null,null,null,null,null,null,null,null,null,null,null,null,null,null,null,null,null,null,null,null,null,null,null,null,null,null,null,null,null,null,null,null,null,null,null,null,null,null,null,null,null,null,null,null,null,null,null,null,null,null,null,null,null,null,null,null,null,null,null,null,null,null,null,null,null,null,null,null,null,null,null,null,null,null,null,null,null,null,null,null,null,null,null,null,null,null,null,null,null,null,null,null,null,null,null,"Nov",{"$f":"Q85","v":23.768910465704302},{"$f":"Q84","v":26.138592191810499},{"$f":"Q83","v":28.7289647341033},{"$f":"Q82","v":31.557246096870401},{"$f":"Q81","v":34.641150615001798},{"$f":"Q80","v":37.998619750911999},{"$f":"Q79","v":41.647432069435503},{"$f":"Q78","v":45.604647148142298},{"$f":"Q77","v":49.885819242196},{"$f":"Q76","v":54.503887960583803},{"$f":"Q75","v":59.467608988236499},{"$f":"Q74","v":64.779317325335299}]
[null,null,null,null,null,null,null,null,null,null,null,null,null,null,null,null,null,null,null,null,null,null,null,null,null,null,null,null,null,null,null,null,null,null,null,null,null,null,null,null,null,null,null,null,null,null,null,null,null,null,null,null,null,null,null,null,null,null,null,null,null,null,null,null,null,null,null,null,null,null,null,null,null,null,null,null,null,null,null,null,null,null,null,null,null,null,null,null,null,null,null,null,null,null,null,null,null,null,null,null,null,null,null,null,null,null,null,null,null,null,"Dec",{"$f":"R86","v":21.6033786573025},{"$f":"R85","v":23.768910465704302},{"$f":"R84","v":26.138592191810499},{"$f":"R83","v":28.7289647341033},{"$f":"R82","v":31.557246096870401},{"$f":"R81","v":34.641150615001798},{"$f":"R80","v":37.998619750911999},{"$f":"R79","v":41.647432069435503},{"$f":"R78","v":45.604647148142298},{"$f":"R77","v":49.885819242196},{"$f":"R76","v":54.503887960583803},{"$f":"R75","v":59.467608988236499}]
[null,null,null,null,null,null,null,null,null,null,null,null,null,null,null,null,null,null,null,null,null,null,null,null,null,null,null,null,null,null,null,null,null,null,null,null,null,null,null,null,null,null,null,null,null,null,null,null,null,null,null,null,null,null,null,null,null,null,null,null,null,null,null,null,null,null,null,null,null,null,null,null,null,null,null,null,null,null,null,null,null,null,null,null,null,null,null,null,null,null,null,null,null,null,null,null,null,null,null,null,null,null,null,null,null,null,null,null,null,null,"Jan",null,{"$f":"G86","v":21.6033786573025},{"$f":"G85","v":23.768910465704302},{"$f":"G84","v":26.138592191810499},{"$f":"G83","v":28.7289647341033},{"$f":"G82","v":31.557246096870401},{"$f":"G81","v":34.641150615001798},{"$f":"G80","v":37.998619750911999},{"$f":"G79","v":41.647432069435503},{"$f":"G78","v":45.604647148142298},{"$f":"G77","v":49.885819242196},{"$f":"G76","v":54.503887960583803}]
[null,null,null,null,null,null,null,null,null,null,null,null,null,null,null,null,null,null,null,null,null,null,null,null,null,null,null,null,null,null,null,null,null,null,null,null,null,null,null,null,null,null,null,null,null,null,null,null,null,null,null,null,null,null,null,null,null,null,null,null,null,null,null,null,null,null,null,null,null,null,null,null,null,null,null,null,null,null,null,null,null,null,null,null,null,null,null,null,null,null,null,null,null,null,null,null,null,null,null,null,null,null,null,null,null,null,null,null,null,null,"Feb",null,null,{"$f":"H86","v":21.6033786573025},{"$f":"H85","v":23.768910465704302},{"$f":"H84","v":26.138592191810499},{"$f":"H83","v":28.7289647341033},{"$f":"H82","v":31.557246096870401},{"$f":"H81","v":34.641150615001798},{"$f":"H80","v":37.998619750911999},{"$f":"H79","v":41.647432069435503},{"$f":"H78","v":45.604647148142298},{"$f":"H77","v":49.885819242196}]
[null,null,null,null,null,null,null,null,null,null,null,null,null,null,null,null,null,null,null,null,null,null,null,null,null,null,null,null,null,null,null,null,null,null,null,null,null,null,null,null,null,null,null,null,null,null,null,null,null,null,null,null,null,null,null,null,null,null,null,null,null,null,null,null,null,null,null,null,null,null,null,null,null,null,null,null,null,null,null,null,null,null,null,null,null,null,null,null,null,null,null,null,null,null,null,null,null,null,null,null,null,null,null,null,null,null,null,null,null,null,"Mar",null,null,null,{"$f":"I86","v":21.6033786573025},{"$f":"I85","v":23.768910465704302},{"$f":"I84","v":26.138592191810499},{"$f":"I83","v":28.7289647341033},{"$f":"I82","v":31.557246096870401},{"$f":"I81","v":34.641150615001798},{"$f":"I80","v":37.998619750911999},{"$f":"I79","v":41.647432069435503},{"$f":"I78","v":45.604647148142298}]
[null,null,null,null,null,null,null,null,null,null,null,null,null,null,null,null,null,null,null,null,null,null,null,null,null,null,null,null,null,null,null,null,null,null,null,null,null,null,null,null,null,null,null,null,null,null,null,null,null,null,null,null,null,null,null,null,null,null,null,null,null,null,null,null,null,null,null,null,null,null,null,null,null,null,null,null,null,null,null,null,null,null,null,null,null,null,null,null,null,null,null,null,null,null,null,null,null,null,null,null,null,null,null,null,null,null,null,null,null,null,"Apr",null,null,null,null,{"$f":"J86","v":21.6033786573025},{"$f":"J85","v":23.768910465704302},{"$f":"J84","v":26.138592191810499},{"$f":"J83","v":28.7289647341033},{"$f":"J82","v":31.557246096870401},{"$f":"J81","v":34.641150615001798},{"$f":"J80","v":37.998619750911999},{"$f":"J79","v":41.647432069435503}]
[null,null,null,null,null,null,null,null,null,null,null,null,null,null,null,null,null,null,null,null,null,null,null,null,null,null,null,null,null,null,null,null,null,null,null,null,null,null,null,null,null,null,null,null,null,null,null,null,null,null,null,null,null,null,null,null,null,null,null,null,null,null,null,null,null,null,null,null,null,null,null,null,null,null,null,null,null,null,null,null,null,null,null,null,null,null,null,null,null,null,null,null,null,null,null,null,null,null,null,null,null,null,null,null,null,null,null,null,null,null,"May",null,null,null,null,null,{"$f":"K86","v":21.6033786573025},{"$f":"K85","v":23.768910465704302},{"$f":"K84","v":26.138592191810499},{"$f":"K83","v":28.7289647341033},{"$f":"K82","v":31.557246096870401},{"$f":"K81","v":34.641150615001798},{"$f":"K80","v":37.998619750911999}]
[null,null,null,null,null,null,null,null,null,null,null,null,null,null,null,null,null,null,null,null,null,null,null,null,null,null,null,null,null,null,null,null,null,null,null,null,null,null,null,null,null,null,null,null,null,null,null,null,null,null,null,null,null,null,null,null,null,null,null,null,null,null,null,null,null,null,null,null,null,null,null,null,null,null,null,null,null,null,null,null,null,null,null,null,null,null,null,null,null,null,null,null,null,null,null,null,null,null,null,null,null,null,null,null,null,null,null,null,null,null,"Jun",null,null,null,null,null,null,{"$f":"L86","v":21.6033786573025},{"$f":"L85","v":23.768910465704302},{"$f":"L84","v":26.138592191810499},{"$f":"L83","v":28.7289647341033},{"$f":"L82","v":31.557246096870401},{"$f":"L81","v":34.641150615001798}]
[null,null,null,null,null,null,null,null,null,null,null,null,null,null,null,null,null,null,null,null,null,null,null,null,null,null,null,null,null,null,null,null,null,null,null,null,null,null,null,null,null,null,null,null,null,null,null,null,null,null,null,null,null,null,null,null,null,null,null,null,null,null,null,null,null,null,null,null,null,null,null,null,null,null,null,null,null,null,null,null,null,null,null,null,null,null,null,null,null,null,null,null,null,null,null,null,null,null,null,null,null,null,null,null,null,null,null,null,null,null,"Jul",null,null,null,null,null,null,null,{"$f":"M86","v":21.6033786573025},{"$f":"M85","v":23.768910465704302},{"$f":"M84","v":26.138592191810499},{"$f":"M83","v":28.7289647341033},{"$f":"M82","v":31.557246096870401}]
[null,null,null,null,null,null,null,null,null,null,null,null,null,null,null,null,null,null,null,null,null,null,null,null,null,null,null,null,null,null,null,null,null,null,null,null,null,null,null,null,null,null,null,null,null,null,null,null,null,null,null,null,null,null,null,null,null,null,null,null,null,null,null,null,null,null,null,null,null,null,null,null,null,null,null,null,null,null,null,null,null,null,null,null,null,null,null,null,null,null,null,null,null,null,null,null,null,null,null,null,null,null,null,null,null,null,null,null,null,null,"Aug",null,null,null,null,null,null,null,null,{"$f":"N86","v":21.6033786573025},{"$f":"N85","v":23.768910465704302},{"$f":"N84","v":26.138592191810499},{"$f":"N83","v":28.7289647341033}]
[null,null,null,null,null,null,null,null,null,null,null,null,null,null,null,null,null,null,null,null,null,null,null,null,null,null,null,null,null,null,null,null,null,null,null,null,null,null,null,null,null,null,null,null,null,null,null,null,null,null,null,null,null,null,null,null,null,null,null,null,null,null,null,null,null,null,null,null,null,null,null,null,null,null,null,null,null,null,null,null,null,null,null,null,null,null,null,null,null,null,null,null,null,null,null,null,null,null,null,null,null,null,null,null,null,null,null,null,null,null,"Sep",null,null,null,null,null,null,null,null,null,{"$f":"O86","v":21.6033786573025},{"$f":"O85","v":23.768910465704302},{"$f":"O84","v":26.138592191810499}]
[null,null,null,null,null,null,null,null,null,null,null,null,null,null,null,null,null,null,null,null,null,null,null,null,null,null,null,null,null,null,null,null,null,null,null,null,null,null,null,null,null,null,null,null,null,null,null,null,null,null,null,null,null,null,null,null,null,null,null,null,null,null,null,null,null,null,null,null,null,null,null,null,null,null,null,null,null,null,null,null,null,null,null,null,null,null,null,null,null,null,null,null,null,null,null,null,null,null,null,null,null,null,null,null,null,null,null,null,null,null,"Oct",null,null,null,null,null,null,null,null,null,null,{"$f":"P86","v":21.6033786573025},{"$f":"P85","v":23.768910465704302}]
[null,null,null,null,null,null,null,null,null,null,null,null,null,null,null,null,null,null,null,null,null,null,null,null,null,null,null,null,null,null,null,null,null,null,null,null,null,null,null,null,null,null,null,null,null,null,null,null,null,null,null,null,null,null,null,null,null,null,null,null,null,null,null,null,null,null,null,null,null,null,null,null,null,null,null,null,null,null,null,null,null,null,null,null,null,null,null,null,null,null,null,null,null,null,null,null,null,null,null,null,null,null,null,null,null,null,null,null,null,null,"Nov",null,null,null,null,null,null,null,null,null,null,null,{"$f":"Q86","v":21.6033786573025}]

{"sheet":"cull","index":5,"n_rows":33,"n_cols":54,"rows_kept":33,"cut":false,"hidden":false,"merged":[]}
[null,"INVOLUNTARY CULLING",null,null,null,null,null,null,null,null,null,{"$f":"milk!L1","v":"v.dairyvip 1.4"}]
[null,null,null,null,null,null,null,null,null,null,null,null,null,null,null,null,null,null,null,null,null,null,null,null,null,null,null,null,null,null,null,null,null,null,null,null,null,null,null,null,"cfunction",1,"Inv. cull function",1,1,"cchart",null,"Hide charts"]
[null,null,null,null,null,null,"Relative risk of involuntary culling per lactation number",null,null,null,null,null,null,null,null,null,null,null,null,null,null,null,null,null,null,null,null,null,null,null,null,null,null,null,null,null,null,null,null,null,null,null,{"$f":"ROUND(VAR(CULLRISKS)+AVERAGE(CULLRISKS),4)","v":6.4000000000000003E-3},{"$f":"IF(cfunction=1,ROUND(AR2,4),ROUND(AR2,4))","v":1},null,null,null,"Prob. involuntary cull"]
[null,null,null,null,null,null,1,1.36,2.02,2.61,3.24,3.67,4.45,5.52,5.52,5.52,5.52,5.52,null,null,null,null,null,null,null,null,null,null,null,null,null,null,null,null,null,null,null,null,null,null,null,null,null,null,null,null,null,"Relative risk"]
[null,null,null,null,null,null,1,2,3,4,5,6,7,8,9,10,11,12,"lactatation number"]
[]
[]
[null,null,null,null,null,null,"Probability of involuntary culling (open cows)",null,null,null,null,null,null,null,null,null,null,null,null,null,null,null,null,null,null,null,null,null,null,null,null,null,null,null,null,null,null,null,null,null,null,null,"functionrisks"]
[null,null,null,null,null,"month","Jan","Feb","Mar","Apr","May","Jun","Jul","Aug","Sep","Oct","Nov","Dec","day","Default",null,null,null,null,null,null,null,null,null,null,null,null,null,null,null,null,null,null,null,null,null,"mim","Jan","Feb","Mar","Apr","May","Jun","Jul","Aug","Sep","Oct","Nov","Dec"]
[null,null,null,null,null,1,1.301098E-2,1.301098E-2,1.301098E-2,1.301098E-2,1.301098E-2,1.301098E-2,1.301098E-2,1.301098E-2,1.301098E-2,1.301098E-2,1.301098E-2,1.301098E-2,15.2,2.60219595E-2,null,null,null,null,null,null,null,null,null,null,null,null,null,null,null,null,null,null,null,null,null,1,{"$f":"(((cseasonality*$T10*CULLSEA1)+(1-cseasonality)*$T10*cullseaavg)+CULLABS)*(1+CULLPCT)","v":1.301097975E-2},{"$f":"(((cseasonality*$T10*CULLSEA2)+(1-cseasonality)*$T10*cullseaavg)+CULLABS)*(1+CULLPCT)","v":1.301097975E-2},{"$f":"(((cseasonality*$T10*CULLSEA3)+(1-cseasonality)*$T10*cullseaavg)+CULLABS)*(1+CULLPCT)","v":1.301097975E-2},{"$f":"(((cseasonality*$T10*CULLSEA4)+(1-cseasonality)*$T10*cullseaavg)+CULLABS)*(1+CULLPCT)","v":1.301097975E-2},{"$f":"(((cseasonality*$T10*CULLSEA5)+(1-cseasonality)*$T10*cullseaavg)+CULLABS)*(1+CULLPCT)","v":1.301097975E-2},{"$f":"(((cseasonality*$T10*CULLSEA6)+(1-cseasonality)*$T10*cullseaavg)+CULLABS)*(1+CULLPCT)","v":1.301097975E-2},{"$f":"(((cseasonality*$T10*CULLSEA7)+(1-cseasonality)*$T10*cullseaavg)+CULLABS)*(1+CULLPCT)","v":1.301097975E-2},{"$f":"(((cseasonality*$T10*CULLSEA8)+(1-cseasonality)*$T10*cullseaavg)+CULLABS)*(1+CULLPCT)","v":1.301097975E-2},{"$f":"(((cseasonality*$T10*CULLSEA9)+(1-cseasonality)*$T10*cullseaavg)+CULLABS)*(1+CULLPCT)","v":1.301097975E-2},{"$f":"(((cseasonality*$T10*CULLSEA10)+(1-cseasonality)*$T10*cullseaavg)+CULLABS)*(1+CULLPCT)","v":1.301097975E-2},{"$f":"(((cseasonality*$T10*CULLSEA11)+(1-cseasonality)*$T10*cullseaavg)+CULLABS)*(1+CULLPCT)","v":1.301097975E-2},{"$f":"(((cseasonality*$T10*CULLSEA12)+(1-cseasonality)*$T10*cullseaavg)+CULLABS)*(1+CULLPCT)","v":1.301097975E-2}]
[null,null,null,null,null,2,8.4560339999999994E-3,8.4560339999999994E-3,8.4560339999999994E-3,8.4560339999999994E-3,8.4560339999999994E-3,8.4560339999999994E-3,8.4560339999999994E-3,8.4560339999999994E-3,8.4560339999999994E-3,8.4560339999999994E-3,8.4560339999999994E-3,8.4560339999999994E-3,45.6,1.6912067999999999E-2,null,null,null,null,null,null,null,null,null,null,null,null,null,null,null,null,null,null,null,null,null,2,{"$f":"(((cseasonality*$T11*CULLSEA1)+(1-cseasonality)*$T11*cullseaavg)+CULLABS)*(1+CULLPCT)","v":8.4560339999999994E-3},8.4560339999999994E-3,8.4560339999999994E-3,8.4560339999999994E-3,8.4560339999999994E-3,8.4560339999999994E-3,8.4560339999999994E-3,8.4560339999999994E-3,8.4560339999999994E-3,8.4560339999999994E-3,8.4560339999999994E-3,8.4560339999999994E-3]
[null,null,null,{"$f":"update(AQ3,AR2,\"Inv. cull function\")","v":"Inv. cull function"},null,3,6.102166E-3,6.102166E-3,6.102166E-3,6.102166E-3,6.102166E-3,6.102166E-3,6.102166E-3,6.102166E-3,6.102166E-3,6.102166E-3,6.102166E-3,6.102166E-3,76,1.22043315E-2,null,null,null,null,null,null,null,null,null,null,null,null,null,null,null,null,null,null,null,null,null,3,6.1021657500000001E-3,6.1021657500000001E-3,6.1021657500000001E-3,6.1021657500000001E-3,6.1021657500000001E-3,6.1021657500000001E-3,6.1021657500000001E-3,6.1021657500000001E-3,6.1021657500000001E-3,6.1021657500000001E-3,6.1021657500000001E-3,6.1021657500000001E-3]
[null,null,"+/- (abs)",0,null,4,5.0530430000000001E-3,5.0530430000000001E-3,5.0530430000000001E-3,5.0530430000000001E-3,5.0530430000000001E-3,5.0530430000000001E-3,5.0530430000000001E-3,5.0530430000000001E-3,5.0530430000000001E-3,5.0530430000000001E-3,5.0530430000000001E-3,5.0530430000000001E-3,106.4,1.01060865E-2,null,null,null,null,null,null,null,null,null,null,null,null,null,null,null,null,null,null,null,null,null,4,5.05304325E-3,5.05304325E-3,5.05304325E-3,5.05304325E-3,5.05304325E-3,5.05304325E-3,5.05304325E-3,5.05304325E-3,5.05304325E-3,5.05304325E-3,5.05304325E-3,5.05304325E-3]
[null,null,"+/- (%)",-0.5,null,5,4.6962949999999996E-3,4.6962949999999996E-3,4.6962949999999996E-3,4.6962949999999996E-3,4.6962949999999996E-3,4.6962949999999996E-3,4.6962949999999996E-3,4.6962949999999996E-3,4.6962949999999996E-3,4.6962949999999996E-3,4.6962949999999996E-3,4.6962949999999996E-3,136.80000000000001,9.3925905000000007E-3,null,null,null,null,null,null,null,null,null,null,null,null,null,null,null,null,null,null,null,null,null,5,4.6962952500000004E-3,4.6962952500000004E-3,4.6962952500000004E-3,4.6962952500000004E-3,4.6962952500000004E-3,4.6962952500000004E-3,4.6962952500000004E-3,4.6962952500000004E-3,4.6962952500000004E-3,4.6962952500000004E-3,4.6962952500000004E-3,4.6962952500000004E-3]
[null,null,"Seasonality",1,null,6,4.6424659999999996E-3,4.6424659999999996E-3,4.6424659999999996E-3,4.6424659999999996E-3,4.6424659999999996E-3,4.6424659999999996E-3,4.6424659999999996E-3,4.6424659999999996E-3,4.6424659999999996E-3,4.6424659999999996E-3,4.6424659999999996E-3,4.6424659999999996E-3,167.2,9.2849309999999997E-3,null,null,null,null,null,null,null,null,null,null,null,null,null,null,null,null,null,null,null,null,null,6,4.6424654999999999E-3,4.6424654999999999E-3,4.6424654999999999E-3,4.6424654999999999E-3,4.6424654999999999E-3,4.6424654999999999E-3,4.6424654999999999E-3,4.6424654999999999E-3,4.6424654999999999E-3,4.6424654999999999E-3,4.6424654999999999E-3,4.6424654999999999E-3]
[null,null,"Jan",1,null,7,4.6493999999999997E-3,4.6493999999999997E-3,4.6493999999999997E-3,4.6493999999999997E-3,4.6493999999999997E-3,4.6493999999999997E-3,4.6493999999999997E-3,4.6493999999999997E-3,4.6493999999999997E-3,4.6493999999999997E-3,4.6493999999999997E-3,4.6493999999999997E-3,197.6,9.2987999999999994E-3,null,null,null,null,null,null,null,null,null,null,null,null,null,null,null,null,null,null,null,null,null,7,4.6493999999999997E-3,4.6493999999999997E-3,4.6493999999999997E-3,4.6493999999999997E-3,4.6493999999999997E-3,4.6493999999999997E-3,4.6493999999999997E-3,4.6493999999999997E-3,4.6493999999999997E-3,4.6493999999999997E-3,4.6493999999999997E-3,4.6493999999999997E-3]
[null,null,"Feb",1,null,8,4.6493999999999997E-3,4.6493999999999997E-3,4.6493999999999997E-3,4.6493999999999997E-3,4.6493999999999997E-3,4.6493999999999997E-3,4.6493999999999997E-3,4.6493999999999997E-3,4.6493999999999997E-3,4.6493999999999997E-3,4.6493999999999997E-3,4.6493999999999997E-3,228,9.2987999999999994E-3,null,null,null,null,null,null,null,null,null,null,null,null,null,null,null,null,null,null,null,null,null,8,4.6493999999999997E-3,4.6493999999999997E-3,4.6493999999999997E-3,4.6493999999999997E-3,4.6493999999999997E-3,4.6493999999999997E-3,4.6493999999999997E-3,4.6493999999999997E-3,4.6493999999999997E-3,4.6493999999999997E-3,4.6493999999999997E-3,4.6493999999999997E-3]
[null,null,"Mar",1,null,9,4.6532989999999996E-3,4.6532989999999996E-3,4.6532989999999996E-3,4.6532989999999996E-3,4.6532989999999996E-3,4.6532989999999996E-3,4.6532989999999996E-3,4.6532989999999996E-3,4.6532989999999996E-3,4.6532989999999996E-3,4.6532989999999996E-3,4.6532989999999996E-3,258.39999999999998,9.3065969999999998E-3,null,null,null,null,null,null,null,null,null,null,null,null,null,null,null,null,null,null,null,null,null,9,4.6532984999999999E-3,4.6532984999999999E-3,4.6532984999999999E-3,4.6532984999999999E-3,4.6532984999999999E-3,4.6532984999999999E-3,4.6532984999999999E-3,4.6532984999999999E-3,4.6532984999999999E-3,4.6532984999999999E-3,4.6532984999999999E-3,4.6532984999999999E-3]
[null,null,"Apr",1,null,10,4.6135489999999998E-3,4.6135489999999998E-3,4.6135489999999998E-3,4.6135489999999998E-3,4.6135489999999998E-3,4.6135489999999998E-3,4.6135489999999998E-3,4.6135489999999998E-3,4.6135489999999998E-3,4.6135489999999998E-3,4.6135489999999998E-3,4.6135489999999998E-3,288.8,9.2270970000000001E-3,null,null,null,null,null,null,null,null,null,null,null,null,null,null,null,null,null,null,null,null,null,10,4.6135485E-3,4.6135485E-3,4.6135485E-3,4.6135485E-3,4.6135485E-3,4.6135485E-3,4.6135485E-3,4.6135485E-3,4.6135485E-3,4.6135485E-3,4.6135485E-3,4.6135485E-3]
[null,null,"May",1,null,11,4.6056949999999999E-3,4.6056949999999999E-3,4.6056949999999999E-3,4.6056949999999999E-3,4.6056949999999999E-3,4.6056949999999999E-3,4.6056949999999999E-3,4.6056949999999999E-3,4.6056949999999999E-3,4.6056949999999999E-3,4.6056949999999999E-3,4.6056949999999999E-3,319.2,9.2113904999999996E-3,null,null,null,null,null,null,null,null,null,null,null,null,null,null,null,null,null,null,null,null,null,11,4.6056952499999998E-3,4.6056952499999998E-3,4.6056952499999998E-3,4.6056952499999998E-3,4.6056952499999998E-3,4.6056952499999998E-3,4.6056952499999998E-3,4.6056952499999998E-3,4.6056952499999998E-3,4.6056952499999998E-3,4.6056952499999998E-3,4.6056952499999998E-3]
[null,null,"Jun",1,null,12,4.6711490000000003E-3,4.6711490000000003E-3,4.6711490000000003E-3,4.6711490000000003E-3,4.6711490000000003E-3,4.6711490000000003E-3,4.6711490000000003E-3,4.6711490000000003E-3,4.6711490000000003E-3,4.6711490000000003E-3,4.6711490000000003E-3,4.6711490000000003E-3,349.6,9.3422969999999994E-3,null,null,null,null,null,null,null,null,null,null,null,null,null,null,null,null,null,null,null,null,null,12,4.6711484999999997E-3,4.6711484999999997E-3,4.6711484999999997E-3,4.6711484999999997E-3,4.6711484999999997E-3,4.6711484999999997E-3,4.6711484999999997E-3,4.6711484999999997E-3,4.6711484999999997E-3,4.6711484999999997E-3,4.6711484999999997E-3,4.6711484999999997E-3]
[null,null,"Jul",1,null,13,4.8345940000000002E-3,4.8345940000000002E-3,4.8345940000000002E-3,4.8345940000000002E-3,4.8345940000000002E-3,4.8345940000000002E-3,4.8345940000000002E-3,4.8345940000000002E-3,4.8345940000000002E-3,4.8345940000000002E-3,4.8345940000000002E-3,4.8345940000000002E-3,380,9.6691875000000007E-3,null,null,null,null,null,null,null,null,null,null,null,null,null,null,null,null,null,null,null,null,null,13,4.8345937500000003E-3,4.8345937500000003E-3,4.8345937500000003E-3,4.8345937500000003E-3,4.8345937500000003E-3,4.8345937500000003E-3,4.8345937500000003E-3,4.8345937500000003E-3,4.8345937500000003E-3,4.8345937500000003E-3,4.8345937500000003E-3,4.8345937500000003E-3]
[null,null,"Aug",1,null,14,5.0965710000000003E-3,5.0965710000000003E-3,5.0965710000000003E-3,5.0965710000000003E-3,5.0965710000000003E-3,5.0965710000000003E-3,5.0965710000000003E-3,5.0965710000000003E-3,5.0965710000000003E-3,5.0965710000000003E-3,5.0965710000000003E-3,5.0965710000000003E-3,410.4,1.0193142000000001E-2,null,null,null,null,null,null,null,null,null,null,null,null,null,null,null,null,null,null,null,null,null,14,5.0965710000000003E-3,5.0965710000000003E-3,5.0965710000000003E-3,5.0965710000000003E-3,5.0965710000000003E-3,5.0965710000000003E-3,5.0965710000000003E-3,5.0965710000000003E-3,5.0965710000000003E-3,5.0965710000000003E-3,5.0965710000000003E-3,5.0965710000000003E-3]
[null,null,"Sep",1,null,15,5.4327589999999997E-3,5.4327589999999997E-3,5.4327589999999997E-3,5.4327589999999997E-3,5.4327589999999997E-3,5.4327589999999997E-3,5.4327589999999997E-3,5.4327589999999997E-3,5.4327589999999997E-3,5.4327589999999997E-3,5.4327589999999997E-3,5.4327589999999997E-3,440.8,1.0865517E-2,null,null,null,null,null,null,null,null,null,null,null,null,null,null,null,null,null,null,null,null,null,15,5.4327584999999999E-3,5.4327584999999999E-3,5.4327584999999999E-3,5.4327584999999999E-3,5.4327584999999999E-3,5.4327584999999999E-3,5.4327584999999999E-3,5.4327584999999999E-3,5.4327584999999999E-3,5.4327584999999999E-3,5.4327584999999999E-3,5.4327584999999999E-3]
[null,null,"Oct",1,null,16,5.7999590000000004E-3,5.7999590000000004E-3,5.7999590000000004E-3,5.7999590000000004E-3,5.7999590000000004E-3,5.7999590000000004E-3,5.7999590000000004E-3,5.7999590000000004E-3,5.7999590000000004E-3,5.7999590000000004E-3,5.7999590000000004E-3,5.7999590000000004E-3,471.2,1.1599917E-2,null,null,null,null,null,null,null,null,null,null,null,null,null,null,null,null,null,null,null,null,null,16,5.7999584999999998E-3,5.7999584999999998E-3,5.7999584999999998E-3,5.7999584999999998E-3,5.7999584999999998E-3,5.7999584999999998E-3,5.7999584999999998E-3,5.7999584999999998E-3,5.7999584999999998E-3,5.7999584999999998E-3,5.7999584999999998E-3,5.7999584999999998E-3]
[null,null,"Nov",1,null,17,6.1487870000000002E-3,6.1487870000000002E-3,6.1487870000000002E-3,6.1487870000000002E-3,6.1487870000000002E-3,6.1487870000000002E-3,6.1487870000000002E-3,6.1487870000000002E-3,6.1487870000000002E-3,6.1487870000000002E-3,6.1487870000000002E-3,6.1487870000000002E-3,501.6,1.2297572999999999E-2,null,null,null,null,null,null,null,null,null,null,null,null,null,null,null,null,null,null,null,null,null,17,6.1487864999999996E-3,6.1487864999999996E-3,6.1487864999999996E-3,6.1487864999999996E-3,6.1487864999999996E-3,6.1487864999999996E-3,6.1487864999999996E-3,6.1487864999999996E-3,6.1487864999999996E-3,6.1487864999999996E-3,6.1487864999999996E-3,6.1487864999999996E-3]
[null,null,"Dec",1,null,18,6.4430679999999997E-3,6.4430679999999997E-3,6.4430679999999997E-3,6.4430679999999997E-3,6.4430679999999997E-3,6.4430679999999997E-3,6.4430679999999997E-3,6.4430679999999997E-3,6.4430679999999997E-3,6.4430679999999997E-3,6.4430679999999997E-3,6.4430679999999997E-3,532,1.28861355E-2,null,null,null,null,null,null,null,null,null,null,null,null,null,null,null,null,null,null,null,null,null,18,6.4430677499999998E-3,6.4430677499999998E-3,6.4430677499999998E-3,6.4430677499999998E-3,6.4430677499999998E-3,6.4430677499999998E-3,6.4430677499999998E-3,6.4430677499999998E-3,6.4430677499999998E-3,6.4430677499999998E-3,6.4430677499999998E-3,6.4430677499999998E-3]
[null,null,null,1,null,19,6.685931E-3,6.685931E-3,6.685931E-3,6.685931E-3,6.685931E-3,6.685931E-3,6.685931E-3,6.685931E-3,6.685931E-3,6.685931E-3,6.685931E-3,6.685931E-3,562.4,1.33718625E-2,null,null,null,null,null,null,null,null,null,null,null,null,null,null,null,null,null,null,null,null,null,19,6.6859312499999999E-3,6.6859312499999999E-3,6.6859312499999999E-3,6.6859312499999999E-3,6.6859312499999999E-3,6.6859312499999999E-3,6.6859312499999999E-3,6.6859312499999999E-3,6.6859312499999999E-3,6.6859312499999999E-3,6.6859312499999999E-3,6.6859312499999999E-3]
[null,null,null,null,null,20,6.9526120000000004E-3,6.9526120000000004E-3,6.9526120000000004E-3,6.9526120000000004E-3,6.9526120000000004E-3,6.9526120000000004E-3,6.9526120000000004E-3,6.9526120000000004E-3,6.9526120000000004E-3,6.9526120000000004E-3,6.9526120000000004E-3,6.9526120000000004E-3,592.79999999999995,1.3905223499999999E-2,null,null,null,null,null,null,null,null,null,null,null,null,null,null,null,null,null,null,null,null,null,20,6.9526117499999996E-3,6.9526117499999996E-3,6.9526117499999996E-3,6.9526117499999996E-3,6.9526117499999996E-3,6.9526117499999996E-3,6.9526117499999996E-3,6.9526117499999996E-3,6.9526117499999996E-3,6.9526117499999996E-3,6.9526117499999996E-3,6.9526117499999996E-3]
[null,null,null,null,null,21,7.4299520000000001E-3,7.4299520000000001E-3,7.4299520000000001E-3,7.4299520000000001E-3,7.4299520000000001E-3,7.4299520000000001E-3,7.4299520000000001E-3,7.4299520000000001E-3,7.4299520000000001E-3,7.4299520000000001E-3,7.4299520000000001E-3,7.4299520000000001E-3,623.20000000000005,1.4859903000000001E-2,null,null,null,null,null,null,null,null,null,null,null,null,null,null,null,null,null,null,null,null,null,21,7.4299515000000003E-3,7.4299515000000003E-3,7.4299515000000003E-3,7.4299515000000003E-3,7.4299515000000003E-3,7.4299515000000003E-3,7.4299515000000003E-3,7.4299515000000003E-3,7.4299515000000003E-3,7.4299515000000003E-3,7.4299515000000003E-3,7.4299515000000003E-3]
[null,null,null,null,null,22,8.4626110000000001E-3,8.4626110000000001E-3,8.4626110000000001E-3,8.4626110000000001E-3,8.4626110000000001E-3,8.4626110000000001E-3,8.4626110000000001E-3,8.4626110000000001E-3,8.4626110000000001E-3,8.4626110000000001E-3,8.4626110000000001E-3,8.4626110000000001E-3,653.6,1.69252215E-2,null,null,null,null,null,null,null,null,null,null,null,null,null,null,null,null,null,null,null,null,null,22,8.4626107500000002E-3,8.4626107500000002E-3,8.4626107500000002E-3,8.4626107500000002E-3,8.4626107500000002E-3,8.4626107500000002E-3,8.4626107500000002E-3,8.4626107500000002E-3,8.4626107500000002E-3,8.4626107500000002E-3,8.4626107500000002E-3,8.4626107500000002E-3]
[null,null,null,null,null,23,9.4500000000000001E-3,9.4500000000000001E-3,9.4500000000000001E-3,9.4500000000000001E-3,9.4500000000000001E-3,9.4500000000000001E-3,9.4500000000000001E-3,9.4500000000000001E-3,9.4500000000000001E-3,9.4500000000000001E-3,9.4500000000000001E-3,9.4500000000000001E-3,684,1.89E-2,null,null,null,null,null,null,null,null,null,null,null,null,null,null,null,null,null,null,null,null,null,23,9.4500000000000001E-3,9.4500000000000001E-3,9.4500000000000001E-3,9.4500000000000001E-3,9.4500000000000001E-3,9.4500000000000001E-3,9.4500000000000001E-3,9.4500000000000001E-3,9.4500000000000001E-3,9.4500000000000001E-3,9.4500000000000001E-3,9.4500000000000001E-3]
[null,null,null,null,null,24,1.0584E-2,1.0584E-2,1.0584E-2,1.0584E-2,1.0584E-2,1.0584E-2,1.0584E-2,1.0584E-2,1.0584E-2,1.0584E-2,1.0584E-2,1.0584E-2,714.4,2.1167999999999999E-2,null,null,null,null,null,null,null,null,null,null,null,null,null,null,null,null,null,null,null,null,null,24,1.0584E-2,1.0584E-2,1.0584E-2,1.0584E-2,1.0584E-2,1.0584E-2,1.0584E-2,1.0584E-2,1.0584E-2,1.0584E-2,1.0584E-2,1.0584E-2]

{"sheet":"bw","index":6,"n_rows":61,"n_cols":47,"rows_kept":61,"cut":false,"hidden":false,"merged":[]}
[null,"BODY WEIGHT",null,null,null,null,null,null,null,null,null,{"$f":"milk!L1","v":"v.dairyvip 1.4"}]
[null,null,null,null,null,null,null,null,null,null,null,null,null,null,null,null,null,null,null,null,null,null,null,null,null,null,null,null,null,null,null,null,1,"bfunction",1,"Korver function",{"$f":"ROUND(VAR(bwopenfunction,bwpregfunction)+AVERAGE(bwopenfunction,bwpregfunction),2)","v":341061.81},null,null,1,"bchart",null,"Hide charts"]
[null,null,null,null,null,null,"  Open cows",null,null,null,null,"           Add pregnant weight",null,null,null,null,null,null,null,null,null,null,null,null,null,null,null,null,null,null,null,null,null,null,null,{"$f":"ROUND(VAR(bwopen,bwpreg)+AVERAGE(bwopen,bwpreg),2)","v":341061.81},{"$f":"IF(bfunction=1,ROUND(AK2,2),ROUND(AK2,2))","v":341061.81},null,null,null,null,null,"Body weight open"]
[null,null,null,null,null,"month","lact 1","lact ≥ 2 ","day",null,"months pregnant","lact 1","lact ≥ 2 ","day",null,null,null,null,null,null,null,null,null,null,null,null,null,null,null,null,null,null,null,null,null,null,null,null,null,null,null,null,"Body weight pregnant"]
[null,null,null,null,null,1,1177.0883100000001,1340.78611570561,15.2,null,1,0,0,15.2]
[null,null,null,null,null,2,1170.9902139999999,1305.92396792463,45.6,null,2,0,0,45.6,null,null,null,null,null,null,null,null,null,null,null,null,null,null,null,null,null,null,"Lact 1"]
[null,null,null,null,null,3,1181.1457439999999,1302.91398463366,76,null,3,0.25338396197365098,0.25338396197365098,76,null,null,null,null,null,null,null,null,null,null,null,null,null,null,null,null,null,null,"t(l)","t(a)","t(p)",null,null,null,null,null,null,"original data"]
[null,null,null,null,null,4,1197.2169610000001,1313.9477053834701,106.4,null,4,2.5864041630140799,2.5864041630140799,106.4,null,null,null,null,null,null,null,null,null,null,null,null,null,null,null,null,null,null,"dim","age","dconc","t(pc)","f(age)","f(lactation)","bwopen","f(pregnancy)",null,"NRC[1112]5",null,null,"bwopenfunction",null,"bwpregfunction"]
[null,null,null,null,null,5,1214.2169670000001,1329.7349937014001,136.80000000000001,null,5,9.4279713523053807,9.4279713523053807,136.80000000000001,null,null,null,null,null,null,null,null,null,null,null,null,null,null,null,null,null,1,{"$f":"30.4/2","v":15.2},{"$f":"730+AG9","v":745.2},{"$f":"30.4/2","v":15.2},{"$f":"IF($AI9-50>0,$AI9-50,0)","v":0},{"$f":"($D$13*(1-(1-($D$14/$D$13)^(1/3))*EXP(-$D$15/1000*AH9))^3)*lbs","v":1199.2718512021736},{"$f":"($D$16/BW_P2_1*AG9*EXP(1-AG9/BW_P2_1))*lbs","v":22.1835411555499},{"$f":"AK9-AL9","v":1177.0883100466237},{"$f":"(BW_P3_1)^3*(AJ9)^3*lbs","v":0},null,532,null,{"$f":"AM9","v":1177.0883100466237},{"$f":"AM38","v":1340.7861157056134},{"$f":"AN9","v":0},{"$f":"AN38","v":0}]
[null,null,null,null,null,6,1229.965886,1345.7337168705101,167.2,null,6,23.208224332025399,23.208224332025399,167.2,null,null,null,null,null,null,null,null,null,null,null,null,null,null,null,null,null,2,{"$f":"AG9+30.4","v":45.599999999999994},775.6,{"$f":"AI9+30.4","v":45.599999999999994},{"$f":"IF($AI10-50>0,$AI10-50,0)","v":0},1212.6806023709548,41.690388286069833,1170.9902140848849,0,null,529,null,1170.9902140848849,1305.9239679246257,0,0]
[null,null,null,{"$f":"update(AJ3,AK2,\"Korver function\")","v":" Korver function"},null,7,1243.6996489999999,1359.9721510167999,197.6,null,7,46.3573019043518,46.3573019043518,197.6,null,null,null,null,null,null,null,null,null,null,null,null,null,null,null,null,null,3,{"$f":"AG10+30.4","v":76},806,76,26,1224.6737229503742,43.527978775292034,1181.1457441750822,0.25338396197365104,null,534,null,1181.1457441750822,1302.9139846336634,0.25338396197365104,0.25338396197365104]
[null,null,null,"lact = 1",null,8,1255.3254240000001,1371.8119793451699,228,null,8,81.3053428714624,81.3053428714624,228,null,null,null,null,null,null,null,null,null,null,null,null,null,null,null,null,null,4,106.4,836.4,106.4,56.400000000000006,1235.3920754725502,38.175114502162039,1197.2169609703883,2.5864041630140751,null,539,null,1197.2169609703883,1313.9477053834717,2.5864041630140751,2.5864041630140751]
[null,null,"A",600,null,9,1265.0348100000001,1381.26084002169,258.39999999999998,null,9,130.482486035535,130.482486035535,258.39999999999998,null,null,null,null,null,null,null,null,null,null,null,null,null,null,null,null,null,5,136.80000000000001,866.8,136.80000000000001,86.800000000000011,1244.964383434118,30.747416396312069,1214.2169670378059,9.4279713523053807,null,545,null,1214.2169670378059,1329.7349937013989,9.4279713523053807,9.4279713523053807]
[null,null,"yo",42,null,10,1273.1114990000001,1388.6016919843,288.8,null,null,null,null,null,null,null,null,null,null,null,null,null,null,null,null,null,null,null,null,null,null,6,167.20000000000002,897.2,167.20000000000002,117.20000000000002,1253.5078459390504,23.541959952034116,1229.9658859870162,23.208224332025353,null,554,null,1229.9658859870162,1345.7337168705071,23.208224332025353,23.208224332025353]
[null,null,"k",3.9,null,11,1279.842177,1394.20172848475,319.2,null,null,null,null,null,null,null,null,null,null,null,null,null,null,null,null,null,null,null,null,null,null,7,197.60000000000002,927.6,197.60000000000002,147.60000000000002,1261.1288345413261,17.429185624922678,1243.6996489164035,46.357301904351765,null,562,null,1243.6996489164035,1359.9721510168015,46.357301904351765,46.357301904351765]
[null,null,"p1",20,null,12,1285.480452,1398.42075924502,349.6,null,null,null,null,null,null,null,null,null,null,null,null,null,null,null,null,null,null,null,null,null,null,8,228.00000000000003,958,228.00000000000003,178.00000000000003,1267.9236329832056,12.598209135841238,1255.3254238473644,81.3053428714624,null,573,null,1255.3254238473644,1371.8119793451731,81.3053428714624,81.3053428714624]
[null,null,"p2",65,null,13,1290.236697,1401.57298348584,380,null,null,null,null,null,null,null,null,null,null,null,null,null,null,null,null,null,null,null,null,null,null,9,258.40000000000003,988.40000000000009,258.40000000000003,208.40000000000003,1273.9791907540443,8.9443809386941222,1265.0348098153502,130.48248603553503,null,584,null,1265.0348098153502,1381.2608400216875,130.48248603553503,130.48248603553503]
[null,null,"p3",1.8700000000000001E-2,null,14,1294.2795369999999,1403.91610509049,410.4,null,null,null,null,null,null,null,null,null,null,null,null,null,null,null,null,null,null,null,null,null,null,10,288.8,1018.8,null,null,1279.3738694046656,6.2623707937350712,1273.1114986109305,null,null,596,null,1273.1114986109305,1388.6016919843]
[null,null,null,"lact ≥ 2 ",null,15,1297.7417680000001,1405.6534070091,440.8,null,null,null,null,null,null,null,null,null,null,null,null,null,null,null,null,null,null,null,null,null,null,11,319.2,1049.2,null,null,1284.1781667716639,4.3359901190762029,1279.8421766525876,null,null,605,null,1279.8421766525876,1394.2017284847548]
[null,null,"A",640,null,16,1300.727228,1406.9411012020801,471.2,null,null,null,null,null,null,null,null,null,null,null,null,null,null,null,null,null,null,null,null,null,null,12,349.59999999999997,1079.5999999999999,null,null,1288.4554090510298,2.9749566154145572,1285.4804524356152,null,null,616,null,1285.4804524356152,1398.4207592450223]
[null,null,"yo",42,null,17,1303.3171440000001,1407.89704781111,501.6,null,null,null,null,null,null,null,null,null,null,null,null,null,null,null,null,null,null,null,null,null,null,13,379.99999999999994,1110,null,null,1292.262404304573,2.0257069628420989,1290.2366973417309,null,null,627,null,1290.2366973417309,1401.5729834858373]
[null,null,"k",6,null,18,1305.5754199999999,1408.6090156202299,532,null,null,null,null,null,null,null,null,null,null,null,null,null,null,null,null,null,null,null,null,null,null,14,410.39999999999992,1140.3999999999999,null,null,1295.6500537251084,1.3705162456842206,1294.2795374794241,null,null,null,null,1294.2795374794241,1403.916105090492]
[null,null,"p1",40,null,19,1307.552811,1409.1417605925501,562.4,null,null,null,null,null,null,null,null,null,null,null,null,null,null,null,null,null,null,null,null,null,null,15,440.7999999999999,1170.8,null,null,1298.6639190212022,0.92215140689863484,1297.7417676143036,null,null,null,null,1297.7417676143036,1405.6534070090991]
[null,null,"p2",70,null,20,1309.290117,1409.54275647853,592.79999999999995,null,null,null,null,null,null,null,null,null,null,null,null,null,null,null,null,null,null,null,null,null,null,16,471.19999999999987,1201.1999999999998,null,null,1301.344745765193,0.61751816965159412,1300.7272275955413,null,null,null,null,1300.7272275955413,1406.9411012020751]
[null,null,"p3",1.8700000000000001E-2,null,21,1310.820571,1409.8466685671101,623.20000000000005,null,null,null,null,null,null,null,null,null,null,null,null,null,null,null,null,null,null,null,null,null,null,17,501.59999999999985,1231.5999999999999,null,null,1303.7289436039994,0.41179948413910999,1303.3171441198604,null,null,null,null,1303.3171441198604,1407.8970478111116]
[null,null,null,null,null,22,1312.1716080000001,1410.07876005193,653.6,null,null,null,null,null,null,null,null,null,null,null,null,null,null,null,null,null,null,null,null,null,null,18,531.99999999999989,1262,null,null,1305.8490249598231,0.27360480130556908,1305.5754201585175,null,null,null,null,1305.5754201585175,1408.6090156202297]
[null,null,null,null,null,23,1313.36617,1410.2574395325501,684,null,null,null,null,null,null,null,null,null,null,null,null,null,null,null,null,null,null,null,null,null,null,19,562.39999999999986,1292.3999999999999,null,null,1307.7340043256763,0.1811929123338282,1307.5528114133424,null,null,null,null,1307.5528114133424,1409.1417605925476]
[null,null,null,null,null,24,1314.4236639999999,1410.39614117776,714.4,null,null,null,null,null,null,null,null,null,null,null,null,null,null,null,null,null,null,null,null,null,null,20,592.79999999999984,1322.7999999999997,null,null,1309.4097605502254,0.11964316687918461,1309.2901173833463,null,null,null,null,1309.2901173833463,1409.54275647853]
[null,null,null,null,null,null,null,null,null,null,null,null,null,null,null,null,null,null,null,null,null,null,null,null,null,null,null,null,null,null,null,21,623.19999999999982,1353.1999999999998,null,null,1310.8993646559718,7.8793603236251675E-2,1310.8205710527354,null,null,null,null,1310.8205710527354,1409.8466685671103]
[null,null,null,null,null,null,null,null,null,null,null,null,null,null,null,null,null,null,null,null,null,null,null,null,null,null,null,null,null,null,null,22,653.5999999999998,1383.6,null,null,1312.2233757816944,5.1767759792162762E-2,1312.1716080219021,null,null,null,null,1312.1716080219021,1410.0787600519336]
[null,null,null,null,null,null,null,null,null,null,null,null,null,null,null,null,null,null,null,null,null,null,null,null,null,null,null,null,null,null,null,23,683.99999999999977,1413.9999999999998,null,null,1313.4001078133394,3.3938077836709678E-2,1313.3661697355028,null,null,null,null,1313.3661697355028,1410.2574395325457]
[null,null,null,null,null,null,null,null,null,null,null,null,null,null,null,null,null,null,null,null,null,null,null,null,null,null,null,null,null,null,null,24,714.39999999999975,1444.3999999999996,null,null,1314.4458691893567,2.2205287324536048E-2,1314.4236639020321,null,null,null,null,1314.4236639020321,1410.3961411777595]
[]
[]
[null,null,null,null,null,null,null,null,null,null,null,null,null,null,null,null,null,null,null,null,null,null,null,null,null,null,null,null,null,null,null,null,"Lact 2+"]
[null,null,null,null,null,null,null,null,null,null,null,null,null,null,null,null,null,null,null,null,null,null,null,null,null,null,null,null,null,null,null,null,"t(l)","t(a)","t(p)",null,null,null,null,null,null,"original data"]
[null,null,null,null,null,null,null,null,null,null,null,null,null,null,null,null,null,null,null,null,null,null,null,null,null,null,null,null,null,null,null,null,"dim","age","dconc","t(pc)","f(age)","f(lactation)","bwopen","f(pregnancy)",null,"NRC[1112]5"]
[null,null,null,null,null,null,null,null,null,null,null,null,null,null,null,null,null,null,null,null,null,null,null,null,null,null,null,null,null,null,null,null,15,{"$f":"730+AG38","v":745},{"$f":"30.4/2","v":15.2},{"$f":"IF($AI38-50>0,$AI38-50,0)","v":0},{"$f":"($D$20*(1-(1-($D$21/$D$20)^(1/3))*EXP(-$D$22/1000*AH38))^3)*lbs","v":1382.2451181374672},{"$f":"($D$23/$D$24*AG38*EXP(1-AG38/$D$24))*lbs","v":41.459002431853868},{"$f":"AK38-AL38","v":1340.7861157056134},{"$f":"(BW_P3_2)^3*(AJ38)^3*lbs","v":0},null,603]
[null,null,null,null,null,null,null,null,null,null,null,null,null,null,null,null,null,null,null,null,null,null,null,null,null,null,null,null,null,null,null,null,45,775,{"$f":"AI38+30.4","v":45.599999999999994},{"$f":"IF($AI39-50>0,$AI39-50,0)","v":0},1386.9480083357796,81.024040411153877,1305.9239679246257,0,null,593]
[null,null,null,null,null,null,null,null,null,null,null,null,null,null,null,null,null,null,null,null,null,null,null,null,null,null,null,null,null,null,null,null,75,805,{"$f":"AI39+30.4","v":76},26,1390.8843588383304,87.970374204667095,1302.9139846336634,0.25338396197365104,null,596]
[null,null,null,null,null,null,null,null,null,null,null,null,null,null,null,null,null,null,null,null,null,null,null,null,null,null,null,null,null,null,null,null,105,835,106.4,56.400000000000006,1394.1779781110313,80.230272727559651,1313.9477053834717,2.5864041630140751,null,599]
[null,null,null,null,null,null,null,null,null,null,null,null,null,null,null,null,null,null,null,null,null,null,null,null,null,null,null,null,null,null,null,null,135,865,136.80000000000001,86.800000000000011,1396.9330221671003,67.198028465701299,1329.7349937013989,9.4279713523053807,null,604]
[null,null,null,null,null,null,null,null,null,null,null,null,null,null,null,null,null,null,null,null,null,null,null,null,null,null,null,null,null,null,null,null,165,895,167.20000000000002,117.20000000000002,1399.2370083869578,53.503291516450716,1345.7337168705071,23.208224332025353,null,609]
[null,null,null,null,null,null,null,null,null,null,null,null,null,null,null,null,null,null,null,null,null,null,null,null,null,null,null,null,null,null,null,null,195,925,197.60000000000002,147.60000000000002,1401.1634000535032,41.19124903670162,1359.9721510168015,46.357301904351765,null,615]
[null,null,null,null,null,null,null,null,null,null,null,null,null,null,null,null,null,null,null,null,null,null,null,null,null,null,null,null,null,null,null,null,225,955,228.00000000000003,178.00000000000003,1402.7738121732452,30.96183282807219,1371.8119793451731,81.3053428714624,null,622]
[null,null,null,null,null,null,null,null,null,null,null,null,null,null,null,null,null,null,null,null,null,null,null,null,null,null,null,null,null,null,null,null,255,985,258.40000000000003,208.40000000000003,1404.1198868449014,22.859046823213905,1381.2608400216875,130.48248603553503,null,631]
[null,null,null,null,null,null,null,null,null,null,null,null,null,null,null,null,null,null,null,null,null,null,null,null,null,null,null,null,null,null,null,null,285,1015,null,null,1405.2448827168225,16.643190732522477,1388.6016919843,null,null,642]
[null,null,null,null,null,null,null,null,null,null,null,null,null,null,null,null,null,null,null,null,null,null,null,null,null,null,null,null,null,null,null,null,315,1045,null,null,1406.185018705133,11.983290220378148,1394.2017284847548,null,null,654]
[null,null,null,null,null,null,null,null,null,null,null,null,null,null,null,null,null,null,null,null,null,null,null,null,null,null,null,null,null,null,null,null,345,1075,null,null,1406.970607607286,8.549848362263706,1398.4207592450223,null,null,661]
[null,null,null,null,null,null,null,null,null,null,null,null,null,null,null,null,null,null,null,null,null,null,null,null,null,null,null,null,null,null,null,null,375,1105,null,null,1407.6270108327358,6.0540273468983825,1401.5729834858373,null,null,667]
[null,null,null,null,null,null,null,null,null,null,null,null,null,null,null,null,null,null,null,null,null,null,null,null,null,null,null,null,null,null,null,null,405,1135,null,null,1408.1754413491533,4.2593362586611754,1403.916105090492]
[null,null,null,null,null,null,null,null,null,null,null,null,null,null,null,null,null,null,null,null,null,null,null,null,null,null,null,null,null,null,null,null,435,1165,null,null,1408.6336381921899,2.9802311830908352,1405.6534070090991]
[null,null,null,null,null,null,null,null,null,null,null,null,null,null,null,null,null,null,null,null,null,null,null,null,null,null,null,null,null,null,null,null,465,1195,null,null,1409.0164325395667,2.0753313374916567,1406.9411012020751]
[null,null,null,null,null,null,null,null,null,null,null,null,null,null,null,null,null,null,null,null,null,null,null,null,null,null,null,null,null,null,null,null,495,1225,null,null,1409.3362224042887,1.4391745931770192,1407.8970478111116]
[null,null,null,null,null,null,null,null,null,null,null,null,null,null,null,null,null,null,null,null,null,null,null,null,null,null,null,null,null,null,null,null,525,1255,null,null,1409.6033704360195,0.99435481578987028,1408.6090156202297]
[null,null,null,null,null,null,null,null,null,null,null,null,null,null,null,null,null,null,null,null,null,null,null,null,null,null,null,null,null,null,null,null,555,1285,null,null,1409.8265371031143,0.68477651056674038,1409.1417605925476]
[null,null,null,null,null,null,null,null,null,null,null,null,null,null,null,null,null,null,null,null,null,null,null,null,null,null,null,null,null,null,null,null,585,1315,null,null,1410.0129596250667,0.470203146536678,1409.54275647853]
[null,null,null,null,null,null,null,null,null,null,null,null,null,null,null,null,null,null,null,null,null,null,null,null,null,null,null,null,null,null,null,null,615,1345,null,null,1410.1686853999245,0.32201683281404103,1409.8466685671103]
[null,null,null,null,null,null,null,null,null,null,null,null,null,null,null,null,null,null,null,null,null,null,null,null,null,null,null,null,null,null,null,null,645,1375,null,null,1410.2987672887466,0.22000723681300324,1410.0787600519336]
[null,null,null,null,null,null,null,null,null,null,null,null,null,null,null,null,null,null,null,null,null,null,null,null,null,null,null,null,null,null,null,null,675,1405,null,null,1410.4074269468474,0.14998741430177567,1410.2574395325457]
[null,null,null,null,null,null,null,null,null,null,null,null,null,null,null,null,null,null,null,null,null,null,null,null,null,null,null,null,null,null,null,null,705,1435,null,null,1410.4981914002321,0.10205022247268064,1410.3961411777595]

{"sheet":"cow","index":7,"n_rows":81,"n_cols":66,"rows_kept":81,"cut":false,"hidden":false,"merged":[]}
[null,null,"Plan A: "," ",null,null,null,null,null,null,null,"plan A",null,null,null,{"$f":"milk!L1","v":"v.dairyvip 1.4"},null,null,null,"plan B",null,null,null,null,null,null,null,null,null,null,null,null,null,null,null,null,"sell","pmlk","insm","sellb","pmlkb",null,"store",null,null,null,null,null,null,null,null,null,null,null,null,null,null,null,null,null,null,null,"gmlk","gmlkb"]
[null,null,"Plan B: "," ",null,null,null,null,"rpoopena","rpoprega","pregvala","newprega","delprega","delopena",null,null,"rpoopenb","rpopregb","pregvalb","newpregb","delpregb",null,"delopenb",null,null,null,null,null,null,null,null,null,null,null,null,null,"plan A","plan A","plan A","plan B","plan B","plan B",null,null,null,null,null,null,null,null,null,null,null,null,null,null,null,null,null,null,null,null,"plan A","plan B"]
[null,null,null,null,null,null,null,null,"Open","Pregnant","Pregnancy","New preg.","Preg. delay","Open delay","Insemination",null,"Open","Pregnant","Pregnancy","New preg.","Preg. delay","Open delay","Insemination",null,null,null,null,null,null,null,null,null,null,null,null,null,"Salvage","Pregnant","insemination","Salvage","Pregnant","insemination",0,0,null,1,1,1,null,null,null,null,null,null,null,null,null,null,null,null,null,null,"Open","Open",null,"Hide charts"]
[null,null,null,null,null,"mo","day","sea","RPO ($)","RPO ($)","value ($)","value ($)","value ($)","value ($)","value ($)",null,"RPO($)","RPO ($)","value ($)","value ($)","value ($)","value ($)","value ($)",null,null,null,null,null,null,null,null,null,null,null,null,null,"value ($)","Milk (lbs/d)","value ($)","value ($)","Milk (lbs/d)","value",0,0,null,null,null,null,null,null,null,null,null,null,null,null,"JAN",1,null,"cost per day open?",null,null,"Milk (lbs/d)","Milk (lbs/d)",null,"RPO A"]
[null,null,null,null,null,1,1,{"$f":"CHOOSE(BE19,\"Jan\",\"Feb\",\"Mar\",\"Apr\",\"May\",\"Jun\",\"Jul\",\"Aug\",\"Sep\",\"Oct\",\"Nov\",\"Dec\")","v":"Jan"},1467,null,null,null,null,null,null,null,-130,null,null,null,null,null,null,null,null,null,null,null,null,null,null,null,null,null,null,null,null,null,null,null,null,null,0,0,null,null,null,null,null,null,null,null,null,null,null,null,"FEB",2,null,{"$f":"IF(U5<>\"\",-U5/30.4,\"\")","v":""},null,null,24.17,16.86,null,"RPO B"]
[null,null,null,null,null,2,{"$f":"G5+30.4","v":31.4},"Jan",1561,null,null,null,null,null,null,null,-73,null,null,null,null,null,null,null,null,null,null,null,null,null,null,null,null,null,null,null,null,null,null,null,null,null,0,0,null,null,null,null,null,null,null,null,null,null,null,null,"MAR",3,null,"",null,null,32.26,22.49,null,"Compare RPO A and B"]
[null,null,null,null,null,3,{"$f":"G6+30.4","v":61.8},"Jan",1586,1563,-22,-22,84,-10,-22,null,-45,-43,0,0,-43,-45,-13,null,null,null,null,null,null,null,null,null,null,null,null,null,null,null,null,null,null,null,0,0,null,null,null,null,null,null,null,null,null,null,null,null,"APR",4,null,1.4144736842105263,null,null,35.24,24.58,null,"Cost delayed pregnancy"]
[null,null,null,{"$f":"RPOAFILE","v":" "},null,4,92.199999999999989,"Jan",1537,1524,-12,72,108,-38,10,null,-35,-34,0,0,-77,-79,-14,null,null,null,null,null,null,null,null,null,null,null,null,null,null,null,null,null,null,null,0,0,null,null,null,null,null,null,null,null,null,null,null,null,"MAY",5,null,2.5328947368421053,null,null,36.29,25.31,null,"Value new pregnancy"]
[null,null,"Milk yield (%)",100,null,5,122.6,"Jan",1454,1470,16,125,119,-85,28,null,-38,-37,0,0,-114,-116,-15,null,null,null,null,null,null,null,null,null,null,null,null,null,null,null,null,null,null,null,0,0,null,null,null,null,null,null,null,null,null,null,null,null,"JUN",6,null,3.75,null,null,36.299999999999997,25.32]
[null,null,"Lactation",1,null,6,153,"Jan",1352,1418,66,184,121,-156,48,null,-43,-43,0,0,-156,-157,-15,null,null,null,null,null,null,null,null,null,null,null,null,null,null,null,null,null,null,null,0,0,null,null,null,null,null,null,null,null,null,null,null,null,"JUL",7,null,5.1315789473684212,null,null,35.69,24.89]
[null,null,"Conception mo.",3,null,7,183.4,"Jan",1234,1374,140,254,93,-247,71,null,-51,-4,0,0,-204,-205,-15,null,null,null,null,null,null,null,null,null,null,null,null,null,null,null,null,null,null,null,0,0,null,null,null,null,null,null,null,null,null,null,null,null,"AUG",8,null,6.7105263157894743,null,null,34.700000000000003,24.2]
[null,null,"Season","MAY",null,8,213.8,"Jan",1102,1353,251,331,47,-356,94,null,-59,58,58,0,-260,-261,-15,null,null,null,null,null,null,null,null,null,null,null,null,null,null,null,null,null,null,null,null,0,null,null,null,null,null,null,null,null,null,null,null,null,"SEP",9,null,8.5526315789473681,null,null,33.450000000000003,23.33]
[null,null,null,null,null,9,244.20000000000002,"Jan",963,1360,396,393,-16,-482,112,null,-68,139,139,0,-324,-324,-15,null,null,null,null,null,null,null,null,null,null,null,null,null,null,null,null,null,null,null,null,0,null,null,null,null,null,null,null,null,null,null,null,null,"OCT",10,null,10.657894736842106,null,null,32.06,22.36]
[null,null,null,null,null,10,274.60000000000002,"Jan",818,1392,574,461,-87,-627,131,null,-77,239,239,0,-396,-396,-15,null,null,null,null,null,null,null,null,null,null,null,null,null,null,null,null,null,null,null,null,0,null,null,null,null,null,null,null,null,null,null,null,null,"NOV",11,null,13.026315789473685,null,null,30.58,21.33]
[null,null,"% data read",0,null,11,305,"Jan",667,1602,935,538,-192,-781,150,null,-87,428,428,0,-476,-476,-15,null,null,null,null,null,null,null,null,null,null,null,null,null,null,null,null,null,null,null,null,0,null,null,null,null,null,null,null,null,null,null,null,null,"DEC",12,null,15.657894736842106,null,null,29.06,20.260000000000002]
[null,null,null,null,null,12,335.4,"Jan",519,null,null,592,-304,-943,160,null,-96,null,null,0,-564,-564,-15,null,null,null,null,null,null,null,null,null,null,null,null,null,null,null,null,null,null,null,null,0,null,null,null,null,null,null,null,null,null,null,null,null,null,null,null,null,null,null,27.52,19.190000000000001]
[null,null,null,null,null,13,365.79999999999995,"Jan",375,null,null,646,-424,-1109,169,null,-105,null,null,0,-659,-659,-15,null,null,null,null,null,null,null,null,null,null,null,null,null,null,null,null,null,null,null,null,0,null,null,null,null,null,null,null,null,null,null,null,null,null,null,null,null,null,null,26,18.14]
[null,null,null,null,null,14,396.19999999999993,"Jan",238,null,null,698,-551,-1276,175,null,-114,null,null,0,-761,-761,-15,null,null,null,null,null,null,null,null,null,null,null,null,null,null,null,null,null,null,null,null,0,null,null,null,null,null,null,null,null,null,null,null,null,{"$f":"STARTSEA","v":"JAN"},"Jan",1,null,null,null,24.52,17.100000000000001]
[null,null,null,{"$f":"RPOBFILE","v":" "},null,15,426.59999999999991,"Jan",113,null,null,744,-686,-1443,176,null,-123,null,null,0,-870,-870,-15,null,null,null,null,null,null,null,null,null,null,null,null,null,null,null,null,null,null,null,null,0,null,null,null,null,null,null,null,null,null,null,null,1,{"$f":"VLOOKUP(BE18,BF18:BG29,2,FALSE)","v":1},"Feb",2,null,null,null,23.07,16.09]
[null,null,"Milk yield (%)",73,null,16,456.99999999999989,"Jan",-75,null,null,781,null,-1513,176,null,-131,null,null,0,null,-986,-15,null,null,null,null,null,null,null,null,null,null,null,null,null,null,null,null,null,null,null,null,0,null,null,null,null,null,null,null,null,null,null,"=IF(AB21<12,AB21+1,1)",2,{"$f":"BE19","v":1},"Mar",3,null,null,null,21.67,15.11]
[null,null,"Lactation",1,null,17,487.39999999999986,"Jan",-87,null,null,null,null,-1594,null,null,-139,null,null,null,null,-1106,null,null,null,null,null,null,null,null,null,null,null,null,null,null,null,null,null,null,null,null,null,0,null,null,null,null,null,null,null,null,null,null,null,3,{"$f":"BE20","v":1},"Apr",4,null,null,null,20.329999999999998,14.18]
[null,null,"Conception mo.",3,null,18,517.79999999999984,"Jan",-98,null,null,null,null,-1685,null,null,-147,null,null,null,null,-1232,null,null,null,null,null,null,null,null,null,null,null,null,null,null,null,null,null,null,null,null,null,0,null,null,null,null,null,null,null,null,null,null,null,4,1,"May",5,null,null,null,19.05,13.29]
[null,null,"Season","MAY",null,19,548.19999999999982,"Jan",-109,null,null,null,null,-1786,null,null,-154,null,null,null,null,-1362,null,null,null,null,null,null,null,null,null,null,null,null,null,null,null,null,null,null,null,null,null,0,null,null,null,null,null,null,null,null,null,null,null,5,1,"Jun",6,null,null,null,17.829999999999998,12.43]
[null,null,null,null,null,20,578.5999999999998,"Jan",-119,null,null,null,null,-1895,null,null,-161,null,null,null,null,-1497,null,null,null,null,null,null,null,null,null,null,null,null,null,null,null,null,null,null,null,null,null,0,null,null,null,null,null,null,null,null,null,null,null,6,1,"Jul",7,null,null,null,16.670000000000002,11.63]
[null,null,null,null,null,21,608.99999999999977,"Jan",-129,null,null,null,null,-2012,null,null,-167,null,null,null,null,-1634,null,null,null,null,null,null,null,null,null,null,null,null,null,null,null,null,null,null,null,null,null,0,null,null,null,null,null,null,null,null,null,null,null,7,1,"Aug",8,null,null,null,15.57,10.86]
[null,null,"% data read",0,null,22,639.39999999999975,"Jan",-138,null,null,null,null,-2136,null,null,-173,null,null,null,null,-1775,null,null,null,null,null,null,null,null,null,null,null,null,null,null,null,null,null,null,null,null,null,0,null,null,null,null,null,null,null,null,null,null,null,8,1,"Sep",9,null,null,null,14.53,10.14]
[null,null,null,null,null,23,669.79999999999973,"Jan",-147,null,null,null,null,-2267,null,null,-179,null,null,null,null,-1918,null,null,null,null,null,null,null,null,null,null,null,null,null,null,null,null,null,null,null,null,null,0,null,null,null,null,null,null,null,null,null,null,null,9,1,"Oct",10,null,null,null,13.56,9.4499999999999993]
[null,null,null,null,null,24,700.1999999999997,"Jan",-155,null,null,null,null,null,null,null,-185,null,null,null,null,null,null,null,null,null,null,null,null,null,null,null,null,null,null,null,null,null,null,null,null,null,null,null,null,null,null,null,null,null,null,null,null,null,null,10,1,"Nov",11,null,null,null,12.64,8.81]
[null,null,null,null,null,null,null,null,null,null,null,null,null,null,null,null,null,null,null,null,null,null,null,null,null,null,null,null,null,null,null,null,null,null,null,null,null,null,null,null,null,null,null,null,null,null,null,null,null,null,null,null,null,null,null,11,1,"Dec",12]
[null,null,null," ",null,null,null,null,null,null,null,null,null,null,null,null,null,null,null,null,null,null,null,null,null,null,null,null,null,null,null,null,null,null,null,null,null,null,null,null,null,null,null,null,null,null,null,null,null,null,null,null,null,null,null,12,1]
[null,null,{"$f":"IF(UNITS = \"kg\",\"Milk yield (kg)\",\"Milk yield (lbs)\")","v":"Milk yield (lbs)"},35,null,null,null,null,null,null,null,null,null,null,null,null,null,null,null,null,null,null,null,null,null,null,null,null,null,null,null,null,null,null,null,null,null,null,null,null,null,null,null,null,null,null,null,null,null,null,null,null,null,null,null,13,1]
[null,null,"Lactation",1,null,null,null,null,null,null,null,null,null,null,null,null,null,null,null,null,null,null,null,null,null,null,null,null,null,null,null,null,null,null,null,null,null,null,null,null,null,null,null,null,null,null,null,null,null,null,null,null,null,null,null,14,1]
[null,null,"Month in milk",6,null,null,null,null,null,null,null,null,null,null,null,null,null,null,null,null,null,null,null,null,null,null,null,null,null,null,null,null,null,null,null,null,null,null,null,null,null,null,null,null,null,null,null,null,null,null,null,null,null,null,null,15,1]
[null,null,"Months pregn.",0,null,null,null,null,null,null,null,null,null,null,null,null,null,null,null,null,null,null,null,null,null,null,null,null,null,null,null,null,null,null,null,null,null,null,null,null,null,null,null,null,null,null,null,null,null,null,null,null,null,null,null,16,1]
[null,null,"Season","JUN",null,null,null,null,null,null,null,null,null,null,null,null,null,null,null,null,null,null,null,null,null,null,null,null,null,null,null,null,null,null,null,null,null,null,null,null,null,null,null,null,null,null,null,null,null,null,null,null,null,null,null,17,1]
[null,null,"% data read",0,null,null,null,null,null,null,null,null,null,null,null,null,null,null,null,null,null,null,null,null,null,null,null,null,null,null,null,null,null,null,null,null,null,null,null,null,null,null,null,null,null,null,null,null,null,null,null,null,null,null,null,18,1]
[null,null,null,{"$f":"findrpo(CURRYIELD,LACTC,RPOMIM,RPOPREG,RPOSEA)","v":{"$error":"#VALUE!"}},null,null,null,null,null,null,null,null,null,null,null,null,null,null,null,null,null,null,null,null,null,null,null,null,null,null,null,null,null,null,null,null,null,null,null,null,null,null,null,null,null,null,null,null,null,null,null,null,null,null,null,19,1]
[null,null,null,null,null,null,null,null,null,null,null,null,null,null,null,null,null,null,null,null,null,null,null,null,null,null,null,null,null,null,null,null,null,null,null,null,null,null,null,null,null,null,null,null,null,null,null,null,null,null,null,null,null,null,null,20,1]
[null,null,null,null,null,null,null,null,null,null,null,null,null,null,null,null,null,null,null,null,null,null,null,null,null,null,null,null,null,null,null,null,null,null,null,null,null,null,null,null,null,null,null,null,null,null,null,null,null,null,null,null,null,null,null,21,1]
[null,null,null,null,null,null,null,null,null,null,null,null,null,null,null,null,null,null,null,null,null,null,null,null,null,null,null,null,null,null,null,null,null,null,null,null,null,null,null,null,null,null,null,null,null,null,null,null,null,null,null,null,null,null,null,22,1]
[null,null,null,null,null,null,null,null,null,null,null,null,null,null,null,null,null,null,null,null,null,null,null,null,null,null,null,null,null,null,null,null,null,null,null,null,null,null,null,null,null,null,null,null,null,null,null,null,null,null,null,null,null,null,null,23,1]
[null,null,null,null,null,null,null,null,null,null,null,null,null,null,null,null,null,null,null,null,null,null,null,null,null,null,null,null,null,null,null,null,null,null,null,null,null,null,null,null,null,null,null,null,null,null,null,null,null,null,null,null,null,null,null,24,1]
[]
[]
[]
[]
[]
[]
[]
[]
[]
[]
[]
[]
[]
[]
[]
[]
[]
[]
[null,null,"check: calving season"]
[null,null,"cost of delayed pregnancy --> sign wrong"]
[null,null,"add 100% milk yield curve"]
[null,null,"add cost/day open curve"]
[]
[null,null,"RPO (open)"]
[null,null,"RPO( preg)"]
[null,null,"Pregn. Value"]
[null,null,"Cull value"]
[null,null,"Milk (open)"]
[null,null,"Milk (preg)"]
[]
[null,null,"A - RPO (open)"]
[null,null,"A - RPO (preg)"]
[null,null,"A - Pregn. Value"]
[null,null,"B - RPO (open)"]
[null,null,"B - RPO (preg)"]
[null,null,"B - Pregn. Value"]
[]
[null,null,"A"]
[null,null,"B"]

{"sheet":"table","index":8,"n_rows":25,"n_cols":46,"rows_kept":25,"cut":false,"hidden":false,"merged":[]}
[null,"Plan A: ",{"$f":"CONCATENATE(input!K3,\": \",input!K2)","v":"final.bio: steady state"},null,null,null,null,null,null,null,{"$f":"milk!L1","v":"v.dairyvip 1.4"}]
[null,"Plan B: ",{"$f":"CONCATENATE(input!X3,\": \",input!X2)","v":"final.bio: steady state"},null,null,{"$f":"IF(OR(table=1,table=4,table=7),\"per slot per year\",IF(OR(table=2,table=5,table=8),\"per slot per day\",\"per cwt\"))","v":"per slot per year"}]
[null,null,null,null,null,"plan A","plan B"," plan B - A",null,null,null,"plan A","plan B"," plan B - A"]
[null,null,null,null,"milk sales",{"$f":"CHOOSE(table,resa!A311,resa!A311/365,resa!A312,resa!B311,resa!B311/365,resa!B312,resa!C311,resa!C311/365,resa!C312)","v":5247.8255879999997},{"$f":"CHOOSE(table,resb!A311,resb!A311/365,resb!A312,resb!B311,resb!B311/365,resb!B312,resb!C311,resb!C311/365,resb!C312)","v":5247.8255900000004},{"$f":"G4-F4","v":2.0000006770715117E-6},null,null,"days to end VWP",{"$f":"CHOOSE(tabl,resa!A366,resa!B366,resa!C366)","v":72.359088999999997},{"$f":"CHOOSE(tabl,resb!A366,resb!B366,resb!C366)","v":72.359088999999997},{"$f":"M4-L4","v":0},null,null,null,null,null,null,null,null,null,null,null,null,null,null,null,null,null,null,null,null,null,null,null,null,null,null,null,null,null,null,null,"Year 1, per slot / year"]
[null,null,null,null,"cow sales",{"$f":"CHOOSE(table,resa!A317,resa!A317/365,resa!A318,resa!B317,resa!B317/365,resa!B318,resa!C317,resa!C317/365,resa!C318)","v":248.54252600000001},{"$f":"CHOOSE(table,resb!A317,resb!A317/365,resb!A318,resb!B317,resb!B317/365,resb!B318,resb!C317,resb!C317/365,resb!C318)","v":248.54252399999999},{"$f":"G5-F5","v":-2.0000000233721948E-6},null,null,"days to first service",{"$f":"CHOOSE(tabl,resa!A358,resa!B358,resa!C358)","v":82.375184000000004},{"$f":"CHOOSE(tabl,resb!A358,resb!B358,resb!C358)","v":82.375184000000004},{"$f":"M5-L5","v":0},null,null,null,null,null,null,null,null,null,null,null,null,null,null,null,null,null,null,null,null,null,null,null,null,null,null,null,null,null,null,null,"Year 1, per slot / day"]
[null,null,null,null,"calf sales",{"$f":"CHOOSE(table,resa!A319,resa!A319/365,resa!A320,resa!B319,resa!B319/365,resa!B320,resa!C319,resa!C319/365,resa!C320)","v":212.62593100000001},{"$f":"CHOOSE(table,resb!A319,resb!A319/365,resb!A320,resb!B319,resb!B319/365,resb!B320,resb!C319,resb!C319/365,resb!C320)","v":212.62593100000001},0,null,null,"days to conception",{"$f":"CHOOSE(tabl,resa!A324,resa!B324,resa!C324)","v":134.174024},{"$f":"CHOOSE(tabl,resb!A324,resb!B324,resb!C324)","v":134.174024},0,null,null,null,null,null,null,null,null,null,null,null,null,null,null,null,null,null,null,null,null,null,null,null,null,null,null,null,null,null,null,null,"Year 1, per cwt"]
[null,null,null,null,"total revenue",{"$f":"SUM(F4:F6)","v":5708.9940449999995},{"$f":"SUM(G4:G6)","v":5708.9940450000004},0,null,null,"days to last service",{"$f":"CHOOSE(tabl,resa!A367,resa!B367,resa!C367)","v":208.436294},{"$f":"CHOOSE(tabl,resb!A367,resb!B367,resb!C367)","v":208.436295},9.9999999747524271E-7,null,null,null,null,null,null,null,null,null,null,null,null,null,null,null,null,null,null,null,null,null,null,null,null,null,null,null,null,null,null,null,"Year 2, per slot / year"]
[null,null,null,null,"feed cost",{"$f":"CHOOSE(table,resa!A313,resa!A313/365,resa!A314,resa!B313,resa!B313/365,resa!B314,resa!C313,resa!C313/365,resa!C314)","v":2783.3679969999998},{"$f":"CHOOSE(table,resb!A313,resb!A313/365,resb!A314,resb!B313,resb!B313/365,resb!B314,resb!C313,resb!C313/365,resb!C314)","v":2783.3679969999998},0,null,null,"calving interval (mo)",{"$f":"CHOOSE(tabl,resa!A323,resa!B323,resa!C323)","v":13.432834},{"$f":"CHOOSE(tabl,resb!A323,resb!B323,resb!C323)","v":13.432834},0,null,null,null,null,null,null,null,null,null,null,null,null,null,null,null,null,null,null,null,null,null,null,null,null,null,null,null,null,null,null,null,"Year 2, per slot / day"]
[null,null,null,null,"breeding supply cost",{"$f":"CHOOSE(table,resa!A332,resa!A332/365,resa!A333,resa!B332,resa!B332/365,resa!B333,resa!C332,resa!C332/365,resa!C333)","v":46.773899},{"$f":"CHOOSE(table,resb!A332,resb!A332/365,resb!A333,resb!B332,resb!B332/365,resb!B333,resb!C332,resb!C332/365,resb!C333)","v":46.773899},0,null,null,"open days",{"$f":"CHOOSE(tabl,resa!A351,resa!B351,resa!C351)","v":150.45953299999999},{"$f":"CHOOSE(tabl,resb!A351,resb!B351,resb!C351)","v":150.45953299999999},0,null,null,null,null,null,null,null,null,null,null,null,null,null,null,null,null,null,null,null,null,null,null,null,null,null,null,null,null,null,null,null,"Year 2, per cwt"]
[null,null,null,null,"heifer purchase cost",{"$f":"CHOOSE(table,resa!A315,resa!A315/365,resa!A316,resa!B315,resa!B315/365,resa!B316,resa!C315,resa!C315/365,resa!C316)","v":539.36269500000003},{"$f":"CHOOSE(table,resb!A315,resb!A315/365,resb!A316,resb!B315,resb!B315/365,resb!B316,resb!C315,resb!C315/365,resb!C316)","v":539.36269100000004},-3.9999999899009708E-6,null,null,"pregnancy rate",{"$f":"CHOOSE(tabl,resa!A338,resa!B338,resa!C338)","v":0.202768},{"$f":"CHOOSE(tabl,resb!A338,resb!B338,resb!C338)","v":0.202768},0,null,null,null,null,null,null,null,null,null,null,null,null,null,null,null,null,null,null,null,null,null,null,null,null,null,null,null,null,null,null,null,"Year 3, per slot / year"]
[null,null,null,null,"veterinary cost",{"$f":"CHOOSE(table,resa!A330,resa!A330/365,resa!A331,resa!B330,resa!B330/365,resa!B331,resa!C330,resa!C330/365,resa!C331)","v":80.409976999999998},{"$f":"CHOOSE(table,resb!A330,resb!A330/365,resb!A331,resb!B330,resb!B330/365,resb!B331,resb!C330,resb!C330/365,resb!C331)","v":80.409976999999998},0,null,null,"value of new pregnancy",{"$f":"CHOOSE(tabl,resa!A349,resa!B349,resa!C349)","v":193.056208},{"$f":"CHOOSE(tabl,resb!A349,resb!B349,resb!C349)","v":193.05626000000001},5.2000000010821168E-5,null,null,null,null,null,null,null,null,null,null,null,null,null,null,null,null,null,null,null,null,null,null,null,null,null,null,null,null,null,null,null,"Year 3, per slot / day"]
[null,null,null,null,"inv. culling loss",{"$f":"CHOOSE(table,resa!A334,resa!A334/365,resa!A335,resa!B334,resa!B335/365,resa!B335,resa!C334,resa!C334/365,resa!C335)","v":0},{"$f":"CHOOSE(table,resb!A334,resb!A334/365,resb!A335,resb!B334,resb!B335/365,resb!B335,resb!C334,resb!C334/365,resb!C335)","v":0},0,null,null,"cost of pregnancy loss",{"$f":"CHOOSE(tabl,resa!A353,resa!B353,resa!C353)","v":513.42671199999995},{"$f":"CHOOSE(tabl,resb!A353,resb!B353,resb!C353)","v":513.42681900000002},1.0700000007091148E-4,null,null,null,null,null,null,null,null,null,null,null,null,null,null,null,null,null,null,null,null,null,null,null,null,null,null,null,null,null,null,null,"Year 3, per cwt"]
[null,null,null,null,"variable labor cost",{"$f":"CHOOSE(table,resa!A328,resa!A328/365,resa!A329,resa!B328,resa!B328/365,resa!B329,resa!C328,resa!C328/365,resa!C329)","v":401.36624999999998},{"$f":"CHOOSE(table,resb!A328,resb!A328/365,resb!A329,resb!B328,resb!B328/365,resb!B329,resb!C328,resb!C328/365,resb!C329)","v":401.36624999999998},0,null,null,"breeding cost / preg",{"$f":"CHOOSE(tabl,resa!A345+resa!A346,resa!B345+resa!B346,resa!C345+resa!C346)","v":54.249268000000001},{"$f":"CHOOSE(tabl,resb!A345+resb!A346,resb!B345+resb!B346,resb!C345+resb!C346)","v":54.249268000000001},0]
[null,null,null,null,"variable other cost",{"$f":"CHOOSE(table,resa!A336,resa!A336/365,resa!A337,resa!B336,resa!B336/365,resa!B337,resa!C336,resa!C336/365,resa!C337)","v":364.8},{"$f":"CHOOSE(table,resb!A336,resb!A336/365,resb!A337,resb!B336,resb!B336/365,resb!B337,resb!C336,resb!C336/365,resb!C337)","v":364.8},0,null,null,"cost of extra day open",{"$f":"CHOOSE(tabl,resa!A368,resa!B368,resa!C368)","v":1.1243700000000001},{"$f":"CHOOSE(tabl,resb!A368,resb!B368,resb!C368)","v":1.124371},9.9999999991773336E-7]
[null,null,null,null,"fixed labor cost",{"$f":"CHOOSE(table,resa!A341,resa!A341/365,resa!A342,resa!B341,resa!B341/365,resa!B342,resa!C341,resa!C341/365,resa!C342)","v":182.4},{"$f":"CHOOSE(table,resb!A341,resb!A341/365,resb!A342,resb!B341,resb!B341/365,resb!B342,resb!C341,resb!C341/365,resb!C342)","v":182.4},0,null,null,"overall cull rate",{"$f":"CHOOSE(tabl,resa!A325,resa!B325,resa!C325)","v":0.33710200000000001},{"$f":"CHOOSE(tabl,resb!A325,resb!B325,resb!C325)","v":0.33710200000000001},0]
[null,null,null,null,"fixed other cost",{"$f":"CHOOSE(table,resa!A343,resa!A343/365,resa!A344,resa!B343,resa!B343/365,resa!B344,resa!C343,resa!C343/365,resa!C344)","v":729.6},{"$f":"CHOOSE(table,resb!A343,resb!A343/365,resb!A344,resb!B343,resb!B343/365,resb!B344,resb!C343,resb!C343/365,resb!C344)","v":729.6},0,null,null,"involuntary cull rate",{"$f":"CHOOSE(tabl,resa!A327,resa!B327,resa!C327)","v":0.129054},{"$f":"CHOOSE(tabl,resb!A327,resb!B327,resb!C327)","v":0.129054},0]
[null,null,null,null,"total costs",{"$f":"SUM(F8:F16)","v":5128.0808179999995},{"$f":"SUM(G8:G16)","v":5128.080813999999},-4.0000004446483217E-6,null,null,"voluntary cull rate",{"$f":"CHOOSE(tabl,resa!A326,resa!B326,resa!C326)","v":0.20804800000000001},{"$f":"CHOOSE(tabl,resb!A326,resb!B326,resb!C326)","v":0.20804800000000001},0]
[null,null,null,null,"total profit",{"$f":"CHOOSE(table,resa!A306,resa!A306/365,resa!A307,resa!B306,resa!B306/365,resa!B307,resa!C306,resa!C306,resa!C307)","v":580.91322600000001},{"$f":"CHOOSE(table,resb!A306,resb!A306/365,resb!A307,resb!B306,resb!B306/365,resb!B307,resb!C306,resb!C306,resb!C307)","v":580.913229},2.9999999924257281E-6,null,null,"days in milk",{"$f":"CHOOSE(tabl,resa!A357,resa!B357,resa!C357)","v":223.234309},{"$f":"CHOOSE(tabl,resb!A357,resb!B357,resb!C357)","v":223.234309},0]
[null,null,null,null,"total fixed cost",{"$f":"F15+F16","v":912},{"$f":"G15+G16","v":912},0,null,null,"value of cow",{"$f":"CHOOSE(tabl,resa!A356,resa!B356,resa!C356)","v":1594.0538489999999},{"$f":"CHOOSE(tabl,resb!A356,resb!B356,resb!C356)","v":1594.0539590000001},1.1000000017702405E-4]
[null,null,null,null,"revenue - var. cost",{"$f":"F7-(F17-F19)","v":1492.913227},{"$f":"G7-(G17-G19)","v":1492.9132310000014},4.0000013541430235E-6,null,null,"cull price",{"$f":"CHOOSE(tabl,resa!A359,resa!B359,resa!C359)","v":737.29244600000004},{"$f":"CHOOSE(tabl,resb!A359,resb!B359,resb!C359)","v":737.29244600000004},0]
[null,null,null,null,"herd replacement costs",{"$f":"CHOOSE(table,resa!A321,resa!A321/365,resa!A322,resa!B321,resa!B321/365,resa!B322,resa!C321,resa!C321/365,resa!C322)","v":290.82017000000002},{"$f":"CHOOSE(table,resb!A321,resb!A321/365,resb!A322,resb!B321,resb!B321/365,resb!B322,resb!C321,resb!C321/365,resb!C322)","v":290.82016800000002},-1.9999999949504854E-6,null,null,"dry cow feed cost / day",{"$f":"CHOOSE(tabl,resa!A354,resa!B354,resa!C354)/365","v":2.4986301369863013},{"$f":"CHOOSE(tabl,resb!A354,resb!B354,resb!C354)/365","v":2.4986301369863013},0]
[null,null,null,null,"breeding cost",{"$f":"CHOOSE(table,resa!A347,resa!A347/365,resa!A348,resa!B347,resa!B347/365,resa!B348,resa!C347,resa!C347/365,resa!C348)","v":46.773899},{"$f":"CHOOSE(table,resb!A347,resb!A347/365,resb!A348,resb!B347,resb!B347/365,resb!B348,resb!C347,resb!C347/365,resb!C348)","v":46.773899},0,null,null,"lact. cow feed cost / day",{"$f":"CHOOSE(tabl,resa!A355,resa!B355,resa!C355)/365","v":8.3425663698630128},{"$f":"CHOOSE(tabl,resb!A355,resb!B355,resb!C355)/365","v":8.3425663726027395},2.7397266677553489E-9]
[null,null,null,null,"milk yield",{"$f":"CHOOSE(table,resa!A309,resa!A309/365,resa!A310,resa!B309,resa!B309/365,resa!B310,resa!C309,resa!C309/365,resa!C310)","v":29154.586598999998},{"$f":"CHOOSE(table,resb!A309,resb!A309/365,resb!A310,resb!B309,resb!B309/365,resb!B310,resb!C309,resb!C309/365,resb!C310)","v":29154.586609000002},1.0000003385357559E-5,null,null,"income over feed cost / day",{"$f":"(resa!A311-resa!A313)/365","v":6.7519386054794515},{"$f":"(resb!A311-resb!A313)/365","v":6.7519386109589057},5.4794542236891175E-9]
[null,null,null,null,null,null,null,null,null,null,"cost of day later pregnant",{"$f":"CHOOSE(tabl,resa!A369,resa!B369,resa!C369)","v":0.33997699999999997},{"$f":"CHOOSE(tabl,resb!A369,resb!B369,resb!C369)","v":0.33997699999999997},0]
[null,null,null,null,null,null,null,null,null,null,"milk-feed price ratio",{"$f":"IF(F8<>0,F4/F8,0)","v":1.8854228379633122},{"$f":"IF(G8<>0,G4/G8,0)","v":1.8854228386818663},{"$f":"M25-L25","v":7.1855410510579532E-10}]

{"sheet":"time","index":9,"n_rows":19,"n_cols":102,"rows_kept":19,"cut":false,"hidden":false,"merged":[]}
[null,null,"Plan A: ",{"$f":"CONCATENATE(input!K3,\": \",input!K2)","v":"final.bio: steady state"},null,null,null,null,null,null,{"$f":"milk!L1","v":"v.dairyvip 1.4"}]
[null,null,"Plan B: ",{"$f":"CONCATENATE(input!X3,\": \",input!X2)","v":"final.bio: steady state"},null,null,null,null,null,null,null,null," ",null,null,null,null,null,null,null,null,null,null,null,null,null,null,null,null,null,null,null,null,null,null,null,null,null,"Year 1"]
[null,null,null,null,null,null,null,null,null,null,null,null,null,null,null,null,null,null,null,null,null,null,null,null,null,null,null,null,null,null,null,null,null,null,null,null,null,null,"Year 2"]
[null,null,null,null,null,null,null,null,null,null,null,null,null,null,null,null,null,null,null,null,null,null,null,null,null,null,null,null,null,null,null,null,null,null,null,null,null,null,"Year 3"]
[null,null,null,null,null,null,null,null,null,null,null,null,null,null,null,null,null,null,null,null,null,null,null,null,null,null,null,null,null,null,null,null,null,null,null,null,null,null," "]
[null,null,null,null,null,null,null,null,null,null,null,null,null,null,null,null,null,null,null,null,null,null,null,null,null,null,null,null,"heifers purchased",null,"total cash",null,"total revenue",null,"total cost",null,"involuntary culling",null,"voluntary culling",null,"milk yield",null,"dim",null,"% lactation 1",null,"% lactation 2",null,"open",null,"milking",null,"delayed",null,"rpo",null,"preg rate - serve",null,"preg rate - serve (keep)",null,{"$f":"CHOOSE(graph,resa!W4,resa!W16,resa!W28)","v":"cullprice"},null,"present",null,"value new pregnancy",null,"value old pregnancy",null,"RPO  at pind",null,"Opportunity cost",null,"Cow value",null,"milk yield/milking cow/day",null,"Calvings",null,"feedcost_lact",null,"milk yield/lact.cow/day",null,"dmi / wetcow / day",null,"IOFC at vol. culling",null,"Total cost / cwt",null,"Calvinginterval",null,"Days to conception",null,"Days to end VWP",null,"Days to first service",null,"Days to last service",null,"DIM at vol. culling",null,"Milk yield at vol. culling"]
[null,null,null,null,null,null,null,null,null,null,null,null,null,null,null,null,null,null,null,null,null,null,null,null,null,null,null,null,"plan A","plan B","plan A","plan B","plan A","plan B","plan A","plan B","plan A","plan B","plan A","plan B","plan A","plan B","plan A","plan B","plan A","plan B","plan A","plan B","plan A","plan B","plan A","plan B","plan A","plan B","plan A","plan B","plan A","plan B","plan A","plan B","plan A","plan B","plan A","plan B","plan A","plan B","plan A","plan B","plan A","plan B","plan A","plan B","plan A","plan B","plan A","plan B","plan A","plan B","plan A","plan B","plan A","plan B","plan A","plan B","plan A","plan B","plan A","plan B","plan A","plan B","plan A","plan B","plan A","plan B","plan A","plan B","plan A","plan B","plan A","plan B","plan A","plan B"]
[null,null,null,null,null,null,null,null,null,null,null,null,null,null,null,null,null,null,null,null,null,null,null,null,null,null,1,{"$f":"CHOOSE(graph,resa!B5,resa!B17,resa!B29)","v":1},{"$f":"CHOOSE(graph,resa!I5,resa!I17,resa!I29)","v":2.8091999999999999E-2},{"$f":"CHOOSE(graph,resb!I5,resb!I17,resb!I29)","v":2.8091999999999999E-2},{"$f":"CHOOSE(graph,resa!D5,resa!D17,resa!D29)","v":48.409435999999999},{"$f":"CHOOSE(graph,resb!D5,resb!D17,resb!D29)","v":48.409435999999999},{"$f":"CHOOSE(graph,resa!BO5,resa!BO17,resa!BO29)","v":475.749504},{"$f":"CHOOSE(graph,resb!BO5,resb!BO17,resb!BO29)","v":475.749504},{"$f":"CHOOSE(graph,resa!BP5,resa!BP17,resa!BP29)","v":427.34006799999997},{"$f":"CHOOSE(graph,resb!BP5,resb!BP17,resb!BP29)","v":427.34006799999997},{"$f":"CHOOSE(graph,resa!BB5,resa!BB17,resa!BB29)","v":1.0754E-2},{"$f":"CHOOSE(graph,resb!BB5,resb!BB17,resb!BB29)","v":1.0754E-2},{"$f":"CHOOSE(graph,resa!BC5,resa!BC17,resa!BC29)","v":1.7337000000000002E-2},{"$f":"CHOOSE(graph,resb!BC5,resb!BC17,resb!BC29)","v":1.7337000000000002E-2},{"$f":"CHOOSE(graph,resa!F5,resa!F17,resa!F29)","v":79.919370999999998},{"$f":"CHOOSE(graph,resb!F5,resb!F17,resb!F29)","v":79.919370999999998},{"$f":"CHOOSE(graph,resa!BN5,resa!BN17,resa!BN29)","v":223.234309},{"$f":"CHOOSE(graph,resb!BN5,resb!BN17,resb!BN29)","v":223.234309},{"$f":"CHOOSE(graph,resa!AN5,resa!AN17,resa!AN29)","v":0.33504499999999998},{"$f":"CHOOSE(graph,resb!AN5,resb!AN17,resb!AN29)","v":0.33504499999999998},{"$f":"CHOOSE(graph,resa!AO5,resa!AO17,resa!AO29)","v":0.249775},{"$f":"CHOOSE(graph,resb!AO5,resb!AO17,resb!AO29)","v":0.249775},{"$f":"CHOOSE(graph,resa!P5,resa!P17,resa!P29)","v":0.41221799999999997},{"$f":"CHOOSE(graph,resb!P5,resb!P17,resb!P29)","v":0.41221799999999997},{"$f":"CHOOSE(graph,resa!R5,resa!R17,resa!R29)","v":0.87732600000000005},{"$f":"CHOOSE(graph,resb!R5,resb!R17,resb!R29)","v":0.87732600000000005},{"$f":"CHOOSE(graph,resa!AK5,resa!AK17,resa!AK29)","v":0.18470300000000001},{"$f":"CHOOSE(graph,resb!AK5,resb!AK17,resb!AK29)","v":0.18470300000000001},{"$f":"CHOOSE(graph,resa!BA5,resa!BA17,resa!BA29)","v":804.162375},{"$f":"CHOOSE(graph,resb!BA5,resb!BA17,resb!BA29)","v":804.16246999999998},{"$f":"CHOOSE(graph,resa!AL5,resa!AL17,resa!AL29)","v":0.202768},{"$f":"CHOOSE(graph,resb!AL5,resb!AL17,resb!AL29)","v":0.202768},{"$f":"CHOOSE(graph,resa!AM5,resa!AM17,resa!AM29)","v":0.16531599999999999},{"$f":"CHOOSE(graph,resb!AM5,resb!AM17,resb!AM29)","v":0.16531599999999999},{"$f":"CHOOSE(graph,resa!W5,resa!W17,resa!W29)","v":737.29244600000004},{"$f":"CHOOSE(graph,resb!W5,resb!W17,resb!W29)","v":737.29244500000004},{"$f":"CHOOSE(graph,resa!S5,resa!S17,resa!S29)","v":1},{"$f":"CHOOSE(graph,resb!S5,resb!S17,resb!S29)","v":1},{"$f":"CHOOSE(graph,resa!CO5,resa!CO17,resa!CO29)","v":193.056217},{"$f":"CHOOSE(graph,resb!CO5,resb!CO17,resb!CO29)","v":193.05626000000001},{"$f":"CHOOSE(graph,resa!CP5,resa!CP17,resa!CP29)","v":513.42673100000002},{"$f":"CHOOSE(graph,resb!CP5,resb!CP17,resb!CP29)","v":513.42681900000002},{"$f":"CHOOSE(graph,resa!AX5,resa!AX17,resa!AX29)","v":91.094297999999995},{"$f":"CHOOSE(graph,resb!AX5,resb!AX17,resb!AX29)","v":91.094297999999995},{"$f":"CHOOSE(graph,resa!CV5,resa!CV17,resa!CV29)","v":124.415582},{"$f":"CHOOSE(graph,resb!CV5,resb!CV17,resb!CV29)","v":124.415587},{"$f":"CHOOSE(graph,resa!CW5,resa!CW17,resa!CW29)","v":1594.053864},{"$f":"CHOOSE(graph,resb!CW5,resb!CW17,resb!CW29)","v":1594.0539590000001},{"$f":"CHOOSE(graph,resa!AX5,resa!AX17,resa!AX29)","v":91.094297999999995},{"$f":"CHOOSE(graph,resb!AX5,resb!AX17,resb!AX29)","v":91.094297999999995},{"$f":"CHOOSE(graph,resa!AU5,resa!AU17,resa!AU29)","v":8.8594000000000006E-2},{"$f":"CHOOSE(graph,resb!AU5,resb!AU17,resb!AU29)","v":8.8594000000000006E-2},{"$f":"CHOOSE(graph,resa!AY5,resa!AY17,resa!AY29)","v":7.3231609999999998},{"$f":"CHOOSE(graph,resb!AY5,resb!AY17,resb!AY29)","v":7.3231609999999998},{"$f":"CHOOSE(graph,resa!AX5,resa!AX17,resa!AX29)","v":91.094297999999995},{"$f":"CHOOSE(graph,resb!AX5,resb!AX17,resb!AX29)","v":91.094297999999995},{"$f":"CHOOSE(graph,resa!CB5,resa!CB17,resa!CB29)","v":48.821072000000001},{"$f":"CHOOSE(graph,resb!CB5,resb!CB17,resb!CB29)","v":48.821072000000001},{"$f":"CHOOSE(graph,resa!BX5,resa!BX17,resa!BX29)","v":4.4852359999999996},{"$f":"CHOOSE(graph,resb!BX5,resb!BX17,resb!BX29)","v":4.4852359999999996},{"$f":"AI8/(AO8*30.4)*100","v":17.58927642079086},{"$f":"AJ8/(AP8*30.4)*100","v":17.58927642079086},{"$f":"CHOOSE(graph,resa!CS5,resa!CS17,resa!CS29)","v":13.432834},{"$f":"CHOOSE(graph,resb!CS5,resb!CS17,resb!CS29)","v":13.432834},{"$f":"CHOOSE(graph,resa!CT5,resa!CT17,resa!CT29)","v":134.17402300000001},{"$f":"CHOOSE(graph,resb!CT5,resb!CT17,resb!CT29)","v":134.174024},{"$f":"CHOOSE(graph,resa!DD5,resa!DD17,resa!DD29)","v":72.359088999999997},{"$f":"CHOOSE(graph,resb!DD5,resb!DD17,resb!DD29)","v":72.359088999999997},{"$f":"CHOOSE(graph,resa!DG5,resa!DG17,resa!DG29)","v":82.375184000000004},{"$f":"CHOOSE(graph,resb!DG5,resb!DG17,resb!DG29)","v":82.375184000000004},{"$f":"CHOOSE(graph,resa!DJ5,resa!DJ17,resa!DJ29)","v":208.436294},{"$f":"CHOOSE(graph,resb!DJ5,resb!DJ17,resb!DJ29)","v":208.436295},{"$f":"CHOOSE(graph,resa!BR5,resa!BR17,resa!BR29)","v":221.571012},{"$f":"CHOOSE(graph,resb!BR5,resb!BR17,resb!BR29)","v":221.571012},{"$f":"CHOOSE(graph,resa!BL5,resa!BL17,resa!BL29)","v":72.470380000000006},{"$f":"CHOOSE(graph,resb!BL5,resb!BL17,resb!BL29)","v":72.470380000000006}]
[null,null,null,null,null,null,null,null,null,null,null,null,null,null,null,null,null,null,null,null,null,null,null,null,null,null,2,{"$f":"CHOOSE(graph,resa!B6,resa!B18,resa!B30)","v":2},{"$f":"CHOOSE(graph,resa!I6,resa!I18,resa!I30)","v":2.8091999999999999E-2},{"$f":"CHOOSE(graph,resb!I6,resb!I18,resb!I30)","v":2.8091999999999999E-2},{"$f":"CHOOSE(graph,resa!D6,resa!D18,resa!D30)","v":48.409435999999999},{"$f":"CHOOSE(graph,resb!D6,resb!D18,resb!D30)","v":48.409435999999999},{"$f":"CHOOSE(graph,resa!BO6,resa!BO18,resa!BO30)","v":475.749504},{"$f":"CHOOSE(graph,resb!BO6,resb!BO18,resb!BO30)","v":475.749504},{"$f":"CHOOSE(graph,resa!BP6,resa!BP18,resa!BP30)","v":427.34006799999997},{"$f":"CHOOSE(graph,resb!BP6,resb!BP18,resb!BP30)","v":427.34006799999997},{"$f":"CHOOSE(graph,resa!BB6,resa!BB18,resa!BB30)","v":1.0754E-2},{"$f":"CHOOSE(graph,resb!BB6,resb!BB18,resb!BB30)","v":1.0754E-2},{"$f":"CHOOSE(graph,resa!BC6,resa!BC18,resa!BC30)","v":1.7337000000000002E-2},{"$f":"CHOOSE(graph,resb!BC6,resb!BC18,resb!BC30)","v":1.7337000000000002E-2},{"$f":"CHOOSE(graph,resa!F6,resa!F18,resa!F30)","v":79.919370999999998},{"$f":"CHOOSE(graph,resb!F6,resb!F18,resb!F30)","v":79.919370999999998},{"$f":"CHOOSE(graph,resa!BN6,resa!BN18,resa!BN30)","v":223.234309},{"$f":"CHOOSE(graph,resb!BN6,resb!BN18,resb!BN30)","v":223.234309},{"$f":"CHOOSE(graph,resa!AN6,resa!AN18,resa!AN30)","v":0.33504499999999998},{"$f":"CHOOSE(graph,resb!AN6,resb!AN18,resb!AN30)","v":0.33504499999999998},{"$f":"CHOOSE(graph,resa!AO6,resa!AO18,resa!AO30)","v":0.249775},{"$f":"CHOOSE(graph,resb!AO6,resb!AO18,resb!AO30)","v":0.249775},{"$f":"CHOOSE(graph,resa!P6,resa!P18,resa!P30)","v":0.41221799999999997},{"$f":"CHOOSE(graph,resb!P6,resb!P18,resb!P30)","v":0.41221799999999997},{"$f":"CHOOSE(graph,resa!R6,resa!R18,resa!R30)","v":0.87732600000000005},{"$f":"CHOOSE(graph,resb!R6,resb!R18,resb!R30)","v":0.87732600000000005},{"$f":"CHOOSE(graph,resa!AK6,resa!AK18,resa!AK30)","v":0.18470300000000001},{"$f":"CHOOSE(graph,resb!AK6,resb!AK18,resb!AK30)","v":0.18470300000000001},{"$f":"CHOOSE(graph,resa!BA6,resa!BA18,resa!BA30)","v":804.16237100000001},{"$f":"CHOOSE(graph,resb!BA6,resb!BA18,resb!BA30)","v":804.16246999999998},{"$f":"CHOOSE(graph,resa!AL6,resa!AL18,resa!AL30)","v":0.202768},{"$f":"CHOOSE(graph,resb!AL6,resb!AL18,resb!AL30)","v":0.202768},{"$f":"CHOOSE(graph,resa!AM6,resa!AM18,resa!AM30)","v":0.16531599999999999},{"$f":"CHOOSE(graph,resb!AM6,resb!AM18,resb!AM30)","v":0.16531599999999999},{"$f":"CHOOSE(graph,resa!W6,resa!W18,resa!W30)","v":737.29244600000004},{"$f":"CHOOSE(graph,resb!W6,resb!W18,resb!W30)","v":737.29244500000004},{"$f":"CHOOSE(graph,resa!S6,resa!S18,resa!S30)","v":1},{"$f":"CHOOSE(graph,resb!S6,resb!S18,resb!S30)","v":1},{"$f":"CHOOSE(graph,resa!CO6,resa!CO18,resa!CO30)","v":193.05621400000001},{"$f":"CHOOSE(graph,resb!CO6,resb!CO18,resb!CO30)","v":193.05626000000001},{"$f":"CHOOSE(graph,resa!CP6,resa!CP18,resa!CP30)","v":513.42672600000003},{"$f":"CHOOSE(graph,resb!CP6,resb!CP18,resb!CP30)","v":513.42681900000002},{"$f":"CHOOSE(graph,resa!AX6,resa!AX18,resa!AX30)","v":91.094297999999995},{"$f":"CHOOSE(graph,resb!AX6,resb!AX18,resb!AX30)","v":91.094297999999995},{"$f":"CHOOSE(graph,resa!CV6,resa!CV18,resa!CV30)","v":124.415583},{"$f":"CHOOSE(graph,resb!CV6,resb!CV18,resb!CV30)","v":124.415587},{"$f":"CHOOSE(graph,resa!CW6,resa!CW18,resa!CW30)","v":1594.0538590000001},{"$f":"CHOOSE(graph,resb!CW6,resb!CW18,resb!CW30)","v":1594.0539590000001},{"$f":"CHOOSE(graph,resa!AX6,resa!AX18,resa!AX30)","v":91.094297999999995},{"$f":"CHOOSE(graph,resb!AX6,resb!AX18,resb!AX30)","v":91.094297999999995},{"$f":"CHOOSE(graph,resa!AU6,resa!AU18,resa!AU30)","v":8.8594000000000006E-2},{"$f":"CHOOSE(graph,resb!AU6,resb!AU18,resb!AU30)","v":8.8594000000000006E-2},{"$f":"CHOOSE(graph,resa!AY6,resa!AY18,resa!AY30)","v":7.3231609999999998},{"$f":"CHOOSE(graph,resb!AY6,resb!AY18,resb!AY30)","v":7.3231609999999998},{"$f":"CHOOSE(graph,resa!AX6,resa!AX18,resa!AX30)","v":91.094297999999995},{"$f":"CHOOSE(graph,resb!AX6,resb!AX18,resb!AX30)","v":91.094297999999995},{"$f":"CHOOSE(graph,resa!CB6,resa!CB18,resa!CB30)","v":48.821072000000001},{"$f":"CHOOSE(graph,resb!CB6,resb!CB18,resb!CB30)","v":48.821072000000001},{"$f":"CHOOSE(graph,resa!BX6,resa!BX18,resa!BX30)","v":4.4852359999999996},{"$f":"CHOOSE(graph,resb!BX6,resb!BX18,resb!BX30)","v":4.4852359999999996},{"$f":"AI9/(AO9*30.4)*100","v":17.58927642079086},{"$f":"AJ9/(AP9*30.4)*100","v":17.58927642079086},{"$f":"CHOOSE(graph,resa!CS6,resa!CS18,resa!CS30)","v":13.432834},{"$f":"CHOOSE(graph,resb!CS6,resb!CS18,resb!CS30)","v":13.432834},{"$f":"CHOOSE(graph,resa!CT6,resa!CT18,resa!CT30)","v":134.174024},{"$f":"CHOOSE(graph,resb!CT6,resb!CT18,resb!CT30)","v":134.174024},{"$f":"CHOOSE(graph,resa!DD6,resa!DD18,resa!DD30)","v":72.359088999999997},{"$f":"CHOOSE(graph,resb!DD6,resb!DD18,resb!DD30)","v":72.359088999999997},{"$f":"CHOOSE(graph,resa!DG6,resa!DG18,resa!DG30)","v":82.375184000000004},{"$f":"CHOOSE(graph,resb!DG6,resb!DG18,resb!DG30)","v":82.375184000000004},{"$f":"CHOOSE(graph,resa!DJ6,resa!DJ18,resa!DJ30)","v":208.436294},{"$f":"CHOOSE(graph,resb!DJ6,resb!DJ18,resb!DJ30)","v":208.436295},{"$f":"CHOOSE(graph,resa!BR6,resa!BR18,resa!BR30)","v":221.571012},{"$f":"CHOOSE(graph,resb!BR6,resb!BR18,resb!BR30)","v":221.571012},{"$f":"CHOOSE(graph,resa!BL6,resa!BL18,resa!BL30)","v":72.470380000000006},{"$f":"CHOOSE(graph,resb!BL6,resb!BL18,resb!BL30)","v":72.470380000000006}]
[null,null,null,null,null,null,null,null,null,null,null,null,null,null,null,null,null,null,null,null,null,null,null,null,null,null,3,{"$f":"CHOOSE(graph,resa!B7,resa!B19,resa!B31)","v":3},{"$f":"CHOOSE(graph,resa!I7,resa!I19,resa!I31)","v":2.8091999999999999E-2},{"$f":"CHOOSE(graph,resb!I7,resb!I19,resb!I31)","v":2.8091999999999999E-2},{"$f":"CHOOSE(graph,resa!D7,resa!D19,resa!D31)","v":48.409435999999999},{"$f":"CHOOSE(graph,resb!D7,resb!D19,resb!D31)","v":48.409435999999999},{"$f":"CHOOSE(graph,resa!BO7,resa!BO19,resa!BO31)","v":475.749504},{"$f":"CHOOSE(graph,resb!BO7,resb!BO19,resb!BO31)","v":475.749504},{"$f":"CHOOSE(graph,resa!BP7,resa!BP19,resa!BP31)","v":427.34006799999997},{"$f":"CHOOSE(graph,resb!BP7,resb!BP19,resb!BP31)","v":427.34006799999997},{"$f":"CHOOSE(graph,resa!BB7,resa!BB19,resa!BB31)","v":1.0754E-2},{"$f":"CHOOSE(graph,resb!BB7,resb!BB19,resb!BB31)","v":1.0754E-2},{"$f":"CHOOSE(graph,resa!BC7,resa!BC19,resa!BC31)","v":1.7337000000000002E-2},{"$f":"CHOOSE(graph,resb!BC7,resb!BC19,resb!BC31)","v":1.7337000000000002E-2},{"$f":"CHOOSE(graph,resa!F7,resa!F19,resa!F31)","v":79.919370999999998},{"$f":"CHOOSE(graph,resb!F7,resb!F19,resb!F31)","v":79.919370999999998},{"$f":"CHOOSE(graph,resa!BN7,resa!BN19,resa!BN31)","v":223.234309},{"$f":"CHOOSE(graph,resb!BN7,resb!BN19,resb!BN31)","v":223.234309},{"$f":"CHOOSE(graph,resa!AN7,resa!AN19,resa!AN31)","v":0.33504499999999998},{"$f":"CHOOSE(graph,resb!AN7,resb!AN19,resb!AN31)","v":0.33504499999999998},{"$f":"CHOOSE(graph,resa!AO7,resa!AO19,resa!AO31)","v":0.249775},{"$f":"CHOOSE(graph,resb!AO7,resb!AO19,resb!AO31)","v":0.249775},{"$f":"CHOOSE(graph,resa!P7,resa!P19,resa!P31)","v":0.41221799999999997},{"$f":"CHOOSE(graph,resb!P7,resb!P19,resb!P31)","v":0.41221799999999997},{"$f":"CHOOSE(graph,resa!R7,resa!R19,resa!R31)","v":0.87732600000000005},{"$f":"CHOOSE(graph,resb!R7,resb!R19,resb!R31)","v":0.87732600000000005},{"$f":"CHOOSE(graph,resa!AK7,resa!AK19,resa!AK31)","v":0.18470300000000001},{"$f":"CHOOSE(graph,resb!AK7,resb!AK19,resb!AK31)","v":0.18470300000000001},{"$f":"CHOOSE(graph,resa!BA7,resa!BA19,resa!BA31)","v":804.16236700000002},{"$f":"CHOOSE(graph,resb!BA7,resb!BA19,resb!BA31)","v":804.16246999999998},{"$f":"CHOOSE(graph,resa!AL7,resa!AL19,resa!AL31)","v":0.202768},{"$f":"CHOOSE(graph,resb!AL7,resb!AL19,resb!AL31)","v":0.202768},{"$f":"CHOOSE(graph,resa!AM7,resa!AM19,resa!AM31)","v":0.16531599999999999},{"$f":"CHOOSE(graph,resb!AM7,resb!AM19,resb!AM31)","v":0.16531599999999999},{"$f":"CHOOSE(graph,resa!W7,resa!W19,resa!W31)","v":737.29244600000004},{"$f":"CHOOSE(graph,resb!W7,resb!W19,resb!W31)","v":737.29244500000004},{"$f":"CHOOSE(graph,resa!S7,resa!S19,resa!S31)","v":1},{"$f":"CHOOSE(graph,resb!S7,resb!S19,resb!S31)","v":1},{"$f":"CHOOSE(graph,resa!CO7,resa!CO19,resa!CO31)","v":193.05621199999999},{"$f":"CHOOSE(graph,resb!CO7,resb!CO19,resb!CO31)","v":193.05626000000001},{"$f":"CHOOSE(graph,resa!CP7,resa!CP19,resa!CP31)","v":513.42672200000004},{"$f":"CHOOSE(graph,resb!CP7,resb!CP19,resb!CP31)","v":513.42681900000002},{"$f":"CHOOSE(graph,resa!AX7,resa!AX19,resa!AX31)","v":91.094297999999995},{"$f":"CHOOSE(graph,resb!AX7,resb!AX19,resb!AX31)","v":91.094297999999995},{"$f":"CHOOSE(graph,resa!CV7,resa!CV19,resa!CV31)","v":124.415583},{"$f":"CHOOSE(graph,resb!CV7,resb!CV19,resb!CV31)","v":124.415587},{"$f":"CHOOSE(graph,resa!CW7,resa!CW19,resa!CW31)","v":1594.0538550000001},{"$f":"CHOOSE(graph,resb!CW7,resb!CW19,resb!CW31)","v":1594.0539590000001},{"$f":"CHOOSE(graph,resa!AX7,resa!AX19,resa!AX31)","v":91.094297999999995},{"$f":"CHOOSE(graph,resb!AX7,resb!AX19,resb!AX31)","v":91.094297999999995},{"$f":"CHOOSE(graph,resa!AU7,resa!AU19,resa!AU31)","v":8.8594000000000006E-2},{"$f":"CHOOSE(graph,resb!AU7,resb!AU19,resb!AU31)","v":8.8594000000000006E-2},{"$f":"CHOOSE(graph,resa!AY7,resa!AY19,resa!AY31)","v":7.3231609999999998},{"$f":"CHOOSE(graph,resb!AY7,resb!AY19,resb!AY31)","v":7.3231609999999998},{"$f":"CHOOSE(graph,resa!AX7,resa!AX19,resa!AX31)","v":91.094297999999995},{"$f":"CHOOSE(graph,resb!AX7,resb!AX19,resb!AX31)","v":91.094297999999995},{"$f":"CHOOSE(graph,resa!CB7,resa!CB19,resa!CB31)","v":48.821072000000001},{"$f":"CHOOSE(graph,resb!CB7,resb!CB19,resb!CB31)","v":48.821072000000001},{"$f":"CHOOSE(graph,resa!BX7,resa!BX19,resa!BX31)","v":4.4852359999999996},{"$f":"CHOOSE(graph,resb!BX7,resb!BX19,resb!BX31)","v":4.4852359999999996},{"$f":"AI10/(AO10*30.4)*100","v":17.58927642079086},{"$f":"AJ10/(AP10*30.4)*100","v":17.58927642079086},{"$f":"CHOOSE(graph,resa!CS7,resa!CS19,resa!CS31)","v":13.432834},{"$f":"CHOOSE(graph,resb!CS7,resb!CS19,resb!CS31)","v":13.432834},{"$f":"CHOOSE(graph,resa!CT7,resa!CT19,resa!CT31)","v":134.174024},{"$f":"CHOOSE(graph,resb!CT7,resb!CT19,resb!CT31)","v":134.174024},{"$f":"CHOOSE(graph,resa!DD7,resa!DD19,resa!DD31)","v":72.359088999999997},{"$f":"CHOOSE(graph,resb!DD7,resb!DD19,resb!DD31)","v":72.359088999999997},{"$f":"CHOOSE(graph,resa!DG7,resa!DG19,resa!DG31)","v":82.375184000000004},{"$f":"CHOOSE(graph,resb!DG7,resb!DG19,resb!DG31)","v":82.375184000000004},{"$f":"CHOOSE(graph,resa!DJ7,resa!DJ19,resa!DJ31)","v":208.436294},{"$f":"CHOOSE(graph,resb!DJ7,resb!DJ19,resb!DJ31)","v":208.436295},{"$f":"CHOOSE(graph,resa!BR7,resa!BR19,resa!BR31)","v":221.571012},{"$f":"CHOOSE(graph,resb!BR7,resb!BR19,resb!BR31)","v":221.571012},{"$f":"CHOOSE(graph,resa!BL7,resa!BL19,resa!BL31)","v":72.470380000000006},{"$f":"CHOOSE(graph,resb!BL7,resb!BL19,resb!BL31)","v":72.470380000000006}]
[null,null,null,null,null,null,null,null,null,null,null,null,null,null,null,null,null,null,null,null,null,null,null,null,null,null,4,{"$f":"CHOOSE(graph,resa!B8,resa!B20,resa!B32)","v":4},{"$f":"CHOOSE(graph,resa!I8,resa!I20,resa!I32)","v":2.8091999999999999E-2},{"$f":"CHOOSE(graph,resb!I8,resb!I20,resb!I32)","v":2.8091999999999999E-2},{"$f":"CHOOSE(graph,resa!D8,resa!D20,resa!D32)","v":48.409435000000002},{"$f":"CHOOSE(graph,resb!D8,resb!D20,resb!D32)","v":48.409435999999999},{"$f":"CHOOSE(graph,resa!BO8,resa!BO20,resa!BO32)","v":475.749504},{"$f":"CHOOSE(graph,resb!BO8,resb!BO20,resb!BO32)","v":475.749504},{"$f":"CHOOSE(graph,resa!BP8,resa!BP20,resa!BP32)","v":427.34006799999997},{"$f":"CHOOSE(graph,resb!BP8,resb!BP20,resb!BP32)","v":427.34006799999997},{"$f":"CHOOSE(graph,resa!BB8,resa!BB20,resa!BB32)","v":1.0754E-2},{"$f":"CHOOSE(graph,resb!BB8,resb!BB20,resb!BB32)","v":1.0754E-2},{"$f":"CHOOSE(graph,resa!BC8,resa!BC20,resa!BC32)","v":1.7337000000000002E-2},{"$f":"CHOOSE(graph,resb!BC8,resb!BC20,resb!BC32)","v":1.7337000000000002E-2},{"$f":"CHOOSE(graph,resa!F8,resa!F20,resa!F32)","v":79.919370999999998},{"$f":"CHOOSE(graph,resb!F8,resb!F20,resb!F32)","v":79.919370999999998},{"$f":"CHOOSE(graph,resa!BN8,resa!BN20,resa!BN32)","v":223.234309},{"$f":"CHOOSE(graph,resb!BN8,resb!BN20,resb!BN32)","v":223.234309},{"$f":"CHOOSE(graph,resa!AN8,resa!AN20,resa!AN32)","v":0.33504499999999998},{"$f":"CHOOSE(graph,resb!AN8,resb!AN20,resb!AN32)","v":0.33504499999999998},{"$f":"CHOOSE(graph,resa!AO8,resa!AO20,resa!AO32)","v":0.249775},{"$f":"CHOOSE(graph,resb!AO8,resb!AO20,resb!AO32)","v":0.249775},{"$f":"CHOOSE(graph,resa!P8,resa!P20,resa!P32)","v":0.41221799999999997},{"$f":"CHOOSE(graph,resb!P8,resb!P20,resb!P32)","v":0.41221799999999997},{"$f":"CHOOSE(graph,resa!R8,resa!R20,resa!R32)","v":0.87732600000000005},{"$f":"CHOOSE(graph,resb!R8,resb!R20,resb!R32)","v":0.87732600000000005},{"$f":"CHOOSE(graph,resa!AK8,resa!AK20,resa!AK32)","v":0.18470300000000001},{"$f":"CHOOSE(graph,resb!AK8,resb!AK20,resb!AK32)","v":0.18470300000000001},{"$f":"CHOOSE(graph,resa!BA8,resa!BA20,resa!BA32)","v":804.16236300000003},{"$f":"CHOOSE(graph,resb!BA8,resb!BA20,resb!BA32)","v":804.16246999999998},{"$f":"CHOOSE(graph,resa!AL8,resa!AL20,resa!AL32)","v":0.202768},{"$f":"CHOOSE(graph,resb!AL8,resb!AL20,resb!AL32)","v":0.202768},{"$f":"CHOOSE(graph,resa!AM8,resa!AM20,resa!AM32)","v":0.16531599999999999},{"$f":"CHOOSE(graph,resb!AM8,resb!AM20,resb!AM32)","v":0.16531599999999999},{"$f":"CHOOSE(graph,resa!W8,resa!W20,resa!W32)","v":737.29244600000004},{"$f":"CHOOSE(graph,resb!W8,resb!W20,resb!W32)","v":737.29244500000004},{"$f":"CHOOSE(graph,resa!S8,resa!S20,resa!S32)","v":1},{"$f":"CHOOSE(graph,resb!S8,resb!S20,resb!S32)","v":1},{"$f":"CHOOSE(graph,resa!CO8,resa!CO20,resa!CO32)","v":193.05620999999999},{"$f":"CHOOSE(graph,resb!CO8,resb!CO20,resb!CO32)","v":193.05626000000001},{"$f":"CHOOSE(graph,resa!CP8,resa!CP20,resa!CP32)","v":513.42671800000005},{"$f":"CHOOSE(graph,resb!CP8,resb!CP20,resb!CP32)","v":513.42681900000002},{"$f":"CHOOSE(graph,resa!AX8,resa!AX20,resa!AX32)","v":91.094297999999995},{"$f":"CHOOSE(graph,resb!AX8,resb!AX20,resb!AX32)","v":91.094297999999995},{"$f":"CHOOSE(graph,resa!CV8,resa!CV20,resa!CV32)","v":124.415583},{"$f":"CHOOSE(graph,resb!CV8,resb!CV20,resb!CV32)","v":124.415587},{"$f":"CHOOSE(graph,resa!CW8,resa!CW20,resa!CW32)","v":1594.053852},{"$f":"CHOOSE(graph,resb!CW8,resb!CW20,resb!CW32)","v":1594.0539590000001},{"$f":"CHOOSE(graph,resa!AX8,resa!AX20,resa!AX32)","v":91.094297999999995},{"$f":"CHOOSE(graph,resb!AX8,resb!AX20,resb!AX32)","v":91.094297999999995},{"$f":"CHOOSE(graph,resa!AU8,resa!AU20,resa!AU32)","v":8.8594000000000006E-2},{"$f":"CHOOSE(graph,resb!AU8,resb!AU20,resb!AU32)","v":8.8594000000000006E-2},{"$f":"CHOOSE(graph,resa!AY8,resa!AY20,resa!AY32)","v":7.3231609999999998},{"$f":"CHOOSE(graph,resb!AY8,resb!AY20,resb!AY32)","v":7.3231609999999998},{"$f":"CHOOSE(graph,resa!AX8,resa!AX20,resa!AX32)","v":91.094297999999995},{"$f":"CHOOSE(graph,resb!AX8,resb!AX20,resb!AX32)","v":91.094297999999995},{"$f":"CHOOSE(graph,resa!CB8,resa!CB20,resa!CB32)","v":48.821072000000001},{"$f":"CHOOSE(graph,resb!CB8,resb!CB20,resb!CB32)","v":48.821072000000001},{"$f":"CHOOSE(graph,resa!BX8,resa!BX20,resa!BX32)","v":4.4852359999999996},{"$f":"CHOOSE(graph,resb!BX8,resb!BX20,resb!BX32)","v":4.4852359999999996},17.58927642079086,17.58927642079086,{"$f":"CHOOSE(graph,resa!CS8,resa!CS20,resa!CS32)","v":13.432834},{"$f":"CHOOSE(graph,resb!CS8,resb!CS20,resb!CS32)","v":13.432834},{"$f":"CHOOSE(graph,resa!CT8,resa!CT20,resa!CT32)","v":134.174024},{"$f":"CHOOSE(graph,resb!CT8,resb!CT20,resb!CT32)","v":134.174024},{"$f":"CHOOSE(graph,resa!DD8,resa!DD20,resa!DD32)","v":72.359088999999997},{"$f":"CHOOSE(graph,resb!DD8,resb!DD20,resb!DD32)","v":72.359088999999997},{"$f":"CHOOSE(graph,resa!DG8,resa!DG20,resa!DG32)","v":82.375184000000004},{"$f":"CHOOSE(graph,resb!DG8,resb!DG20,resb!DG32)","v":82.375184000000004},{"$f":"CHOOSE(graph,resa!DJ8,resa!DJ20,resa!DJ32)","v":208.436294},{"$f":"CHOOSE(graph,resb!DJ8,resb!DJ20,resb!DJ32)","v":208.436295},{"$f":"CHOOSE(graph,resa!BR8,resa!BR20,resa!BR32)","v":221.571012},{"$f":"CHOOSE(graph,resb!BR8,resb!BR20,resb!BR32)","v":221.571012},{"$f":"CHOOSE(graph,resa!BL8,resa!BL20,resa!BL32)","v":72.470380000000006},{"$f":"CHOOSE(graph,resb!BL8,resb!BL20,resb!BL32)","v":72.470380000000006}]
[null,null,null,null,null,null,null,null,null,null,null,null,null,null,null,null,null,null,null,null,null,null,null,null,null,null,5,{"$f":"CHOOSE(graph,resa!B9,resa!B21,resa!B33)","v":5},{"$f":"CHOOSE(graph,resa!I9,resa!I21,resa!I33)","v":2.8091999999999999E-2},{"$f":"CHOOSE(graph,resb!I9,resb!I21,resb!I33)","v":2.8091999999999999E-2},{"$f":"CHOOSE(graph,resa!D9,resa!D21,resa!D33)","v":48.409435000000002},{"$f":"CHOOSE(graph,resb!D9,resb!D21,resb!D33)","v":48.409435999999999},{"$f":"CHOOSE(graph,resa!BO9,resa!BO21,resa!BO33)","v":475.749504},{"$f":"CHOOSE(graph,resb!BO9,resb!BO21,resb!BO33)","v":475.749504},{"$f":"CHOOSE(graph,resa!BP9,resa!BP21,resa!BP33)","v":427.34006799999997},{"$f":"CHOOSE(graph,resb!BP9,resb!BP21,resb!BP33)","v":427.34006799999997},{"$f":"CHOOSE(graph,resa!BB9,resa!BB21,resa!BB33)","v":1.0754E-2},{"$f":"CHOOSE(graph,resb!BB9,resb!BB21,resb!BB33)","v":1.0754E-2},{"$f":"CHOOSE(graph,resa!BC9,resa!BC21,resa!BC33)","v":1.7337000000000002E-2},{"$f":"CHOOSE(graph,resb!BC9,resb!BC21,resb!BC33)","v":1.7337000000000002E-2},{"$f":"CHOOSE(graph,resa!F9,resa!F21,resa!F33)","v":79.919370999999998},{"$f":"CHOOSE(graph,resb!F9,resb!F21,resb!F33)","v":79.919370999999998},{"$f":"CHOOSE(graph,resa!BN9,resa!BN21,resa!BN33)","v":223.234309},{"$f":"CHOOSE(graph,resb!BN9,resb!BN21,resb!BN33)","v":223.234309},{"$f":"CHOOSE(graph,resa!AN9,resa!AN21,resa!AN33)","v":0.33504499999999998},{"$f":"CHOOSE(graph,resb!AN9,resb!AN21,resb!AN33)","v":0.33504499999999998},{"$f":"CHOOSE(graph,resa!AO9,resa!AO21,resa!AO33)","v":0.249775},{"$f":"CHOOSE(graph,resb!AO9,resb!AO21,resb!AO33)","v":0.249775},{"$f":"CHOOSE(graph,resa!P9,resa!P21,resa!P33)","v":0.41221799999999997},{"$f":"CHOOSE(graph,resb!P9,resb!P21,resb!P33)","v":0.41221799999999997},{"$f":"CHOOSE(graph,resa!R9,resa!R21,resa!R33)","v":0.87732600000000005},{"$f":"CHOOSE(graph,resb!R9,resb!R21,resb!R33)","v":0.87732600000000005},{"$f":"CHOOSE(graph,resa!AK9,resa!AK21,resa!AK33)","v":0.18470300000000001},{"$f":"CHOOSE(graph,resb!AK9,resb!AK21,resb!AK33)","v":0.18470300000000001},{"$f":"CHOOSE(graph,resa!BA9,resa!BA21,resa!BA33)","v":804.16236000000004},{"$f":"CHOOSE(graph,resb!BA9,resb!BA21,resb!BA33)","v":804.16246999999998},{"$f":"CHOOSE(graph,resa!AL9,resa!AL21,resa!AL33)","v":0.202768},{"$f":"CHOOSE(graph,resb!AL9,resb!AL21,resb!AL33)","v":0.202768},{"$f":"CHOOSE(graph,resa!AM9,resa!AM21,resa!AM33)","v":0.16531599999999999},{"$f":"CHOOSE(graph,resb!AM9,resb!AM21,resb!AM33)","v":0.16531599999999999},{"$f":"CHOOSE(graph,resa!W9,resa!W21,resa!W33)","v":737.29244600000004},{"$f":"CHOOSE(graph,resb!W9,resb!W21,resb!W33)","v":737.29244500000004},{"$f":"CHOOSE(graph,resa!S9,resa!S21,resa!S33)","v":1},{"$f":"CHOOSE(graph,resb!S9,resb!S21,resb!S33)","v":1},{"$f":"CHOOSE(graph,resa!CO9,resa!CO21,resa!CO33)","v":193.056209},{"$f":"CHOOSE(graph,resb!CO9,resb!CO21,resb!CO33)","v":193.05626000000001},{"$f":"CHOOSE(graph,resa!CP9,resa!CP21,resa!CP33)","v":513.42671399999995},{"$f":"CHOOSE(graph,resb!CP9,resb!CP21,resb!CP33)","v":513.42681900000002},{"$f":"CHOOSE(graph,resa!AX9,resa!AX21,resa!AX33)","v":91.094297999999995},{"$f":"CHOOSE(graph,resb!AX9,resb!AX21,resb!AX33)","v":91.094297999999995},{"$f":"CHOOSE(graph,resa!CV9,resa!CV21,resa!CV33)","v":124.415584},{"$f":"CHOOSE(graph,resb!CV9,resb!CV21,resb!CV33)","v":124.415587},{"$f":"CHOOSE(graph,resa!CW9,resa!CW21,resa!CW33)","v":1594.0538489999999},{"$f":"CHOOSE(graph,resb!CW9,resb!CW21,resb!CW33)","v":1594.0539590000001},{"$f":"CHOOSE(graph,resa!AX9,resa!AX21,resa!AX33)","v":91.094297999999995},{"$f":"CHOOSE(graph,resb!AX9,resb!AX21,resb!AX33)","v":91.094297999999995},{"$f":"CHOOSE(graph,resa!AU9,resa!AU21,resa!AU33)","v":8.8594000000000006E-2},{"$f":"CHOOSE(graph,resb!AU9,resb!AU21,resb!AU33)","v":8.8594000000000006E-2},{"$f":"CHOOSE(graph,resa!AY9,resa!AY21,resa!AY33)","v":7.3231609999999998},{"$f":"CHOOSE(graph,resb!AY9,resb!AY21,resb!AY33)","v":7.3231609999999998},{"$f":"CHOOSE(graph,resa!AX9,resa!AX21,resa!AX33)","v":91.094297999999995},{"$f":"CHOOSE(graph,resb!AX9,resb!AX21,resb!AX33)","v":91.094297999999995},{"$f":"CHOOSE(graph,resa!CB9,resa!CB21,resa!CB33)","v":48.821072000000001},{"$f":"CHOOSE(graph,resb!CB9,resb!CB21,resb!CB33)","v":48.821072000000001},{"$f":"CHOOSE(graph,resa!BX9,resa!BX21,resa!BX33)","v":4.4852359999999996},{"$f":"CHOOSE(graph,resb!BX9,resb!BX21,resb!BX33)","v":4.4852359999999996},17.58927642079086,17.58927642079086,{"$f":"CHOOSE(graph,resa!CS9,resa!CS21,resa!CS33)","v":13.432834},{"$f":"CHOOSE(graph,resb!CS9,resb!CS21,resb!CS33)","v":13.432834},{"$f":"CHOOSE(graph,resa!CT9,resa!CT21,resa!CT33)","v":134.174024},{"$f":"CHOOSE(graph,resb!CT9,resb!CT21,resb!CT33)","v":134.174024},{"$f":"CHOOSE(graph,resa!DD9,resa!DD21,resa!DD33)","v":72.359088999999997},{"$f":"CHOOSE(graph,resb!DD9,resb!DD21,resb!DD33)","v":72.359088999999997},{"$f":"CHOOSE(graph,resa!DG9,resa!DG21,resa!DG33)","v":82.375184000000004},{"$f":"CHOOSE(graph,resb!DG9,resb!DG21,resb!DG33)","v":82.375184000000004},{"$f":"CHOOSE(graph,resa!DJ9,resa!DJ21,resa!DJ33)","v":208.436294},{"$f":"CHOOSE(graph,resb!DJ9,resb!DJ21,resb!DJ33)","v":208.436295},{"$f":"CHOOSE(graph,resa!BR9,resa!BR21,resa!BR33)","v":221.571012},{"$f":"CHOOSE(graph,resb!BR9,resb!BR21,resb!BR33)","v":221.571012},{"$f":"CHOOSE(graph,resa!BL9,resa!BL21,resa!BL33)","v":72.470380000000006},{"$f":"CHOOSE(graph,resb!BL9,resb!BL21,resb!BL33)","v":72.470380000000006}]
[null,null,null,null,null,null,null,null,null,null,null,null,null,null,null,null,null,null,null,null,null,null,null,null,null,null,6,{"$f":"CHOOSE(graph,resa!B10,resa!B22,resa!B34)","v":6},{"$f":"CHOOSE(graph,resa!I10,resa!I22,resa!I34)","v":2.8091999999999999E-2},{"$f":"CHOOSE(graph,resb!I10,resb!I22,resb!I34)","v":2.8091999999999999E-2},{"$f":"CHOOSE(graph,resa!D10,resa!D22,resa!D34)","v":48.409435000000002},{"$f":"CHOOSE(graph,resb!D10,resb!D22,resb!D34)","v":48.409435999999999},{"$f":"CHOOSE(graph,resa!BO10,resa!BO22,resa!BO34)","v":475.749504},{"$f":"CHOOSE(graph,resb!BO10,resb!BO22,resb!BO34)","v":475.749504},{"$f":"CHOOSE(graph,resa!BP10,resa!BP22,resa!BP34)","v":427.34006799999997},{"$f":"CHOOSE(graph,resb!BP10,resb!BP22,resb!BP34)","v":427.34006799999997},{"$f":"CHOOSE(graph,resa!BB10,resa!BB22,resa!BB34)","v":1.0754E-2},{"$f":"CHOOSE(graph,resb!BB10,resb!BB22,resb!BB34)","v":1.0754E-2},{"$f":"CHOOSE(graph,resa!BC10,resa!BC22,resa!BC34)","v":1.7337000000000002E-2},{"$f":"CHOOSE(graph,resb!BC10,resb!BC22,resb!BC34)","v":1.7337000000000002E-2},{"$f":"CHOOSE(graph,resa!F10,resa!F22,resa!F34)","v":79.919370999999998},{"$f":"CHOOSE(graph,resb!F10,resb!F22,resb!F34)","v":79.919370999999998},{"$f":"CHOOSE(graph,resa!BN10,resa!BN22,resa!BN34)","v":223.234309},{"$f":"CHOOSE(graph,resb!BN10,resb!BN22,resb!BN34)","v":223.234309},{"$f":"CHOOSE(graph,resa!AN10,resa!AN22,resa!AN34)","v":0.33504499999999998},{"$f":"CHOOSE(graph,resb!AN10,resb!AN22,resb!AN34)","v":0.33504499999999998},{"$f":"CHOOSE(graph,resa!AO10,resa!AO22,resa!AO34)","v":0.249775},{"$f":"CHOOSE(graph,resb!AO10,resb!AO22,resb!AO34)","v":0.249775},{"$f":"CHOOSE(graph,resa!P10,resa!P22,resa!P34)","v":0.41221799999999997},{"$f":"CHOOSE(graph,resb!P10,resb!P22,resb!P34)","v":0.41221799999999997},{"$f":"CHOOSE(graph,resa!R10,resa!R22,resa!R34)","v":0.87732600000000005},{"$f":"CHOOSE(graph,resb!R10,resb!R22,resb!R34)","v":0.87732600000000005},{"$f":"CHOOSE(graph,resa!AK10,resa!AK22,resa!AK34)","v":0.18470300000000001},{"$f":"CHOOSE(graph,resb!AK10,resb!AK22,resb!AK34)","v":0.18470300000000001},{"$f":"CHOOSE(graph,resa!BA10,resa!BA22,resa!BA34)","v":804.16235700000004},{"$f":"CHOOSE(graph,resb!BA10,resb!BA22,resb!BA34)","v":804.16246999999998},{"$f":"CHOOSE(graph,resa!AL10,resa!AL22,resa!AL34)","v":0.202768},{"$f":"CHOOSE(graph,resb!AL10,resb!AL22,resb!AL34)","v":0.202768},{"$f":"CHOOSE(graph,resa!AM10,resa!AM22,resa!AM34)","v":0.16531599999999999},{"$f":"CHOOSE(graph,resb!AM10,resb!AM22,resb!AM34)","v":0.16531599999999999},{"$f":"CHOOSE(graph,resa!W10,resa!W22,resa!W34)","v":737.29244600000004},{"$f":"CHOOSE(graph,resb!W10,resb!W22,resb!W34)","v":737.29244500000004},{"$f":"CHOOSE(graph,resa!S10,resa!S22,resa!S34)","v":1},{"$f":"CHOOSE(graph,resb!S10,resb!S22,resb!S34)","v":1},{"$f":"CHOOSE(graph,resa!CO10,resa!CO22,resa!CO34)","v":193.056207},{"$f":"CHOOSE(graph,resb!CO10,resb!CO22,resb!CO34)","v":193.05626000000001},{"$f":"CHOOSE(graph,resa!CP10,resa!CP22,resa!CP34)","v":513.42670999999996},{"$f":"CHOOSE(graph,resb!CP10,resb!CP22,resb!CP34)","v":513.42681900000002},{"$f":"CHOOSE(graph,resa!AX10,resa!AX22,resa!AX34)","v":91.094297999999995},{"$f":"CHOOSE(graph,resb!AX10,resb!AX22,resb!AX34)","v":91.094297999999995},{"$f":"CHOOSE(graph,resa!CV10,resa!CV22,resa!CV34)","v":124.41558499999999},{"$f":"CHOOSE(graph,resb!CV10,resb!CV22,resb!CV34)","v":124.415587},{"$f":"CHOOSE(graph,resa!CW10,resa!CW22,resa!CW34)","v":1594.053846},{"$f":"CHOOSE(graph,resb!CW10,resb!CW22,resb!CW34)","v":1594.0539590000001},{"$f":"CHOOSE(graph,resa!AX10,resa!AX22,resa!AX34)","v":91.094297999999995},{"$f":"CHOOSE(graph,resb!AX10,resb!AX22,resb!AX34)","v":91.094297999999995},{"$f":"CHOOSE(graph,resa!AU10,resa!AU22,resa!AU34)","v":8.8594000000000006E-2},{"$f":"CHOOSE(graph,resb!AU10,resb!AU22,resb!AU34)","v":8.8594000000000006E-2},{"$f":"CHOOSE(graph,resa!AY10,resa!AY22,resa!AY34)","v":7.3231609999999998},{"$f":"CHOOSE(graph,resb!AY10,resb!AY22,resb!AY34)","v":7.3231609999999998},{"$f":"CHOOSE(graph,resa!AX10,resa!AX22,resa!AX34)","v":91.094297999999995},{"$f":"CHOOSE(graph,resb!AX10,resb!AX22,resb!AX34)","v":91.094297999999995},{"$f":"CHOOSE(graph,resa!CB10,resa!CB22,resa!CB34)","v":48.821072000000001},{"$f":"CHOOSE(graph,resb!CB10,resb!CB22,resb!CB34)","v":48.821072000000001},{"$f":"CHOOSE(graph,resa!BX10,resa!BX22,resa!BX34)","v":4.4852359999999996},{"$f":"CHOOSE(graph,resb!BX10,resb!BX22,resb!BX34)","v":4.4852359999999996},17.58927642079086,17.58927642079086,{"$f":"CHOOSE(graph,resa!CS10,resa!CS22,resa!CS34)","v":13.432834},{"$f":"CHOOSE(graph,resb!CS10,resb!CS22,resb!CS34)","v":13.432834},{"$f":"CHOOSE(graph,resa!CT10,resa!CT22,resa!CT34)","v":134.174024},{"$f":"CHOOSE(graph,resb!CT10,resb!CT22,resb!CT34)","v":134.174024},{"$f":"CHOOSE(graph,resa!DD10,resa!DD22,resa!DD34)","v":72.359088999999997},{"$f":"CHOOSE(graph,resb!DD10,resb!DD22,resb!DD34)","v":72.359088999999997},{"$f":"CHOOSE(graph,resa!DG10,resa!DG22,resa!DG34)","v":82.375184000000004},{"$f":"CHOOSE(graph,resb!DG10,resb!DG22,resb!DG34)","v":82.375184000000004},{"$f":"CHOOSE(graph,resa!DJ10,resa!DJ22,resa!DJ34)","v":208.436294},{"$f":"CHOOSE(graph,resb!DJ10,resb!DJ22,resb!DJ34)","v":208.436295},{"$f":"CHOOSE(graph,resa!BR10,resa!BR22,resa!BR34)","v":221.571012},{"$f":"CHOOSE(graph,resb!BR10,resb!BR22,resb!BR34)","v":221.571012},{"$f":"CHOOSE(graph,resa!BL10,resa!BL22,resa!BL34)","v":72.470380000000006},{"$f":"CHOOSE(graph,resb!BL10,resb!BL22,resb!BL34)","v":72.470380000000006}]
[null,null,null,null,null,null,null,null,null,null,null,null,null,null,null,null,null,null,null,null,null,null,null,null,null,null,7,{"$f":"CHOOSE(graph,resa!B11,resa!B23,resa!B35)","v":7},{"$f":"CHOOSE(graph,resa!I11,resa!I23,resa!I35)","v":2.8091999999999999E-2},{"$f":"CHOOSE(graph,resb!I11,resb!I23,resb!I35)","v":2.8091999999999999E-2},{"$f":"CHOOSE(graph,resa!D11,resa!D23,resa!D35)","v":48.409435000000002},{"$f":"CHOOSE(graph,resb!D11,resb!D23,resb!D35)","v":48.409435999999999},{"$f":"CHOOSE(graph,resa!BO11,resa!BO23,resa!BO35)","v":475.749504},{"$f":"CHOOSE(graph,resb!BO11,resb!BO23,resb!BO35)","v":475.749504},{"$f":"CHOOSE(graph,resa!BP11,resa!BP23,resa!BP35)","v":427.34006799999997},{"$f":"CHOOSE(graph,resb!BP11,resb!BP23,resb!BP35)","v":427.34006799999997},{"$f":"CHOOSE(graph,resa!BB11,resa!BB23,resa!BB35)","v":1.0754E-2},{"$f":"CHOOSE(graph,resb!BB11,resb!BB23,resb!BB35)","v":1.0754E-2},{"$f":"CHOOSE(graph,resa!BC11,resa!BC23,resa!BC35)","v":1.7337000000000002E-2},{"$f":"CHOOSE(graph,resb!BC11,resb!BC23,resb!BC35)","v":1.7337000000000002E-2},{"$f":"CHOOSE(graph,resa!F11,resa!F23,resa!F35)","v":79.919370999999998},{"$f":"CHOOSE(graph,resb!F11,resb!F23,resb!F35)","v":79.919370999999998},{"$f":"CHOOSE(graph,resa!BN11,resa!BN23,resa!BN35)","v":223.234309},{"$f":"CHOOSE(graph,resb!BN11,resb!BN23,resb!BN35)","v":223.234309},{"$f":"CHOOSE(graph,resa!AN11,resa!AN23,resa!AN35)","v":0.33504499999999998},{"$f":"CHOOSE(graph,resb!AN11,resb!AN23,resb!AN35)","v":0.33504499999999998},{"$f":"CHOOSE(graph,resa!AO11,resa!AO23,resa!AO35)","v":0.249775},{"$f":"CHOOSE(graph,resb!AO11,resb!AO23,resb!AO35)","v":0.249775},{"$f":"CHOOSE(graph,resa!P11,resa!P23,resa!P35)","v":0.41221799999999997},{"$f":"CHOOSE(graph,resb!P11,resb!P23,resb!P35)","v":0.41221799999999997},{"$f":"CHOOSE(graph,resa!R11,resa!R23,resa!R35)","v":0.87732600000000005},{"$f":"CHOOSE(graph,resb!R11,resb!R23,resb!R35)","v":0.87732600000000005},{"$f":"CHOOSE(graph,resa!AK11,resa!AK23,resa!AK35)","v":0.18470300000000001},{"$f":"CHOOSE(graph,resb!AK11,resb!AK23,resb!AK35)","v":0.18470300000000001},{"$f":"CHOOSE(graph,resa!BA11,resa!BA23,resa!BA35)","v":804.16235500000005},{"$f":"CHOOSE(graph,resb!BA11,resb!BA23,resb!BA35)","v":804.16246999999998},{"$f":"CHOOSE(graph,resa!AL11,resa!AL23,resa!AL35)","v":0.202768},{"$f":"CHOOSE(graph,resb!AL11,resb!AL23,resb!AL35)","v":0.202768},{"$f":"CHOOSE(graph,resa!AM11,resa!AM23,resa!AM35)","v":0.16531599999999999},{"$f":"CHOOSE(graph,resb!AM11,resb!AM23,resb!AM35)","v":0.16531599999999999},{"$f":"CHOOSE(graph,resa!W11,resa!W23,resa!W35)","v":737.29244600000004},{"$f":"CHOOSE(graph,resb!W11,resb!W23,resb!W35)","v":737.29244600000004},{"$f":"CHOOSE(graph,resa!S11,resa!S23,resa!S35)","v":1},{"$f":"CHOOSE(graph,resb!S11,resb!S23,resb!S35)","v":1},{"$f":"CHOOSE(graph,resa!CO11,resa!CO23,resa!CO35)","v":193.056206},{"$f":"CHOOSE(graph,resb!CO11,resb!CO23,resb!CO35)","v":193.05626000000001},{"$f":"CHOOSE(graph,resa!CP11,resa!CP23,resa!CP35)","v":513.42670799999996},{"$f":"CHOOSE(graph,resb!CP11,resb!CP23,resb!CP35)","v":513.42681900000002},{"$f":"CHOOSE(graph,resa!AX11,resa!AX23,resa!AX35)","v":91.094297999999995},{"$f":"CHOOSE(graph,resb!AX11,resb!AX23,resb!AX35)","v":91.094297999999995},{"$f":"CHOOSE(graph,resa!CV11,resa!CV23,resa!CV35)","v":124.41558499999999},{"$f":"CHOOSE(graph,resb!CV11,resb!CV23,resb!CV35)","v":124.415587},{"$f":"CHOOSE(graph,resa!CW11,resa!CW23,resa!CW35)","v":1594.053844},{"$f":"CHOOSE(graph,resb!CW11,resb!CW23,resb!CW35)","v":1594.0539590000001},{"$f":"CHOOSE(graph,resa!AX11,resa!AX23,resa!AX35)","v":91.094297999999995},{"$f":"CHOOSE(graph,resb!AX11,resb!AX23,resb!AX35)","v":91.094297999999995},{"$f":"CHOOSE(graph,resa!AU11,resa!AU23,resa!AU35)","v":8.8594000000000006E-2},{"$f":"CHOOSE(graph,resb!AU11,resb!AU23,resb!AU35)","v":8.8594000000000006E-2},{"$f":"CHOOSE(graph,resa!AY11,resa!AY23,resa!AY35)","v":7.3231609999999998},{"$f":"CHOOSE(graph,resb!AY11,resb!AY23,resb!AY35)","v":7.3231609999999998},{"$f":"CHOOSE(graph,resa!AX11,resa!AX23,resa!AX35)","v":91.094297999999995},{"$f":"CHOOSE(graph,resb!AX11,resb!AX23,resb!AX35)","v":91.094297999999995},{"$f":"CHOOSE(graph,resa!CB11,resa!CB23,resa!CB35)","v":48.821072000000001},{"$f":"CHOOSE(graph,resb!CB11,resb!CB23,resb!CB35)","v":48.821072000000001},{"$f":"CHOOSE(graph,resa!BX11,resa!BX23,resa!BX35)","v":4.4852359999999996},{"$f":"CHOOSE(graph,resb!BX11,resb!BX23,resb!BX35)","v":4.4852359999999996},17.58927642079086,17.58927642079086,{"$f":"CHOOSE(graph,resa!CS11,resa!CS23,resa!CS35)","v":13.432834},{"$f":"CHOOSE(graph,resb!CS11,resb!CS23,resb!CS35)","v":13.432834},{"$f":"CHOOSE(graph,resa!CT11,resa!CT23,resa!CT35)","v":134.174024},{"$f":"CHOOSE(graph,resb!CT11,resb!CT23,resb!CT35)","v":134.174024},{"$f":"CHOOSE(graph,resa!DD11,resa!DD23,resa!DD35)","v":72.359088999999997},{"$f":"CHOOSE(graph,resb!DD11,resb!DD23,resb!DD35)","v":72.359088999999997},{"$f":"CHOOSE(graph,resa!DG11,resa!DG23,resa!DG35)","v":82.375184000000004},{"$f":"CHOOSE(graph,resb!DG11,resb!DG23,resb!DG35)","v":82.375184000000004},{"$f":"CHOOSE(graph,resa!DJ11,resa!DJ23,resa!DJ35)","v":208.436295},{"$f":"CHOOSE(graph,resb!DJ11,resb!DJ23,resb!DJ35)","v":208.436295},{"$f":"CHOOSE(graph,resa!BR11,resa!BR23,resa!BR35)","v":221.571012},{"$f":"CHOOSE(graph,resb!BR11,resb!BR23,resb!BR35)","v":221.571012},{"$f":"CHOOSE(graph,resa!BL11,resa!BL23,resa!BL35)","v":72.470380000000006},{"$f":"CHOOSE(graph,resb!BL11,resb!BL23,resb!BL35)","v":72.470380000000006}]
[null,null,null,null,null,null,null,null,null,null,null,null,null,null,null,null,null,null,null,null,null,null,null,null,null,null,8,{"$f":"CHOOSE(graph,resa!B12,resa!B24,resa!B36)","v":8},{"$f":"CHOOSE(graph,resa!I12,resa!I24,resa!I36)","v":2.8091999999999999E-2},{"$f":"CHOOSE(graph,resb!I12,resb!I24,resb!I36)","v":2.8091999999999999E-2},{"$f":"CHOOSE(graph,resa!D12,resa!D24,resa!D36)","v":48.409435000000002},{"$f":"CHOOSE(graph,resb!D12,resb!D24,resb!D36)","v":48.409435999999999},{"$f":"CHOOSE(graph,resa!BO12,resa!BO24,resa!BO36)","v":475.749504},{"$f":"CHOOSE(graph,resb!BO12,resb!BO24,resb!BO36)","v":475.749504},{"$f":"CHOOSE(graph,resa!BP12,resa!BP24,resa!BP36)","v":427.34006799999997},{"$f":"CHOOSE(graph,resb!BP12,resb!BP24,resb!BP36)","v":427.34006799999997},{"$f":"CHOOSE(graph,resa!BB12,resa!BB24,resa!BB36)","v":1.0754E-2},{"$f":"CHOOSE(graph,resb!BB12,resb!BB24,resb!BB36)","v":1.0754E-2},{"$f":"CHOOSE(graph,resa!BC12,resa!BC24,resa!BC36)","v":1.7337000000000002E-2},{"$f":"CHOOSE(graph,resb!BC12,resb!BC24,resb!BC36)","v":1.7337000000000002E-2},{"$f":"CHOOSE(graph,resa!F12,resa!F24,resa!F36)","v":79.919370999999998},{"$f":"CHOOSE(graph,resb!F12,resb!F24,resb!F36)","v":79.919370999999998},{"$f":"CHOOSE(graph,resa!BN12,resa!BN24,resa!BN36)","v":223.234309},{"$f":"CHOOSE(graph,resb!BN12,resb!BN24,resb!BN36)","v":223.234309},{"$f":"CHOOSE(graph,resa!AN12,resa!AN24,resa!AN36)","v":0.33504499999999998},{"$f":"CHOOSE(graph,resb!AN12,resb!AN24,resb!AN36)","v":0.33504499999999998},{"$f":"CHOOSE(graph,resa!AO12,resa!AO24,resa!AO36)","v":0.249775},{"$f":"CHOOSE(graph,resb!AO12,resb!AO24,resb!AO36)","v":0.249775},{"$f":"CHOOSE(graph,resa!P12,resa!P24,resa!P36)","v":0.41221799999999997},{"$f":"CHOOSE(graph,resb!P12,resb!P24,resb!P36)","v":0.41221799999999997},{"$f":"CHOOSE(graph,resa!R12,resa!R24,resa!R36)","v":0.87732600000000005},{"$f":"CHOOSE(graph,resb!R12,resb!R24,resb!R36)","v":0.87732600000000005},{"$f":"CHOOSE(graph,resa!AK12,resa!AK24,resa!AK36)","v":0.18470300000000001},{"$f":"CHOOSE(graph,resb!AK12,resb!AK24,resb!AK36)","v":0.18470300000000001},{"$f":"CHOOSE(graph,resa!BA12,resa!BA24,resa!BA36)","v":804.16235400000005},{"$f":"CHOOSE(graph,resb!BA12,resb!BA24,resb!BA36)","v":804.16246999999998},{"$f":"CHOOSE(graph,resa!AL12,resa!AL24,resa!AL36)","v":0.202768},{"$f":"CHOOSE(graph,resb!AL12,resb!AL24,resb!AL36)","v":0.202768},{"$f":"CHOOSE(graph,resa!AM12,resa!AM24,resa!AM36)","v":0.16531599999999999},{"$f":"CHOOSE(graph,resb!AM12,resb!AM24,resb!AM36)","v":0.16531599999999999},{"$f":"CHOOSE(graph,resa!W12,resa!W24,resa!W36)","v":737.29244600000004},{"$f":"CHOOSE(graph,resb!W12,resb!W24,resb!W36)","v":737.29244600000004},{"$f":"CHOOSE(graph,resa!S12,resa!S24,resa!S36)","v":1},{"$f":"CHOOSE(graph,resb!S12,resb!S24,resb!S36)","v":1},{"$f":"CHOOSE(graph,resa!CO12,resa!CO24,resa!CO36)","v":193.05620500000001},{"$f":"CHOOSE(graph,resb!CO12,resb!CO24,resb!CO36)","v":193.05626000000001},{"$f":"CHOOSE(graph,resa!CP12,resa!CP24,resa!CP36)","v":513.42670499999997},{"$f":"CHOOSE(graph,resb!CP12,resb!CP24,resb!CP36)","v":513.42681900000002},{"$f":"CHOOSE(graph,resa!AX12,resa!AX24,resa!AX36)","v":91.094297999999995},{"$f":"CHOOSE(graph,resb!AX12,resb!AX24,resb!AX36)","v":91.094297999999995},{"$f":"CHOOSE(graph,resa!CV12,resa!CV24,resa!CV36)","v":124.415586},{"$f":"CHOOSE(graph,resb!CV12,resb!CV24,resb!CV36)","v":124.415587},{"$f":"CHOOSE(graph,resa!CW12,resa!CW24,resa!CW36)","v":1594.0538429999999},{"$f":"CHOOSE(graph,resb!CW12,resb!CW24,resb!CW36)","v":1594.0539590000001},{"$f":"CHOOSE(graph,resa!AX12,resa!AX24,resa!AX36)","v":91.094297999999995},{"$f":"CHOOSE(graph,resb!AX12,resb!AX24,resb!AX36)","v":91.094297999999995},{"$f":"CHOOSE(graph,resa!AU12,resa!AU24,resa!AU36)","v":8.8594000000000006E-2},{"$f":"CHOOSE(graph,resb!AU12,resb!AU24,resb!AU36)","v":8.8594000000000006E-2},{"$f":"CHOOSE(graph,resa!AY12,resa!AY24,resa!AY36)","v":7.3231609999999998},{"$f":"CHOOSE(graph,resb!AY12,resb!AY24,resb!AY36)","v":7.3231609999999998},{"$f":"CHOOSE(graph,resa!AX12,resa!AX24,resa!AX36)","v":91.094297999999995},{"$f":"CHOOSE(graph,resb!AX12,resb!AX24,resb!AX36)","v":91.094297999999995},{"$f":"CHOOSE(graph,resa!CB12,resa!CB24,resa!CB36)","v":48.821072000000001},{"$f":"CHOOSE(graph,resb!CB12,resb!CB24,resb!CB36)","v":48.821072000000001},{"$f":"CHOOSE(graph,resa!BX12,resa!BX24,resa!BX36)","v":4.4852359999999996},{"$f":"CHOOSE(graph,resb!BX12,resb!BX24,resb!BX36)","v":4.4852359999999996},17.58927642079086,17.58927642079086,{"$f":"CHOOSE(graph,resa!CS12,resa!CS24,resa!CS36)","v":13.432834},{"$f":"CHOOSE(graph,resb!CS12,resb!CS24,resb!CS36)","v":13.432834},{"$f":"CHOOSE(graph,resa!CT12,resa!CT24,resa!CT36)","v":134.174024},{"$f":"CHOOSE(graph,resb!CT12,resb!CT24,resb!CT36)","v":134.174024},{"$f":"CHOOSE(graph,resa!DD12,resa!DD24,resa!DD36)","v":72.359088999999997},{"$f":"CHOOSE(graph,resb!DD12,resb!DD24,resb!DD36)","v":72.359088999999997},{"$f":"CHOOSE(graph,resa!DG12,resa!DG24,resa!DG36)","v":82.375184000000004},{"$f":"CHOOSE(graph,resb!DG12,resb!DG24,resb!DG36)","v":82.375184000000004},{"$f":"CHOOSE(graph,resa!DJ12,resa!DJ24,resa!DJ36)","v":208.436295},{"$f":"CHOOSE(graph,resb!DJ12,resb!DJ24,resb!DJ36)","v":208.436295},{"$f":"CHOOSE(graph,resa!BR12,resa!BR24,resa!BR36)","v":221.571012},{"$f":"CHOOSE(graph,resb!BR12,resb!BR24,resb!BR36)","v":221.571012},{"$f":"CHOOSE(graph,resa!BL12,resa!BL24,resa!BL36)","v":72.470380000000006},{"$f":"CHOOSE(graph,resb!BL12,resb!BL24,resb!BL36)","v":72.470380000000006}]
[null,null,null,null,null,null,null,null,null,null,null,null,null,null,null,null,null,null,null,null,null,null,null,null,null,null,9,{"$f":"CHOOSE(graph,resa!B13,resa!B25,resa!B37)","v":9},{"$f":"CHOOSE(graph,resa!I13,resa!I25,resa!I37)","v":2.8091999999999999E-2},{"$f":"CHOOSE(graph,resb!I13,resb!I25,resb!I37)","v":2.8091999999999999E-2},{"$f":"CHOOSE(graph,resa!D13,resa!D25,resa!D37)","v":48.409435000000002},{"$f":"CHOOSE(graph,resb!D13,resb!D25,resb!D37)","v":48.409435999999999},{"$f":"CHOOSE(graph,resa!BO13,resa!BO25,resa!BO37)","v":475.749504},{"$f":"CHOOSE(graph,resb!BO13,resb!BO25,resb!BO37)","v":475.749504},{"$f":"CHOOSE(graph,resa!BP13,resa!BP25,resa!BP37)","v":427.34006799999997},{"$f":"CHOOSE(graph,resb!BP13,resb!BP25,resb!BP37)","v":427.34006799999997},{"$f":"CHOOSE(graph,resa!BB13,resa!BB25,resa!BB37)","v":1.0754E-2},{"$f":"CHOOSE(graph,resb!BB13,resb!BB25,resb!BB37)","v":1.0754E-2},{"$f":"CHOOSE(graph,resa!BC13,resa!BC25,resa!BC37)","v":1.7337000000000002E-2},{"$f":"CHOOSE(graph,resb!BC13,resb!BC25,resb!BC37)","v":1.7337000000000002E-2},{"$f":"CHOOSE(graph,resa!F13,resa!F25,resa!F37)","v":79.919370999999998},{"$f":"CHOOSE(graph,resb!F13,resb!F25,resb!F37)","v":79.919370999999998},{"$f":"CHOOSE(graph,resa!BN13,resa!BN25,resa!BN37)","v":223.234309},{"$f":"CHOOSE(graph,resb!BN13,resb!BN25,resb!BN37)","v":223.234309},{"$f":"CHOOSE(graph,resa!AN13,resa!AN25,resa!AN37)","v":0.33504499999999998},{"$f":"CHOOSE(graph,resb!AN13,resb!AN25,resb!AN37)","v":0.33504499999999998},{"$f":"CHOOSE(graph,resa!AO13,resa!AO25,resa!AO37)","v":0.249775},{"$f":"CHOOSE(graph,resb!AO13,resb!AO25,resb!AO37)","v":0.249775},{"$f":"CHOOSE(graph,resa!P13,resa!P25,resa!P37)","v":0.41221799999999997},{"$f":"CHOOSE(graph,resb!P13,resb!P25,resb!P37)","v":0.41221799999999997},{"$f":"CHOOSE(graph,resa!R13,resa!R25,resa!R37)","v":0.87732600000000005},{"$f":"CHOOSE(graph,resb!R13,resb!R25,resb!R37)","v":0.87732600000000005},{"$f":"CHOOSE(graph,resa!AK13,resa!AK25,resa!AK37)","v":0.18470300000000001},{"$f":"CHOOSE(graph,resb!AK13,resb!AK25,resb!AK37)","v":0.18470300000000001},{"$f":"CHOOSE(graph,resa!BA13,resa!BA25,resa!BA37)","v":804.16235300000005},{"$f":"CHOOSE(graph,resb!BA13,resb!BA25,resb!BA37)","v":804.16246999999998},{"$f":"CHOOSE(graph,resa!AL13,resa!AL25,resa!AL37)","v":0.202768},{"$f":"CHOOSE(graph,resb!AL13,resb!AL25,resb!AL37)","v":0.202768},{"$f":"CHOOSE(graph,resa!AM13,resa!AM25,resa!AM37)","v":0.16531599999999999},{"$f":"CHOOSE(graph,resb!AM13,resb!AM25,resb!AM37)","v":0.16531599999999999},{"$f":"CHOOSE(graph,resa!W13,resa!W25,resa!W37)","v":737.29244600000004},{"$f":"CHOOSE(graph,resb!W13,resb!W25,resb!W37)","v":737.29244600000004},{"$f":"CHOOSE(graph,resa!S13,resa!S25,resa!S37)","v":1},{"$f":"CHOOSE(graph,resb!S13,resb!S25,resb!S37)","v":1},{"$f":"CHOOSE(graph,resa!CO13,resa!CO25,resa!CO37)","v":193.05620400000001},{"$f":"CHOOSE(graph,resb!CO13,resb!CO25,resb!CO37)","v":193.05626000000001},{"$f":"CHOOSE(graph,resa!CP13,resa!CP25,resa!CP37)","v":513.42670399999997},{"$f":"CHOOSE(graph,resb!CP13,resb!CP25,resb!CP37)","v":513.42681900000002},{"$f":"CHOOSE(graph,resa!AX13,resa!AX25,resa!AX37)","v":91.094297999999995},{"$f":"CHOOSE(graph,resb!AX13,resb!AX25,resb!AX37)","v":91.094297999999995},{"$f":"CHOOSE(graph,resa!CV13,resa!CV25,resa!CV37)","v":124.415587},{"$f":"CHOOSE(graph,resb!CV13,resb!CV25,resb!CV37)","v":124.415587},{"$f":"CHOOSE(graph,resa!CW13,resa!CW25,resa!CW37)","v":1594.053842},{"$f":"CHOOSE(graph,resb!CW13,resb!CW25,resb!CW37)","v":1594.0539590000001},{"$f":"CHOOSE(graph,resa!AX13,resa!AX25,resa!AX37)","v":91.094297999999995},{"$f":"CHOOSE(graph,resb!AX13,resb!AX25,resb!AX37)","v":91.094297999999995},{"$f":"CHOOSE(graph,resa!AU13,resa!AU25,resa!AU37)","v":8.8594000000000006E-2},{"$f":"CHOOSE(graph,resb!AU13,resb!AU25,resb!AU37)","v":8.8594000000000006E-2},{"$f":"CHOOSE(graph,resa!AY13,resa!AY25,resa!AY37)","v":7.3231609999999998},{"$f":"CHOOSE(graph,resb!AY13,resb!AY25,resb!AY37)","v":7.3231609999999998},{"$f":"CHOOSE(graph,resa!AX13,resa!AX25,resa!AX37)","v":91.094297999999995},{"$f":"CHOOSE(graph,resb!AX13,resb!AX25,resb!AX37)","v":91.094297999999995},{"$f":"CHOOSE(graph,resa!CB13,resa!CB25,resa!CB37)","v":48.821072000000001},{"$f":"CHOOSE(graph,resb!CB13,resb!CB25,resb!CB37)","v":48.821072000000001},{"$f":"CHOOSE(graph,resa!BX13,resa!BX25,resa!BX37)","v":4.4852359999999996},{"$f":"CHOOSE(graph,resb!BX13,resb!BX25,resb!BX37)","v":4.4852359999999996},17.58927642079086,17.58927642079086,{"$f":"CHOOSE(graph,resa!CS13,resa!CS25,resa!CS37)","v":13.432834},{"$f":"CHOOSE(graph,resb!CS13,resb!CS25,resb!CS37)","v":13.432834},{"$f":"CHOOSE(graph,resa!CT13,resa!CT25,resa!CT37)","v":134.174024},{"$f":"CHOOSE(graph,resb!CT13,resb!CT25,resb!CT37)","v":134.174024},{"$f":"CHOOSE(graph,resa!DD13,resa!DD25,resa!DD37)","v":72.359088999999997},{"$f":"CHOOSE(graph,resb!DD13,resb!DD25,resb!DD37)","v":72.359088999999997},{"$f":"CHOOSE(graph,resa!DG13,resa!DG25,resa!DG37)","v":82.375184000000004},{"$f":"CHOOSE(graph,resb!DG13,resb!DG25,resb!DG37)","v":82.375184000000004},{"$f":"CHOOSE(graph,resa!DJ13,resa!DJ25,resa!DJ37)","v":208.436295},{"$f":"CHOOSE(graph,resb!DJ13,resb!DJ25,resb!DJ37)","v":208.436295},{"$f":"CHOOSE(graph,resa!BR13,resa!BR25,resa!BR37)","v":221.571012},{"$f":"CHOOSE(graph,resb!BR13,resb!BR25,resb!BR37)","v":221.571012},{"$f":"CHOOSE(graph,resa!BL13,resa!BL25,resa!BL37)","v":72.470380000000006},{"$f":"CHOOSE(graph,resb!BL13,resb!BL25,resb!BL37)","v":72.470380000000006}]
[null,null,null,null,null,null,null,null,null,null,null,null,null,null,null,null,null,null,null,null,null,null,null,null,null,null,10,{"$f":"CHOOSE(graph,resa!B14,resa!B26,resa!B38)","v":10},{"$f":"CHOOSE(graph,resa!I14,resa!I26,resa!I38)","v":2.8091999999999999E-2},{"$f":"CHOOSE(graph,resb!I14,resb!I26,resb!I38)","v":2.8091999999999999E-2},{"$f":"CHOOSE(graph,resa!D14,resa!D26,resa!D38)","v":48.409435999999999},{"$f":"CHOOSE(graph,resb!D14,resb!D26,resb!D38)","v":48.409435999999999},{"$f":"CHOOSE(graph,resa!BO14,resa!BO26,resa!BO38)","v":475.749504},{"$f":"CHOOSE(graph,resb!BO14,resb!BO26,resb!BO38)","v":475.749504},{"$f":"CHOOSE(graph,resa!BP14,resa!BP26,resa!BP38)","v":427.34006799999997},{"$f":"CHOOSE(graph,resb!BP14,resb!BP26,resb!BP38)","v":427.34006799999997},{"$f":"CHOOSE(graph,resa!BB14,resa!BB26,resa!BB38)","v":1.0754E-2},{"$f":"CHOOSE(graph,resb!BB14,resb!BB26,resb!BB38)","v":1.0754E-2},{"$f":"CHOOSE(graph,resa!BC14,resa!BC26,resa!BC38)","v":1.7337000000000002E-2},{"$f":"CHOOSE(graph,resb!BC14,resb!BC26,resb!BC38)","v":1.7337000000000002E-2},{"$f":"CHOOSE(graph,resa!F14,resa!F26,resa!F38)","v":79.919370999999998},{"$f":"CHOOSE(graph,resb!F14,resb!F26,resb!F38)","v":79.919370999999998},{"$f":"CHOOSE(graph,resa!BN14,resa!BN26,resa!BN38)","v":223.234309},{"$f":"CHOOSE(graph,resb!BN14,resb!BN26,resb!BN38)","v":223.234309},{"$f":"CHOOSE(graph,resa!AN14,resa!AN26,resa!AN38)","v":0.33504499999999998},{"$f":"CHOOSE(graph,resb!AN14,resb!AN26,resb!AN38)","v":0.33504499999999998},{"$f":"CHOOSE(graph,resa!AO14,resa!AO26,resa!AO38)","v":0.249775},{"$f":"CHOOSE(graph,resb!AO14,resb!AO26,resb!AO38)","v":0.249775},{"$f":"CHOOSE(graph,resa!P14,resa!P26,resa!P38)","v":0.41221799999999997},{"$f":"CHOOSE(graph,resb!P14,resb!P26,resb!P38)","v":0.41221799999999997},{"$f":"CHOOSE(graph,resa!R14,resa!R26,resa!R38)","v":0.87732600000000005},{"$f":"CHOOSE(graph,resb!R14,resb!R26,resb!R38)","v":0.87732600000000005},{"$f":"CHOOSE(graph,resa!AK14,resa!AK26,resa!AK38)","v":0.18470300000000001},{"$f":"CHOOSE(graph,resb!AK14,resb!AK26,resb!AK38)","v":0.18470300000000001},{"$f":"CHOOSE(graph,resa!BA14,resa!BA26,resa!BA38)","v":804.16235300000005},{"$f":"CHOOSE(graph,resb!BA14,resb!BA26,resb!BA38)","v":804.16246999999998},{"$f":"CHOOSE(graph,resa!AL14,resa!AL26,resa!AL38)","v":0.202768},{"$f":"CHOOSE(graph,resb!AL14,resb!AL26,resb!AL38)","v":0.202768},{"$f":"CHOOSE(graph,resa!AM14,resa!AM26,resa!AM38)","v":0.16531599999999999},{"$f":"CHOOSE(graph,resb!AM14,resb!AM26,resb!AM38)","v":0.16531599999999999},{"$f":"CHOOSE(graph,resa!W14,resa!W26,resa!W38)","v":737.29244600000004},{"$f":"CHOOSE(graph,resb!W14,resb!W26,resb!W38)","v":737.29244600000004},{"$f":"CHOOSE(graph,resa!S14,resa!S26,resa!S38)","v":1},{"$f":"CHOOSE(graph,resb!S14,resb!S26,resb!S38)","v":1},{"$f":"CHOOSE(graph,resa!CO14,resa!CO26,resa!CO38)","v":193.05620400000001},{"$f":"CHOOSE(graph,resb!CO14,resb!CO26,resb!CO38)","v":193.05626000000001},{"$f":"CHOOSE(graph,resa!CP14,resa!CP26,resa!CP38)","v":513.42670299999997},{"$f":"CHOOSE(graph,resb!CP14,resb!CP26,resb!CP38)","v":513.42681900000002},{"$f":"CHOOSE(graph,resa!AX14,resa!AX26,resa!AX38)","v":91.094297999999995},{"$f":"CHOOSE(graph,resb!AX14,resb!AX26,resb!AX38)","v":91.094297999999995},{"$f":"CHOOSE(graph,resa!CV14,resa!CV26,resa!CV38)","v":124.415588},{"$f":"CHOOSE(graph,resb!CV14,resb!CV26,resb!CV38)","v":124.415587},{"$f":"CHOOSE(graph,resa!CW14,resa!CW26,resa!CW38)","v":1594.053842},{"$f":"CHOOSE(graph,resb!CW14,resb!CW26,resb!CW38)","v":1594.0539590000001},{"$f":"CHOOSE(graph,resa!AX14,resa!AX26,resa!AX38)","v":91.094297999999995},{"$f":"CHOOSE(graph,resb!AX14,resb!AX26,resb!AX38)","v":91.094297999999995},{"$f":"CHOOSE(graph,resa!AU14,resa!AU26,resa!AU38)","v":8.8594000000000006E-2},{"$f":"CHOOSE(graph,resb!AU14,resb!AU26,resb!AU38)","v":8.8594000000000006E-2},{"$f":"CHOOSE(graph,resa!AY14,resa!AY26,resa!AY38)","v":7.3231609999999998},{"$f":"CHOOSE(graph,resb!AY14,resb!AY26,resb!AY38)","v":7.3231609999999998},{"$f":"CHOOSE(graph,resa!AX14,resa!AX26,resa!AX38)","v":91.094297999999995},{"$f":"CHOOSE(graph,resb!AX14,resb!AX26,resb!AX38)","v":91.094297999999995},{"$f":"CHOOSE(graph,resa!CB14,resa!CB26,resa!CB38)","v":48.821072000000001},{"$f":"CHOOSE(graph,resb!CB14,resb!CB26,resb!CB38)","v":48.821072000000001},{"$f":"CHOOSE(graph,resa!BX14,resa!BX26,resa!BX38)","v":4.4852359999999996},{"$f":"CHOOSE(graph,resb!BX14,resb!BX26,resb!BX38)","v":4.4852359999999996},17.58927642079086,17.58927642079086,{"$f":"CHOOSE(graph,resa!CS14,resa!CS26,resa!CS38)","v":13.432834},{"$f":"CHOOSE(graph,resb!CS14,resb!CS26,resb!CS38)","v":13.432834},{"$f":"CHOOSE(graph,resa!CT14,resa!CT26,resa!CT38)","v":134.174024},{"$f":"CHOOSE(graph,resb!CT14,resb!CT26,resb!CT38)","v":134.174024},{"$f":"CHOOSE(graph,resa!DD14,resa!DD26,resa!DD38)","v":72.359088999999997},{"$f":"CHOOSE(graph,resb!DD14,resb!DD26,resb!DD38)","v":72.359088999999997},{"$f":"CHOOSE(graph,resa!DG14,resa!DG26,resa!DG38)","v":82.375184000000004},{"$f":"CHOOSE(graph,resb!DG14,resb!DG26,resb!DG38)","v":82.375184000000004},{"$f":"CHOOSE(graph,resa!DJ14,resa!DJ26,resa!DJ38)","v":208.436295},{"$f":"CHOOSE(graph,resb!DJ14,resb!DJ26,resb!DJ38)","v":208.436295},{"$f":"CHOOSE(graph,resa!BR14,resa!BR26,resa!BR38)","v":221.571012},{"$f":"CHOOSE(graph,resb!BR14,resb!BR26,resb!BR38)","v":221.571012},{"$f":"CHOOSE(graph,resa!BL14,resa!BL26,resa!BL38)","v":72.470380000000006},{"$f":"CHOOSE(graph,resb!BL14,resb!BL26,resb!BL38)","v":72.470380000000006}]
[null,null,null,null,null,null,null,null,null,null,null,null,null,null,null,null,null,null,null,null,null,null,null,null,null,null,11,{"$f":"CHOOSE(graph,resa!B15,resa!B27,resa!B39)","v":11},{"$f":"CHOOSE(graph,resa!I15,resa!I27,resa!I39)","v":2.8091999999999999E-2},{"$f":"CHOOSE(graph,resb!I15,resb!I27,resb!I39)","v":2.8091999999999999E-2},{"$f":"CHOOSE(graph,resa!D15,resa!D27,resa!D39)","v":48.409435999999999},{"$f":"CHOOSE(graph,resb!D15,resb!D27,resb!D39)","v":48.409435999999999},{"$f":"CHOOSE(graph,resa!BO15,resa!BO27,resa!BO39)","v":475.749504},{"$f":"CHOOSE(graph,resb!BO15,resb!BO27,resb!BO39)","v":475.749504},{"$f":"CHOOSE(graph,resa!BP15,resa!BP27,resa!BP39)","v":427.34006799999997},{"$f":"CHOOSE(graph,resb!BP15,resb!BP27,resb!BP39)","v":427.34006799999997},{"$f":"CHOOSE(graph,resa!BB15,resa!BB27,resa!BB39)","v":1.0754E-2},{"$f":"CHOOSE(graph,resb!BB15,resb!BB27,resb!BB39)","v":1.0754E-2},{"$f":"CHOOSE(graph,resa!BC15,resa!BC27,resa!BC39)","v":1.7337000000000002E-2},{"$f":"CHOOSE(graph,resb!BC15,resb!BC27,resb!BC39)","v":1.7337000000000002E-2},{"$f":"CHOOSE(graph,resa!F15,resa!F27,resa!F39)","v":79.919370999999998},{"$f":"CHOOSE(graph,resb!F15,resb!F27,resb!F39)","v":79.919370999999998},{"$f":"CHOOSE(graph,resa!BN15,resa!BN27,resa!BN39)","v":223.234309},{"$f":"CHOOSE(graph,resb!BN15,resb!BN27,resb!BN39)","v":223.234309},{"$f":"CHOOSE(graph,resa!AN15,resa!AN27,resa!AN39)","v":0.33504499999999998},{"$f":"CHOOSE(graph,resb!AN15,resb!AN27,resb!AN39)","v":0.33504499999999998},{"$f":"CHOOSE(graph,resa!AO15,resa!AO27,resa!AO39)","v":0.249775},{"$f":"CHOOSE(graph,resb!AO15,resb!AO27,resb!AO39)","v":0.249775},{"$f":"CHOOSE(graph,resa!P15,resa!P27,resa!P39)","v":0.41221799999999997},{"$f":"CHOOSE(graph,resb!P15,resb!P27,resb!P39)","v":0.41221799999999997},{"$f":"CHOOSE(graph,resa!R15,resa!R27,resa!R39)","v":0.87732600000000005},{"$f":"CHOOSE(graph,resb!R15,resb!R27,resb!R39)","v":0.87732600000000005},{"$f":"CHOOSE(graph,resa!AK15,resa!AK27,resa!AK39)","v":0.18470300000000001},{"$f":"CHOOSE(graph,resb!AK15,resb!AK27,resb!AK39)","v":0.18470300000000001},{"$f":"CHOOSE(graph,resa!BA15,resa!BA27,resa!BA39)","v":804.16235500000005},{"$f":"CHOOSE(graph,resb!BA15,resb!BA27,resb!BA39)","v":804.16246999999998},{"$f":"CHOOSE(graph,resa!AL15,resa!AL27,resa!AL39)","v":0.202768},{"$f":"CHOOSE(graph,resb!AL15,resb!AL27,resb!AL39)","v":0.202768},{"$f":"CHOOSE(graph,resa!AM15,resa!AM27,resa!AM39)","v":0.16531599999999999},{"$f":"CHOOSE(graph,resb!AM15,resb!AM27,resb!AM39)","v":0.16531599999999999},{"$f":"CHOOSE(graph,resa!W15,resa!W27,resa!W39)","v":737.29244600000004},{"$f":"CHOOSE(graph,resb!W15,resb!W27,resb!W39)","v":737.29244600000004},{"$f":"CHOOSE(graph,resa!S15,resa!S27,resa!S39)","v":1},{"$f":"CHOOSE(graph,resb!S15,resb!S27,resb!S39)","v":1},{"$f":"CHOOSE(graph,resa!CO15,resa!CO27,resa!CO39)","v":193.05620500000001},{"$f":"CHOOSE(graph,resb!CO15,resb!CO27,resb!CO39)","v":193.05626000000001},{"$f":"CHOOSE(graph,resa!CP15,resa!CP27,resa!CP39)","v":513.42670299999997},{"$f":"CHOOSE(graph,resb!CP15,resb!CP27,resb!CP39)","v":513.42681900000002},{"$f":"CHOOSE(graph,resa!AX15,resa!AX27,resa!AX39)","v":91.094297999999995},{"$f":"CHOOSE(graph,resb!AX15,resb!AX27,resb!AX39)","v":91.094297999999995},{"$f":"CHOOSE(graph,resa!CV15,resa!CV27,resa!CV39)","v":124.415589},{"$f":"CHOOSE(graph,resb!CV15,resb!CV27,resb!CV39)","v":124.415587},{"$f":"CHOOSE(graph,resa!CW15,resa!CW27,resa!CW39)","v":1594.0538429999999},{"$f":"CHOOSE(graph,resb!CW15,resb!CW27,resb!CW39)","v":1594.0539590000001},{"$f":"CHOOSE(graph,resa!AX15,resa!AX27,resa!AX39)","v":91.094297999999995},{"$f":"CHOOSE(graph,resb!AX15,resb!AX27,resb!AX39)","v":91.094297999999995},{"$f":"CHOOSE(graph,resa!AU15,resa!AU27,resa!AU39)","v":8.8594000000000006E-2},{"$f":"CHOOSE(graph,resb!AU15,resb!AU27,resb!AU39)","v":8.8594000000000006E-2},{"$f":"CHOOSE(graph,resa!AY15,resa!AY27,resa!AY39)","v":7.3231609999999998},{"$f":"CHOOSE(graph,resb!AY15,resb!AY27,resb!AY39)","v":7.3231609999999998},{"$f":"CHOOSE(graph,resa!AX15,resa!AX27,resa!AX39)","v":91.094297999999995},{"$f":"CHOOSE(graph,resb!AX15,resb!AX27,resb!AX39)","v":91.094297999999995},{"$f":"CHOOSE(graph,resa!CB15,resa!CB27,resa!CB39)","v":48.821072000000001},{"$f":"CHOOSE(graph,resb!CB15,resb!CB27,resb!CB39)","v":48.821072000000001},{"$f":"CHOOSE(graph,resa!BX15,resa!BX27,resa!BX39)","v":4.4852359999999996},{"$f":"CHOOSE(graph,resb!BX15,resb!BX27,resb!BX39)","v":4.4852359999999996},17.58927642079086,17.58927642079086,{"$f":"CHOOSE(graph,resa!CS15,resa!CS27,resa!CS39)","v":13.432834},{"$f":"CHOOSE(graph,resb!CS15,resb!CS27,resb!CS39)","v":13.432834},{"$f":"CHOOSE(graph,resa!CT15,resa!CT27,resa!CT39)","v":134.174024},{"$f":"CHOOSE(graph,resb!CT15,resb!CT27,resb!CT39)","v":134.174024},{"$f":"CHOOSE(graph,resa!DD15,resa!DD27,resa!DD39)","v":72.359088999999997},{"$f":"CHOOSE(graph,resb!DD15,resb!DD27,resb!DD39)","v":72.359088999999997},{"$f":"CHOOSE(graph,resa!DG15,resa!DG27,resa!DG39)","v":82.375184000000004},{"$f":"CHOOSE(graph,resb!DG15,resb!DG27,resb!DG39)","v":82.375184000000004},{"$f":"CHOOSE(graph,resa!DJ15,resa!DJ27,resa!DJ39)","v":208.436295},{"$f":"CHOOSE(graph,resb!DJ15,resb!DJ27,resb!DJ39)","v":208.436295},{"$f":"CHOOSE(graph,resa!BR15,resa!BR27,resa!BR39)","v":221.571012},{"$f":"CHOOSE(graph,resb!BR15,resb!BR27,resb!BR39)","v":221.571012},{"$f":"CHOOSE(graph,resa!BL15,resa!BL27,resa!BL39)","v":72.470380000000006},{"$f":"CHOOSE(graph,resb!BL15,resb!BL27,resb!BL39)","v":72.470380000000006}]
[null,null,null,null,null,null,null,null,null,null,null,null,null,null,null,null,null,null,null,null,null,null,null,null,null,null,12,{"$f":"CHOOSE(graph,resa!B16,resa!B28,resa!B40)","v":12},{"$f":"CHOOSE(graph,resa!I16,resa!I28,resa!I40)","v":2.8091999999999999E-2},{"$f":"CHOOSE(graph,resb!I16,resb!I28,resb!I40)","v":2.8091999999999999E-2},{"$f":"CHOOSE(graph,resa!D16,resa!D28,resa!D40)","v":48.409435999999999},{"$f":"CHOOSE(graph,resb!D16,resb!D28,resb!D40)","v":48.409435999999999},{"$f":"CHOOSE(graph,resa!BO16,resa!BO28,resa!BO40)","v":475.749504},{"$f":"CHOOSE(graph,resb!BO16,resb!BO28,resb!BO40)","v":475.749504},{"$f":"CHOOSE(graph,resa!BP16,resa!BP28,resa!BP40)","v":427.34006799999997},{"$f":"CHOOSE(graph,resb!BP16,resb!BP28,resb!BP40)","v":427.34006799999997},{"$f":"CHOOSE(graph,resa!BB16,resa!BB28,resa!BB40)","v":1.0754E-2},{"$f":"CHOOSE(graph,resb!BB16,resb!BB28,resb!BB40)","v":1.0754E-2},{"$f":"CHOOSE(graph,resa!BC16,resa!BC28,resa!BC40)","v":1.7337000000000002E-2},{"$f":"CHOOSE(graph,resb!BC16,resb!BC28,resb!BC40)","v":1.7337000000000002E-2},{"$f":"CHOOSE(graph,resa!F16,resa!F28,resa!F40)","v":79.919370999999998},{"$f":"CHOOSE(graph,resb!F16,resb!F28,resb!F40)","v":79.919370999999998},{"$f":"CHOOSE(graph,resa!BN16,resa!BN28,resa!BN40)","v":223.234309},{"$f":"CHOOSE(graph,resb!BN16,resb!BN28,resb!BN40)","v":223.234309},{"$f":"CHOOSE(graph,resa!AN16,resa!AN28,resa!AN40)","v":0.33504499999999998},{"$f":"CHOOSE(graph,resb!AN16,resb!AN28,resb!AN40)","v":0.33504499999999998},{"$f":"CHOOSE(graph,resa!AO16,resa!AO28,resa!AO40)","v":0.249775},{"$f":"CHOOSE(graph,resb!AO16,resb!AO28,resb!AO40)","v":0.249775},{"$f":"CHOOSE(graph,resa!P16,resa!P28,resa!P40)","v":0.41221799999999997},{"$f":"CHOOSE(graph,resb!P16,resb!P28,resb!P40)","v":0.41221799999999997},{"$f":"CHOOSE(graph,resa!R16,resa!R28,resa!R40)","v":0.87732600000000005},{"$f":"CHOOSE(graph,resb!R16,resb!R28,resb!R40)","v":0.87732600000000005},{"$f":"CHOOSE(graph,resa!AK16,resa!AK28,resa!AK40)","v":0.18470300000000001},{"$f":"CHOOSE(graph,resb!AK16,resb!AK28,resb!AK40)","v":0.18470300000000001},{"$f":"CHOOSE(graph,resa!BA16,resa!BA28,resa!BA40)","v":804.16235700000004},{"$f":"CHOOSE(graph,resb!BA16,resb!BA28,resb!BA40)","v":804.16246999999998},{"$f":"CHOOSE(graph,resa!AL16,resa!AL28,resa!AL40)","v":0.202768},{"$f":"CHOOSE(graph,resb!AL16,resb!AL28,resb!AL40)","v":0.202768},{"$f":"CHOOSE(graph,resa!AM16,resa!AM28,resa!AM40)","v":0.16531599999999999},{"$f":"CHOOSE(graph,resb!AM16,resb!AM28,resb!AM40)","v":0.16531599999999999},{"$f":"CHOOSE(graph,resa!W16,resa!W28,resa!W40)","v":737.29244600000004},{"$f":"CHOOSE(graph,resb!W16,resb!W28,resb!W40)","v":737.29244600000004},{"$f":"CHOOSE(graph,resa!S16,resa!S28,resa!S40)","v":1},{"$f":"CHOOSE(graph,resb!S16,resb!S28,resb!S40)","v":1},{"$f":"CHOOSE(graph,resa!CO16,resa!CO28,resa!CO40)","v":193.05620500000001},{"$f":"CHOOSE(graph,resb!CO16,resb!CO28,resb!CO40)","v":193.05626000000001},{"$f":"CHOOSE(graph,resa!CP16,resa!CP28,resa!CP40)","v":513.42670399999997},{"$f":"CHOOSE(graph,resb!CP16,resb!CP28,resb!CP40)","v":513.42681900000002},{"$f":"CHOOSE(graph,resa!AX16,resa!AX28,resa!AX40)","v":91.094297999999995},{"$f":"CHOOSE(graph,resb!AX16,resb!AX28,resb!AX40)","v":91.094297999999995},{"$f":"CHOOSE(graph,resa!CV16,resa!CV28,resa!CV40)","v":124.41558999999999},{"$f":"CHOOSE(graph,resb!CV16,resb!CV28,resb!CV40)","v":124.415587},{"$f":"CHOOSE(graph,resa!CW16,resa!CW28,resa!CW40)","v":1594.053846},{"$f":"CHOOSE(graph,resb!CW16,resb!CW28,resb!CW40)","v":1594.0539590000001},{"$f":"CHOOSE(graph,resa!AX16,resa!AX28,resa!AX40)","v":91.094297999999995},{"$f":"CHOOSE(graph,resb!AX16,resb!AX28,resb!AX40)","v":91.094297999999995},{"$f":"CHOOSE(graph,resa!AU16,resa!AU28,resa!AU40)","v":8.8594000000000006E-2},{"$f":"CHOOSE(graph,resb!AU16,resb!AU28,resb!AU40)","v":8.8594000000000006E-2},{"$f":"CHOOSE(graph,resa!AY16,resa!AY28,resa!AY40)","v":7.3231609999999998},{"$f":"CHOOSE(graph,resb!AY16,resb!AY28,resb!AY40)","v":7.3231609999999998},{"$f":"CHOOSE(graph,resa!AX16,resa!AX28,resa!AX40)","v":91.094297999999995},{"$f":"CHOOSE(graph,resb!AX16,resb!AX28,resb!AX40)","v":91.094297999999995},{"$f":"CHOOSE(graph,resa!CB16,resa!CB28,resa!CB40)","v":48.821072000000001},{"$f":"CHOOSE(graph,resb!CB16,resb!CB28,resb!CB40)","v":48.821072000000001},{"$f":"CHOOSE(graph,resa!BX16,resa!BX28,resa!BX40)","v":4.4852359999999996},{"$f":"CHOOSE(graph,resb!BX16,resb!BX28,resb!BX40)","v":4.4852359999999996},17.58927642079086,17.58927642079086,{"$f":"CHOOSE(graph,resa!CS16,resa!CS28,resa!CS40)","v":13.432834},{"$f":"CHOOSE(graph,resb!CS16,resb!CS28,resb!CS40)","v":13.432834},{"$f":"CHOOSE(graph,resa!CT16,resa!CT28,resa!CT40)","v":134.174024},{"$f":"CHOOSE(graph,resb!CT16,resb!CT28,resb!CT40)","v":134.174024},{"$f":"CHOOSE(graph,resa!DD16,resa!DD28,resa!DD40)","v":72.359088999999997},{"$f":"CHOOSE(graph,resb!DD16,resb!DD28,resb!DD40)","v":72.359088999999997},{"$f":"CHOOSE(graph,resa!DG16,resa!DG28,resa!DG40)","v":82.375184000000004},{"$f":"CHOOSE(graph,resb!DG16,resb!DG28,resb!DG40)","v":82.375184000000004},{"$f":"CHOOSE(graph,resa!DJ16,resa!DJ28,resa!DJ40)","v":208.436295},{"$f":"CHOOSE(graph,resb!DJ16,resb!DJ28,resb!DJ40)","v":208.436295},{"$f":"CHOOSE(graph,resa!BR16,resa!BR28,resa!BR40)","v":221.571012},{"$f":"CHOOSE(graph,resb!BR16,resb!BR28,resb!BR40)","v":221.571012},{"$f":"CHOOSE(graph,resa!BL16,resa!BL28,resa!BL40)","v":72.470380000000006},{"$f":"CHOOSE(graph,resb!BL16,resb!BL28,resb!BL40)","v":72.470380000000006}]

{"sheet":"chart","index":10,"n_rows":31,"n_cols":20,"rows_kept":31,"cut":false,"hidden":false,"merged":[]}
[null,"Plan A: ",{"$f":"CONCATENATE(input!K3,\": \",input!K2)","v":"final.bio: steady state"},null,null,null,null,{"$f":"milk!L1","v":"v.dairyvip 1.4"}]
[null,"Plan B: ",{"$f":"CONCATENATE(input!X3,\": \",input!X2)","v":"final.bio: steady state"}]
[]
[]
[null,null,null,null,null,null,null,null,null,null,null,null,null,null,null,null,null,"plan A","plan B"]
[]
[]
[null,null,null,null,null,null,null,null,null,null,null,null,null,null,null,null,null,{"$f":"res!AG5/100","v":0.69740432999999991},30.4,1]
[null,null,null,null,null,null,null,null,null,null,null,null,null,null,null,null,null,{"$f":"res!AG6/100","v":0.76219787999999999},{"$f":"S8+30.4","v":60.8},2]
[null,null,null,null,null,null,null,null,null,null,null,null,null,null,null,null,null,{"$f":"res!AG7/100","v":0.80183564000000007},{"$f":"S9+30.4","v":91.199999999999989},3]
[null,null,null,null,null,null,null,null,null,null,null,null,null,null,null,null,null,{"$f":"res!AG8/100","v":0.84147119999999997},{"$f":"S10+30.4","v":121.6},4]
[null,null,null,null,null,null,null,null,null,null,null,null,null,null,null,null,null,{"$f":"res!AG9/100","v":0.88110496999999999},{"$f":"S11+30.4","v":152},5]
[null,null,null,null,null,null,null,null,null,null,null,null,null,null,null,null,null,{"$f":"res!AG10/100","v":0.92073740000000004},{"$f":"S12+30.4","v":182.4},6]
[null,null,null,null,null,null,null,null,null,null,null,null,null,null,null,null,null,{"$f":"res!AG11/100","v":0.96036893000000001},{"$f":"S13+30.4","v":212.8},7]
[null,null,null,null,null,null,null,null,null,null,null,null,null,null,null,null,null,{"$f":"res!AG12/100","v":1},243.20000000000002,8]
[null,null,null,null,null,null,null,null,null,null,null,null,null,null,null,null,null,{"$f":"res!AG13/100","v":1.03963107},273.60000000000002,9]
[null,null,null,null,null,null,null,null,null,null,null,null,null,null,null,null,null,{"$f":"res!AG14/100","v":1.0792626000000001},304,10]
[null,null,null,null,null,null,null,null,null,null,null,null,null,null,null,null,null,{"$f":"res!AG15/100","v":1.11889503},334.4,11]
[null,null,null,null,null,null,null,null,null,null,null,null,null,null,null,null,null,{"$f":"res!AG16/100","v":1.1585288},364.79999999999995,12]
[null,null,null,null,null,null,null,null,null,null,null,null,null,null,null,null,null,{"$f":"res!AG17/100","v":1.19816436},395.19999999999993,13]
[null,null,null,null,null,null,null,null,null,null,null,null,null,null,null,null,null,{"$f":"res!AG18/100","v":1.23780212},425.59999999999991,14]
[null,null,null,null,null,null,null,null,null,null,null,null,null,null,null,null,null,{"$f":"res!AG19/100","v":1.3025956700000001},455.99999999999989,15]
[null,null,null,null,null,null,null,null,null,null,null,null,null,null,null,null,null,null,486.39999999999986,16]
[null,null,null,null,null,null,null,null,null,null,null,null,null,null,null,null,null,null,516.79999999999984,17]
[null,null,null,null,null,null,null,null,null,null,null,null,null,null,null,null,null,null,547.19999999999982,18]
[null,null,null,null,null,null,null,null,null,null,null,null,null,null,null,null,null,null,577.5999999999998,19]
[null,null,null,null,null,null,null,null,null,null,null,null,null,null,null,null,null,null,607.99999999999977,20]
[null,null,null,null,null,null,null,null,null,null,null,null,null,null,null,null,null,null,638.39999999999975,21]
[null,null,null,null,null,null,null,null,null,null,null,null,null,null,null,null,null,null,668.79999999999973,22]
[null,null,null,null,null,null,null,null,null,null,null,null,null,null,null,null,null,null,699.1999999999997,23]
[null,null,null,null,null,null,null,null,null,null,null,null,null,null,null,null,null,null,{"$f":"S30+30.4","v":729.59999999999968},24]

{"sheet":"input","index":11,"n_rows":448,"n_cols":47,"rows_kept":448,"cut":false,"hidden":false,"merged":[]}
[null,"COMPARE INPUT",null,null,null,null,null,null,null,null,null,null,null,null,null,null,{"$f":"milk!$L$1","v":"v.dairyvip 1.4"},null,null,null,null,null,null,null,null,null,null,null,null,null,null,null,null,null,null,1,2,3,4,5,6,7,8,9,10,11,12]
[null,null,"Differences",{"$f":"SUM(D3:D448)","v":30},"COMPLETED AT",null,41088.581481597219,"2012-06-28",null,"Plan A","steady state",null,null,null,null,null,null,"COMPLETED AT",null,41088.296139930557,"2012-06-28",null,"Plan B","steady state",null,null,null,null,null,null,null,null,null,null,null,"COMPLETED AT",null,{"$f":"NOW()","v":41088.581489004631},{"$f":"TODAY()","v":"2012-06-28"},null,{"$f":"CONCATENATE(\"Plan \",main!AF4)","v":"Plan A"},{"$f":"IF(main!AF3=1,\"steady state\",IF(main!AF3=2,\"3 years\",\"no replacement\"))","v":"steady state"}]
[null,null,{"$f":"IF(D3=1,\" misc \",\"misc\")","v":"misc"},{"$f":"IF(CONCATENATE(E3,F3,G3,H3,I3,J3,K3,L3,M3,N3,O3,P3)=CONCATENATE(R3,S3,T3,U3,V3,W3,X3,Y3,Z3,AA3,AB3,AC3),\"\",1)","v":""},"MISCELLANEOUS",null,null,null,null,null,"final.bio",null,null,null,null,null,null,"MISCELLANEOUS",null,null,null,null,null,"final.bio",null,null,null,null,null,null,null,null,null,null,null,{"$f":"misc!$B$1","v":"MISCELLANEOUS"},null,null,null,null,null,{"$f":"bio!A2","v":"final.bio"}]
[null,null,"misc","",null,"General",null,null,null,null,"final.rpo",null,null,null,null,null,null,null,"General",null,null,null,null,"final.rpo",null,null,null,null,null,null,null,null,null,null,null,null,{"$f":"misc!H3","v":"General"},null,null,null,null,{"$f":"bio!A3","v":"final.rpo"}]
[null,null,"misc","",2.2046226199999999,"Units",null,null,null,null,"final.del",null,null,null,null,null,null,2.2046226199999999,"Units",null,null,null,null,"final.del",null,null,null,null,null,null,null,null,null,null,null,{"$f":"misc!AD2","v":2.2046226199999999},{"$f":"misc!G4","v":"Units"},null,null,null,null,{"$f":"bio!A4","v":"final.del"}]
[null,null,"misc","",0,"Annual interest rate",null,null,null,null,"final.mkv",null,null,null,null,null,null,0,"Annual interest rate",null,null,null,null,"final.mkv",null,null,null,null,null,null,null,null,null,null,null,{"$f":"misc!H5","v":0},{"$f":"misc!G5","v":"Annual interest rate"},null,null,null,null,{"$f":"bio!A5","v":"final.mkv"}]
[null,null,"misc","","JAN","First calendar month",null,null,null,null,"final.res",null,null,null,null,null,null,"JAN","First calendar month",null,null,null,null,"final.res",null,null,null,null,null,null,null,null,null,null,null,{"$f":"misc!H6","v":"JAN"},{"$f":"misc!G6","v":"First calendar month"},null,null,null,null,{"$f":"bio!A6","v":"final.res"}]
[null,null,"misc","","NO","Save RPO and DEL files?",null,null,null,null,"final.pol",null,null,null,null,null,null,"NO","Save RPO and DEL files?",null,null,null,null,"final.pol",null,null,null,null,null,null,null,null,null,null,null,{"$f":"misc!H7","v":"NO"},{"$f":"misc!G7","v":"Save RPO and DEL files?"},null,null,null,null,{"$f":"bio!A7","v":"final.pol"}]
[null,null,"misc","","NO","Save POL file?",null,null,null,null,"LBS",null,null,null,null,null,null,"NO","Save POL file?",null,null,null,null,"LBS",null,null,null,null,null,null,null,null,null,null,null,{"$f":"misc!H8","v":"NO"},{"$f":"misc!G8","v":"Save POL file?"},null,null,null,null,{"$f":"bio!A10","v":"LBS"}]
[null,null,"misc","",null,"Other",null,null,null,null,null,null,null,null,null,null,null,null,"Other",null,null,null,null,null,null,null,null,null,null,null,null,null,null,null,null,null,{"$f":"misc!H10","v":"Other"}]
[null,null,"misc",{"$f":"IF(CONCATENATE(E11,F11,G11,H11,I11,J11,K11,L11,M11,N11,O11,P11)=CONCATENATE(R11,S11,T11,U11,V11,W11,X11,Y11,Z11,AA11,AB11,AC11),\"\",1)","v":""},200,"Price calf at birth ($/calf)",null,null,null,null,null,null,null,null,null,null,null,200,"Price calf at birth ($/calf)",null,null,null,null,null,null,null,null,null,null,null,null,null,null,null,null,{"$f":"misc!H15","v":200},{"$f":"misc!G15","v":"Price calf at birth ($/calf)"}]
[null,null,"misc","",3.5,"Percent fat in milk",null,null,null,null,null,null,null,null,null,null,null,3.5,"Percent fat in milk",null,null,null,null,null,null,null,null,null,null,null,null,null,null,null,null,{"$f":"misc!H11","v":3.5},{"$f":"misc!G11","v":"Percent fat in milk"}]
[null,null,{"$f":"IF(D13=1,\" misc \",\"misc\")","v":"misc"},"",12,"CV milk yield (std/average x 100)",null,null,null,null,null,null,null,null,null,null,null,12,"CV milk yield (std/average x 100)",null,null,null,null,null,null,null,null,null,null,null,null,null,null,null,null,{"$f":"misc!H12","v":12},{"$f":"misc!G12","v":"CV milk yield (std/average x 100)"}]
[null,null,{"$f":"IF(D14=1,\" misc \",\"misc\")","v":"misc"},"","YES","Effect of previous days open on milk yield?",null,null,null,null,null,null,null,null,null,null,null,"YES","Effect of previous days open on milk yield?",null,null,null,null,null,null,null,null,null,null,null,null,null,null,null,null,{"$f":"misc!H13","v":"YES"},{"$f":"misc!G13","v":"Effect of previous days open on milk yield?"}]
[null,null,"misc","",2,"Fixed other cost ($/slot/day)",null,null,null,null,null,null,null,null,null,null,null,2,"Fixed other cost ($/slot/day)",null,null,null,null,null,null,null,null,null,null,null,null,null,null,null,null,{"$f":"misc!H16","v":2},{"$f":"misc!G16","v":"Fixed other cost ($/slot/day)"}]
[null,null,"misc","",1,"Other variable cost dry cows ($/cow/day)",null,null,null,null,null,null,null,null,null,null,null,1,"Other variable cost dry cows ($/cow/day)",null,null,null,null,null,null,null,null,null,null,null,null,null,null,null,null,{"$f":"misc!H17","v":1},{"$f":"misc!G17","v":"Other variable cost dry cows ($/cow/day)"}]
[null,null,"misc","",1,"Other variable cost lactating cows ($/cow/day)",null,null,null,null,null,null,null,null,null,null,null,1,"Other variable cost lactating cows ($/cow/day)",null,null,null,null,null,null,null,null,null,null,null,null,null,null,null,null,{"$f":"misc!H18","v":1},{"$f":"misc!G18","v":"Other variable cost lactating cows ($/cow/day)"}]
[null,null,"misc","",null,"Feed",null,null,null,null,null,null,null,null,null,null,null,null,"Feed",null,null,null,null,null,null,null,null,null,null,null,null,null,null,null,null,null,{"$f":"misc!H20","v":"Feed"}]
[null,null,"misc","",0.15,"Feed cost lactating cows ($/lbs DM)",null,null,null,null,null,null,null,null,null,null,null,0.15,"Feed cost lactating cows ($/lbs DM)",null,null,null,null,null,null,null,null,null,null,null,null,null,null,null,null,{"$f":"misc!H21","v":0.15},{"$f":"misc!G21","v":"Feed cost lactating cows ($/lbs DM)"}]
[null,null,"misc","",0.1,"Feed cost dry cows ($/lbs DM)",null,null,null,null,null,null,null,null,null,null,null,0.1,"Feed cost dry cows ($/lbs DM)",null,null,null,null,null,null,null,null,null,null,null,null,null,null,null,null,{"$f":"misc!H22","v":0.1},{"$f":"misc!G22","v":"Feed cost dry cows ($/lbs DM)"}]
[null,null,"misc","",25,"DMI dry cows (lbs/cow/day)",null,null,null,null,null,null,null,null,null,null,null,25,"DMI dry cows (lbs/cow/day)",null,null,null,null,null,null,null,null,null,null,null,null,null,null,null,null,{"$f":"misc!H23","v":25},{"$f":"misc!G23","v":"DMI dry cows (lbs/cow/day)"}]
[null,null,"misc","",null,"Culling policy",null,null,null,null,null,null,null,null,null,null,null,null,"Culling policy",null,null,null,null,null,null,null,null,null,null,null,null,null,null,null,null,null,{"$f":"misc!K3","v":"Culling policy"}]
[null,null,"misc","","OPTIMAL","Policy",null,null,null,null,null,null,null,null,null,null,null,"OPTIMAL","Policy",null,null,null,null,null,null,null,null,null,null,null,null,null,null,null,null,{"$f":"misc!K4","v":"OPTIMAL"},{"$f":"misc!L4","v":"Policy"}]
[null,null,{"$f":"IF(D24=1,\" misc \",\"misc\")","v":"misc"},{"$f":"IF(CONCATENATE(E24,F24,G24,H24,I24,J24,K24,L24,M24,N24,O24,P24)=CONCATENATE(R24,S24,T24,U24,V24,W24,X24,Y24,Z24,AA24,AB24,AC24),\"\",1)","v":""},12,"Maximum lactation number",null,null,null,null,null,null,null,null,null,null,null,12,"Maximum lactation number",null,null,null,null,null,null,null,null,null,null,null,null,null,null,null,null,{"$f":"misc!K6","v":12},{"$f":"misc!$L$6","v":"Maximum lactation number"}]
[null,null,"misc","",24,"Maximum months open (at least 17 months)",null,null,null,null,null,null,null,null,null,null,null,24,"Maximum months open (at least 17 months)",null,null,null,null,null,null,null,null,null,null,null,null,null,null,null,null,{"$f":"misc!K7","v":24},{"$f":"misc!L7","v":"Maximum months open (at least 17 months)"}]
[null,null,"misc","",0,"Milk yield below which to cull nonpregnant cow (lbs/day)",null,null,null,null,null,null,null,null,null,null,null,0,"Milk yield below which to cull nonpregnant cow (lbs/day)",null,null,null,null,null,null,null,null,null,null,null,null,null,null,null,null,{"$f":"misc!K8","v":0},{"$f":"misc!L8","v":"Milk yield below which to cull nonpregnant cow (lbs/day)"}]
[null,null,"misc","",-999,"Margin below which to cull nonpregnant cows ($/day)",null,null,null,null,null,null,null,null,null,null,null,-999,"Margin below which to cull nonpregnant cows ($/day)",null,null,null,null,null,null,null,null,null,null,null,null,null,null,null,null,{"$f":"misc!K9","v":-999},{"$f":"misc!L9","v":"Margin below which to cull nonpregnant cows ($/day)"}]
[null,null,"misc","",0,"Additional loss involuntary culling ($/cow)",null,null,null,null,null,null,null,null,null,null,null,0,"Additional loss involuntary culling ($/cow)",null,null,null,null,null,null,null,null,null,null,null,null,null,null,null,null,{"$f":"misc!K10","v":0},{"$f":"misc!L10","v":"Additional loss involuntary culling ($/cow)"}]
[null,null,"misc","",0.8,"Price involuntary culled cows as % of price voluntary culled cows",null,null,null,null,null,null,null,null,null,null,null,0.8,"Price involuntary culled cows as % of price voluntary culled cows",null,null,null,null,null,null,null,null,null,null,null,null,null,null,null,null,{"$f":"misc!K11","v":0.8},{"$f":"misc!L11","v":"Price involuntary culled cows as % of price voluntary culled cows"}]
[null,null,"misc","",null,"Labor",null,null,null,null,null,null,null,null,null,null,null,null,"Labor",null,null,null,null,null,null,null,null,null,null,null,null,null,null,null,null,null,{"$f":"misc!K13","v":"Labor"}]
[null,null,"misc","",0.5,"Fixed labor cost ($/slot/day)",null,null,null,null,null,null,null,null,null,null,null,0.5,"Fixed labor cost ($/slot/day)",null,null,null,null,null,null,null,null,null,null,null,null,null,null,null,null,{"$f":"misc!K14","v":0.5},{"$f":"misc!L14","v":"Fixed labor cost ($/slot/day)"}]
[null,null,"misc","",10,"Variable labor cost ($/hour)",null,null,null,null,null,null,null,null,null,null,null,10,"Variable labor cost ($/hour)",null,null,null,null,null,null,null,null,null,null,null,null,null,null,null,null,{"$f":"misc!K15","v":10},{"$f":"misc!L15","v":"Variable labor cost ($/hour)"}]
[null,null,"misc","",30,"Extra time first month after calving (minutes/month)",null,null,null,null,null,null,null,null,null,null,null,30,"Extra time first month after calving (minutes/month)",null,null,null,null,null,null,null,null,null,null,null,null,null,null,null,null,{"$f":"misc!K16","v":30},{"$f":"misc!L16","v":"Extra time first month after calving (minutes/month)"}]
[null,null,"misc","",213,"Time per lactating cow (minutes/month)",null,null,null,null,null,null,null,null,null,null,null,213,"Time per lactating cow (minutes/month)",null,null,null,null,null,null,null,null,null,null,null,null,null,null,null,null,{"$f":"misc!K17","v":213},{"$f":"misc!L17","v":"Time per lactating cow (minutes/month)"}]
[null,null,"misc","",91,"Time per dry cow (minutes/month)",null,null,null,null,null,null,null,null,null,null,null,91,"Time per dry cow (minutes/month)",null,null,null,null,null,null,null,null,null,null,null,null,null,null,null,null,{"$f":"misc!K18","v":91},{"$f":"misc!L18","v":"Time per dry cow (minutes/month)"}]
[null,null,"misc","",null,"Veterinary cost",null,null,null,null,null,null,null,null,null,null,null,null,"Veterinary cost",null,null,null,null,null,null,null,null,null,null,null,null,null,null,null,null,null,{"$f":"misc!K20","v":"Veterinary cost"}]
[null,null,"misc","",38,"1st month in lactation ($/cow)",null,null,null,null,null,null,null,null,null,null,null,38,"1st month in lactation ($/cow)",null,null,null,null,null,null,null,null,null,null,null,null,null,null,null,null,{"$f":"misc!K21","v":38},{"$f":"misc!L21","v":"1st month in lactation ($/cow)"}]
[null,null,"misc","",23,"2nd month in lactation ($/cow)",null,null,null,null,null,null,null,null,null,null,null,23,"2nd month in lactation ($/cow)",null,null,null,null,null,null,null,null,null,null,null,null,null,null,null,null,{"$f":"misc!K22","v":23},{"$f":"misc!L22","v":"2nd month in lactation ($/cow)"}]
[null,null,"misc","",8,"3rd month in lactation ($/cow)",null,null,null,null,null,null,null,null,null,null,null,8,"3rd month in lactation ($/cow)",null,null,null,null,null,null,null,null,null,null,null,null,null,null,null,null,{"$f":"misc!K23","v":8},{"$f":"misc!L23","v":"3rd month in lactation ($/cow)"}]
[null,null,"misc","",1,"³ 4th month in lactation ($/cow)",null,null,null,null,null,null,null,null,null,null,null,1,"³ 4th month in lactation ($/cow)",null,null,null,null,null,null,null,null,null,null,null,null,null,null,null,null,{"$f":"misc!K24","v":1},{"$f":"misc!L24","v":"³ 4th month in lactation ($/cow)"}]
[null,null,"misc",""]
[null,null,{"$f":"IF(D42=1,\" price \",\"price\")","v":"price"},"","PRICE & DECISIONS",null,null,"Breed","Enter","Heifer","Cull price","Milk price",null,null,null,null,null,"PRICE & DECISIONS",null,null,"Breed","Enter","Heifer","Cull price","Milk price",null,null,null,null,null,null,null,null,null,null,{"$f":"price!$B$1","v":"PRICE & DECISIONS"},null,null,{"$f":"price!F4","v":"Breed"},{"$f":"price!H4","v":"Enter"},{"$f":"price!J4","v":"Heifer"},{"$f":"price!L4","v":"Cull price"},{"$f":"price!N4","v":"Milk price"}]
[null,null,{"$f":"IF(D43=1,\" price \",\"price\")","v":"price"},"",null,null,null,"cows?","heifers?","price ($)","($/lbs)","($/cwt)",null,null,null,null,null,null,null,null,"cows?","heifers?","price ($)","($/lbs)","($/cwt)",null,null,null,null,null,null,null,null,null,null,null,null,null,{"$f":"price!F5","v":"cows?"},{"$f":"price!H5","v":"heifers?"},{"$f":"price!J5","v":"price ($)"},{"$f":"price!L5","v":"($/lbs)"},{"$f":"price!N5","v":"($/cwt)"}]
[null,null,"price","","Year 1",1,"Jan","DECIDE","DECIDE",1600,0.6,18,null,null,null,null,null,"Year 1",1,"Jan","DECIDE","DECIDE",1600,0.6,18,null,null,null,null,null,null,null,null,null,null,{"$f":"price!C6","v":"Year 1"},{"$f":"price!D6","v":1},{"$f":"price!E6","v":"Jan"},{"$f":"price!F6","v":"DECIDE"},{"$f":"price!H6","v":"DECIDE"},{"$f":"price!J6","v":1600},{"$f":"price!L6","v":0.6},{"$f":"price!N6","v":18}]
[null,null,"price","",null,2,"Feb","DECIDE","DECIDE",1600,0.6,18,null,null,null,null,null,null,2,"Feb","DECIDE","DECIDE",1600,0.6,18,null,null,null,null,null,null,null,null,null,null,null,{"$f":"price!D7","v":2},{"$f":"price!E7","v":"Feb"},{"$f":"price!F7","v":"DECIDE"},{"$f":"price!H7","v":"DECIDE"},{"$f":"price!J7","v":1600},{"$f":"price!L7","v":0.6},{"$f":"price!N7","v":18}]
[null,null,"price","",null,3,"Mar","DECIDE","DECIDE",1600,0.6,18,null,null,null,null,null,null,3,"Mar","DECIDE","DECIDE",1600,0.6,18,null,null,null,null,null,null,null,null,null,null,null,{"$f":"price!D8","v":3},{"$f":"price!E8","v":"Mar"},{"$f":"price!F8","v":"DECIDE"},{"$f":"price!H8","v":"DECIDE"},{"$f":"price!J8","v":1600},{"$f":"price!L8","v":0.6},{"$f":"price!N8","v":18}]
[null,null,"price","",null,4,"Apr","DECIDE","DECIDE",1600,0.6,18,null,null,null,null,null,null,4,"Apr","DECIDE","DECIDE",1600,0.6,18,null,null,null,null,null,null,null,null,null,null,null,{"$f":"price!D9","v":4},{"$f":"price!E9","v":"Apr"},{"$f":"price!F9","v":"DECIDE"},{"$f":"price!H9","v":"DECIDE"},{"$f":"price!J9","v":1600},{"$f":"price!L9","v":0.6},{"$f":"price!N9","v":18}]
[null,null,"price","",null,5,"May","DECIDE","DECIDE",1600,0.6,18,null,null,null,null,null,null,5,"May","DECIDE","DECIDE",1600,0.6,18,null,null,null,null,null,null,null,null,null,null,null,{"$f":"price!D10","v":5},{"$f":"price!E10","v":"May"},{"$f":"price!F10","v":"DECIDE"},{"$f":"price!H10","v":"DECIDE"},{"$f":"price!J10","v":1600},{"$f":"price!L10","v":0.6},{"$f":"price!N10","v":18}]
[null,null,"price","",null,6,"Jun","DECIDE","DECIDE",1600,0.6,18,null,null,null,null,null,null,6,"Jun","DECIDE","DECIDE",1600,0.6,18,null,null,null,null,null,null,null,null,null,null,null,{"$f":"price!D11","v":6},{"$f":"price!E11","v":"Jun"},{"$f":"price!F11","v":"DECIDE"},{"$f":"price!H11","v":"DECIDE"},{"$f":"price!J11","v":1600},{"$f":"price!L11","v":0.6},{"$f":"price!N11","v":18}]
[null,null,"price","",null,7,"Jul","DECIDE","DECIDE",1600,0.6,18,null,null,null,null,null,null,7,"Jul","DECIDE","DECIDE",1600,0.6,18,null,null,null,null,null,null,null,null,null,null,null,{"$f":"price!D12","v":7},{"$f":"price!E12","v":"Jul"},{"$f":"price!F12","v":"DECIDE"},{"$f":"price!H12","v":"DECIDE"},{"$f":"price!J12","v":1600},{"$f":"price!L12","v":0.6},{"$f":"price!N12","v":18}]
[null,null,"price","",null,8,"Aug","DECIDE","DECIDE",1600,0.6,18,null,null,null,null,null,null,8,"Aug","DECIDE","DECIDE",1600,0.6,18,null,null,null,null,null,null,null,null,null,null,null,{"$f":"price!D13","v":8},{"$f":"price!E13","v":"Aug"},{"$f":"price!F13","v":"DECIDE"},{"$f":"price!H13","v":"DECIDE"},{"$f":"price!J13","v":1600},{"$f":"price!L13","v":0.6},{"$f":"price!N13","v":18}]
[null,null,"price","",null,9,"Sep","DECIDE","DECIDE",1600,0.6,18,null,null,null,null,null,null,9,"Sep","DECIDE","DECIDE",1600,0.6,18,null,null,null,null,null,null,null,null,null,null,null,{"$f":"price!D14","v":9},{"$f":"price!E14","v":"Sep"},{"$f":"price!F14","v":"DECIDE"},{"$f":"price!H14","v":"DECIDE"},{"$f":"price!J14","v":1600},{"$f":"price!L14","v":0.6},{"$f":"price!N14","v":18}]
[null,null,"price","",null,10,"Oct","DECIDE","DECIDE",1600,0.6,18,null,null,null,null,null,null,10,"Oct","DECIDE","DECIDE",1600,0.6,18,null,null,null,null,null,null,null,null,null,null,null,{"$f":"price!D15","v":10},{"$f":"price!E15","v":"Oct"},{"$f":"price!F15","v":"DECIDE"},{"$f":"price!H15","v":"DECIDE"},{"$f":"price!J15","v":1600},{"$f":"price!L15","v":0.6},{"$f":"price!N15","v":18}]
[null,null,"price","",null,11,"Nov","DECIDE","DECIDE",1600,0.6,18,null,null,null,null,null,null,11,"Nov","DECIDE","DECIDE",1600,0.6,18,null,null,null,null,null,null,null,null,null,null,null,{"$f":"price!D16","v":11},{"$f":"price!E16","v":"Nov"},{"$f":"price!F16","v":"DECIDE"},{"$f":"price!H16","v":"DECIDE"},{"$f":"price!J16","v":1600},{"$f":"price!L16","v":0.6},{"$f":"price!N16","v":18}]
[null,null,"price","",null,12,"Dec","DECIDE","DECIDE",1600,0.6,18,null,null,null,null,null,null,12,"Dec","DECIDE","DECIDE",1600,0.6,18,null,null,null,null,null,null,null,null,null,null,null,{"$f":"price!D17","v":12},{"$f":"price!E17","v":"Dec"},{"$f":"price!F17","v":"DECIDE"},{"$f":"price!H17","v":"DECIDE"},{"$f":"price!J17","v":1600},{"$f":"price!L17","v":0.6},{"$f":"price!N17","v":18}]
[null,null,"price","","Year 2",1,"Jan","DECIDE","DECIDE",1600,0.6,18,null,null,null,null,null,"Year 2",1,"Jan","DECIDE","DECIDE",1600,0.6,18,null,null,null,null,null,null,null,null,null,null,{"$f":"price!C18","v":"Year 2"},{"$f":"price!D18","v":1},{"$f":"price!E18","v":"Jan"},{"$f":"price!F18","v":"DECIDE"},{"$f":"price!H18","v":"DECIDE"},{"$f":"price!J18","v":1600},{"$f":"price!L18","v":0.6},{"$f":"price!N18","v":18}]
[null,null,"price","","and later",2,"Feb","DECIDE","DECIDE",1600,0.6,18,null,null,null,null,null,"and later",2,"Feb","DECIDE","DECIDE",1600,0.6,18,null,null,null,null,null,null,null,null,null,null,{"$f":"price!C19","v":"and later"},{"$f":"price!D19","v":2},{"$f":"price!E19","v":"Feb"},{"$f":"price!F19","v":"DECIDE"},{"$f":"price!H19","v":"DECIDE"},{"$f":"price!J19","v":1600},{"$f":"price!L19","v":0.6},{"$f":"price!N19","v":18}]
[null,null,"price","",null,3,"Mar","DECIDE","DECIDE",1600,0.6,18,null,null,null,null,null,null,3,"Mar","DECIDE","DECIDE",1600,0.6,18,null,null,null,null,null,null,null,null,null,null,null,{"$f":"price!D20","v":3},{"$f":"price!E20","v":"Mar"},{"$f":"price!F20","v":"DECIDE"},{"$f":"price!H20","v":"DECIDE"},{"$f":"price!J20","v":1600},{"$f":"price!L20","v":0.6},{"$f":"price!N20","v":18}]
[null,null,"price","",null,4,"Apr","DECIDE","DECIDE",1600,0.6,18,null,null,null,null,null,null,4,"Apr","DECIDE","DECIDE",1600,0.6,18,null,null,null,null,null,null,null,null,null,null,null,{"$f":"price!D21","v":4},{"$f":"price!E21","v":"Apr"},{"$f":"price!F21","v":"DECIDE"},{"$f":"price!H21","v":"DECIDE"},{"$f":"price!J21","v":1600},{"$f":"price!L21","v":0.6},{"$f":"price!N21","v":18}]
[null,null,"price","",null,5,"May","DECIDE","DECIDE",1600,0.6,18,null,null,null,null,null,null,5,"May","DECIDE","DECIDE",1600,0.6,18,null,null,null,null,null,null,null,null,null,null,null,{"$f":"price!D22","v":5},{"$f":"price!E22","v":"May"},{"$f":"price!F22","v":"DECIDE"},{"$f":"price!H22","v":"DECIDE"},{"$f":"price!J22","v":1600},{"$f":"price!L22","v":0.6},{"$f":"price!N22","v":18}]
[null,null,"price","",null,6,"Jun","DECIDE","DECIDE",1600,0.6,18,null,null,null,null,null,null,6,"Jun","DECIDE","DECIDE",1600,0.6,18,null,null,null,null,null,null,null,null,null,null,null,{"$f":"price!D23","v":6},{"$f":"price!E23","v":"Jun"},{"$f":"price!F23","v":"DECIDE"},{"$f":"price!H23","v":"DECIDE"},{"$f":"price!J23","v":1600},{"$f":"price!L23","v":0.6},{"$f":"price!N23","v":18}]
[null,null,"price","",null,7,"Jul","DECIDE","DECIDE",1600,0.6,18,null,null,null,null,null,null,7,"Jul","DECIDE","DECIDE",1600,0.6,18,null,null,null,null,null,null,null,null,null,null,null,{"$f":"price!D24","v":7},{"$f":"price!E24","v":"Jul"},{"$f":"price!F24","v":"DECIDE"},{"$f":"price!H24","v":"DECIDE"},{"$f":"price!J24","v":1600},{"$f":"price!L24","v":0.6},{"$f":"price!N24","v":18}]
[null,null,"price","",null,8,"Aug","DECIDE","DECIDE",1600,0.6,18,null,null,null,null,null,null,8,"Aug","DECIDE","DECIDE",1600,0.6,18,null,null,null,null,null,null,null,null,null,null,null,{"$f":"price!D25","v":8},{"$f":"price!E25","v":"Aug"},{"$f":"price!F25","v":"DECIDE"},{"$f":"price!H25","v":"DECIDE"},{"$f":"price!J25","v":1600},{"$f":"price!L25","v":0.6},{"$f":"price!N25","v":18}]
[null,null,"price","",null,9,"Sep","DECIDE","DECIDE",1600,0.6,18,null,null,null,null,null,null,9,"Sep","DECIDE","DECIDE",1600,0.6,18,null,null,null,null,null,null,null,null,null,null,null,{"$f":"price!D26","v":9},{"$f":"price!E26","v":"Sep"},{"$f":"price!F26","v":"DECIDE"},{"$f":"price!H26","v":"DECIDE"},{"$f":"price!J26","v":1600},{"$f":"price!L26","v":0.6},{"$f":"price!N26","v":18}]
[null,null,"price","",null,10,"Oct","DECIDE","DECIDE",1600,0.6,18,null,null,null,null,null,null,10,"Oct","DECIDE","DECIDE",1600,0.6,18,null,null,null,null,null,null,null,null,null,null,null,{"$f":"price!D27","v":10},{"$f":"price!E27","v":"Oct"},{"$f":"price!F27","v":"DECIDE"},{"$f":"price!H27","v":"DECIDE"},{"$f":"price!J27","v":1600},{"$f":"price!L27","v":0.6},{"$f":"price!N27","v":18}]
[null,null,"price","",null,11,"Nov","DECIDE","DECIDE",1600,0.6,18,null,null,null,null,null,null,11,"Nov","DECIDE","DECIDE",1600,0.6,18,null,null,null,null,null,null,null,null,null,null,null,{"$f":"price!D28","v":11},{"$f":"price!E28","v":"Nov"},{"$f":"price!F28","v":"DECIDE"},{"$f":"price!H28","v":"DECIDE"},{"$f":"price!J28","v":1600},{"$f":"price!L28","v":0.6},{"$f":"price!N28","v":18}]
[null,null,"price","",null,12,"Dec","DECIDE","DECIDE",1600,0.6,18,null,null,null,null,null,null,12,"Dec","DECIDE","DECIDE",1600,0.6,18,null,null,null,null,null,null,null,null,null,null,null,{"$f":"price!D29","v":12},{"$f":"price!E29","v":"Dec"},{"$f":"price!F29","v":"DECIDE"},{"$f":"price!H29","v":"DECIDE"},{"$f":"price!J29","v":1600},{"$f":"price!L29","v":0.6},{"$f":"price!N29","v":18}]
[null,null,null,""]
[null,null,{"$f":"IF(D69=1,\" milk \",\"milk\")","v":"milk"},"","MILK YIELD",null,null,null,null,null,null,null,null,null,null,null,null,"MILK YIELD",null,null,null,null,null,null,null,null,null,null,null,null,null,null,null,null,null,{"$f":"milk!$B$1","v":"MILK YIELD"}]
[null,null,{"$f":"IF(D70=1,\" milk \",\"milk\")","v":"milk"},"","Milk yield pregnant cow relative to non-pregnant cow",null,null,null,null,null,null,null,null,null,null,null,null,"Milk yield pregnant cow relative to non-pregnant cow",null,null,null,null,null,null,null,null,null,null,null,null,null,null,null,null,null,{"$f":"milk!$G$3","v":"Milk yield pregnant cow relative to non-pregnant cow"}]
[null,null,"milk",{"$f":"IF(CONCATENATE(E71,F71,G71,H71,I71,J71,K71,L71,M71,N71,O71,P71)=CONCATENATE(R71,S71,T71,U71,V71,W71,X71,Y71,Z71,AA71,AB71,AC71),\"\",1)","v":""},1,1,1,1,0.95,0.9,0.85,0,0,null,null,null,null,1,1,1,1,0.95,0.9,0.85,0,0,null,null,null,null,null,null,null,null,null,{"$f":"milk!G4","v":1},{"$f":"milk!H4","v":1},{"$f":"milk!I4","v":1},{"$f":"milk!J4","v":1},{"$f":"milk!K4","v":0.95},{"$f":"milk!L4","v":0.9},{"$f":"milk!M4","v":0.85},{"$f":"milk!N4","v":0},{"$f":"milk!O4","v":0}]
[null,null,"milk","",1,2,3,4,5,6,7,8,9,"month of pregnancy",null,null,null,1,2,3,4,5,6,7,8,9,"month of pregnancy",null,null,null,null,null,null,null,null,{"$f":"milk!G5","v":1},{"$f":"milk!H5","v":2},{"$f":"milk!I5","v":3},{"$f":"milk!J5","v":4},{"$f":"milk!K5","v":5},{"$f":"milk!L5","v":6},{"$f":"milk!M5","v":7},{"$f":"milk!N5","v":8},{"$f":"milk!O5","v":9},{"$f":"milk!P5","v":"month of pregnancy"}]
[null,null,"milk","",1,"mfunction",null,null,null,null,null,null,null,null,null,null,null,1,"mfunction",null,null,null,null,null,null,null,null,null,null,null,null,null,null,null,null,{"$f":"mfunction","v":1},{"$f":"milk!BD2","v":"mfunction"}]
[null,null,{"$f":"IF(D74=1,\" milk \",\"milk\")","v":"milk"},"","+/- (abs)",0,null,null,null,null,null,null,null,null,null,null,null,"+/- (abs)",0,null,null,null,null,null,null,null,null,null,null,null,null,null,null,null,null,{"$f":"milk!C15","v":"+/- (abs)"},{"$f":"milk!D15","v":0}]
[null,null,"milk","","+/- (%)",0.1,null,null,null,null,null,null,null,null,null,null,null,"+/- (%)",0.1,null,null,null,null,null,null,null,null,null,null,null,null,null,null,null,null,{"$f":"milk!C16","v":"+/- (%)"},{"$f":"milk!D16","v":0.1}]
[null,null,"milk","","Seasonality",0,null,null,null,null,null,null,null,null,null,null,null,"Seasonality",0,null,null,null,null,null,null,null,null,null,null,null,null,null,null,null,null,{"$f":"milk!C17","v":"Seasonality"},{"$f":"milk!D17","v":0}]
[null,null,"milk","","Jan",1,null,null,null,null,null,null,null,null,null,null,null,"Jan",1,null,null,null,null,null,null,null,null,null,null,null,null,null,null,null,null,{"$f":"milk!C18","v":"Jan"},{"$f":"milk!D18","v":1}]
[null,null,"milk","","Feb",1,null,null,null,null,null,null,null,null,null,null,null,"Feb",1,null,null,null,null,null,null,null,null,null,null,null,null,null,null,null,null,{"$f":"milk!C19","v":"Feb"},{"$f":"milk!D19","v":1}]
[null,null,"milk","","Mar",1,null,null,null,null,null,null,null,null,null,null,null,"Mar",1,null,null,null,null,null,null,null,null,null,null,null,null,null,null,null,null,{"$f":"milk!C20","v":"Mar"},{"$f":"milk!D20","v":1}]
[null,null,"milk","","Apr",1,null,null,null,null,null,null,null,null,null,null,null,"Apr",1,null,null,null,null,null,null,null,null,null,null,null,null,null,null,null,null,{"$f":"milk!C21","v":"Apr"},{"$f":"milk!D21","v":1}]
[null,null,"milk","","May",1,null,null,null,null,null,null,null,null,null,null,null,"May",1,null,null,null,null,null,null,null,null,null,null,null,null,null,null,null,null,{"$f":"milk!C22","v":"May"},{"$f":"milk!D22","v":1}]
[null,null,"milk","","Jun",1,null,null,null,null,null,null,null,null,null,null,null,"Jun",1,null,null,null,null,null,null,null,null,null,null,null,null,null,null,null,null,{"$f":"milk!C23","v":"Jun"},{"$f":"milk!D23","v":1}]
[null,null,{"$f":"IF(D83=1,\" milk \",\"milk\")","v":"milk"},{"$f":"IF(CONCATENATE(E83,F83,G83,H83,I83,J83,K83,L83,M83,N83,O83,P83)=CONCATENATE(R83,S83,T83,U83,V83,W83,X83,Y83,Z83,AA83,AB83,AC83),\"\",1)","v":""},"Jul",1,null,null,null,null,null,null,null,null,null,null,null,"Jul",1,null,null,null,null,null,null,null,null,null,null,null,null,null,null,null,null,{"$f":"milk!C24","v":"Jul"},{"$f":"milk!D24","v":1}]
[null,null,"milk","","Aug",1,null,null,null,null,null,null,null,null,null,null,null,"Aug",1,null,null,null,null,null,null,null,null,null,null,null,null,null,null,null,null,{"$f":"milk!C25","v":"Aug"},{"$f":"milk!D25","v":1}]
[null,null,"milk","","Sep",1,null,null,null,null,null,null,null,null,null,null,null,"Sep",1,null,null,null,null,null,null,null,null,null,null,null,null,null,null,null,null,{"$f":"milk!C26","v":"Sep"},{"$f":"milk!D26","v":1}]
[null,null,"milk","","Oct",1,null,null,null,null,null,null,null,null,null,null,null,"Oct",1,null,null,null,null,null,null,null,null,null,null,null,null,null,null,null,null,{"$f":"milk!C27","v":"Oct"},{"$f":"milk!D27","v":1}]
[null,null,"milk","","Nov",1,null,null,null,null,null,null,null,null,null,null,null,"Nov",1,null,null,null,null,null,null,null,null,null,null,null,null,null,null,null,null,{"$f":"milk!C28","v":"Nov"},{"$f":"milk!D28","v":1}]
[null,null,"milk","","Dec",1,null,null,null,null,null,null,null,null,null,null,null,"Dec",1,null,null,null,null,null,null,null,null,null,null,null,null,null,null,null,null,{"$f":"milk!C29","v":"Dec"},{"$f":"milk!D29","v":1}]
[null,null,"milk","",null," Wood's curves",null,null,null,null,null,null,null,null,null,null,null,null," Wood's curves",null,null,null,null,null,null,null,null,null,null,null,null,null,null,null,null,null,{"$f":"milk!D31","v":" Wood's curves"}]
[null,null,"milk","","lact 1, a",10,null,null,null,null,null,null,null,null,null,null,null,"lact 1, a",10,null,null,null,null,null,null,null,null,null,null,null,null,null,null,null,null,{"$f":"milk!C32","v":"lact 1, a"},{"$f":"milk!D32","v":10}]
[null,null,"milk","","lact 1, b",0.34,null,null,null,null,null,null,null,null,null,null,null,"lact 1, b",0.34,null,null,null,null,null,null,null,null,null,null,null,null,null,null,null,null,{"$f":"milk!C33","v":"lact 1, b"},{"$f":"milk!D33","v":0.34}]
[null,null,"milk","","lact 1, c",2.8E-3,null,null,null,null,null,null,null,null,null,null,null,"lact 1, c",2.8E-3,null,null,null,null,null,null,null,null,null,null,null,null,null,null,null,null,{"$f":"milk!C34","v":"lact 1, c"},{"$f":"milk!D34","v":2.8E-3}]
[null,null,"milk","","lact 2, a",19.3,null,null,null,null,null,null,null,null,null,null,null,"lact 2, a",19.3,null,null,null,null,null,null,null,null,null,null,null,null,null,null,null,null,{"$f":"milk!C35","v":"lact 2, a"},{"$f":"milk!D35","v":19.3}]
[null,null,"milk","","lact 2, b",0.255,null,null,null,null,null,null,null,null,null,null,null,"lact 2, b",0.255,null,null,null,null,null,null,null,null,null,null,null,null,null,null,null,null,{"$f":"milk!C36","v":"lact 2, b"},{"$f":"milk!D36","v":0.255}]
[null,null,"milk","","lact 2, c",3.3999999999999998E-3,null,null,null,null,null,null,null,null,null,null,null,"lact 2, c",3.3999999999999998E-3,null,null,null,null,null,null,null,null,null,null,null,null,null,null,null,null,{"$f":"milk!C37","v":"lact 2, c"},{"$f":"milk!D37","v":3.3999999999999998E-3}]
[null,null,"milk","","lact 3+, a",21,null,null,null,null,null,null,null,null,null,null,null,"lact 3+, a",21,null,null,null,null,null,null,null,null,null,null,null,null,null,null,null,null,{"$f":"milk!C38","v":"lact 3+, a"},{"$f":"milk!D38","v":21}]
[null,null,"milk","","lact 3+, b",0.25,null,null,null,null,null,null,null,null,null,null,null,"lact 3+, b",0.25,null,null,null,null,null,null,null,null,null,null,null,null,null,null,null,null,{"$f":"milk!C39","v":"lact 3+, b"},{"$f":"milk!D39","v":0.25}]
[null,null,"milk","","lact 3+, c",3.5000000000000001E-3,null,null,null,null,null,null,null,null,null,null,null,"lact 3+, c",3.5000000000000001E-3,null,null,null,null,null,null,null,null,null,null,null,null,null,null,null,null,{"$f":"milk!C40","v":"lact 3+, c"},{"$f":"milk!D40","v":3.5000000000000001E-3}]
[null,null,"milk","",null,"Fit curves",null,null,null,null,null,null,null,null,null,null,null,null,"Fit curves",null,null,null,null,null,null,null,null,null,null,null,null,null,null,null,null,null,{"$f":"milk!D42","v":"Fit curves"}]
[null,null,"milk","","lact 1, peak",36,null,null,null,null,null,null,null,null,null,null,null,"lact 1, peak",36,null,null,null,null,null,null,null,null,null,null,null,null,null,null,null,null,{"$f":"milk!C43","v":"lact 1, peak"},{"$f":"milk!D43","v":36}]
[null,null,"milk","","lact 1, dim",137,null,null,null,null,null,null,null,null,null,null,null,"lact 1, dim",137,null,null,null,null,null,null,null,null,null,null,null,null,null,null,null,null,{"$f":"milk!C44","v":"lact 1, dim"},{"$f":"milk!D44","v":137}]
[null,null,"milk","","lact 1, 305m",10000,null,null,null,null,null,null,null,null,null,null,null,"lact 1, 305m",10000,null,null,null,null,null,null,null,null,null,null,null,null,null,null,null,null,{"$f":"milk!C45","v":"lact 1, 305m"},{"$f":"milk!D45","v":10000}]
[null,null,"milk","","lact 2, peak",45,null,null,null,null,null,null,null,null,null,null,null,"lact 2, peak",45,null,null,null,null,null,null,null,null,null,null,null,null,null,null,null,null,{"$f":"milk!C46","v":"lact 2, peak"},{"$f":"milk!D46","v":45}]
[null,null,"milk","","lact 2, dim",76,null,null,null,null,null,null,null,null,null,null,null,"lact 2, dim",76,null,null,null,null,null,null,null,null,null,null,null,null,null,null,null,null,{"$f":"milk!C47","v":"lact 2, dim"},{"$f":"milk!D47","v":76}]
[null,null,"milk","","lact 2, 305m",12000,null,null,null,null,null,null,null,null,null,null,null,"lact 2, 305m",12000,null,null,null,null,null,null,null,null,null,null,null,null,null,null,null,null,{"$f":"milk!C48","v":"lact 2, 305m"},{"$f":"milk!D48","v":12000}]
[null,null,"milk","","lact 3+, peak",45,null,null,null,null,null,null,null,null,null,null,null,"lact 3+, peak",45,null,null,null,null,null,null,null,null,null,null,null,null,null,null,null,null,{"$f":"milk!C49","v":"lact 3+, peak"},{"$f":"milk!D49","v":45}]
[null,null,"milk","","lact 3+, dim",76,null,null,null,null,null,null,null,null,null,null,null,"lact 3+, dim",76,null,null,null,null,null,null,null,null,null,null,null,null,null,null,null,null,{"$f":"milk!C50","v":"lact 3+, dim"},{"$f":"milk!D50","v":76}]
[null,null,"milk","","lact 3+, 305m",12000,null,null,null,null,null,null,null,null,null,null,null,"lact 3+, 305m",12000,null,null,null,null,null,null,null,null,null,null,null,null,null,null,null,null,{"$f":"milk!C51","v":"lact 3+, 305m"},{"$f":"milk!D51","v":12000}]
[null,null,"milk","",null,"Florida curves",null,null,null,null,null,null,null,null,null,null,null,null,"Florida curves",null,null,null,null,null,null,null,null,null,null,null,null,null,null,null,null,null,{"$f":"milk!D53","v":"Florida curves"}]
[null,null,"milk","",null,"Diphasic curves",null,null,null,null,null,null,null,null,null,null,null,null,"Diphasic curves",null,null,null,null,null,null,null,null,null,null,null,null,null,null,null,null,null,{"$f":"milk!D55","v":"Diphasic curves"}]
[null,null,"milk","","lact 1, phase 1, a",11111.9143868501,null,null,null,null,null,null,null,null,null,null,null,"lact 1, phase 1, a",11111.9143868501,null,null,null,null,null,null,null,null,null,null,null,null,null,null,null,null,{"$f":"milk!C56","v":"lact 1, phase 1, a"},{"$f":"milk!D56","v":11111.9143868501}]
[null,null,"milk","","lact 1, phase 1, b",2.2119208448299001E-3,null,null,null,null,null,null,null,null,null,null,null,"lact 1, phase 1, b",2.2119208448299001E-3,null,null,null,null,null,null,null,null,null,null,null,null,null,null,null,null,{"$f":"milk!C57","v":"lact 1, phase 1, b"},{"$f":"milk!D57","v":2.2119208448299001E-3}]
[null,null,"milk","","lact 1, phase 1, c",84.8372778027001,null,null,null,null,null,null,null,null,null,null,null,"lact 1, phase 1, c",84.8372778027001,null,null,null,null,null,null,null,null,null,null,null,null,null,null,null,null,{"$f":"milk!C58","v":"lact 1, phase 1, c"},{"$f":"milk!D58","v":84.8372778027001}]
[null,null,"milk","","lact 1, phase 2, a",4532.3905743120704,null,null,null,null,null,null,null,null,null,null,null,"lact 1, phase 2, a",4532.3905743120704,null,null,null,null,null,null,null,null,null,null,null,null,null,null,null,null,{"$f":"milk!C59","v":"lact 1, phase 2, a"},{"$f":"milk!D59","v":4532.3905743120704}]
[null,null,"milk","","lact 1, phase 2, b",2.6179328048536602E-3,null,null,null,null,null,null,null,null,null,null,null,"lact 1, phase 2, b",2.6179328048536602E-3,null,null,null,null,null,null,null,null,null,null,null,null,null,null,null,null,{"$f":"milk!C60","v":"lact 1, phase 2, b"},{"$f":"milk!D60","v":2.6179328048536602E-3}]
[null,null,"milk","","lact 1, phase 2, c",124.146313312345,null,null,null,null,null,null,null,null,null,null,null,"lact 1, phase 2, c",124.146313312345,null,null,null,null,null,null,null,null,null,null,null,null,null,null,null,null,{"$f":"milk!C61","v":"lact 1, phase 2, c"},{"$f":"milk!D61","v":124.146313312345}]
[null,null,"milk","","lact 2, phase 1, a",7573.8781797789497,null,null,null,null,null,null,null,null,null,null,null,"lact 2, phase 1, a",7573.8781797789497,null,null,null,null,null,null,null,null,null,null,null,null,null,null,null,null,{"$f":"milk!C62","v":"lact 2, phase 1, a"},{"$f":"milk!D62","v":7573.8781797789497}]
[null,null,"milk","","lact 2, phase 1, b",3.7891438428152399E-3,null,null,null,null,null,null,null,null,null,null,null,"lact 2, phase 1, b",3.7891438428152399E-3,null,null,null,null,null,null,null,null,null,null,null,null,null,null,null,null,{"$f":"milk!C63","v":"lact 2, phase 1, b"},{"$f":"milk!D63","v":3.7891438428152399E-3}]
[null,null,"milk","","lact 2, phase 1, c",55.7223134200621,null,null,null,null,null,null,null,null,null,null,null,"lact 2, phase 1, c",55.7223134200621,null,null,null,null,null,null,null,null,null,null,null,null,null,null,null,null,{"$f":"milk!C64","v":"lact 2, phase 1, c"},{"$f":"milk!D64","v":55.7223134200621}]
[null,null,"milk","","lact 2, phase 2, a",4609.7805615738698,null,null,null,null,null,null,null,null,null,null,null,"lact 2, phase 2, a",4609.7805615738698,null,null,null,null,null,null,null,null,null,null,null,null,null,null,null,null,{"$f":"milk!C65","v":"lact 2, phase 2, a"},{"$f":"milk!D65","v":4609.7805615738698}]
[null,null,"milk","","lact 2, phase 2, b",3.1718183841241798E-3,null,null,null,null,null,null,null,null,null,null,null,"lact 2, phase 2, b",3.1718183841241798E-3,null,null,null,null,null,null,null,null,null,null,null,null,null,null,null,null,{"$f":"milk!C66","v":"lact 2, phase 2, b"},{"$f":"milk!D66","v":3.1718183841241798E-3}]
[null,null,"milk","","lact 2, phase 2, c",92.585956781865804,null,null,null,null,null,null,null,null,null,null,null,"lact 2, phase 2, c",92.585956781865804,null,null,null,null,null,null,null,null,null,null,null,null,null,null,null,null,{"$f":"milk!C67","v":"lact 2, phase 2, c"},{"$f":"milk!D67","v":92.585956781865804}]
[null,null,"milk","","lact 3+, phase 1, a",7928.5272875363298,null,null,null,null,null,null,null,null,null,null,null,"lact 3+, phase 1, a",7928.5272875363298,null,null,null,null,null,null,null,null,null,null,null,null,null,null,null,null,{"$f":"milk!C68","v":"lact 3+, phase 1, a"},{"$f":"milk!D68","v":7928.5272875363298}]
[null,null,"milk","","lact 3+, phase 1, b",3.9198545299194898E-3,null,null,null,null,null,null,null,null,null,null,null,"lact 3+, phase 1, b",3.9198545299194898E-3,null,null,null,null,null,null,null,null,null,null,null,null,null,null,null,null,{"$f":"milk!C69","v":"lact 3+, phase 1, b"},{"$f":"milk!D69","v":3.9198545299194898E-3}]
[null,null,"milk","","lact 3+, phase 1, c",55.119172393741401,null,null,null,null,null,null,null,null,null,null,null,"lact 3+, phase 1, c",55.119172393741401,null,null,null,null,null,null,null,null,null,null,null,null,null,null,null,null,{"$f":"milk!C70","v":"lact 3+, phase 1, c"},{"$f":"milk!D70","v":55.119172393741401}]
[null,null,"milk","","lact 3+, phase 2, a",4707.01209506332,null,null,null,null,null,null,null,null,null,null,null,"lact 3+, phase 2, a",4707.01209506332,null,null,null,null,null,null,null,null,null,null,null,null,null,null,null,null,{"$f":"milk!C71","v":"lact 3+, phase 2, a"},{"$f":"milk!D71","v":4707.01209506332}]
[null,null,"milk","","lact 3+, phase 2, b",3.2127911962137102E-3,null,null,null,null,null,null,null,null,null,null,null,"lact 3+, phase 2, b",3.2127911962137102E-3,null,null,null,null,null,null,null,null,null,null,null,null,null,null,null,null,{"$f":"milk!C72","v":"lact 3+, phase 2, b"},{"$f":"milk!D72","v":3.2127911962137102E-3}]
[null,null,"milk","","lact 3+, phase 2, c",91.6869714211808,null,null,null,null,null,null,null,null,null,null,null,"lact 3+, phase 2, c",91.6869714211808,null,null,null,null,null,null,null,null,null,null,null,null,null,null,null,null,{"$f":"milk!C73","v":"lact 3+, phase 2, c"},{"$f":"milk!D73","v":91.6869714211808}]
[null,null,"milk",{"$f":"IF(CONCATENATE(E129,F129,G129,H129,I129,J129,K129,L129,M129,N129,O129,P129)=CONCATENATE(R129,S129,T129,U129,V129,W129,X129,Y129,Z129,AA129,AB129,AC129),\"\",1)","v":""},"Lactation 1",null,null,null,null,null,null,null,null,null,null,null,null,"Lactation 1",null,null,null,null,null,null,null,null,null,null,null,null,null,null,null,null,null,{"$f":"milk!$G$7","v":"Lactation 1"}]
[null,null,"milk","","Jan","Feb","Mar","Apr","May","Jun","Jul","Aug","Sep","Oct","Nov","Dec",null,"Jan","Feb","Mar","Apr","May","Jun","Jul","Aug","Sep","Oct","Nov","Dec",null,null,null,null,null,null,{"$f":"AJ156","v":"Jan"},"Feb","Mar","Apr","May","Jun","Jul","Aug","Sep","Oct","Nov","Dec"]
[null,null,"milk","",58.623290423830099,58.623290423830099,58.623290423830099,58.623290423830099,58.623290423830099,58.623290423830099,58.623290423830099,58.623290423830099,58.623290423830099,58.623290423830099,58.623290423830099,58.623290423830099,null,58.623290423830127,58.623290423830127,58.623290423830127,58.623290423830127,58.623290423830127,58.623290423830127,58.623290423830127,58.623290423830127,58.623290423830127,58.623290423830127,58.623290423830127,58.623290423830127,null,null,null,null,null,null,{"$f":"milk!G9","v":58.623290423830099},{"$f":"milk!H9","v":58.623290423830099},{"$f":"milk!I9","v":58.623290423830099},{"$f":"milk!J9","v":58.623290423830099},{"$f":"milk!K9","v":58.623290423830099},{"$f":"milk!L9","v":58.623290423830099},{"$f":"milk!M9","v":58.623290423830099},{"$f":"milk!N9","v":58.623290423830099},{"$f":"milk!O9","v":58.623290423830099},{"$f":"milk!P9","v":58.623290423830099},{"$f":"milk!Q9","v":58.623290423830099},{"$f":"milk!R9","v":58.623290423830099}]
[null,null,"milk","",78.221163448790904,78.221163448790904,78.221163448790904,78.221163448790904,78.221163448790904,78.221163448790904,78.221163448790904,78.221163448790904,78.221163448790904,78.221163448790904,78.221163448790904,78.221163448790904,null,78.221163448790861,78.221163448790861,78.221163448790861,78.221163448790861,78.221163448790861,78.221163448790861,78.221163448790861,78.221163448790861,78.221163448790861,78.221163448790861,78.221163448790861,78.221163448790861,null,null,null,null,null,null,{"$f":"milk!G10","v":78.221163448790904},{"$f":"milk!H10","v":78.221163448790904},{"$f":"milk!I10","v":78.221163448790904},{"$f":"milk!J10","v":78.221163448790904},{"$f":"milk!K10","v":78.221163448790904},{"$f":"milk!L10","v":78.221163448790904},{"$f":"milk!M10","v":78.221163448790904},{"$f":"milk!N10","v":78.221163448790904},{"$f":"milk!O10","v":78.221163448790904},{"$f":"milk!P10","v":78.221163448790904},{"$f":"milk!Q10","v":78.221163448790904},{"$f":"milk!R10","v":78.221163448790904}]
[null,null,"milk","",85.464488916266404,85.464488916266404,85.464488916266404,85.464488916266404,85.464488916266404,85.464488916266404,85.464488916266404,85.464488916266404,85.464488916266404,85.464488916266404,85.464488916266404,85.464488916266404,null,85.464488916266419,85.464488916266419,85.464488916266419,85.464488916266419,85.464488916266419,85.464488916266419,85.464488916266419,85.464488916266419,85.464488916266419,85.464488916266419,85.464488916266419,85.464488916266419,null,null,null,null,null,null,{"$f":"milk!G11","v":85.464488916266404},{"$f":"milk!H11","v":85.464488916266404},{"$f":"milk!I11","v":85.464488916266404},{"$f":"milk!J11","v":85.464488916266404},{"$f":"milk!K11","v":85.464488916266404},{"$f":"milk!L11","v":85.464488916266404},{"$f":"milk!M11","v":85.464488916266404},{"$f":"milk!N11","v":85.464488916266404},{"$f":"milk!O11","v":85.464488916266404},{"$f":"milk!P11","v":85.464488916266404},{"$f":"milk!Q11","v":85.464488916266404},{"$f":"milk!R11","v":85.464488916266404}]
[null,null,"milk","",88.003933804774405,88.003933804774405,88.003933804774405,88.003933804774405,88.003933804774405,88.003933804774405,88.003933804774405,88.003933804774405,88.003933804774405,88.003933804774405,88.003933804774405,88.003933804774405,null,88.003933804774363,88.003933804774363,88.003933804774363,88.003933804774363,88.003933804774363,88.003933804774363,88.003933804774363,88.003933804774363,88.003933804774363,88.003933804774363,88.003933804774363,88.003933804774363,null,null,null,null,null,null,{"$f":"milk!G12","v":88.003933804774405},{"$f":"milk!H12","v":88.003933804774405},{"$f":"milk!I12","v":88.003933804774405},{"$f":"milk!J12","v":88.003933804774405},{"$f":"milk!K12","v":88.003933804774405},{"$f":"milk!L12","v":88.003933804774405},{"$f":"milk!M12","v":88.003933804774405},{"$f":"milk!N12","v":88.003933804774405},{"$f":"milk!O12","v":88.003933804774405},{"$f":"milk!P12","v":88.003933804774405},{"$f":"milk!Q12","v":88.003933804774405},{"$f":"milk!R12","v":88.003933804774405}]
[null,null,"milk","",88.032707487804998,88.032707487804998,88.032707487804998,88.032707487804998,88.032707487804998,88.032707487804998,88.032707487804998,88.032707487804998,88.032707487804998,88.032707487804998,88.032707487804998,88.032707487804998,null,88.032707487804956,88.032707487804956,88.032707487804956,88.032707487804956,88.032707487804956,88.032707487804956,88.032707487804956,88.032707487804956,88.032707487804956,88.032707487804956,88.032707487804956,88.032707487804956,null,null,null,null,null,null,{"$f":"milk!G13","v":88.032707487804998},{"$f":"milk!H13","v":88.032707487804998},{"$f":"milk!I13","v":88.032707487804998},{"$f":"milk!J13","v":88.032707487804998},{"$f":"milk!K13","v":88.032707487804998},{"$f":"milk!L13","v":88.032707487804998},{"$f":"milk!M13","v":88.032707487804998},{"$f":"milk!N13","v":88.032707487804998},{"$f":"milk!O13","v":88.032707487804998},{"$f":"milk!P13","v":88.032707487804998},{"$f":"milk!Q13","v":88.032707487804998},{"$f":"milk!R13","v":88.032707487804998}]
[null,null,"milk","",86.558151338824501,86.558151338824501,86.558151338824501,86.558151338824501,86.558151338824501,86.558151338824501,86.558151338824501,86.558151338824501,86.558151338824501,86.558151338824501,86.558151338824501,86.558151338824501,null,86.558151338824459,86.558151338824459,86.558151338824459,86.558151338824459,86.558151338824459,86.558151338824459,86.558151338824459,86.558151338824459,86.558151338824459,86.558151338824459,86.558151338824459,86.558151338824459,null,null,null,null,null,null,{"$f":"milk!G14","v":86.558151338824501},{"$f":"milk!H14","v":86.558151338824501},{"$f":"milk!I14","v":86.558151338824501},{"$f":"milk!J14","v":86.558151338824501},{"$f":"milk!K14","v":86.558151338824501},{"$f":"milk!L14","v":86.558151338824501},{"$f":"milk!M14","v":86.558151338824501},{"$f":"milk!N14","v":86.558151338824501},{"$f":"milk!O14","v":86.558151338824501},{"$f":"milk!P14","v":86.558151338824501},{"$f":"milk!Q14","v":86.558151338824501},{"$f":"milk!R14","v":86.558151338824501}]
[null,null,"milk","",84.141074348601194,84.141074348601194,84.141074348601194,84.141074348601194,84.141074348601194,84.141074348601194,84.141074348601194,84.141074348601194,84.141074348601194,84.141074348601194,84.141074348601194,84.141074348601194,null,84.141074348601151,84.141074348601151,84.141074348601151,84.141074348601151,84.141074348601151,84.141074348601151,84.141074348601151,84.141074348601151,84.141074348601151,84.141074348601151,84.141074348601151,84.141074348601151,null,null,null,null,null,null,{"$f":"milk!G15","v":84.141074348601194},{"$f":"milk!H15","v":84.141074348601194},{"$f":"milk!I15","v":84.141074348601194},{"$f":"milk!J15","v":84.141074348601194},{"$f":"milk!K15","v":84.141074348601194},{"$f":"milk!L15","v":84.141074348601194},{"$f":"milk!M15","v":84.141074348601194},{"$f":"milk!N15","v":84.141074348601194},{"$f":"milk!O15","v":84.141074348601194},{"$f":"milk!P15","v":84.141074348601194},{"$f":"milk!Q15","v":84.141074348601194},{"$f":"milk!R15","v":84.141074348601194}]
[null,null,"milk","",81.128079439953297,81.128079439953297,81.128079439953297,81.128079439953297,81.128079439953297,81.128079439953297,81.128079439953297,81.128079439953297,81.128079439953297,81.128079439953297,81.128079439953297,81.128079439953297,null,81.128079439953297,81.128079439953297,81.128079439953297,81.128079439953297,81.128079439953297,81.128079439953297,81.128079439953297,81.128079439953297,81.128079439953297,81.128079439953297,81.128079439953297,81.128079439953297,null,null,null,null,null,null,{"$f":"milk!G16","v":81.128079439953297},{"$f":"milk!H16","v":81.128079439953297},{"$f":"milk!I16","v":81.128079439953297},{"$f":"milk!J16","v":81.128079439953297},{"$f":"milk!K16","v":81.128079439953297},{"$f":"milk!L16","v":81.128079439953297},{"$f":"milk!M16","v":81.128079439953297},{"$f":"milk!N16","v":81.128079439953297},{"$f":"milk!O16","v":81.128079439953297},{"$f":"milk!P16","v":81.128079439953297},{"$f":"milk!Q16","v":81.128079439953297},{"$f":"milk!R16","v":81.128079439953297}]
[null,null,"milk","",77.747360513710902,77.747360513710902,77.747360513710902,77.747360513710902,77.747360513710902,77.747360513710902,77.747360513710902,77.747360513710902,77.747360513710902,77.747360513710902,77.747360513710902,77.747360513710902,null,77.747360513710888,77.747360513710888,77.747360513710888,77.747360513710888,77.747360513710888,77.747360513710888,77.747360513710888,77.747360513710888,77.747360513710888,77.747360513710888,77.747360513710888,77.747360513710888,null,null,null,null,null,null,{"$f":"milk!G17","v":77.747360513710902},{"$f":"milk!H17","v":77.747360513710902},{"$f":"milk!I17","v":77.747360513710902},{"$f":"milk!J17","v":77.747360513710902},{"$f":"milk!K17","v":77.747360513710902},{"$f":"milk!L17","v":77.747360513710902},{"$f":"milk!M17","v":77.747360513710902},{"$f":"milk!N17","v":77.747360513710902},{"$f":"milk!O17","v":77.747360513710902},{"$f":"milk!P17","v":77.747360513710902},{"$f":"milk!Q17","v":77.747360513710902},{"$f":"milk!R17","v":77.747360513710902}]
[null,null,"milk","",74.155283335667505,74.155283335667505,74.155283335667505,74.155283335667505,74.155283335667505,74.155283335667505,74.155283335667505,74.155283335667505,74.155283335667505,74.155283335667505,74.155283335667505,74.155283335667505,null,74.155283335667548,74.155283335667548,74.155283335667548,74.155283335667548,74.155283335667548,74.155283335667548,74.155283335667548,74.155283335667548,74.155283335667548,74.155283335667548,74.155283335667548,74.155283335667548,null,null,null,null,null,null,{"$f":"milk!G18","v":74.155283335667505},{"$f":"milk!H18","v":74.155283335667505},{"$f":"milk!I18","v":74.155283335667505},{"$f":"milk!J18","v":74.155283335667505},{"$f":"milk!K18","v":74.155283335667505},{"$f":"milk!L18","v":74.155283335667505},{"$f":"milk!M18","v":74.155283335667505},{"$f":"milk!N18","v":74.155283335667505},{"$f":"milk!O18","v":74.155283335667505},{"$f":"milk!P18","v":74.155283335667505},{"$f":"milk!Q18","v":74.155283335667505},{"$f":"milk!R18","v":74.155283335667505}]
[null,null,"milk","",70.4617277736712,70.4617277736712,70.4617277736712,70.4617277736712,70.4617277736712,70.4617277736712,70.4617277736712,70.4617277736712,70.4617277736712,70.4617277736712,70.4617277736712,70.4617277736712,null,70.4617277736712,70.4617277736712,70.4617277736712,70.4617277736712,70.4617277736712,70.4617277736712,70.4617277736712,70.4617277736712,70.4617277736712,70.4617277736712,70.4617277736712,70.4617277736712,null,null,null,null,null,null,{"$f":"milk!G19","v":70.4617277736712},{"$f":"milk!H19","v":70.4617277736712},{"$f":"milk!I19","v":70.4617277736712},{"$f":"milk!J19","v":70.4617277736712},{"$f":"milk!K19","v":70.4617277736712},{"$f":"milk!L19","v":70.4617277736712},{"$f":"milk!M19","v":70.4617277736712},{"$f":"milk!N19","v":70.4617277736712},{"$f":"milk!O19","v":70.4617277736712},{"$f":"milk!P19","v":70.4617277736712},{"$f":"milk!Q19","v":70.4617277736712},{"$f":"milk!R19","v":70.4617277736712}]
[null,null,"milk","",66.745047418032797,66.745047418032797,66.745047418032797,66.745047418032797,66.745047418032797,66.745047418032797,66.745047418032797,66.745047418032797,66.745047418032797,66.745047418032797,66.745047418032797,66.745047418032797,null,66.745047418032783,66.745047418032783,66.745047418032783,66.745047418032783,66.745047418032783,66.745047418032783,66.745047418032783,66.745047418032783,66.745047418032783,66.745047418032783,66.745047418032783,66.745047418032783,null,null,null,null,null,null,{"$f":"milk!G20","v":66.745047418032797},{"$f":"milk!H20","v":66.745047418032797},{"$f":"milk!I20","v":66.745047418032797},{"$f":"milk!J20","v":66.745047418032797},{"$f":"milk!K20","v":66.745047418032797},{"$f":"milk!L20","v":66.745047418032797},{"$f":"milk!M20","v":66.745047418032797},{"$f":"milk!N20","v":66.745047418032797},{"$f":"milk!O20","v":66.745047418032797},{"$f":"milk!P20","v":66.745047418032797},{"$f":"milk!Q20","v":66.745047418032797},{"$f":"milk!R20","v":66.745047418032797}]
[null,null,"milk","",63.061462470774998,63.061462470774998,63.061462470774998,63.061462470774998,63.061462470774998,63.061462470774998,63.061462470774998,63.061462470774998,63.061462470774998,63.061462470774998,63.061462470774998,63.061462470774998,null,63.061462470775048,63.061462470775048,63.061462470775048,63.061462470775048,63.061462470775048,63.061462470775048,63.061462470775048,63.061462470775048,63.061462470775048,63.061462470775048,63.061462470775048,63.061462470775048,null,null,null,null,null,null,{"$f":"milk!G21","v":63.061462470774998},{"$f":"milk!H21","v":63.061462470774998},{"$f":"milk!I21","v":63.061462470774998},{"$f":"milk!J21","v":63.061462470774998},{"$f":"milk!K21","v":63.061462470774998},{"$f":"milk!L21","v":63.061462470774998},{"$f":"milk!M21","v":63.061462470774998},{"$f":"milk!N21","v":63.061462470774998},{"$f":"milk!O21","v":63.061462470774998},{"$f":"milk!P21","v":63.061462470774998},{"$f":"milk!Q21","v":63.061462470774998},{"$f":"milk!R21","v":63.061462470774998}]
[null,null,"milk","",59.451247061958398,59.451247061958398,59.451247061958398,59.451247061958398,59.451247061958398,59.451247061958398,59.451247061958398,59.451247061958398,59.451247061958398,59.451247061958398,59.451247061958398,59.451247061958398,null,59.451247061958433,59.451247061958433,59.451247061958433,59.451247061958433,59.451247061958433,59.451247061958433,59.451247061958433,59.451247061958433,59.451247061958433,59.451247061958433,59.451247061958433,59.451247061958433,null,null,null,null,null,null,{"$f":"milk!G22","v":59.451247061958398},{"$f":"milk!H22","v":59.451247061958398},{"$f":"milk!I22","v":59.451247061958398},{"$f":"milk!J22","v":59.451247061958398},{"$f":"milk!K22","v":59.451247061958398},{"$f":"milk!L22","v":59.451247061958398},{"$f":"milk!M22","v":59.451247061958398},{"$f":"milk!N22","v":59.451247061958398},{"$f":"milk!O22","v":59.451247061958398},{"$f":"milk!P22","v":59.451247061958398},{"$f":"milk!Q22","v":59.451247061958398},{"$f":"milk!R22","v":59.451247061958398}]
[null,null,"milk","",55.942962635611899,55.942962635611899,55.942962635611899,55.942962635611899,55.942962635611899,55.942962635611899,55.942962635611899,55.942962635611899,55.942962635611899,55.942962635611899,55.942962635611899,55.942962635611899,null,55.942962635611856,55.942962635611856,55.942962635611856,55.942962635611856,55.942962635611856,55.942962635611856,55.942962635611856,55.942962635611856,55.942962635611856,55.942962635611856,55.942962635611856,55.942962635611856,null,null,null,null,null,null,{"$f":"milk!G23","v":55.942962635611899},{"$f":"milk!H23","v":55.942962635611899},{"$f":"milk!I23","v":55.942962635611899},{"$f":"milk!J23","v":55.942962635611899},{"$f":"milk!K23","v":55.942962635611899},{"$f":"milk!L23","v":55.942962635611899},{"$f":"milk!M23","v":55.942962635611899},{"$f":"milk!N23","v":55.942962635611899},{"$f":"milk!O23","v":55.942962635611899},{"$f":"milk!P23","v":55.942962635611899},{"$f":"milk!Q23","v":55.942962635611899},{"$f":"milk!R23","v":55.942962635611899}]
[null,null,"milk","",52.556443935713197,52.556443935713197,52.556443935713197,52.556443935713197,52.556443935713197,52.556443935713197,52.556443935713197,52.556443935713197,52.556443935713197,52.556443935713197,52.556443935713197,52.556443935713197,null,52.556443935713212,52.556443935713212,52.556443935713212,52.556443935713212,52.556443935713212,52.556443935713212,52.556443935713212,52.556443935713212,52.556443935713212,52.556443935713212,52.556443935713212,52.556443935713212,null,null,null,null,null,null,{"$f":"milk!G24","v":52.556443935713197},{"$f":"milk!H24","v":52.556443935713197},{"$f":"milk!I24","v":52.556443935713197},{"$f":"milk!J24","v":52.556443935713197},{"$f":"milk!K24","v":52.556443935713197},{"$f":"milk!L24","v":52.556443935713197},{"$f":"milk!M24","v":52.556443935713197},{"$f":"milk!N24","v":52.556443935713197},{"$f":"milk!O24","v":52.556443935713197},{"$f":"milk!P24","v":52.556443935713197},{"$f":"milk!Q24","v":52.556443935713197},{"$f":"milk!R24","v":52.556443935713197}]
[null,null,"milk","",49.304957609629,49.304957609629,49.304957609629,49.304957609629,49.304957609629,49.304957609629,49.304957609629,49.304957609629,49.304957609629,49.304957609629,49.304957609629,49.304957609629,null,49.304957609628978,49.304957609628978,49.304957609628978,49.304957609628978,49.304957609628978,49.304957609628978,49.304957609628978,49.304957609628978,49.304957609628978,49.304957609628978,49.304957609628978,49.304957609628978,null,null,null,null,null,null,{"$f":"milk!G25","v":49.304957609629},{"$f":"milk!H25","v":49.304957609629},{"$f":"milk!I25","v":49.304957609629},{"$f":"milk!J25","v":49.304957609629},{"$f":"milk!K25","v":49.304957609629},{"$f":"milk!L25","v":49.304957609629},{"$f":"milk!M25","v":49.304957609629},{"$f":"milk!N25","v":49.304957609629},{"$f":"milk!O25","v":49.304957609629},{"$f":"milk!P25","v":49.304957609629},{"$f":"milk!Q25","v":49.304957609629},{"$f":"milk!R25","v":49.304957609629}]
[null,null,"milk","",46.196794198333698,46.196794198333698,46.196794198333698,46.196794198333698,46.196794198333698,46.196794198333698,46.196794198333698,46.196794198333698,46.196794198333698,46.196794198333698,46.196794198333698,46.196794198333698,null,46.196794198333663,46.196794198333663,46.196794198333663,46.196794198333663,46.196794198333663,46.196794198333663,46.196794198333663,46.196794198333663,46.196794198333663,46.196794198333663,46.196794198333663,46.196794198333663,null,null,null,null,null,null,{"$f":"milk!G26","v":46.196794198333698},{"$f":"milk!H26","v":46.196794198333698},{"$f":"milk!I26","v":46.196794198333698},{"$f":"milk!J26","v":46.196794198333698},{"$f":"milk!K26","v":46.196794198333698},{"$f":"milk!L26","v":46.196794198333698},{"$f":"milk!M26","v":46.196794198333698},{"$f":"milk!N26","v":46.196794198333698},{"$f":"milk!O26","v":46.196794198333698},{"$f":"milk!P26","v":46.196794198333698},{"$f":"milk!Q26","v":46.196794198333698},{"$f":"milk!R26","v":46.196794198333698}]
[null,null,"milk","",43.2364614980076,43.2364614980076,43.2364614980076,43.2364614980076,43.2364614980076,43.2364614980076,43.2364614980076,43.2364614980076,43.2364614980076,43.2364614980076,43.2364614980076,43.2364614980076,null,43.236461498007564,43.236461498007564,43.236461498007564,43.236461498007564,43.236461498007564,43.236461498007564,43.236461498007564,43.236461498007564,43.236461498007564,43.236461498007564,43.236461498007564,43.236461498007564,null,null,null,null,null,null,{"$f":"milk!G27","v":43.2364614980076},{"$f":"milk!H27","v":43.2364614980076},{"$f":"milk!I27","v":43.2364614980076},{"$f":"milk!J27","v":43.2364614980076},{"$f":"milk!K27","v":43.2364614980076},{"$f":"milk!L27","v":43.2364614980076},{"$f":"milk!M27","v":43.2364614980076},{"$f":"milk!N27","v":43.2364614980076},{"$f":"milk!O27","v":43.2364614980076},{"$f":"milk!P27","v":43.2364614980076},{"$f":"milk!Q27","v":43.2364614980076},{"$f":"milk!R27","v":43.2364614980076}]
[null,null,"milk","",40.425590991469797,40.425590991469797,40.425590991469797,40.425590991469797,40.425590991469797,40.425590991469797,40.425590991469797,40.425590991469797,40.425590991469797,40.425590991469797,40.425590991469797,40.425590991469797,null,40.425590991469768,40.425590991469768,40.425590991469768,40.425590991469768,40.425590991469768,40.425590991469768,40.425590991469768,40.425590991469768,40.425590991469768,40.425590991469768,40.425590991469768,40.425590991469768,null,null,null,null,null,null,{"$f":"milk!G28","v":40.425590991469797},{"$f":"milk!H28","v":40.425590991469797},{"$f":"milk!I28","v":40.425590991469797},{"$f":"milk!J28","v":40.425590991469797},{"$f":"milk!K28","v":40.425590991469797},{"$f":"milk!L28","v":40.425590991469797},{"$f":"milk!M28","v":40.425590991469797},{"$f":"milk!N28","v":40.425590991469797},{"$f":"milk!O28","v":40.425590991469797},{"$f":"milk!P28","v":40.425590991469797},{"$f":"milk!Q28","v":40.425590991469797},{"$f":"milk!R28","v":40.425590991469797}]
[null,null,"milk","",37.763633688577002,37.763633688577002,37.763633688577002,37.763633688577002,37.763633688577002,37.763633688577002,37.763633688577002,37.763633688577002,37.763633688577002,37.763633688577002,37.763633688577002,37.763633688577002,null,37.763633688576967,37.763633688576967,37.763633688576967,37.763633688576967,37.763633688576967,37.763633688576967,37.763633688576967,37.763633688576967,37.763633688576967,37.763633688576967,37.763633688576967,37.763633688576967,null,null,null,null,null,null,{"$f":"milk!G29","v":37.763633688577002},{"$f":"milk!H29","v":37.763633688577002},{"$f":"milk!I29","v":37.763633688577002},{"$f":"milk!J29","v":37.763633688577002},{"$f":"milk!K29","v":37.763633688577002},{"$f":"milk!L29","v":37.763633688577002},{"$f":"milk!M29","v":37.763633688577002},{"$f":"milk!N29","v":37.763633688577002},{"$f":"milk!O29","v":37.763633688577002},{"$f":"milk!P29","v":37.763633688577002},{"$f":"milk!Q29","v":37.763633688577002},{"$f":"milk!R29","v":37.763633688577002}]
[null,null,"milk","",35.248398812336099,35.248398812336099,35.248398812336099,35.248398812336099,35.248398812336099,35.248398812336099,35.248398812336099,35.248398812336099,35.248398812336099,35.248398812336099,35.248398812336099,35.248398812336099,null,35.248398812336113,35.248398812336113,35.248398812336113,35.248398812336113,35.248398812336113,35.248398812336113,35.248398812336113,35.248398812336113,35.248398812336113,35.248398812336113,35.248398812336113,35.248398812336113,null,null,null,null,null,null,{"$f":"milk!G30","v":35.248398812336099},{"$f":"milk!H30","v":35.248398812336099},{"$f":"milk!I30","v":35.248398812336099},{"$f":"milk!J30","v":35.248398812336099},{"$f":"milk!K30","v":35.248398812336099},{"$f":"milk!L30","v":35.248398812336099},{"$f":"milk!M30","v":35.248398812336099},{"$f":"milk!N30","v":35.248398812336099},{"$f":"milk!O30","v":35.248398812336099},{"$f":"milk!P30","v":35.248398812336099},{"$f":"milk!Q30","v":35.248398812336099},{"$f":"milk!R30","v":35.248398812336099}]
[null,null,"milk","",32.876473528369502,32.876473528369502,32.876473528369502,32.876473528369502,32.876473528369502,32.876473528369502,32.876473528369502,32.876473528369502,32.876473528369502,32.876473528369502,32.876473528369502,32.876473528369502,null,32.876473528369452,32.876473528369452,32.876473528369452,32.876473528369452,32.876473528369452,32.876473528369452,32.876473528369452,32.876473528369452,32.876473528369452,32.876473528369452,32.876473528369452,32.876473528369452,null,null,null,null,null,null,{"$f":"milk!G31","v":32.876473528369502},{"$f":"milk!H31","v":32.876473528369502},{"$f":"milk!I31","v":32.876473528369502},{"$f":"milk!J31","v":32.876473528369502},{"$f":"milk!K31","v":32.876473528369502},{"$f":"milk!L31","v":32.876473528369502},{"$f":"milk!M31","v":32.876473528369502},{"$f":"milk!N31","v":32.876473528369502},{"$f":"milk!O31","v":32.876473528369502},{"$f":"milk!P31","v":32.876473528369502},{"$f":"milk!Q31","v":32.876473528369502},{"$f":"milk!R31","v":32.876473528369502}]
[null,null,"milk","",30.643551529999701,30.643551529999701,30.643551529999701,30.643551529999701,30.643551529999701,30.643551529999701,30.643551529999701,30.643551529999701,30.643551529999701,30.643551529999701,30.643551529999701,30.643551529999701,null,30.643551529999744,30.643551529999744,30.643551529999744,30.643551529999744,30.643551529999744,30.643551529999744,30.643551529999744,30.643551529999744,30.643551529999744,30.643551529999744,30.643551529999744,30.643551529999744,null,null,null,null,null,null,{"$f":"milk!G32","v":30.643551529999701},{"$f":"milk!H32","v":30.643551529999701},{"$f":"milk!I32","v":30.643551529999701},{"$f":"milk!J32","v":30.643551529999701},{"$f":"milk!K32","v":30.643551529999701},{"$f":"milk!L32","v":30.643551529999701},{"$f":"milk!M32","v":30.643551529999701},{"$f":"milk!N32","v":30.643551529999701},{"$f":"milk!O32","v":30.643551529999701},{"$f":"milk!P32","v":30.643551529999701},{"$f":"milk!Q32","v":30.643551529999701},{"$f":"milk!R32","v":30.643551529999701}]
[null,null,"milk",{"$f":"IF(CONCATENATE(E155,F155,G155,H155,I155,J155,K155,L155,M155,N155,O155,P155)=CONCATENATE(R155,S155,T155,U155,V155,W155,X155,Y155,Z155,AA155,AB155,AC155),\"\",1)","v":""},"Lactation 2",null,null,null,null,null,null,null,null,null,null,null,null,"Lactation 2",null,null,null,null,null,null,null,null,null,null,null,null,null,null,null,null,null,{"$f":"milk!G34","v":"Lactation 2"}]
[null,null,"milk","","Jan","Feb","Mar","Apr","May","Jun","Jul","Aug","Sep","Oct","Nov","Dec",null,"Jan","Feb","Mar","Apr","May","Jun","Jul","Aug","Sep","Oct","Nov","Dec",null,null,null,null,null,null,{"$f":"milk!G35","v":"Jan"},{"$f":"milk!H35","v":"Feb"},{"$f":"milk!I35","v":"Mar"},{"$f":"milk!J35","v":"Apr"},{"$f":"milk!K35","v":"May"},{"$f":"milk!L35","v":"Jun"},{"$f":"milk!M35","v":"Jul"},{"$f":"milk!N35","v":"Aug"},{"$f":"milk!O35","v":"Sep"},{"$f":"milk!P35","v":"Oct"},{"$f":"milk!Q35","v":"Nov"},{"$f":"milk!R35","v":"Dec"}]
[null,null,"milk","",88.963124879351895,88.963124879351895,88.963124879351895,88.963124879351895,88.963124879351895,88.963124879351895,88.963124879351895,88.963124879351895,88.963124879351895,88.963124879351895,88.963124879351895,88.963124879351895,null,88.963124879351852,88.963124879351852,88.963124879351852,88.963124879351852,88.963124879351852,88.963124879351852,88.963124879351852,88.963124879351852,88.963124879351852,88.963124879351852,88.963124879351852,88.963124879351852,null,null,null,null,null,null,{"$f":"milk!G36","v":88.963124879351895},{"$f":"milk!H36","v":88.963124879351895},{"$f":"milk!I36","v":88.963124879351895},{"$f":"milk!J36","v":88.963124879351895},{"$f":"milk!K36","v":88.963124879351895},{"$f":"milk!L36","v":88.963124879351895},{"$f":"milk!M36","v":88.963124879351895},{"$f":"milk!N36","v":88.963124879351895},{"$f":"milk!O36","v":88.963124879351895},{"$f":"milk!P36","v":88.963124879351895},{"$f":"milk!Q36","v":88.963124879351895},{"$f":"milk!R36","v":88.963124879351895}]
[null,null,"milk","",106.166444135502,106.166444135502,106.166444135502,106.166444135502,106.166444135502,106.166444135502,106.166444135502,106.166444135502,106.166444135502,106.166444135502,106.166444135502,106.166444135502,null,106.16644413550192,106.16644413550192,106.16644413550192,106.16644413550192,106.16644413550192,106.16644413550192,106.16644413550192,106.16644413550192,106.16644413550192,106.16644413550192,106.16644413550192,106.16644413550192,null,null,null,null,null,null,{"$f":"milk!G37","v":106.166444135502},{"$f":"milk!H37","v":106.166444135502},{"$f":"milk!I37","v":106.166444135502},{"$f":"milk!J37","v":106.166444135502},{"$f":"milk!K37","v":106.166444135502},{"$f":"milk!L37","v":106.166444135502},{"$f":"milk!M37","v":106.166444135502},{"$f":"milk!N37","v":106.166444135502},{"$f":"milk!O37","v":106.166444135502},{"$f":"milk!P37","v":106.166444135502},{"$f":"milk!Q37","v":106.166444135502},{"$f":"milk!R37","v":106.166444135502}]
[null,null,"milk","",109.06113803061299,109.06113803061299,109.06113803061299,109.06113803061299,109.06113803061299,109.06113803061299,109.06113803061299,109.06113803061299,109.06113803061299,109.06113803061299,109.06113803061299,109.06113803061299,null,109.0611380306128,109.0611380306128,109.0611380306128,109.0611380306128,109.0611380306128,109.0611380306128,109.0611380306128,109.0611380306128,109.0611380306128,109.0611380306128,109.0611380306128,109.0611380306128,null,null,null,null,null,null,{"$f":"milk!G38","v":109.06113803061299},{"$f":"milk!H38","v":109.06113803061299},{"$f":"milk!I38","v":109.06113803061299},{"$f":"milk!J38","v":109.06113803061299},{"$f":"milk!K38","v":109.06113803061299},{"$f":"milk!L38","v":109.06113803061299},{"$f":"milk!M38","v":109.06113803061299},{"$f":"milk!N38","v":109.06113803061299},{"$f":"milk!O38","v":109.06113803061299},{"$f":"milk!P38","v":109.06113803061299},{"$f":"milk!Q38","v":109.06113803061299},{"$f":"milk!R38","v":109.06113803061299}]
[null,null,"milk","",107.162786197218,107.162786197218,107.162786197218,107.162786197218,107.162786197218,107.162786197218,107.162786197218,107.162786197218,107.162786197218,107.162786197218,107.162786197218,107.162786197218,null,107.16278619721847,107.16278619721847,107.16278619721847,107.16278619721847,107.16278619721847,107.16278619721847,107.16278619721847,107.16278619721847,107.16278619721847,107.16278619721847,107.16278619721847,107.16278619721847,null,null,null,null,null,null,{"$f":"milk!G39","v":107.162786197218},{"$f":"milk!H39","v":107.162786197218},{"$f":"milk!I39","v":107.162786197218},{"$f":"milk!J39","v":107.162786197218},{"$f":"milk!K39","v":107.162786197218},{"$f":"milk!L39","v":107.162786197218},{"$f":"milk!M39","v":107.162786197218},{"$f":"milk!N39","v":107.162786197218},{"$f":"milk!O39","v":107.162786197218},{"$f":"milk!P39","v":107.162786197218},{"$f":"milk!Q39","v":107.162786197218},{"$f":"milk!R39","v":107.162786197218}]
[null,null,"milk","",103.03556541264599,103.03556541264599,103.03556541264599,103.03556541264599,103.03556541264599,103.03556541264599,103.03556541264599,103.03556541264599,103.03556541264599,103.03556541264599,103.03556541264599,103.03556541264599,null,103.03556541264604,103.03556541264604,103.03556541264604,103.03556541264604,103.03556541264604,103.03556541264604,103.03556541264604,103.03556541264604,103.03556541264604,103.03556541264604,103.03556541264604,103.03556541264604,null,null,null,null,null,null,{"$f":"milk!G40","v":103.03556541264599},{"$f":"milk!H40","v":103.03556541264599},{"$f":"milk!I40","v":103.03556541264599},{"$f":"milk!J40","v":103.03556541264599},{"$f":"milk!K40","v":103.03556541264599},{"$f":"milk!L40","v":103.03556541264599},{"$f":"milk!M40","v":103.03556541264599},{"$f":"milk!N40","v":103.03556541264599},{"$f":"milk!O40","v":103.03556541264599},{"$f":"milk!P40","v":103.03556541264599},{"$f":"milk!Q40","v":103.03556541264599},{"$f":"milk!R40","v":103.03556541264599}]
[null,null,"milk","",97.796154012328003,97.796154012328003,97.796154012328003,97.796154012328003,97.796154012328003,97.796154012328003,97.796154012328003,97.796154012328003,97.796154012328003,97.796154012328003,97.796154012328003,97.796154012328003,null,97.796154012327975,97.796154012327975,97.796154012327975,97.796154012327975,97.796154012327975,97.796154012327975,97.796154012327975,97.796154012327975,97.796154012327975,97.796154012327975,97.796154012327975,97.796154012327975,null,null,null,null,null,null,{"$f":"milk!G41","v":97.796154012328003},{"$f":"milk!H41","v":97.796154012328003},{"$f":"milk!I41","v":97.796154012328003},{"$f":"milk!J41","v":97.796154012328003},{"$f":"milk!K41","v":97.796154012328003},{"$f":"milk!L41","v":97.796154012328003},{"$f":"milk!M41","v":97.796154012328003},{"$f":"milk!N41","v":97.796154012328003},{"$f":"milk!O41","v":97.796154012328003},{"$f":"milk!P41","v":97.796154012328003},{"$f":"milk!Q41","v":97.796154012328003},{"$f":"milk!R41","v":97.796154012328003}]
[null,null,"milk","",92.030868029078903,92.030868029078903,92.030868029078903,92.030868029078903,92.030868029078903,92.030868029078903,92.030868029078903,92.030868029078903,92.030868029078903,92.030868029078903,92.030868029078903,92.030868029078903,null,92.030868029078917,92.030868029078917,92.030868029078917,92.030868029078917,92.030868029078917,92.030868029078917,92.030868029078917,92.030868029078917,92.030868029078917,92.030868029078917,92.030868029078917,92.030868029078917,null,null,null,null,null,null,{"$f":"milk!G42","v":92.030868029078903},{"$f":"milk!H42","v":92.030868029078903},{"$f":"milk!I42","v":92.030868029078903},{"$f":"milk!J42","v":92.030868029078903},{"$f":"milk!K42","v":92.030868029078903},{"$f":"milk!L42","v":92.030868029078903},{"$f":"milk!M42","v":92.030868029078903},{"$f":"milk!N42","v":92.030868029078903},{"$f":"milk!O42","v":92.030868029078903},{"$f":"milk!P42","v":92.030868029078903},{"$f":"milk!Q42","v":92.030868029078903},{"$f":"milk!R42","v":92.030868029078903}]
[null,null,{"$f":"IF(D164=1,\" milk \",\"milk\")","v":"milk"},"",86.078077127202306,86.078077127202306,86.078077127202306,86.078077127202306,86.078077127202306,86.078077127202306,86.078077127202306,86.078077127202306,86.078077127202306,86.078077127202306,86.078077127202306,86.078077127202306,null,86.078077127202334,86.078077127202334,86.078077127202334,86.078077127202334,86.078077127202334,86.078077127202334,86.078077127202334,86.078077127202334,86.078077127202334,86.078077127202334,86.078077127202334,86.078077127202334,null,null,null,null,null,null,{"$f":"milk!G43","v":86.078077127202306},{"$f":"milk!H43","v":86.078077127202306},{"$f":"milk!I43","v":86.078077127202306},{"$f":"milk!J43","v":86.078077127202306},{"$f":"milk!K43","v":86.078077127202306},{"$f":"milk!L43","v":86.078077127202306},{"$f":"milk!M43","v":86.078077127202306},{"$f":"milk!N43","v":86.078077127202306},{"$f":"milk!O43","v":86.078077127202306},{"$f":"milk!P43","v":86.078077127202306},{"$f":"milk!Q43","v":86.078077127202306},{"$f":"milk!R43","v":86.078077127202306}]
[null,null,"milk","",80.142905464492003,80.142905464492003,80.142905464492003,80.142905464492003,80.142905464492003,80.142905464492003,80.142905464492003,80.142905464492003,80.142905464492003,80.142905464492003,80.142905464492003,80.142905464492003,null,80.142905464492003,80.142905464492003,80.142905464492003,80.142905464492003,80.142905464492003,80.142905464492003,80.142905464492003,80.142905464492003,80.142905464492003,80.142905464492003,80.142905464492003,80.142905464492003,null,null,null,null,null,null,{"$f":"milk!G44","v":80.142905464492003},{"$f":"milk!H44","v":80.142905464492003},{"$f":"milk!I44","v":80.142905464492003},{"$f":"milk!J44","v":80.142905464492003},{"$f":"milk!K44","v":80.142905464492003},{"$f":"milk!L44","v":80.142905464492003},{"$f":"milk!M44","v":80.142905464492003},{"$f":"milk!N44","v":80.142905464492003},{"$f":"milk!O44","v":80.142905464492003},{"$f":"milk!P44","v":80.142905464492003},{"$f":"milk!Q44","v":80.142905464492003},{"$f":"milk!R44","v":80.142905464492003}]
[null,null,"milk","",74.352247148052598,74.352247148052598,74.352247148052598,74.352247148052598,74.352247148052598,74.352247148052598,74.352247148052598,74.352247148052598,74.352247148052598,74.352247148052598,74.352247148052598,74.352247148052598,null,74.352247148052626,74.352247148052626,74.352247148052626,74.352247148052626,74.352247148052626,74.352247148052626,74.352247148052626,74.352247148052626,74.352247148052626,74.352247148052626,74.352247148052626,74.352247148052626,null,null,null,null,null,null,{"$f":"milk!G45","v":74.352247148052598},{"$f":"milk!H45","v":74.352247148052598},{"$f":"milk!I45","v":74.352247148052598},{"$f":"milk!J45","v":74.352247148052598},{"$f":"milk!K45","v":74.352247148052598},{"$f":"milk!L45","v":74.352247148052598},{"$f":"milk!M45","v":74.352247148052598},{"$f":"milk!N45","v":74.352247148052598},{"$f":"milk!O45","v":74.352247148052598},{"$f":"milk!P45","v":74.352247148052598},{"$f":"milk!Q45","v":74.352247148052598},{"$f":"milk!R45","v":74.352247148052598}]
[null,null,"milk","",68.784276411959596,68.784276411959596,68.784276411959596,68.784276411959596,68.784276411959596,68.784276411959596,68.784276411959596,68.784276411959596,68.784276411959596,68.784276411959596,68.784276411959596,68.784276411959596,null,68.784276411959581,68.784276411959581,68.784276411959581,68.784276411959581,68.784276411959581,68.784276411959581,68.784276411959581,68.784276411959581,68.784276411959581,68.784276411959581,68.784276411959581,68.784276411959581,null,null,null,null,null,null,{"$f":"milk!G46","v":68.784276411959596},{"$f":"milk!H46","v":68.784276411959596},{"$f":"milk!I46","v":68.784276411959596},{"$f":"milk!J46","v":68.784276411959596},{"$f":"milk!K46","v":68.784276411959596},{"$f":"milk!L46","v":68.784276411959596},{"$f":"milk!M46","v":68.784276411959596},{"$f":"milk!N46","v":68.784276411959596},{"$f":"milk!O46","v":68.784276411959596},{"$f":"milk!P46","v":68.784276411959596},{"$f":"milk!Q46","v":68.784276411959596},{"$f":"milk!R46","v":68.784276411959596}]
[null,null,"milk","",63.485591950663,63.485591950663,63.485591950663,63.485591950663,63.485591950663,63.485591950663,63.485591950663,63.485591950663,63.485591950663,63.485591950663,63.485591950663,63.485591950663,null,63.48559195066295,63.48559195066295,63.48559195066295,63.48559195066295,63.48559195066295,63.48559195066295,63.48559195066295,63.48559195066295,63.48559195066295,63.48559195066295,63.48559195066295,63.48559195066295,null,null,null,null,null,null,{"$f":"milk!G47","v":63.485591950663},{"$f":"milk!H47","v":63.485591950663},{"$f":"milk!I47","v":63.485591950663},{"$f":"milk!J47","v":63.485591950663},{"$f":"milk!K47","v":63.485591950663},{"$f":"milk!L47","v":63.485591950663},{"$f":"milk!M47","v":63.485591950663},{"$f":"milk!N47","v":63.485591950663},{"$f":"milk!O47","v":63.485591950663},{"$f":"milk!P47","v":63.485591950663},{"$f":"milk!Q47","v":63.485591950663},{"$f":"milk!R47","v":63.485591950663}]
[null,null,"milk","",58.481782297351799,58.481782297351799,58.481782297351799,58.481782297351799,58.481782297351799,58.481782297351799,58.481782297351799,58.481782297351799,58.481782297351799,58.481782297351799,58.481782297351799,58.481782297351799,null,58.481782297351849,58.481782297351849,58.481782297351849,58.481782297351849,58.481782297351849,58.481782297351849,58.481782297351849,58.481782297351849,58.481782297351849,58.481782297351849,58.481782297351849,58.481782297351849,null,null,null,null,null,null,{"$f":"milk!G48","v":58.481782297351799},{"$f":"milk!H48","v":58.481782297351799},{"$f":"milk!I48","v":58.481782297351799},{"$f":"milk!J48","v":58.481782297351799},{"$f":"milk!K48","v":58.481782297351799},{"$f":"milk!L48","v":58.481782297351799},{"$f":"milk!M48","v":58.481782297351799},{"$f":"milk!N48","v":58.481782297351799},{"$f":"milk!O48","v":58.481782297351799},{"$f":"milk!P48","v":58.481782297351799},{"$f":"milk!Q48","v":58.481782297351799},{"$f":"milk!R48","v":58.481782297351799}]
[null,null,"milk","",53.784233011132301,53.784233011132301,53.784233011132301,53.784233011132301,53.784233011132301,53.784233011132301,53.784233011132301,53.784233011132301,53.784233011132301,53.784233011132301,53.784233011132301,53.784233011132301,null,53.784233011132272,53.784233011132272,53.784233011132272,53.784233011132272,53.784233011132272,53.784233011132272,53.784233011132272,53.784233011132272,53.784233011132272,53.784233011132272,53.784233011132272,53.784233011132272,null,null,null,null,null,null,{"$f":"milk!G49","v":53.784233011132301},{"$f":"milk!H49","v":53.784233011132301},{"$f":"milk!I49","v":53.784233011132301},{"$f":"milk!J49","v":53.784233011132301},{"$f":"milk!K49","v":53.784233011132301},{"$f":"milk!L49","v":53.784233011132301},{"$f":"milk!M49","v":53.784233011132301},{"$f":"milk!N49","v":53.784233011132301},{"$f":"milk!O49","v":53.784233011132301},{"$f":"milk!P49","v":53.784233011132301},{"$f":"milk!Q49","v":53.784233011132301},{"$f":"milk!R49","v":53.784233011132301}]
[null,null,"milk","",49.394663563242098,49.394663563242098,49.394663563242098,49.394663563242098,49.394663563242098,49.394663563242098,49.394663563242098,49.394663563242098,49.394663563242098,49.394663563242098,49.394663563242098,49.394663563242098,null,49.394663563242091,49.394663563242091,49.394663563242091,49.394663563242091,49.394663563242091,49.394663563242091,49.394663563242091,49.394663563242091,49.394663563242091,49.394663563242091,49.394663563242091,49.394663563242091,null,null,null,null,null,null,{"$f":"milk!G50","v":49.394663563242098},{"$f":"milk!H50","v":49.394663563242098},{"$f":"milk!I50","v":49.394663563242098},{"$f":"milk!J50","v":49.394663563242098},{"$f":"milk!K50","v":49.394663563242098},{"$f":"milk!L50","v":49.394663563242098},{"$f":"milk!M50","v":49.394663563242098},{"$f":"milk!N50","v":49.394663563242098},{"$f":"milk!O50","v":49.394663563242098},{"$f":"milk!P50","v":49.394663563242098},{"$f":"milk!Q50","v":49.394663563242098},{"$f":"milk!R50","v":49.394663563242098}]
[null,null,"milk","",45.308230005824001,45.308230005824001,45.308230005824001,45.308230005824001,45.308230005824001,45.308230005824001,45.308230005824001,45.308230005824001,45.308230005824001,45.308230005824001,45.308230005824001,45.308230005824001,null,45.308230005824001,45.308230005824001,45.308230005824001,45.308230005824001,45.308230005824001,45.308230005824001,45.308230005824001,45.308230005824001,45.308230005824001,45.308230005824001,45.308230005824001,45.308230005824001,null,null,null,null,null,null,{"$f":"milk!G51","v":45.308230005824001},{"$f":"milk!H51","v":45.308230005824001},{"$f":"milk!I51","v":45.308230005824001},{"$f":"milk!J51","v":45.308230005824001},{"$f":"milk!K51","v":45.308230005824001},{"$f":"milk!L51","v":45.308230005824001},{"$f":"milk!M51","v":45.308230005824001},{"$f":"milk!N51","v":45.308230005824001},{"$f":"milk!O51","v":45.308230005824001},{"$f":"milk!P51","v":45.308230005824001},{"$f":"milk!Q51","v":45.308230005824001},{"$f":"milk!R51","v":45.308230005824001}]
[null,null,"milk","",41.515688205529202,41.515688205529202,41.515688205529202,41.515688205529202,41.515688205529202,41.515688205529202,41.515688205529202,41.515688205529202,41.515688205529202,41.515688205529202,41.515688205529202,41.515688205529202,null,41.515688205529152,41.515688205529152,41.515688205529152,41.515688205529152,41.515688205529152,41.515688205529152,41.515688205529152,41.515688205529152,41.515688205529152,41.515688205529152,41.515688205529152,41.515688205529152,null,null,null,null,null,null,{"$f":"milk!G52","v":41.515688205529202},{"$f":"milk!H52","v":41.515688205529202},{"$f":"milk!I52","v":41.515688205529202},{"$f":"milk!J52","v":41.515688205529202},{"$f":"milk!K52","v":41.515688205529202},{"$f":"milk!L52","v":41.515688205529202},{"$f":"milk!M52","v":41.515688205529202},{"$f":"milk!N52","v":41.515688205529202},{"$f":"milk!O52","v":41.515688205529202},{"$f":"milk!P52","v":41.515688205529202},{"$f":"milk!Q52","v":41.515688205529202},{"$f":"milk!R52","v":41.515688205529202}]
[null,null,"milk","",38.004923318848803,38.004923318848803,38.004923318848803,38.004923318848803,38.004923318848803,38.004923318848803,38.004923318848803,38.004923318848803,38.004923318848803,38.004923318848803,38.004923318848803,38.004923318848803,null,38.004923318848761,38.004923318848761,38.004923318848761,38.004923318848761,38.004923318848761,38.004923318848761,38.004923318848761,38.004923318848761,38.004923318848761,38.004923318848761,38.004923318848761,38.004923318848761,null,null,null,null,null,null,{"$f":"milk!G53","v":38.004923318848803},{"$f":"milk!H53","v":38.004923318848803},{"$f":"milk!I53","v":38.004923318848803},{"$f":"milk!J53","v":38.004923318848803},{"$f":"milk!K53","v":38.004923318848803},{"$f":"milk!L53","v":38.004923318848803},{"$f":"milk!M53","v":38.004923318848803},{"$f":"milk!N53","v":38.004923318848803},{"$f":"milk!O53","v":38.004923318848803},{"$f":"milk!P53","v":38.004923318848803},{"$f":"milk!Q53","v":38.004923318848803},{"$f":"milk!R53","v":38.004923318848803}]
[null,null,"milk","",34.762041306305001,34.762041306305001,34.762041306305001,34.762041306305001,34.762041306305001,34.762041306305001,34.762041306305001,34.762041306305001,34.762041306305001,34.762041306305001,34.762041306305001,34.762041306305001,null,34.762041306304958,34.762041306304958,34.762041306304958,34.762041306304958,34.762041306304958,34.762041306304958,34.762041306304958,34.762041306304958,34.762041306304958,34.762041306304958,34.762041306304958,34.762041306304958,null,null,null,null,null,null,{"$f":"milk!G54","v":34.762041306305001},{"$f":"milk!H54","v":34.762041306305001},{"$f":"milk!I54","v":34.762041306305001},{"$f":"milk!J54","v":34.762041306305001},{"$f":"milk!K54","v":34.762041306305001},{"$f":"milk!L54","v":34.762041306305001},{"$f":"milk!M54","v":34.762041306305001},{"$f":"milk!N54","v":34.762041306305001},{"$f":"milk!O54","v":34.762041306305001},{"$f":"milk!P54","v":34.762041306305001},{"$f":"milk!Q54","v":34.762041306305001},{"$f":"milk!R54","v":34.762041306305001}]
[null,null,"milk","",31.7721517964554,31.7721517964554,31.7721517964554,31.7721517964554,31.7721517964554,31.7721517964554,31.7721517964554,31.7721517964554,31.7721517964554,31.7721517964554,31.7721517964554,31.7721517964554,null,31.772151796455425,31.772151796455425,31.772151796455425,31.772151796455425,31.772151796455425,31.772151796455425,31.772151796455425,31.772151796455425,31.772151796455425,31.772151796455425,31.772151796455425,31.772151796455425,null,null,null,null,null,null,{"$f":"milk!G55","v":31.7721517964554},{"$f":"milk!H55","v":31.7721517964554},{"$f":"milk!I55","v":31.7721517964554},{"$f":"milk!J55","v":31.7721517964554},{"$f":"milk!K55","v":31.7721517964554},{"$f":"milk!L55","v":31.7721517964554},{"$f":"milk!M55","v":31.7721517964554},{"$f":"milk!N55","v":31.7721517964554},{"$f":"milk!O55","v":31.7721517964554},{"$f":"milk!P55","v":31.7721517964554},{"$f":"milk!Q55","v":31.7721517964554},{"$f":"milk!R55","v":31.7721517964554}]
[null,null,"milk","",29.019929952484201,29.019929952484201,29.019929952484201,29.019929952484201,29.019929952484201,29.019929952484201,29.019929952484201,29.019929952484201,29.019929952484201,29.019929952484201,29.019929952484201,29.019929952484201,null,29.019929952484173,29.019929952484173,29.019929952484173,29.019929952484173,29.019929952484173,29.019929952484173,29.019929952484173,29.019929952484173,29.019929952484173,29.019929952484173,29.019929952484173,29.019929952484173,null,null,null,null,null,null,{"$f":"milk!G56","v":29.019929952484201},{"$f":"milk!H56","v":29.019929952484201},{"$f":"milk!I56","v":29.019929952484201},{"$f":"milk!J56","v":29.019929952484201},{"$f":"milk!K56","v":29.019929952484201},{"$f":"milk!L56","v":29.019929952484201},{"$f":"milk!M56","v":29.019929952484201},{"$f":"milk!N56","v":29.019929952484201},{"$f":"milk!O56","v":29.019929952484201},{"$f":"milk!P56","v":29.019929952484201},{"$f":"milk!Q56","v":29.019929952484201},{"$f":"milk!R56","v":29.019929952484201}]
[null,null,"milk","",26.490018089881399,26.490018089881399,26.490018089881399,26.490018089881399,26.490018089881399,26.490018089881399,26.490018089881399,26.490018089881399,26.490018089881399,26.490018089881399,26.490018089881399,26.490018089881399,null,26.490018089881399,26.490018089881399,26.490018089881399,26.490018089881399,26.490018089881399,26.490018089881399,26.490018089881399,26.490018089881399,26.490018089881399,26.490018089881399,26.490018089881399,26.490018089881399,null,null,null,null,null,null,{"$f":"milk!G57","v":26.490018089881399},{"$f":"milk!H57","v":26.490018089881399},{"$f":"milk!I57","v":26.490018089881399},{"$f":"milk!J57","v":26.490018089881399},{"$f":"milk!K57","v":26.490018089881399},{"$f":"milk!L57","v":26.490018089881399},{"$f":"milk!M57","v":26.490018089881399},{"$f":"milk!N57","v":26.490018089881399},{"$f":"milk!O57","v":26.490018089881399},{"$f":"milk!P57","v":26.490018089881399},{"$f":"milk!Q57","v":26.490018089881399},{"$f":"milk!R57","v":26.490018089881399}]
[null,null,"milk","",24.167309952636899,24.167309952636899,24.167309952636899,24.167309952636899,24.167309952636899,24.167309952636899,24.167309952636899,24.167309952636899,24.167309952636899,24.167309952636899,24.167309952636899,24.167309952636899,null,24.167309952636852,24.167309952636852,24.167309952636852,24.167309952636852,24.167309952636852,24.167309952636852,24.167309952636852,24.167309952636852,24.167309952636852,24.167309952636852,24.167309952636852,24.167309952636852,null,null,null,null,null,null,{"$f":"milk!G58","v":24.167309952636899},{"$f":"milk!H58","v":24.167309952636899},{"$f":"milk!I58","v":24.167309952636899},{"$f":"milk!J58","v":24.167309952636899},{"$f":"milk!K58","v":24.167309952636899},{"$f":"milk!L58","v":24.167309952636899},{"$f":"milk!M58","v":24.167309952636899},{"$f":"milk!N58","v":24.167309952636899},{"$f":"milk!O58","v":24.167309952636899},{"$f":"milk!P58","v":24.167309952636899},{"$f":"milk!Q58","v":24.167309952636899},{"$f":"milk!R58","v":24.167309952636899}]
[null,null,"milk","",22.037148447132399,22.037148447132399,22.037148447132399,22.037148447132399,22.037148447132399,22.037148447132399,22.037148447132399,22.037148447132399,22.037148447132399,22.037148447132399,22.037148447132399,22.037148447132399,null,22.037148447132413,22.037148447132413,22.037148447132413,22.037148447132413,22.037148447132413,22.037148447132413,22.037148447132413,22.037148447132413,22.037148447132413,22.037148447132413,22.037148447132413,22.037148447132413,null,null,null,null,null,null,{"$f":"milk!G59","v":22.037148447132399},{"$f":"milk!H59","v":22.037148447132399},{"$f":"milk!I59","v":22.037148447132399},{"$f":"milk!J59","v":22.037148447132399},{"$f":"milk!K59","v":22.037148447132399},{"$f":"milk!L59","v":22.037148447132399},{"$f":"milk!M59","v":22.037148447132399},{"$f":"milk!N59","v":22.037148447132399},{"$f":"milk!O59","v":22.037148447132399},{"$f":"milk!P59","v":22.037148447132399},{"$f":"milk!Q59","v":22.037148447132399},{"$f":"milk!R59","v":22.037148447132399}]
[null,null,"milk","","Lactation 3",null,null,null,null,null,null,null,null,null,null,null,null,"Lactation 3",null,null,null,null,null,null,null,null,null,null,null,null,null,null,null,null,null,{"$f":"milk!G61","v":"Lactation 3"}]
[null,null,"milk","","Jan","Feb","Mar","Apr","May","Jun","Jul","Aug","Sep","Oct","Nov","Dec",null,"Jan","Feb","Mar","Apr","May","Jun","Jul","Aug","Sep","Oct","Nov","Dec",null,null,null,null,null,null,{"$f":"milk!G62","v":"Jan"},{"$f":"milk!H62","v":"Feb"},{"$f":"milk!I62","v":"Mar"},{"$f":"milk!J62","v":"Apr"},{"$f":"milk!K62","v":"May"},{"$f":"milk!L62","v":"Jun"},{"$f":"milk!M62","v":"Jul"},{"$f":"milk!N62","v":"Aug"},{"$f":"milk!O62","v":"Sep"},{"$f":"milk!P62","v":"Oct"},{"$f":"milk!Q62","v":"Nov"},{"$f":"milk!R62","v":"Dec"}]
[null,null,"milk","",95.346042037239201,95.346042037239201,95.346042037239201,95.346042037239201,95.346042037239201,95.346042037239201,95.346042037239201,95.346042037239201,95.346042037239201,95.346042037239201,95.346042037239201,95.346042037239201,null,95.346042037239158,95.346042037239158,95.346042037239158,95.346042037239158,95.346042037239158,95.346042037239158,95.346042037239158,95.346042037239158,95.346042037239158,95.346042037239158,95.346042037239158,95.346042037239158,null,null,null,null,null,null,{"$f":"milk!G63","v":95.346042037239201},{"$f":"milk!H63","v":95.346042037239201},{"$f":"milk!I63","v":95.346042037239201},{"$f":"milk!J63","v":95.346042037239201},{"$f":"milk!K63","v":95.346042037239201},{"$f":"milk!L63","v":95.346042037239201},{"$f":"milk!M63","v":95.346042037239201},{"$f":"milk!N63","v":95.346042037239201},{"$f":"milk!O63","v":95.346042037239201},{"$f":"milk!P63","v":95.346042037239201},{"$f":"milk!Q63","v":95.346042037239201},{"$f":"milk!R63","v":95.346042037239201}]
[null,null,"milk","",112.816871003835,112.816871003835,112.816871003835,112.816871003835,112.816871003835,112.816871003835,112.816871003835,112.816871003835,112.816871003835,112.816871003835,112.816871003835,112.816871003835,null,112.81687100383465,112.81687100383465,112.81687100383465,112.81687100383465,112.81687100383465,112.81687100383465,112.81687100383465,112.81687100383465,112.81687100383465,112.81687100383465,112.81687100383465,112.81687100383465,null,null,null,null,null,null,{"$f":"milk!G64","v":112.816871003835},{"$f":"milk!H64","v":112.816871003835},{"$f":"milk!I64","v":112.816871003835},{"$f":"milk!J64","v":112.816871003835},{"$f":"milk!K64","v":112.816871003835},{"$f":"milk!L64","v":112.816871003835},{"$f":"milk!M64","v":112.816871003835},{"$f":"milk!N64","v":112.816871003835},{"$f":"milk!O64","v":112.816871003835},{"$f":"milk!P64","v":112.816871003835},{"$f":"milk!Q64","v":112.816871003835},{"$f":"milk!R64","v":112.816871003835}]
[null,null,"milk","",115.24638323304301,115.24638323304301,115.24638323304301,115.24638323304301,115.24638323304301,115.24638323304301,115.24638323304301,115.24638323304301,115.24638323304301,115.24638323304301,115.24638323304301,115.24638323304301,null,115.2463832330433,115.2463832330433,115.2463832330433,115.2463832330433,115.2463832330433,115.2463832330433,115.2463832330433,115.2463832330433,115.2463832330433,115.2463832330433,115.2463832330433,115.2463832330433,null,null,null,null,null,null,{"$f":"milk!G65","v":115.24638323304301},{"$f":"milk!H65","v":115.24638323304301},{"$f":"milk!I65","v":115.24638323304301},{"$f":"milk!J65","v":115.24638323304301},{"$f":"milk!K65","v":115.24638323304301},{"$f":"milk!L65","v":115.24638323304301},{"$f":"milk!M65","v":115.24638323304301},{"$f":"milk!N65","v":115.24638323304301},{"$f":"milk!O65","v":115.24638323304301},{"$f":"milk!P65","v":115.24638323304301},{"$f":"milk!Q65","v":115.24638323304301},{"$f":"milk!R65","v":115.24638323304301}]
[null,null,"milk","",112.70686787317101,112.70686787317101,112.70686787317101,112.70686787317101,112.70686787317101,112.70686787317101,112.70686787317101,112.70686787317101,112.70686787317101,112.70686787317101,112.70686787317101,112.70686787317101,null,112.7068678731713,112.7068678731713,112.7068678731713,112.7068678731713,112.7068678731713,112.7068678731713,112.7068678731713,112.7068678731713,112.7068678731713,112.7068678731713,112.7068678731713,112.7068678731713,null,null,null,null,null,null,{"$f":"milk!G66","v":112.70686787317101},{"$f":"milk!H66","v":112.70686787317101},{"$f":"milk!I66","v":112.70686787317101},{"$f":"milk!J66","v":112.70686787317101},{"$f":"milk!K66","v":112.70686787317101},{"$f":"milk!L66","v":112.70686787317101},{"$f":"milk!M66","v":112.70686787317101},{"$f":"milk!N66","v":112.70686787317101},{"$f":"milk!O66","v":112.70686787317101},{"$f":"milk!P66","v":112.70686787317101},{"$f":"milk!Q66","v":112.70686787317101},{"$f":"milk!R66","v":112.70686787317101}]
[null,null,"milk","",107.901520690724,107.901520690724,107.901520690724,107.901520690724,107.901520690724,107.901520690724,107.901520690724,107.901520690724,107.901520690724,107.901520690724,107.901520690724,107.901520690724,null,107.9015206907235,107.9015206907235,107.9015206907235,107.9015206907235,107.9015206907235,107.9015206907235,107.9015206907235,107.9015206907235,107.9015206907235,107.9015206907235,107.9015206907235,107.9015206907235,null,null,null,null,null,null,{"$f":"milk!G67","v":107.901520690724},{"$f":"milk!H67","v":107.901520690724},{"$f":"milk!I67","v":107.901520690724},{"$f":"milk!J67","v":107.901520690724},{"$f":"milk!K67","v":107.901520690724},{"$f":"milk!L67","v":107.901520690724},{"$f":"milk!M67","v":107.901520690724},{"$f":"milk!N67","v":107.901520690724},{"$f":"milk!O67","v":107.901520690724},{"$f":"milk!P67","v":107.901520690724},{"$f":"milk!Q67","v":107.901520690724},{"$f":"milk!R67","v":107.901520690724}]
[null,null,"milk","",102.001410288806,102.001410288806,102.001410288806,102.001410288806,102.001410288806,102.001410288806,102.001410288806,102.001410288806,102.001410288806,102.001410288806,102.001410288806,102.001410288806,null,102.00141028880601,102.00141028880601,102.00141028880601,102.00141028880601,102.00141028880601,102.00141028880601,102.00141028880601,102.00141028880601,102.00141028880601,102.00141028880601,102.00141028880601,102.00141028880601,null,null,null,null,null,null,{"$f":"milk!G68","v":102.001410288806},{"$f":"milk!H68","v":102.001410288806},{"$f":"milk!I68","v":102.001410288806},{"$f":"milk!J68","v":102.001410288806},{"$f":"milk!K68","v":102.001410288806},{"$f":"milk!L68","v":102.001410288806},{"$f":"milk!M68","v":102.001410288806},{"$f":"milk!N68","v":102.001410288806},{"$f":"milk!O68","v":102.001410288806},{"$f":"milk!P68","v":102.001410288806},{"$f":"milk!Q68","v":102.001410288806},{"$f":"milk!R68","v":102.001410288806}]
[null,null,"milk","",95.616955270286596,95.616955270286596,95.616955270286596,95.616955270286596,95.616955270286596,95.616955270286596,95.616955270286596,95.616955270286596,95.616955270286596,95.616955270286596,95.616955270286596,95.616955270286596,null,95.616955270286596,95.616955270286596,95.616955270286596,95.616955270286596,95.616955270286596,95.616955270286596,95.616955270286596,95.616955270286596,95.616955270286596,95.616955270286596,95.616955270286596,95.616955270286596,null,null,null,null,null,null,{"$f":"milk!G69","v":95.616955270286596},{"$f":"milk!H69","v":95.616955270286596},{"$f":"milk!I69","v":95.616955270286596},{"$f":"milk!J69","v":95.616955270286596},{"$f":"milk!K69","v":95.616955270286596},{"$f":"milk!L69","v":95.616955270286596},{"$f":"milk!M69","v":95.616955270286596},{"$f":"milk!N69","v":95.616955270286596},{"$f":"milk!O69","v":95.616955270286596},{"$f":"milk!P69","v":95.616955270286596},{"$f":"milk!Q69","v":95.616955270286596},{"$f":"milk!R69","v":95.616955270286596}]
[null,null," milk ",1,89.096973961338406,89.096973961338406,89.096973961338406,89.096973961338406,89.096973961338406,89.096973961338406,89.096973961338406,89.096973961338406,89.096973961338406,89.096973961338406,89.096973961338406,89.096973961338406,null,89.09697396133835,89.09697396133835,89.09697396133835,89.09697396133835,89.09697396133835,89.09697396133835,89.09697396133835,89.09697396133835,89.09697396133835,89.09697396133835,89.09697396133835,89.09697396133835,null,null,null,null,null,null,{"$f":"milk!G70","v":89.096973961338406},{"$f":"milk!H70","v":89.096973961338406},{"$f":"milk!I70","v":89.096973961338406},{"$f":"milk!J70","v":89.096973961338406},{"$f":"milk!K70","v":89.096973961338406},{"$f":"milk!L70","v":89.096973961338406},{"$f":"milk!M70","v":89.096973961338406},{"$f":"milk!N70","v":89.096973961338406},{"$f":"milk!O70","v":89.096973961338406},{"$f":"milk!P70","v":89.096973961338406},{"$f":"milk!Q70","v":89.096973961338406},{"$f":"milk!R70","v":89.096973961338406}]
[null,null,"milk","",82.650110180537098,82.650110180537098,82.650110180537098,82.650110180537098,82.650110180537098,82.650110180537098,82.650110180537098,82.650110180537098,82.650110180537098,82.650110180537098,82.650110180537098,82.650110180537098,null,82.650110180537112,82.650110180537112,82.650110180537112,82.650110180537112,82.650110180537112,82.650110180537112,82.650110180537112,82.650110180537112,82.650110180537112,82.650110180537112,82.650110180537112,82.650110180537112,null,null,null,null,null,null,{"$f":"milk!G71","v":82.650110180537098},{"$f":"milk!H71","v":82.650110180537098},{"$f":"milk!I71","v":82.650110180537098},{"$f":"milk!J71","v":82.650110180537098},{"$f":"milk!K71","v":82.650110180537098},{"$f":"milk!L71","v":82.650110180537098},{"$f":"milk!M71","v":82.650110180537098},{"$f":"milk!N71","v":82.650110180537098},{"$f":"milk!O71","v":82.650110180537098},{"$f":"milk!P71","v":82.650110180537098},{"$f":"milk!Q71","v":82.650110180537098},{"$f":"milk!R71","v":82.650110180537098}]
[null,null,"milk","",76.403046126361303,76.403046126361303,76.403046126361303,76.403046126361303,76.403046126361303,76.403046126361303,76.403046126361303,76.403046126361303,76.403046126361303,76.403046126361303,76.403046126361303,76.403046126361303,null,76.403046126361318,76.403046126361318,76.403046126361318,76.403046126361318,76.403046126361318,76.403046126361318,76.403046126361318,76.403046126361318,76.403046126361318,76.403046126361318,76.403046126361318,76.403046126361318,null,null,null,null,null,null,{"$f":"milk!G72","v":76.403046126361303},{"$f":"milk!H72","v":76.403046126361303},{"$f":"milk!I72","v":76.403046126361303},{"$f":"milk!J72","v":76.403046126361303},{"$f":"milk!K72","v":76.403046126361303},{"$f":"milk!L72","v":76.403046126361303},{"$f":"milk!M72","v":76.403046126361303},{"$f":"milk!N72","v":76.403046126361303},{"$f":"milk!O72","v":76.403046126361303},{"$f":"milk!P72","v":76.403046126361303},{"$f":"milk!Q72","v":76.403046126361303},{"$f":"milk!R72","v":76.403046126361303}]
[null,null,"milk","",70.4316989346041,70.4316989346041,70.4316989346041,70.4316989346041,70.4316989346041,70.4316989346041,70.4316989346041,70.4316989346041,70.4316989346041,70.4316989346041,70.4316989346041,70.4316989346041,null,70.431698934604128,70.431698934604128,70.431698934604128,70.431698934604128,70.431698934604128,70.431698934604128,70.431698934604128,70.431698934604128,70.431698934604128,70.431698934604128,70.431698934604128,70.431698934604128,null,null,null,null,null,null,{"$f":"milk!G73","v":70.4316989346041},{"$f":"milk!H73","v":70.4316989346041},{"$f":"milk!I73","v":70.4316989346041},{"$f":"milk!J73","v":70.4316989346041},{"$f":"milk!K73","v":70.4316989346041},{"$f":"milk!L73","v":70.4316989346041},{"$f":"milk!M73","v":70.4316989346041},{"$f":"milk!N73","v":70.4316989346041},{"$f":"milk!O73","v":70.4316989346041},{"$f":"milk!P73","v":70.4316989346041},{"$f":"milk!Q73","v":70.4316989346041},{"$f":"milk!R73","v":70.4316989346041}]
[null,null,"milk","",64.779317325335299,64.779317325335299,64.779317325335299,64.779317325335299,64.779317325335299,64.779317325335299,64.779317325335299,64.779317325335299,64.779317325335299,64.779317325335299,64.779317325335299,64.779317325335299,null,64.779317325335342,64.779317325335342,64.779317325335342,64.779317325335342,64.779317325335342,64.779317325335342,64.779317325335342,64.779317325335342,64.779317325335342,64.779317325335342,64.779317325335342,64.779317325335342,null,null,null,null,null,null,{"$f":"milk!G74","v":64.779317325335299},{"$f":"milk!H74","v":64.779317325335299},{"$f":"milk!I74","v":64.779317325335299},{"$f":"milk!J74","v":64.779317325335299},{"$f":"milk!K74","v":64.779317325335299},{"$f":"milk!L74","v":64.779317325335299},{"$f":"milk!M74","v":64.779317325335299},{"$f":"milk!N74","v":64.779317325335299},{"$f":"milk!O74","v":64.779317325335299},{"$f":"milk!P74","v":64.779317325335299},{"$f":"milk!Q74","v":64.779317325335299},{"$f":"milk!R74","v":64.779317325335299}]
[null,null,"milk","",59.467608988236499,59.467608988236499,59.467608988236499,59.467608988236499,59.467608988236499,59.467608988236499,59.467608988236499,59.467608988236499,59.467608988236499,59.467608988236499,59.467608988236499,59.467608988236499,null,59.46760898823652,59.46760898823652,59.46760898823652,59.46760898823652,59.46760898823652,59.46760898823652,59.46760898823652,59.46760898823652,59.46760898823652,59.46760898823652,59.46760898823652,59.46760898823652,null,null,null,null,null,null,{"$f":"milk!G75","v":59.467608988236499},{"$f":"milk!H75","v":59.467608988236499},{"$f":"milk!I75","v":59.467608988236499},{"$f":"milk!J75","v":59.467608988236499},{"$f":"milk!K75","v":59.467608988236499},{"$f":"milk!L75","v":59.467608988236499},{"$f":"milk!M75","v":59.467608988236499},{"$f":"milk!N75","v":59.467608988236499},{"$f":"milk!O75","v":59.467608988236499},{"$f":"milk!P75","v":59.467608988236499},{"$f":"milk!Q75","v":59.467608988236499},{"$f":"milk!R75","v":59.467608988236499}]
[null,null,"milk","",54.503887960583803,54.503887960583803,54.503887960583803,54.503887960583803,54.503887960583803,54.503887960583803,54.503887960583803,54.503887960583803,54.503887960583803,54.503887960583803,54.503887960583803,54.503887960583803,null,54.503887960583803,54.503887960583803,54.503887960583803,54.503887960583803,54.503887960583803,54.503887960583803,54.503887960583803,54.503887960583803,54.503887960583803,54.503887960583803,54.503887960583803,54.503887960583803,null,null,null,null,null,null,{"$f":"milk!G76","v":54.503887960583803},{"$f":"milk!H76","v":54.503887960583803},{"$f":"milk!I76","v":54.503887960583803},{"$f":"milk!J76","v":54.503887960583803},{"$f":"milk!K76","v":54.503887960583803},{"$f":"milk!L76","v":54.503887960583803},{"$f":"milk!M76","v":54.503887960583803},{"$f":"milk!N76","v":54.503887960583803},{"$f":"milk!O76","v":54.503887960583803},{"$f":"milk!P76","v":54.503887960583803},{"$f":"milk!Q76","v":54.503887960583803},{"$f":"milk!R76","v":54.503887960583803}]
[null,null,"milk","",49.885819242196,49.885819242196,49.885819242196,49.885819242196,49.885819242196,49.885819242196,49.885819242196,49.885819242196,49.885819242196,49.885819242196,49.885819242196,49.885819242196,null,49.885819242195971,49.885819242195971,49.885819242195971,49.885819242195971,49.885819242195971,49.885819242195971,49.885819242195971,49.885819242195971,49.885819242195971,49.885819242195971,49.885819242195971,49.885819242195971,null,null,null,null,null,null,{"$f":"milk!G77","v":49.885819242196},{"$f":"milk!H77","v":49.885819242196},{"$f":"milk!I77","v":49.885819242196},{"$f":"milk!J77","v":49.885819242196},{"$f":"milk!K77","v":49.885819242196},{"$f":"milk!L77","v":49.885819242196},{"$f":"milk!M77","v":49.885819242196},{"$f":"milk!N77","v":49.885819242196},{"$f":"milk!O77","v":49.885819242196},{"$f":"milk!P77","v":49.885819242196},{"$f":"milk!Q77","v":49.885819242196},{"$f":"milk!R77","v":49.885819242196}]
[null,null,"milk","",45.604647148142298,45.604647148142298,45.604647148142298,45.604647148142298,45.604647148142298,45.604647148142298,45.604647148142298,45.604647148142298,45.604647148142298,45.604647148142298,45.604647148142298,45.604647148142298,null,45.604647148142327,45.604647148142327,45.604647148142327,45.604647148142327,45.604647148142327,45.604647148142327,45.604647148142327,45.604647148142327,45.604647148142327,45.604647148142327,45.604647148142327,45.604647148142327,null,null,null,null,null,null,{"$f":"milk!G78","v":45.604647148142298},{"$f":"milk!H78","v":45.604647148142298},{"$f":"milk!I78","v":45.604647148142298},{"$f":"milk!J78","v":45.604647148142298},{"$f":"milk!K78","v":45.604647148142298},{"$f":"milk!L78","v":45.604647148142298},{"$f":"milk!M78","v":45.604647148142298},{"$f":"milk!N78","v":45.604647148142298},{"$f":"milk!O78","v":45.604647148142298},{"$f":"milk!P78","v":45.604647148142298},{"$f":"milk!Q78","v":45.604647148142298},{"$f":"milk!R78","v":45.604647148142298}]
[null,null,"milk","",41.647432069435503,41.647432069435503,41.647432069435503,41.647432069435503,41.647432069435503,41.647432069435503,41.647432069435503,41.647432069435503,41.647432069435503,41.647432069435503,41.647432069435503,41.647432069435503,null,41.647432069435524,41.647432069435524,41.647432069435524,41.647432069435524,41.647432069435524,41.647432069435524,41.647432069435524,41.647432069435524,41.647432069435524,41.647432069435524,41.647432069435524,41.647432069435524,null,null,null,null,null,null,{"$f":"milk!G79","v":41.647432069435503},{"$f":"milk!H79","v":41.647432069435503},{"$f":"milk!I79","v":41.647432069435503},{"$f":"milk!J79","v":41.647432069435503},{"$f":"milk!K79","v":41.647432069435503},{"$f":"milk!L79","v":41.647432069435503},{"$f":"milk!M79","v":41.647432069435503},{"$f":"milk!N79","v":41.647432069435503},{"$f":"milk!O79","v":41.647432069435503},{"$f":"milk!P79","v":41.647432069435503},{"$f":"milk!Q79","v":41.647432069435503},{"$f":"milk!R79","v":41.647432069435503}]
[null,null,"milk","",37.998619750911999,37.998619750911999,37.998619750911999,37.998619750911999,37.998619750911999,37.998619750911999,37.998619750911999,37.998619750911999,37.998619750911999,37.998619750911999,37.998619750911999,37.998619750911999,null,37.998619750911971,37.998619750911971,37.998619750911971,37.998619750911971,37.998619750911971,37.998619750911971,37.998619750911971,37.998619750911971,37.998619750911971,37.998619750911971,37.998619750911971,37.998619750911971,null,null,null,null,null,null,{"$f":"milk!G80","v":37.998619750911999},{"$f":"milk!H80","v":37.998619750911999},{"$f":"milk!I80","v":37.998619750911999},{"$f":"milk!J80","v":37.998619750911999},{"$f":"milk!K80","v":37.998619750911999},{"$f":"milk!L80","v":37.998619750911999},{"$f":"milk!M80","v":37.998619750911999},{"$f":"milk!N80","v":37.998619750911999},{"$f":"milk!O80","v":37.998619750911999},{"$f":"milk!P80","v":37.998619750911999},{"$f":"milk!Q80","v":37.998619750911999},{"$f":"milk!R80","v":37.998619750911999}]
[null,null,"milk","",34.641150615001798,34.641150615001798,34.641150615001798,34.641150615001798,34.641150615001798,34.641150615001798,34.641150615001798,34.641150615001798,34.641150615001798,34.641150615001798,34.641150615001798,34.641150615001798,null,34.641150615001784,34.641150615001784,34.641150615001784,34.641150615001784,34.641150615001784,34.641150615001784,34.641150615001784,34.641150615001784,34.641150615001784,34.641150615001784,34.641150615001784,34.641150615001784,null,null,null,null,null,null,{"$f":"milk!G81","v":34.641150615001798},{"$f":"milk!H81","v":34.641150615001798},{"$f":"milk!I81","v":34.641150615001798},{"$f":"milk!J81","v":34.641150615001798},{"$f":"milk!K81","v":34.641150615001798},{"$f":"milk!L81","v":34.641150615001798},{"$f":"milk!M81","v":34.641150615001798},{"$f":"milk!N81","v":34.641150615001798},{"$f":"milk!O81","v":34.641150615001798},{"$f":"milk!P81","v":34.641150615001798},{"$f":"milk!Q81","v":34.641150615001798},{"$f":"milk!R81","v":34.641150615001798}]
[null,null,"milk","",31.557246096870401,31.557246096870401,31.557246096870401,31.557246096870401,31.557246096870401,31.557246096870401,31.557246096870401,31.557246096870401,31.557246096870401,31.557246096870401,31.557246096870401,31.557246096870401,null,31.557246096870383,31.557246096870383,31.557246096870383,31.557246096870383,31.557246096870383,31.557246096870383,31.557246096870383,31.557246096870383,31.557246096870383,31.557246096870383,31.557246096870383,31.557246096870383,null,null,null,null,null,null,{"$f":"milk!G82","v":31.557246096870401},{"$f":"milk!H82","v":31.557246096870401},{"$f":"milk!I82","v":31.557246096870401},{"$f":"milk!J82","v":31.557246096870401},{"$f":"milk!K82","v":31.557246096870401},{"$f":"milk!L82","v":31.557246096870401},{"$f":"milk!M82","v":31.557246096870401},{"$f":"milk!N82","v":31.557246096870401},{"$f":"milk!O82","v":31.557246096870401},{"$f":"milk!P82","v":31.557246096870401},{"$f":"milk!Q82","v":31.557246096870401},{"$f":"milk!R82","v":31.557246096870401}]
[null,null,"milk","",28.7289647341033,28.7289647341033,28.7289647341033,28.7289647341033,28.7289647341033,28.7289647341033,28.7289647341033,28.7289647341033,28.7289647341033,28.7289647341033,28.7289647341033,28.7289647341033,null,28.728964734103293,28.728964734103293,28.728964734103293,28.728964734103293,28.728964734103293,28.728964734103293,28.728964734103293,28.728964734103293,28.728964734103293,28.728964734103293,28.728964734103293,28.728964734103293,null,null,null,null,null,null,{"$f":"milk!G83","v":28.7289647341033},{"$f":"milk!H83","v":28.7289647341033},{"$f":"milk!I83","v":28.7289647341033},{"$f":"milk!J83","v":28.7289647341033},{"$f":"milk!K83","v":28.7289647341033},{"$f":"milk!L83","v":28.7289647341033},{"$f":"milk!M83","v":28.7289647341033},{"$f":"milk!N83","v":28.7289647341033},{"$f":"milk!O83","v":28.7289647341033},{"$f":"milk!P83","v":28.7289647341033},{"$f":"milk!Q83","v":28.7289647341033},{"$f":"milk!R83","v":28.7289647341033}]
[null,null,"milk","",26.138592191810499,26.138592191810499,26.138592191810499,26.138592191810499,26.138592191810499,26.138592191810499,26.138592191810499,26.138592191810499,26.138592191810499,26.138592191810499,26.138592191810499,26.138592191810499,null,26.138592191810542,26.138592191810542,26.138592191810542,26.138592191810542,26.138592191810542,26.138592191810542,26.138592191810542,26.138592191810542,26.138592191810542,26.138592191810542,26.138592191810542,26.138592191810542,null,null,null,null,null,null,{"$f":"milk!G84","v":26.138592191810499},{"$f":"milk!H84","v":26.138592191810499},{"$f":"milk!I84","v":26.138592191810499},{"$f":"milk!J84","v":26.138592191810499},{"$f":"milk!K84","v":26.138592191810499},{"$f":"milk!L84","v":26.138592191810499},{"$f":"milk!M84","v":26.138592191810499},{"$f":"milk!N84","v":26.138592191810499},{"$f":"milk!O84","v":26.138592191810499},{"$f":"milk!P84","v":26.138592191810499},{"$f":"milk!Q84","v":26.138592191810499},{"$f":"milk!R84","v":26.138592191810499}]
[null,null,"milk","",23.768910465704302,23.768910465704302,23.768910465704302,23.768910465704302,23.768910465704302,23.768910465704302,23.768910465704302,23.768910465704302,23.768910465704302,23.768910465704302,23.768910465704302,23.768910465704302,null,23.768910465704277,23.768910465704277,23.768910465704277,23.768910465704277,23.768910465704277,23.768910465704277,23.768910465704277,23.768910465704277,23.768910465704277,23.768910465704277,23.768910465704277,23.768910465704277,null,null,null,null,null,null,{"$f":"milk!G85","v":23.768910465704302},{"$f":"milk!H85","v":23.768910465704302},{"$f":"milk!I85","v":23.768910465704302},{"$f":"milk!J85","v":23.768910465704302},{"$f":"milk!K85","v":23.768910465704302},{"$f":"milk!L85","v":23.768910465704302},{"$f":"milk!M85","v":23.768910465704302},{"$f":"milk!N85","v":23.768910465704302},{"$f":"milk!O85","v":23.768910465704302},{"$f":"milk!P85","v":23.768910465704302},{"$f":"milk!Q85","v":23.768910465704302},{"$f":"milk!R85","v":23.768910465704302}]
[null,null,"milk","",21.6033786573025,21.6033786573025,21.6033786573025,21.6033786573025,21.6033786573025,21.6033786573025,21.6033786573025,21.6033786573025,21.6033786573025,21.6033786573025,21.6033786573025,21.6033786573025,null,21.603378657302493,21.603378657302493,21.603378657302493,21.603378657302493,21.603378657302493,21.603378657302493,21.603378657302493,21.603378657302493,21.603378657302493,21.603378657302493,21.603378657302493,21.603378657302493,null,null,null,null,null,null,{"$f":"milk!G86","v":21.6033786573025},{"$f":"milk!H86","v":21.6033786573025},{"$f":"milk!I86","v":21.6033786573025},{"$f":"milk!J86","v":21.6033786573025},{"$f":"milk!K86","v":21.6033786573025},{"$f":"milk!L86","v":21.6033786573025},{"$f":"milk!M86","v":21.6033786573025},{"$f":"milk!N86","v":21.6033786573025},{"$f":"milk!O86","v":21.6033786573025},{"$f":"milk!P86","v":21.6033786573025},{"$f":"milk!Q86","v":21.6033786573025},{"$f":"milk!R86","v":21.6033786573025}]
[null,null,{"$f":"IF(D207=1,\" milk \",\"milk\")","v":"milk"},{"$f":"IF(CONCATENATE(E207,F207,G207,H207,I207,J207,K207,L207,M207,N207,O207,P207)=CONCATENATE(R207,S207,T207,U207,V207,W207,X207,Y207,Z207,AA207,AB207,AC207),\"\",1)","v":""},"Milk yield in lactations 4+ compared to lactation 3",null,null,null,null,null,null,null,null,null,null,null,null,"Milk yield in lactations 4+ compared to lactation 3",null,null,null,null,null,null,null,null,null,null,null,null,null,null,null,null,null,{"$f":"milk!$G$88","v":"Milk yield in lactations 4+ compared to lactation 3"}]
[null,null,{"$f":"IF(D208=1,\" milk \",\"milk\")","v":"milk"},{"$f":"IF(CONCATENATE(E208,F208,G208,H208,I208,J208,K208,L208,M208,N208,O208,P208)=CONCATENATE(R208,S208,T208,U208,V208,W208,X208,Y208,Z208,AA208,AB208,AC208),\"\",1)","v":""},4,5,6,7,8,9,10,11,12,null,null,null,null,4,5,6,7,8,9,10,11,12,null,null,null,null,null,null,null,null,null,{"$f":"milk!G89","v":4},{"$f":"milk!H89","v":5},{"$f":"milk!I89","v":6},{"$f":"milk!J89","v":7},{"$f":"milk!K89","v":8},{"$f":"milk!L89","v":9},{"$f":"milk!M89","v":10},{"$f":"milk!N89","v":11},{"$f":"milk!O89","v":12}]
[null,null,{"$f":"IF(D209=1,\" milk \",\"milk\")","v":"milk"},"",1,1,1,1,1,1,1,1,1,null,null,null,null,1,1,1,1,1,1,1,1,1,null,null,null,null,null,null,null,null,null,{"$f":"milk!G90","v":1},{"$f":"milk!H90","v":1},{"$f":"milk!I90","v":1},{"$f":"milk!J90","v":1},{"$f":"milk!K90","v":1},{"$f":"milk!L90","v":1},{"$f":"milk!M90","v":1},{"$f":"milk!N90","v":1},{"$f":"milk!O90","v":1}]
[]
[null,null,{"$f":"IF(D211=1,\" repro \",\"repro\")","v":"repro"},"","REPRODUCTION",null,null,null,null,null,null,null,null,null,null,null,null,"REPRODUCTION",null,null,null,null,null,null,null,null,null,null,null,null,null,null,null,null,null,{"$f":"repro!$B$1","v":"REPRODUCTION"}]
[null,null,{"$f":"IF(D212=1,\" repro \",\"repro\")","v":"repro"},"","Breeding period",null,null,null,null,null,null,null,null,null,null,null,null,"Breeding period",null,null,null,null,null,null,null,null,null,null,null,null,null,null,null,null,null,{"$f":"repro!$J$3","v":"Breeding period"}]
[null,null,"repro","",3,"first breeding month",null,null,null,null,null,null,null,null,null,null,null,3,"first breeding month",null,null,null,null,null,null,null,null,null,null,null,null,null,null,null,null,{"$f":"repro!J4","v":3},{"$f":"repro!I4","v":"first breeding month"}]
[null,null,"repro","",3,"first breeding month",null,null,null,null,null,null,null,null,null,null,null,3,"first breeding month",null,null,null,null,null,null,null,null,null,null,null,null,null,null,null,null,{"$f":"repro!K4","v":3},{"$f":"repro!I4","v":"first breeding month"}]
[null,null,"repro","",3,"first breeding month",null,null,null,null,null,null,null,null,null,null,null,3,"first breeding month",null,null,null,null,null,null,null,null,null,null,null,null,null,null,null,null,{"$f":"repro!L4","v":3},{"$f":"repro!I4","v":"first breeding month"}]
[null,null,"repro","",16,"last breeding month",null,null,null,null,null,null,null,null,null,null,null,16,"last breeding month",null,null,null,null,null,null,null,null,null,null,null,null,null,null,null,null,{"$f":"repro!J5","v":16},{"$f":"repro!I5","v":"last breeding month"}]
[null,null,"repro","",0,"minutes labor / cow",null,null,null,null,null,null,null,null,null,null,null,0,"minutes labor / cow",null,null,null,null,null,null,null,null,null,null,null,null,null,null,null,null,{"$f":"repro!J6","v":0},{"$f":"repro!I6","v":"minutes labor / cow"}]
[null,null,{"$f":"IF(D218=1,\" repro \",\"repro\")","v":"repro"},"",20,"cost per breeding ($)",null,null,null,null,null,null,null,null,null,null,null,20,"cost per breeding ($)",null,null,null,null,null,null,null,null,null,null,null,null,null,null,null,null,{"$f":"repro!J7","v":20},{"$f":"repro!I7","v":"cost per breeding ($)"}]
[null,null,"repro","","Risk of abortion (%) per month of pregnancy",null,null,null,null,null,null,null,null,null,null,null,null,"Risk of abortion (%) per month of pregnancy",null,null,null,null,null,null,null,null,null,null,null,null,null,null,null,null,null,{"$f":"repro!N3","v":"Risk of abortion (%) per month of pregnancy"}]
[null,null,"repro","",2,3.5000000000000003E-2,null,null,null,null,null,null,null,null,null,null,null,2,3.5000000000000003E-2,null,null,null,null,null,null,null,null,null,null,null,null,null,null,null,null,{"$f":"repro!O4","v":2},{"$f":"repro!P4","v":3.5000000000000003E-2}]
[null,null,"repro","",3,2.5000000000000001E-2,null,null,null,null,null,null,null,null,null,null,null,3,2.5000000000000001E-2,null,null,null,null,null,null,null,null,null,null,null,null,null,null,null,null,{"$f":"repro!O5","v":3},{"$f":"repro!P5","v":2.5000000000000001E-2}]
[null,null,"repro",{"$f":"IF(CONCATENATE(E222,F222,G222,H222,I222,J222,K222,L222,M222,N222,O222,P222)=CONCATENATE(R222,S222,T222,U222,V222,W222,X222,Y222,Z222,AA222,AB222,AC222),\"\",1)","v":""},4,1.4999999999999999E-2,null,null,null,null,null,null,null,null,null,null,null,4,1.4999999999999999E-2,null,null,null,null,null,null,null,null,null,null,null,null,null,null,null,null,{"$f":"repro!O6","v":4},{"$f":"repro!P6","v":1.4999999999999999E-2}]
[null,null,"repro","",5,5.0000000000000001E-3,null,null,null,null,null,null,null,null,null,null,null,5,5.0000000000000001E-3,null,null,null,null,null,null,null,null,null,null,null,null,null,null,null,null,{"$f":"repro!O7","v":5},{"$f":"repro!P7","v":5.0000000000000001E-3}]
[null,null,"repro","",6,3.0000000000000001E-3,null,null,null,null,null,null,null,null,null,null,null,6,3.0000000000000001E-3,null,null,null,null,null,null,null,null,null,null,null,null,null,null,null,null,{"$f":"repro!R4","v":6},{"$f":"repro!Q4","v":3.0000000000000001E-3}]
[null,null,"repro","",7,1E-3,null,null,null,null,null,null,null,null,null,null,null,7,1E-3,null,null,null,null,null,null,null,null,null,null,null,null,null,null,null,null,{"$f":"repro!R5","v":7},{"$f":"repro!Q5","v":1E-3}]
[null,null,"repro","",8,1E-3,null,null,null,null,null,null,null,null,null,null,null,8,1E-3,null,null,null,null,null,null,null,null,null,null,null,null,null,null,null,null,{"$f":"repro!R6","v":8},{"$f":"repro!Q6","v":1E-3}]
[null,null,"repro","",0,0,null,null,null,null,null,null,null,null,null,null,null,0,0,null,null,null,null,null,null,null,null,null,null,null,null,null,null,null,null,{"$f":"repro!R7","v":0},{"$f":"repro!Q7","v":0}]
[null,null,"repro","",1,"rfunction",null,null,null,null,null,null,null,null,null,null,null,1,"rfunction",null,null,null,null,null,null,null,null,null,null,null,null,null,null,null,null,{"$f":"repro!$AG2","v":1},{"$f":"repro!AF2","v":"rfunction"}]
[null,null,"repro","","+/- (%)",0.05,null,null,null,null,null,null,null,null,null,null,null,"+/- (%)",0.05,null,null,null,null,null,null,null,null,null,null,null,null,null,null,null,null,{"$f":"repro!C16","v":"+/- (%)"},{"$f":"repro!D16","v":0.05}]
[null,null,"repro","","Seasonality",1,null,null,null,null,null,null,null,null,null,null,null,"Seasonality",1,null,null,null,null,null,null,null,null,null,null,null,null,null,null,null,null,{"$f":"repro!C17","v":"Seasonality"},{"$f":"repro!D17","v":1}]
[null,null,"repro","","Jan",1,null,null,null,null,null,null,null,null,null,null,null,"Jan",1,null,null,null,null,null,null,null,null,null,null,null,null,null,null,null,null,{"$f":"repro!C18","v":"Jan"},{"$f":"repro!D18","v":1}]
[null,null,"repro","","Feb",1,null,null,null,null,null,null,null,null,null,null,null,"Feb",1,null,null,null,null,null,null,null,null,null,null,null,null,null,null,null,null,{"$f":"repro!C19","v":"Feb"},{"$f":"repro!D19","v":1}]
[null,null,"repro","","Mar",1,null,null,null,null,null,null,null,null,null,null,null,"Mar",1,null,null,null,null,null,null,null,null,null,null,null,null,null,null,null,null,{"$f":"repro!C20","v":"Mar"},{"$f":"repro!D20","v":1}]
[null,null,"repro","","Apr",1,null,null,null,null,null,null,null,null,null,null,null,"Apr",1,null,null,null,null,null,null,null,null,null,null,null,null,null,null,null,null,{"$f":"repro!C21","v":"Apr"},{"$f":"repro!D21","v":1}]
[null,null,"repro","","May",1,null,null,null,null,null,null,null,null,null,null,null,"May",1,null,null,null,null,null,null,null,null,null,null,null,null,null,null,null,null,{"$f":"repro!C22","v":"May"},{"$f":"repro!D22","v":1}]
[null,null,"repro","","Jun",1,null,null,null,null,null,null,null,null,null,null,null,"Jun",1,null,null,null,null,null,null,null,null,null,null,null,null,null,null,null,null,{"$f":"repro!C23","v":"Jun"},{"$f":"repro!D23","v":1}]
[null,null,"repro","","Jul",1,null,null,null,null,null,null,null,null,null,null,null,"Jul",1,null,null,null,null,null,null,null,null,null,null,null,null,null,null,null,null,{"$f":"repro!C24","v":"Jul"},{"$f":"repro!D24","v":1}]
[null,null,"repro","","Aug",1,null,null,null,null,null,null,null,null,null,null,null,"Aug",1,null,null,null,null,null,null,null,null,null,null,null,null,null,null,null,null,{"$f":"repro!C25","v":"Aug"},{"$f":"repro!D25","v":1}]
[null,null,"repro","","Sep",1,null,null,null,null,null,null,null,null,null,null,null,"Sep",1,null,null,null,null,null,null,null,null,null,null,null,null,null,null,null,null,{"$f":"repro!C26","v":"Sep"},{"$f":"repro!D26","v":1}]
[null,null,"repro","","Oct",1,null,null,null,null,null,null,null,null,null,null,null,"Oct",1,null,null,null,null,null,null,null,null,null,null,null,null,null,null,null,null,{"$f":"repro!C27","v":"Oct"},{"$f":"repro!D27","v":1}]
[null,null,"repro","","Nov",1,null,null,null,null,null,null,null,null,null,null,null,"Nov",1,null,null,null,null,null,null,null,null,null,null,null,null,null,null,null,null,{"$f":"repro!C28","v":"Nov"},{"$f":"repro!D28","v":1}]
[null,null,"repro","","Dec",1,null,null,null,null,null,null,null,null,null,null,null,"Dec",1,null,null,null,null,null,null,null,null,null,null,null,null,null,null,null,null,{"$f":"repro!C29","v":"Dec"},{"$f":"repro!D29","v":1}]
[null,null,"repro","","Unadjusted",null,null,null,null,null,null,null,null,null,null,null,null,"Unadjusted",null,null,null,null,null,null,null,null,null,null,null,null,null,null,null,null,null,{"$f":"repro!T15","v":"Unadjusted"}]
[null,null,"repro","",60.8,0.33800000000000002,null,null,null,null,null,null,null,null,null,null,null,60.8,0.33800000000000002,null,null,null,null,null,null,null,null,null,null,null,null,null,null,null,null,{"$f":"repro!S16","v":60.8},{"$f":"repro!T16","v":0.33800000000000002}]
[null,null,"repro","",91.2,0.37,null,null,null,null,null,null,null,null,null,null,null,91.2,0.37,null,null,null,null,null,null,null,null,null,null,null,null,null,null,null,null,{"$f":"repro!S17","v":91.2},{"$f":"repro!T17","v":0.37}]
[null,null,"repro","",121.6,0.36699999999999999,null,null,null,null,null,null,null,null,null,null,null,121.6,0.36699999999999999,null,null,null,null,null,null,null,null,null,null,null,null,null,null,null,null,{"$f":"repro!S18","v":121.6},{"$f":"repro!T18","v":0.36699999999999999}]
[null,null,"repro","",152,0.36399999999999999,null,null,null,null,null,null,null,null,null,null,null,152,0.36399999999999999,null,null,null,null,null,null,null,null,null,null,null,null,null,null,null,null,{"$f":"repro!S19","v":152},{"$f":"repro!T19","v":0.36399999999999999}]
[null,null,"repro","",182.4,0.35799999999999998,null,null,null,null,null,null,null,null,null,null,null,182.4,0.35799999999999998,null,null,null,null,null,null,null,null,null,null,null,null,null,null,null,null,{"$f":"repro!S20","v":182.4},{"$f":"repro!T20","v":0.35799999999999998}]
[null,null,"repro","",212.8,0.35,null,null,null,null,null,null,null,null,null,null,null,212.8,0.35,null,null,null,null,null,null,null,null,null,null,null,null,null,null,null,null,{"$f":"repro!S21","v":212.8},{"$f":"repro!T21","v":0.35}]
[null,null,"repro","",243.2,0.34,null,null,null,null,null,null,null,null,null,null,null,243.2,0.34,null,null,null,null,null,null,null,null,null,null,null,null,null,null,null,null,{"$f":"repro!S22","v":243.2},{"$f":"repro!T22","v":0.34}]
[null,null,"repro","",273.60000000000002,0.33,null,null,null,null,null,null,null,null,null,null,null,273.60000000000002,0.33,null,null,null,null,null,null,null,null,null,null,null,null,null,null,null,null,{"$f":"repro!S23","v":273.60000000000002},{"$f":"repro!T23","v":0.33}]
[null,null,"repro","",304,0.315,null,null,null,null,null,null,null,null,null,null,null,304,0.315,null,null,null,null,null,null,null,null,null,null,null,null,null,null,null,null,{"$f":"repro!S24","v":304},{"$f":"repro!T24","v":0.315}]
[null,null,"repro","",334.4,0.3,null,null,null,null,null,null,null,null,null,null,null,334.4,0.3,null,null,null,null,null,null,null,null,null,null,null,null,null,null,null,null,{"$f":"repro!S25","v":334.4},{"$f":"repro!T25","v":0.3}]
[null,null,"repro","",364.8,0.28399999999999997,null,null,null,null,null,null,null,null,null,null,null,364.8,0.28399999999999997,null,null,null,null,null,null,null,null,null,null,null,null,null,null,null,null,{"$f":"repro!S26","v":364.8},{"$f":"repro!T26","v":0.28399999999999997}]
[null,null,"repro","",395.2,0.26500000000000001,null,null,null,null,null,null,null,null,null,null,null,395.2,0.26500000000000001,null,null,null,null,null,null,null,null,null,null,null,null,null,null,null,null,{"$f":"repro!S27","v":395.2},{"$f":"repro!T27","v":0.26500000000000001}]
[null,null,"repro","",425.6,0.24299999999999999,null,null,null,null,null,null,null,null,null,null,null,425.6,0.24299999999999999,null,null,null,null,null,null,null,null,null,null,null,null,null,null,null,null,{"$f":"repro!S28","v":425.6},{"$f":"repro!T28","v":0.24299999999999999}]
[null,null,"repro","",456,0.22700000000000001,null,null,null,null,null,null,null,null,null,null,null,456,0.22700000000000001,null,null,null,null,null,null,null,null,null,null,null,null,null,null,null,null,{"$f":"repro!S29","v":456},{"$f":"repro!T29","v":0.22700000000000001}]
[null,null,{"$f":"IF(D258=1,\" repro \",\"repro\")","v":"repro"},"","Relative risk of conception per lactation number",null,null,null,null,null,null,null,null,null,null,null,null,"Relative risk of conception per lactation number",null,null,null,null,null,null,null,null,null,null,null,null,null,null,null,null,null,{"$f":"repro!$G$10","v":"Relative risk of conception per lactation number"}]
[null,null,{"$f":"IF(D259=1,\" repro \",\"repro\")","v":"repro"},"",1,0.9,0.88,0.86,0.84,0.82,0.8,0.78,0.76,0.74,0.72,0.70000000000000095,null,1,0.9,0.88,0.86,0.84,0.82,0.8,0.78,0.76,0.74,0.72,0.70000000000000095,null,null,null,null,null,null,{"$f":"repro!G11","v":1},{"$f":"repro!H11","v":0.9},{"$f":"repro!I11","v":0.88},{"$f":"repro!J11","v":0.86},{"$f":"repro!K11","v":0.84},{"$f":"repro!L11","v":0.82},{"$f":"repro!M11","v":0.8},{"$f":"repro!N11","v":0.78},{"$f":"repro!O11","v":0.76},{"$f":"repro!P11","v":0.74},{"$f":"repro!Q11","v":0.72},{"$f":"repro!R11","v":0.70000000000000095}]
[null,null,"repro","","Probability of conception",null,null,null,null,null,null,null,null,null,null,null,null,"Probability of conception",null,null,null,null,null,null,null,null,null,null,null,null,null,null,null,null,null,{"$f":"repro!$G$14","v":"Probability of conception"}]
[null,null,"repro","","Jan","Feb","Mar","Apr","May","Jun","Jul","Aug","Sep","Oct","Nov","Dec",null,"Jan","Feb","Mar","Apr","May","Jun","Jul","Aug","Sep","Oct","Nov","Dec",null,null,null,null,null,null,{"$f":"repro!G15","v":"Jan"},{"$f":"repro!H15","v":"Feb"},{"$f":"repro!I15","v":"Mar"},{"$f":"repro!J15","v":"Apr"},{"$f":"repro!K15","v":"May"},{"$f":"repro!L15","v":"Jun"},{"$f":"repro!M15","v":"Jul"},{"$f":"repro!N15","v":"Aug"},{"$f":"repro!O15","v":"Sep"},{"$f":"repro!P15","v":"Oct"},{"$f":"repro!Q15","v":"Nov"},{"$f":"repro!R15","v":"Dec"}]
[null,null,"repro","",0.38800000000000001,0.38800000000000001,0.38800000000000001,0.38800000000000001,0.38800000000000001,0.38800000000000001,0.38800000000000001,0.38800000000000001,0.38800000000000001,0.38800000000000001,0.38800000000000001,0.38800000000000001,null,0.38800000000000001,0.38800000000000001,0.38800000000000001,0.38800000000000001,0.38800000000000001,0.38800000000000001,0.38800000000000001,0.38800000000000001,0.38800000000000001,0.38800000000000001,0.38800000000000001,0.38800000000000001,null,null,null,null,null,null,{"$f":"repro!G16","v":0.38800000000000001},{"$f":"repro!H16","v":0.38800000000000001},{"$f":"repro!I16","v":0.38800000000000001},{"$f":"repro!J16","v":0.38800000000000001},{"$f":"repro!K16","v":0.38800000000000001},{"$f":"repro!L16","v":0.38800000000000001},{"$f":"repro!M16","v":0.38800000000000001},{"$f":"repro!N16","v":0.38800000000000001},{"$f":"repro!O16","v":0.38800000000000001},{"$f":"repro!P16","v":0.38800000000000001},{"$f":"repro!Q16","v":0.38800000000000001},{"$f":"repro!R16","v":0.38800000000000001}]
[null,null,"repro","",0.42,0.42,0.42,0.42,0.42,0.42,0.42,0.42,0.42,0.42,0.42,0.42,null,0.42,0.42,0.42,0.42,0.42,0.42,0.42,0.42,0.42,0.42,0.42,0.42,null,null,null,null,null,null,{"$f":"repro!G17","v":0.42},{"$f":"repro!H17","v":0.42},{"$f":"repro!I17","v":0.42},{"$f":"repro!J17","v":0.42},{"$f":"repro!K17","v":0.42},{"$f":"repro!L17","v":0.42},{"$f":"repro!M17","v":0.42},{"$f":"repro!N17","v":0.42},{"$f":"repro!O17","v":0.42},{"$f":"repro!P17","v":0.42},{"$f":"repro!Q17","v":0.42},{"$f":"repro!R17","v":0.42}]
[null,null,"repro","",0.41699999999999998,0.41699999999999998,0.41699999999999998,0.41699999999999998,0.41699999999999998,0.41699999999999998,0.41699999999999998,0.41699999999999998,0.41699999999999998,0.41699999999999998,0.41699999999999998,0.41699999999999998,null,0.41699999999999998,0.41699999999999998,0.41699999999999998,0.41699999999999998,0.41699999999999998,0.41699999999999998,0.41699999999999998,0.41699999999999998,0.41699999999999998,0.41699999999999998,0.41699999999999998,0.41699999999999998,null,null,null,null,null,null,{"$f":"repro!G18","v":0.41699999999999998},{"$f":"repro!H18","v":0.41699999999999998},{"$f":"repro!I18","v":0.41699999999999998},{"$f":"repro!J18","v":0.41699999999999998},{"$f":"repro!K18","v":0.41699999999999998},{"$f":"repro!L18","v":0.41699999999999998},{"$f":"repro!M18","v":0.41699999999999998},{"$f":"repro!N18","v":0.41699999999999998},{"$f":"repro!O18","v":0.41699999999999998},{"$f":"repro!P18","v":0.41699999999999998},{"$f":"repro!Q18","v":0.41699999999999998},{"$f":"repro!R18","v":0.41699999999999998}]
[null,null,"repro","",0.41399999999999998,0.41399999999999998,0.41399999999999998,0.41399999999999998,0.41399999999999998,0.41399999999999998,0.41399999999999998,0.41399999999999998,0.41399999999999998,0.41399999999999998,0.41399999999999998,0.41399999999999998,null,0.41399999999999998,0.41399999999999998,0.41399999999999998,0.41399999999999998,0.41399999999999998,0.41399999999999998,0.41399999999999998,0.41399999999999998,0.41399999999999998,0.41399999999999998,0.41399999999999998,0.41399999999999998,null,null,null,null,null,null,{"$f":"repro!G19","v":0.41399999999999998},{"$f":"repro!H19","v":0.41399999999999998},{"$f":"repro!I19","v":0.41399999999999998},{"$f":"repro!J19","v":0.41399999999999998},{"$f":"repro!K19","v":0.41399999999999998},{"$f":"repro!L19","v":0.41399999999999998},{"$f":"repro!M19","v":0.41399999999999998},{"$f":"repro!N19","v":0.41399999999999998},{"$f":"repro!O19","v":0.41399999999999998},{"$f":"repro!P19","v":0.41399999999999998},{"$f":"repro!Q19","v":0.41399999999999998},{"$f":"repro!R19","v":0.41399999999999998}]
[null,null,"repro","",0.40799999999999997,0.40799999999999997,0.40799999999999997,0.40799999999999997,0.40799999999999997,0.40799999999999997,0.40799999999999997,0.40799999999999997,0.40799999999999997,0.40799999999999997,0.40799999999999997,0.40799999999999997,null,0.40799999999999997,0.40799999999999997,0.40799999999999997,0.40799999999999997,0.40799999999999997,0.40799999999999997,0.40799999999999997,0.40799999999999997,0.40799999999999997,0.40799999999999997,0.40799999999999997,0.40799999999999997,null,null,null,null,null,null,{"$f":"repro!G20","v":0.40799999999999997},{"$f":"repro!H20","v":0.40799999999999997},{"$f":"repro!I20","v":0.40799999999999997},{"$f":"repro!J20","v":0.40799999999999997},{"$f":"repro!K20","v":0.40799999999999997},{"$f":"repro!L20","v":0.40799999999999997},{"$f":"repro!M20","v":0.40799999999999997},{"$f":"repro!N20","v":0.40799999999999997},{"$f":"repro!O20","v":0.40799999999999997},{"$f":"repro!P20","v":0.40799999999999997},{"$f":"repro!Q20","v":0.40799999999999997},{"$f":"repro!R20","v":0.40799999999999997}]
[null,null,"repro","",0.4,0.4,0.4,0.4,0.4,0.4,0.4,0.4,0.4,0.4,0.4,0.4,null,0.39999999999999997,0.39999999999999997,0.39999999999999997,0.39999999999999997,0.39999999999999997,0.39999999999999997,0.39999999999999997,0.39999999999999997,0.39999999999999997,0.39999999999999997,0.39999999999999997,0.39999999999999997,null,null,null,null,null,null,{"$f":"repro!G21","v":0.4},{"$f":"repro!H21","v":0.4},{"$f":"repro!I21","v":0.4},{"$f":"repro!J21","v":0.4},{"$f":"repro!K21","v":0.4},{"$f":"repro!L21","v":0.4},{"$f":"repro!M21","v":0.4},{"$f":"repro!N21","v":0.4},{"$f":"repro!O21","v":0.4},{"$f":"repro!P21","v":0.4},{"$f":"repro!Q21","v":0.4},{"$f":"repro!R21","v":0.4}]
[null,null,"repro","",0.39,0.39,0.39,0.39,0.39,0.39,0.39,0.39,0.39,0.39,0.39,0.39,null,0.39,0.39,0.39,0.39,0.39,0.39,0.39,0.39,0.39,0.39,0.39,0.39,null,null,null,null,null,null,{"$f":"repro!G22","v":0.39},{"$f":"repro!H22","v":0.39},{"$f":"repro!I22","v":0.39},{"$f":"repro!J22","v":0.39},{"$f":"repro!K22","v":0.39},{"$f":"repro!L22","v":0.39},{"$f":"repro!M22","v":0.39},{"$f":"repro!N22","v":0.39},{"$f":"repro!O22","v":0.39},{"$f":"repro!P22","v":0.39},{"$f":"repro!Q22","v":0.39},{"$f":"repro!R22","v":0.39}]
[null,null,"repro","",0.38,0.38,0.38,0.38,0.38,0.38,0.38,0.38,0.38,0.38,0.38,0.38,null,0.38,0.38,0.38,0.38,0.38,0.38,0.38,0.38,0.38,0.38,0.38,0.38,null,null,null,null,null,null,{"$f":"repro!G23","v":0.38},{"$f":"repro!H23","v":0.38},{"$f":"repro!I23","v":0.38},{"$f":"repro!J23","v":0.38},{"$f":"repro!K23","v":0.38},{"$f":"repro!L23","v":0.38},{"$f":"repro!M23","v":0.38},{"$f":"repro!N23","v":0.38},{"$f":"repro!O23","v":0.38},{"$f":"repro!P23","v":0.38},{"$f":"repro!Q23","v":0.38},{"$f":"repro!R23","v":0.38}]
[null,null,"repro","",0.36499999999999999,0.36499999999999999,0.36499999999999999,0.36499999999999999,0.36499999999999999,0.36499999999999999,0.36499999999999999,0.36499999999999999,0.36499999999999999,0.36499999999999999,0.36499999999999999,0.36499999999999999,null,0.36499999999999999,0.36499999999999999,0.36499999999999999,0.36499999999999999,0.36499999999999999,0.36499999999999999,0.36499999999999999,0.36499999999999999,0.36499999999999999,0.36499999999999999,0.36499999999999999,0.36499999999999999,null,null,null,null,null,null,{"$f":"repro!G24","v":0.36499999999999999},{"$f":"repro!H24","v":0.36499999999999999},{"$f":"repro!I24","v":0.36499999999999999},{"$f":"repro!J24","v":0.36499999999999999},{"$f":"repro!K24","v":0.36499999999999999},{"$f":"repro!L24","v":0.36499999999999999},{"$f":"repro!M24","v":0.36499999999999999},{"$f":"repro!N24","v":0.36499999999999999},{"$f":"repro!O24","v":0.36499999999999999},{"$f":"repro!P24","v":0.36499999999999999},{"$f":"repro!Q24","v":0.36499999999999999},{"$f":"repro!R24","v":0.36499999999999999}]
[null,null,"repro","",0.35,0.35,0.35,0.35,0.35,0.35,0.35,0.35,0.35,0.35,0.35,0.35,null,0.35,0.35,0.35,0.35,0.35,0.35,0.35,0.35,0.35,0.35,0.35,0.35,null,null,null,null,null,null,{"$f":"repro!G25","v":0.35},{"$f":"repro!H25","v":0.35},{"$f":"repro!I25","v":0.35},{"$f":"repro!J25","v":0.35},{"$f":"repro!K25","v":0.35},{"$f":"repro!L25","v":0.35},{"$f":"repro!M25","v":0.35},{"$f":"repro!N25","v":0.35},{"$f":"repro!O25","v":0.35},{"$f":"repro!P25","v":0.35},{"$f":"repro!Q25","v":0.35},{"$f":"repro!R25","v":0.35}]
[null,null,"repro","",0.33400000000000002,0.33400000000000002,0.33400000000000002,0.33400000000000002,0.33400000000000002,0.33400000000000002,0.33400000000000002,0.33400000000000002,0.33400000000000002,0.33400000000000002,0.33400000000000002,0.33400000000000002,null,0.33399999999999996,0.33399999999999996,0.33399999999999996,0.33399999999999996,0.33399999999999996,0.33399999999999996,0.33399999999999996,0.33399999999999996,0.33399999999999996,0.33399999999999996,0.33399999999999996,0.33399999999999996,null,null,null,null,null,null,{"$f":"repro!G26","v":0.33400000000000002},{"$f":"repro!H26","v":0.33400000000000002},{"$f":"repro!I26","v":0.33400000000000002},{"$f":"repro!J26","v":0.33400000000000002},{"$f":"repro!K26","v":0.33400000000000002},{"$f":"repro!L26","v":0.33400000000000002},{"$f":"repro!M26","v":0.33400000000000002},{"$f":"repro!N26","v":0.33400000000000002},{"$f":"repro!O26","v":0.33400000000000002},{"$f":"repro!P26","v":0.33400000000000002},{"$f":"repro!Q26","v":0.33400000000000002},{"$f":"repro!R26","v":0.33400000000000002}]
[null,null,"repro","",0.315,0.315,0.315,0.315,0.315,0.315,0.315,0.315,0.315,0.315,0.315,0.315,null,0.315,0.315,0.315,0.315,0.315,0.315,0.315,0.315,0.315,0.315,0.315,0.315,null,null,null,null,null,null,{"$f":"repro!G27","v":0.315},{"$f":"repro!H27","v":0.315},{"$f":"repro!I27","v":0.315},{"$f":"repro!J27","v":0.315},{"$f":"repro!K27","v":0.315},{"$f":"repro!L27","v":0.315},{"$f":"repro!M27","v":0.315},{"$f":"repro!N27","v":0.315},{"$f":"repro!O27","v":0.315},{"$f":"repro!P27","v":0.315},{"$f":"repro!Q27","v":0.315},{"$f":"repro!R27","v":0.315}]
[null,null,"repro","",0.29299999999999998,0.29299999999999998,0.29299999999999998,0.29299999999999998,0.29299999999999998,0.29299999999999998,0.29299999999999998,0.29299999999999998,0.29299999999999998,0.29299999999999998,0.29299999999999998,0.29299999999999998,null,0.29299999999999998,0.29299999999999998,0.29299999999999998,0.29299999999999998,0.29299999999999998,0.29299999999999998,0.29299999999999998,0.29299999999999998,0.29299999999999998,0.29299999999999998,0.29299999999999998,0.29299999999999998,null,null,null,null,null,null,{"$f":"repro!G28","v":0.29299999999999998},{"$f":"repro!H28","v":0.29299999999999998},{"$f":"repro!I28","v":0.29299999999999998},{"$f":"repro!J28","v":0.29299999999999998},{"$f":"repro!K28","v":0.29299999999999998},{"$f":"repro!L28","v":0.29299999999999998},{"$f":"repro!M28","v":0.29299999999999998},{"$f":"repro!N28","v":0.29299999999999998},{"$f":"repro!O28","v":0.29299999999999998},{"$f":"repro!P28","v":0.29299999999999998},{"$f":"repro!Q28","v":0.29299999999999998},{"$f":"repro!R28","v":0.29299999999999998}]
[null,null,"repro","",0.27700000000000002,0.27700000000000002,0.27700000000000002,0.27700000000000002,0.27700000000000002,0.27700000000000002,0.27700000000000002,0.27700000000000002,0.27700000000000002,0.27700000000000002,0.27700000000000002,0.27700000000000002,null,0.27700000000000002,0.27700000000000002,0.27700000000000002,0.27700000000000002,0.27700000000000002,0.27700000000000002,0.27700000000000002,0.27700000000000002,0.27700000000000002,0.27700000000000002,0.27700000000000002,0.27700000000000002,null,null,null,null,null,null,{"$f":"repro!G29","v":0.27700000000000002},{"$f":"repro!H29","v":0.27700000000000002},{"$f":"repro!I29","v":0.27700000000000002},{"$f":"repro!J29","v":0.27700000000000002},{"$f":"repro!K29","v":0.27700000000000002},{"$f":"repro!L29","v":0.27700000000000002},{"$f":"repro!M29","v":0.27700000000000002},{"$f":"repro!N29","v":0.27700000000000002},{"$f":"repro!O29","v":0.27700000000000002},{"$f":"repro!P29","v":0.27700000000000002},{"$f":"repro!Q29","v":0.27700000000000002},{"$f":"repro!R29","v":0.27700000000000002}]
[null,null,"repro","",1,"rfunction",null,null,null,null,null,null,null,null,null,null,null,1,"rfunction",null,null,null,null,null,null,null,null,null,null,null,null,null,null,null,null,{"$f":"repro!AG2","v":1},{"$f":"repro!AF2","v":"rfunction"}]
[null,null,"repro","","+/- (%)",0,null,null,null,null,null,null,null,null,null,null,null,"+/- (%)",0,null,null,null,null,null,null,null,null,null,null,null,null,null,null,null,null,{"$f":"repro!C34","v":"+/- (%)"},{"$f":"repro!D34","v":0}]
[null,null,"repro","","seasonality",1,null,null,null,null,null,null,null,null,null,null,null,"seasonality",1,null,null,null,null,null,null,null,null,null,null,null,null,null,null,null,null,{"$f":"repro!C35","v":"seasonality"},{"$f":"repro!D35","v":1}]
[null,null,"repro","","Jan",0.55000000000000004,null,null,null,null,null,null,null,null,null,null,null,"Jan",0.55000000000000004,null,null,null,null,null,null,null,null,null,null,null,null,null,null,null,null,{"$f":"repro!C36","v":"Jan"},{"$f":"repro!D36","v":0.55000000000000004}]
[null,null,{"$f":"IF(D280=1,\" repro \",\"repro\")","v":"repro"},"","Feb",0.55000000000000004,null,null,null,null,null,null,null,null,null,null,null,"Feb",0.55000000000000004,null,null,null,null,null,null,null,null,null,null,null,null,null,null,null,null,{"$f":"repro!C37","v":"Feb"},{"$f":"repro!D37","v":0.55000000000000004}]
[null,null,"repro","","Mar",0.55000000000000004,null,null,null,null,null,null,null,null,null,null,null,"Mar",0.55000000000000004,null,null,null,null,null,null,null,null,null,null,null,null,null,null,null,null,{"$f":"repro!C38","v":"Mar"},{"$f":"repro!D38","v":0.55000000000000004}]
[null,null,"repro","","Apr",0.55000000000000004,null,null,null,null,null,null,null,null,null,null,null,"Apr",0.55000000000000004,null,null,null,null,null,null,null,null,null,null,null,null,null,null,null,null,{"$f":"repro!C39","v":"Apr"},{"$f":"repro!D39","v":0.55000000000000004}]
[null,null,"repro","","May",0.55000000000000004,null,null,null,null,null,null,null,null,null,null,null,"May",0.55000000000000004,null,null,null,null,null,null,null,null,null,null,null,null,null,null,null,null,{"$f":"repro!C40","v":"May"},{"$f":"repro!D40","v":0.55000000000000004}]
[null,null,"repro","","Jun",0.55000000000000004,null,null,null,null,null,null,null,null,null,null,null,"Jun",0.55000000000000004,null,null,null,null,null,null,null,null,null,null,null,null,null,null,null,null,{"$f":"repro!C41","v":"Jun"},{"$f":"repro!D41","v":0.55000000000000004}]
[null,null,"repro","","Jul",0.55000000000000004,null,null,null,null,null,null,null,null,null,null,null,"Jul",0.55000000000000004,null,null,null,null,null,null,null,null,null,null,null,null,null,null,null,null,{"$f":"repro!C42","v":"Jul"},{"$f":"repro!D42","v":0.55000000000000004}]
[null,null,"repro",{"$f":"IF(CONCATENATE(E286,F286,G286,H286,I286,J286,K286,L286,M286,N286,O286,P286)=CONCATENATE(R286,S286,T286,U286,V286,W286,X286,Y286,Z286,AA286,AB286,AC286),\"\",1)","v":""},"Aug",0.55000000000000004,null,null,null,null,null,null,null,null,null,null,null,"Aug",0.55000000000000004,null,null,null,null,null,null,null,null,null,null,null,null,null,null,null,null,{"$f":"repro!C43","v":"Aug"},{"$f":"repro!D43","v":0.55000000000000004}]
[null,null,"repro","","Sep",0.55000000000000004,null,null,null,null,null,null,null,null,null,null,null,"Sep",0.55000000000000004,null,null,null,null,null,null,null,null,null,null,null,null,null,null,null,null,{"$f":"repro!C44","v":"Sep"},{"$f":"repro!D44","v":0.55000000000000004}]
[null,null,"repro","","Oct",0.55000000000000004,null,null,null,null,null,null,null,null,null,null,null,"Oct",0.55000000000000004,null,null,null,null,null,null,null,null,null,null,null,null,null,null,null,null,{"$f":"repro!C45","v":"Oct"},{"$f":"repro!D45","v":0.55000000000000004}]
[null,null,"repro","","Nov",0.55000000000000004,null,null,null,null,null,null,null,null,null,null,null,"Nov",0.55000000000000004,null,null,null,null,null,null,null,null,null,null,null,null,null,null,null,null,{"$f":"repro!C46","v":"Nov"},{"$f":"repro!D46","v":0.55000000000000004}]
[null,null,"repro","","Dec",0.55000000000000004,null,null,null,null,null,null,null,null,null,null,null,"Dec",0.55000000000000004,null,null,null,null,null,null,null,null,null,null,null,null,null,null,null,null,{"$f":"repro!C47","v":"Dec"},{"$f":"repro!D47","v":0.55000000000000004}]
[null,null,"repro","","Probability of service per 21 days",null,null,null,null,null,null,null,null,null,null,null,null,"Probability of service per 21 days",null,null,null,null,null,null,null,null,null,null,null,null,null,null,null,null,null,{"$f":"repro!G32","v":"Probability of service per 21 days"}]
[null,null,"repro","","Jan","Feb","Mar","Apr","May","Jun","Jul","Aug","Sep","Oct","Nov","Dec",null,"Jan","Feb","Mar","Apr","May","Jun","Jul","Aug","Sep","Oct","Nov","Dec",null,null,null,null,null,null,{"$f":"repro!G33","v":"Jan"},{"$f":"repro!H33","v":"Feb"},{"$f":"repro!I33","v":"Mar"},{"$f":"repro!J33","v":"Apr"},{"$f":"repro!K33","v":"May"},{"$f":"repro!L33","v":"Jun"},{"$f":"repro!M33","v":"Jul"},{"$f":"repro!N33","v":"Aug"},{"$f":"repro!O33","v":"Sep"},{"$f":"repro!P33","v":"Oct"},{"$f":"repro!Q33","v":"Nov"},{"$f":"repro!R33","v":"Dec"}]
[null,null,"repro","",0.55000000000000004,0.55000000000000004,0.55000000000000004,0.55000000000000004,0.55000000000000004,0.55000000000000004,0.55000000000000004,0.55000000000000004,0.55000000000000004,0.55000000000000004,0.55000000000000004,0.55000000000000004,null,0.55000000000000004,0.55000000000000004,0.55000000000000004,0.55000000000000004,0.55000000000000004,0.55000000000000004,0.55000000000000004,0.55000000000000004,0.55000000000000004,0.55000000000000004,0.55000000000000004,0.55000000000000004,null,null,null,null,null,null,{"$f":"repro!G34","v":0.55000000000000004},{"$f":"repro!H34","v":0.55000000000000004},{"$f":"repro!I34","v":0.55000000000000004},{"$f":"repro!J34","v":0.55000000000000004},{"$f":"repro!K34","v":0.55000000000000004},{"$f":"repro!L34","v":0.55000000000000004},{"$f":"repro!M34","v":0.55000000000000004},{"$f":"repro!N34","v":0.55000000000000004},{"$f":"repro!O34","v":0.55000000000000004},{"$f":"repro!P34","v":0.55000000000000004},{"$f":"repro!Q34","v":0.55000000000000004},{"$f":"repro!R34","v":0.55000000000000004}]
[null,null,"repro","",0.55000000000000004,0.55000000000000004,0.55000000000000004,0.55000000000000004,0.55000000000000004,0.55000000000000004,0.55000000000000004,0.55000000000000004,0.55000000000000004,0.55000000000000004,0.55000000000000004,0.55000000000000004,null,0.55000000000000004,0.55000000000000004,0.55000000000000004,0.55000000000000004,0.55000000000000004,0.55000000000000004,0.55000000000000004,0.55000000000000004,0.55000000000000004,0.55000000000000004,0.55000000000000004,0.55000000000000004,null,null,null,null,null,null,{"$f":"repro!G35","v":0.55000000000000004},{"$f":"repro!H35","v":0.55000000000000004},{"$f":"repro!I35","v":0.55000000000000004},{"$f":"repro!J35","v":0.55000000000000004},{"$f":"repro!K35","v":0.55000000000000004},{"$f":"repro!L35","v":0.55000000000000004},{"$f":"repro!M35","v":0.55000000000000004},{"$f":"repro!N35","v":0.55000000000000004},{"$f":"repro!O35","v":0.55000000000000004},{"$f":"repro!P35","v":0.55000000000000004},{"$f":"repro!Q35","v":0.55000000000000004},{"$f":"repro!R35","v":0.55000000000000004}]
[null,null,"repro","",0.55000000000000004,0.55000000000000004,0.55000000000000004,0.55000000000000004,0.55000000000000004,0.55000000000000004,0.55000000000000004,0.55000000000000004,0.55000000000000004,0.55000000000000004,0.55000000000000004,0.55000000000000004,null,0.55000000000000004,0.55000000000000004,0.55000000000000004,0.55000000000000004,0.55000000000000004,0.55000000000000004,0.55000000000000004,0.55000000000000004,0.55000000000000004,0.55000000000000004,0.55000000000000004,0.55000000000000004,null,null,null,null,null,null,{"$f":"repro!G36","v":0.55000000000000004},{"$f":"repro!H36","v":0.55000000000000004},{"$f":"repro!I36","v":0.55000000000000004},{"$f":"repro!J36","v":0.55000000000000004},{"$f":"repro!K36","v":0.55000000000000004},{"$f":"repro!L36","v":0.55000000000000004},{"$f":"repro!M36","v":0.55000000000000004},{"$f":"repro!N36","v":0.55000000000000004},{"$f":"repro!O36","v":0.55000000000000004},{"$f":"repro!P36","v":0.55000000000000004},{"$f":"repro!Q36","v":0.55000000000000004},{"$f":"repro!R36","v":0.55000000000000004}]
[null,null,"repro","",0.55000000000000004,0.55000000000000004,0.55000000000000004,0.55000000000000004,0.55000000000000004,0.55000000000000004,0.55000000000000004,0.55000000000000004,0.55000000000000004,0.55000000000000004,0.55000000000000004,0.55000000000000004,null,0.55000000000000004,0.55000000000000004,0.55000000000000004,0.55000000000000004,0.55000000000000004,0.55000000000000004,0.55000000000000004,0.55000000000000004,0.55000000000000004,0.55000000000000004,0.55000000000000004,0.55000000000000004,null,null,null,null,null,null,{"$f":"repro!G37","v":0.55000000000000004},{"$f":"repro!H37","v":0.55000000000000004},{"$f":"repro!I37","v":0.55000000000000004},{"$f":"repro!J37","v":0.55000000000000004},{"$f":"repro!K37","v":0.55000000000000004},{"$f":"repro!L37","v":0.55000000000000004},{"$f":"repro!M37","v":0.55000000000000004},{"$f":"repro!N37","v":0.55000000000000004},{"$f":"repro!O37","v":0.55000000000000004},{"$f":"repro!P37","v":0.55000000000000004},{"$f":"repro!Q37","v":0.55000000000000004},{"$f":"repro!R37","v":0.55000000000000004}]
[null,null,"repro","",0.55000000000000004,0.55000000000000004,0.55000000000000004,0.55000000000000004,0.55000000000000004,0.55000000000000004,0.55000000000000004,0.55000000000000004,0.55000000000000004,0.55000000000000004,0.55000000000000004,0.55000000000000004,null,0.55000000000000004,0.55000000000000004,0.55000000000000004,0.55000000000000004,0.55000000000000004,0.55000000000000004,0.55000000000000004,0.55000000000000004,0.55000000000000004,0.55000000000000004,0.55000000000000004,0.55000000000000004,null,null,null,null,null,null,{"$f":"repro!G38","v":0.55000000000000004},{"$f":"repro!H38","v":0.55000000000000004},{"$f":"repro!I38","v":0.55000000000000004},{"$f":"repro!J38","v":0.55000000000000004},{"$f":"repro!K38","v":0.55000000000000004},{"$f":"repro!L38","v":0.55000000000000004},{"$f":"repro!M38","v":0.55000000000000004},{"$f":"repro!N38","v":0.55000000000000004},{"$f":"repro!O38","v":0.55000000000000004},{"$f":"repro!P38","v":0.55000000000000004},{"$f":"repro!Q38","v":0.55000000000000004},{"$f":"repro!R38","v":0.55000000000000004}]
[null,null,"repro","",0.55000000000000004,0.55000000000000004,0.55000000000000004,0.55000000000000004,0.55000000000000004,0.55000000000000004,0.55000000000000004,0.55000000000000004,0.55000000000000004,0.55000000000000004,0.55000000000000004,0.55000000000000004,null,0.55000000000000004,0.55000000000000004,0.55000000000000004,0.55000000000000004,0.55000000000000004,0.55000000000000004,0.55000000000000004,0.55000000000000004,0.55000000000000004,0.55000000000000004,0.55000000000000004,0.55000000000000004,null,null,null,null,null,null,{"$f":"repro!G39","v":0.55000000000000004},{"$f":"repro!H39","v":0.55000000000000004},{"$f":"repro!I39","v":0.55000000000000004},{"$f":"repro!J39","v":0.55000000000000004},{"$f":"repro!K39","v":0.55000000000000004},{"$f":"repro!L39","v":0.55000000000000004},{"$f":"repro!M39","v":0.55000000000000004},{"$f":"repro!N39","v":0.55000000000000004},{"$f":"repro!O39","v":0.55000000000000004},{"$f":"repro!P39","v":0.55000000000000004},{"$f":"repro!Q39","v":0.55000000000000004},{"$f":"repro!R39","v":0.55000000000000004}]
[null,null,"repro","",0.55000000000000004,0.55000000000000004,0.55000000000000004,0.55000000000000004,0.55000000000000004,0.55000000000000004,0.55000000000000004,0.55000000000000004,0.55000000000000004,0.55000000000000004,0.55000000000000004,0.55000000000000004,null,0.55000000000000004,0.55000000000000004,0.55000000000000004,0.55000000000000004,0.55000000000000004,0.55000000000000004,0.55000000000000004,0.55000000000000004,0.55000000000000004,0.55000000000000004,0.55000000000000004,0.55000000000000004,null,null,null,null,null,null,{"$f":"repro!G40","v":0.55000000000000004},{"$f":"repro!H40","v":0.55000000000000004},{"$f":"repro!I40","v":0.55000000000000004},{"$f":"repro!J40","v":0.55000000000000004},{"$f":"repro!K40","v":0.55000000000000004},{"$f":"repro!L40","v":0.55000000000000004},{"$f":"repro!M40","v":0.55000000000000004},{"$f":"repro!N40","v":0.55000000000000004},{"$f":"repro!O40","v":0.55000000000000004},{"$f":"repro!P40","v":0.55000000000000004},{"$f":"repro!Q40","v":0.55000000000000004},{"$f":"repro!R40","v":0.55000000000000004}]
[null,null,"repro","",0.55000000000000004,0.55000000000000004,0.55000000000000004,0.55000000000000004,0.55000000000000004,0.55000000000000004,0.55000000000000004,0.55000000000000004,0.55000000000000004,0.55000000000000004,0.55000000000000004,0.55000000000000004,null,0.55000000000000004,0.55000000000000004,0.55000000000000004,0.55000000000000004,0.55000000000000004,0.55000000000000004,0.55000000000000004,0.55000000000000004,0.55000000000000004,0.55000000000000004,0.55000000000000004,0.55000000000000004,null,null,null,null,null,null,{"$f":"repro!G41","v":0.55000000000000004},{"$f":"repro!H41","v":0.55000000000000004},{"$f":"repro!I41","v":0.55000000000000004},{"$f":"repro!J41","v":0.55000000000000004},{"$f":"repro!K41","v":0.55000000000000004},{"$f":"repro!L41","v":0.55000000000000004},{"$f":"repro!M41","v":0.55000000000000004},{"$f":"repro!N41","v":0.55000000000000004},{"$f":"repro!O41","v":0.55000000000000004},{"$f":"repro!P41","v":0.55000000000000004},{"$f":"repro!Q41","v":0.55000000000000004},{"$f":"repro!R41","v":0.55000000000000004}]
[null,null,"repro","",0.55000000000000004,0.55000000000000004,0.55000000000000004,0.55000000000000004,0.55000000000000004,0.55000000000000004,0.55000000000000004,0.55000000000000004,0.55000000000000004,0.55000000000000004,0.55000000000000004,0.55000000000000004,null,0.55000000000000004,0.55000000000000004,0.55000000000000004,0.55000000000000004,0.55000000000000004,0.55000000000000004,0.55000000000000004,0.55000000000000004,0.55000000000000004,0.55000000000000004,0.55000000000000004,0.55000000000000004,null,null,null,null,null,null,{"$f":"repro!G42","v":0.55000000000000004},{"$f":"repro!H42","v":0.55000000000000004},{"$f":"repro!I42","v":0.55000000000000004},{"$f":"repro!J42","v":0.55000000000000004},{"$f":"repro!K42","v":0.55000000000000004},{"$f":"repro!L42","v":0.55000000000000004},{"$f":"repro!M42","v":0.55000000000000004},{"$f":"repro!N42","v":0.55000000000000004},{"$f":"repro!O42","v":0.55000000000000004},{"$f":"repro!P42","v":0.55000000000000004},{"$f":"repro!Q42","v":0.55000000000000004},{"$f":"repro!R42","v":0.55000000000000004}]
[null,null,"repro","",0.55000000000000004,0.55000000000000004,0.55000000000000004,0.55000000000000004,0.55000000000000004,0.55000000000000004,0.55000000000000004,0.55000000000000004,0.55000000000000004,0.55000000000000004,0.55000000000000004,0.55000000000000004,null,0.55000000000000004,0.55000000000000004,0.55000000000000004,0.55000000000000004,0.55000000000000004,0.55000000000000004,0.55000000000000004,0.55000000000000004,0.55000000000000004,0.55000000000000004,0.55000000000000004,0.55000000000000004,null,null,null,null,null,null,{"$f":"repro!G43","v":0.55000000000000004},{"$f":"repro!H43","v":0.55000000000000004},{"$f":"repro!I43","v":0.55000000000000004},{"$f":"repro!J43","v":0.55000000000000004},{"$f":"repro!K43","v":0.55000000000000004},{"$f":"repro!L43","v":0.55000000000000004},{"$f":"repro!M43","v":0.55000000000000004},{"$f":"repro!N43","v":0.55000000000000004},{"$f":"repro!O43","v":0.55000000000000004},{"$f":"repro!P43","v":0.55000000000000004},{"$f":"repro!Q43","v":0.55000000000000004},{"$f":"repro!R43","v":0.55000000000000004}]
[null,null,"repro","",0.55000000000000004,0.55000000000000004,0.55000000000000004,0.55000000000000004,0.55000000000000004,0.55000000000000004,0.55000000000000004,0.55000000000000004,0.55000000000000004,0.55000000000000004,0.55000000000000004,0.55000000000000004,null,0.55000000000000004,0.55000000000000004,0.55000000000000004,0.55000000000000004,0.55000000000000004,0.55000000000000004,0.55000000000000004,0.55000000000000004,0.55000000000000004,0.55000000000000004,0.55000000000000004,0.55000000000000004,null,null,null,null,null,null,{"$f":"repro!G44","v":0.55000000000000004},{"$f":"repro!H44","v":0.55000000000000004},{"$f":"repro!I44","v":0.55000000000000004},{"$f":"repro!J44","v":0.55000000000000004},{"$f":"repro!K44","v":0.55000000000000004},{"$f":"repro!L44","v":0.55000000000000004},{"$f":"repro!M44","v":0.55000000000000004},{"$f":"repro!N44","v":0.55000000000000004},{"$f":"repro!O44","v":0.55000000000000004},{"$f":"repro!P44","v":0.55000000000000004},{"$f":"repro!Q44","v":0.55000000000000004},{"$f":"repro!R44","v":0.55000000000000004}]
[null,null,"repro","",0.55000000000000004,0.55000000000000004,0.55000000000000004,0.55000000000000004,0.55000000000000004,0.55000000000000004,0.55000000000000004,0.55000000000000004,0.55000000000000004,0.55000000000000004,0.55000000000000004,0.55000000000000004,null,0.55000000000000004,0.55000000000000004,0.55000000000000004,0.55000000000000004,0.55000000000000004,0.55000000000000004,0.55000000000000004,0.55000000000000004,0.55000000000000004,0.55000000000000004,0.55000000000000004,0.55000000000000004,null,null,null,null,null,null,{"$f":"repro!G45","v":0.55000000000000004},{"$f":"repro!H45","v":0.55000000000000004},{"$f":"repro!I45","v":0.55000000000000004},{"$f":"repro!J45","v":0.55000000000000004},{"$f":"repro!K45","v":0.55000000000000004},{"$f":"repro!L45","v":0.55000000000000004},{"$f":"repro!M45","v":0.55000000000000004},{"$f":"repro!N45","v":0.55000000000000004},{"$f":"repro!O45","v":0.55000000000000004},{"$f":"repro!P45","v":0.55000000000000004},{"$f":"repro!Q45","v":0.55000000000000004},{"$f":"repro!R45","v":0.55000000000000004}]
[null,null,"repro","",0.55000000000000004,0.55000000000000004,0.55000000000000004,0.55000000000000004,0.55000000000000004,0.55000000000000004,0.55000000000000004,0.55000000000000004,0.55000000000000004,0.55000000000000004,0.55000000000000004,0.55000000000000004,null,0.55000000000000004,0.55000000000000004,0.55000000000000004,0.55000000000000004,0.55000000000000004,0.55000000000000004,0.55000000000000004,0.55000000000000004,0.55000000000000004,0.55000000000000004,0.55000000000000004,0.55000000000000004,null,null,null,null,null,null,{"$f":"repro!G46","v":0.55000000000000004},{"$f":"repro!H46","v":0.55000000000000004},{"$f":"repro!I46","v":0.55000000000000004},{"$f":"repro!J46","v":0.55000000000000004},{"$f":"repro!K46","v":0.55000000000000004},{"$f":"repro!L46","v":0.55000000000000004},{"$f":"repro!M46","v":0.55000000000000004},{"$f":"repro!N46","v":0.55000000000000004},{"$f":"repro!O46","v":0.55000000000000004},{"$f":"repro!P46","v":0.55000000000000004},{"$f":"repro!Q46","v":0.55000000000000004},{"$f":"repro!R46","v":0.55000000000000004}]
[null,null,"repro","",0.55000000000000004,0.55000000000000004,0.55000000000000004,0.55000000000000004,0.55000000000000004,0.55000000000000004,0.55000000000000004,0.55000000000000004,0.55000000000000004,0.55000000000000004,0.55000000000000004,0.55000000000000004,null,0.55000000000000004,0.55000000000000004,0.55000000000000004,0.55000000000000004,0.55000000000000004,0.55000000000000004,0.55000000000000004,0.55000000000000004,0.55000000000000004,0.55000000000000004,0.55000000000000004,0.55000000000000004,null,null,null,null,null,null,{"$f":"repro!G47","v":0.55000000000000004},{"$f":"repro!H47","v":0.55000000000000004},{"$f":"repro!I47","v":0.55000000000000004},{"$f":"repro!J47","v":0.55000000000000004},{"$f":"repro!K47","v":0.55000000000000004},{"$f":"repro!L47","v":0.55000000000000004},{"$f":"repro!M47","v":0.55000000000000004},{"$f":"repro!N47","v":0.55000000000000004},{"$f":"repro!O47","v":0.55000000000000004},{"$f":"repro!P47","v":0.55000000000000004},{"$f":"repro!Q47","v":0.55000000000000004},{"$f":"repro!R47","v":0.55000000000000004}]
[null,null,"repro","","Additional breeding cost per month",null,null,null,null,null,null,null,null,null,null,null,null,"Additional breeding cost per month",null,null,null,null,null,null,null,null,null,null,null,null,null,null,null,null,null,{"$f":"repro!G50","v":"Additional breeding cost per month"}]
[null,null,"repro","","Jan","Feb","Mar","Apr","May","Jun","Jul","Aug","Sep","Oct","Nov","Dec",null,"Jan","Feb","Mar","Apr","May","Jun","Jul","Aug","Sep","Oct","Nov","Dec",null,null,null,null,null,null,{"$f":"repro!G51","v":"Jan"},{"$f":"repro!H51","v":"Feb"},{"$f":"repro!I51","v":"Mar"},{"$f":"repro!J51","v":"Apr"},{"$f":"repro!K51","v":"May"},{"$f":"repro!L51","v":"Jun"},{"$f":"repro!M51","v":"Jul"},{"$f":"repro!N51","v":"Aug"},{"$f":"repro!O51","v":"Sep"},{"$f":"repro!P51","v":"Oct"},{"$f":"repro!Q51","v":"Nov"},{"$f":"repro!R51","v":"Dec"}]
[null,null,"repro","",0,0,0,0,0,0,0,0,0,0,0,0,null,0,0,0,0,0,0,0,0,0,0,0,0,null,null,null,null,null,null,{"$f":"repro!G52","v":0},{"$f":"repro!H52","v":0},{"$f":"repro!I52","v":0},{"$f":"repro!J52","v":0},{"$f":"repro!K52","v":0},{"$f":"repro!L52","v":0},{"$f":"repro!M52","v":0},{"$f":"repro!N52","v":0},{"$f":"repro!O52","v":0},{"$f":"repro!P52","v":0},{"$f":"repro!Q52","v":0},{"$f":"repro!R52","v":0}]
[null,null,"repro","",0,0,0,0,0,0,0,0,0,0,0,0,null,0,0,0,0,0,0,0,0,0,0,0,0,null,null,null,null,null,null,{"$f":"repro!G53","v":0},{"$f":"repro!H53","v":0},{"$f":"repro!I53","v":0},{"$f":"repro!J53","v":0},{"$f":"repro!K53","v":0},{"$f":"repro!L53","v":0},{"$f":"repro!M53","v":0},{"$f":"repro!N53","v":0},{"$f":"repro!O53","v":0},{"$f":"repro!P53","v":0},{"$f":"repro!Q53","v":0},{"$f":"repro!R53","v":0}]
[null,null,"repro","",0,0,0,0,0,0,0,0,0,0,0,0,null,0,0,0,0,0,0,0,0,0,0,0,0,null,null,null,null,null,null,{"$f":"repro!G54","v":0},{"$f":"repro!H54","v":0},{"$f":"repro!I54","v":0},{"$f":"repro!J54","v":0},{"$f":"repro!K54","v":0},{"$f":"repro!L54","v":0},{"$f":"repro!M54","v":0},{"$f":"repro!N54","v":0},{"$f":"repro!O54","v":0},{"$f":"repro!P54","v":0},{"$f":"repro!Q54","v":0},{"$f":"repro!R54","v":0}]
[null,null,"repro","",0,0,0,0,0,0,0,0,0,0,0,0,null,0,0,0,0,0,0,0,0,0,0,0,0,null,null,null,null,null,null,{"$f":"repro!G55","v":0},{"$f":"repro!H55","v":0},{"$f":"repro!I55","v":0},{"$f":"repro!J55","v":0},{"$f":"repro!K55","v":0},{"$f":"repro!L55","v":0},{"$f":"repro!M55","v":0},{"$f":"repro!N55","v":0},{"$f":"repro!O55","v":0},{"$f":"repro!P55","v":0},{"$f":"repro!Q55","v":0},{"$f":"repro!R55","v":0}]
[null,null,"repro","",0,0,0,0,0,0,0,0,0,0,0,0,null,0,0,0,0,0,0,0,0,0,0,0,0,null,null,null,null,null,null,{"$f":"repro!G56","v":0},{"$f":"repro!H56","v":0},{"$f":"repro!I56","v":0},{"$f":"repro!J56","v":0},{"$f":"repro!K56","v":0},{"$f":"repro!L56","v":0},{"$f":"repro!M56","v":0},{"$f":"repro!N56","v":0},{"$f":"repro!O56","v":0},{"$f":"repro!P56","v":0},{"$f":"repro!Q56","v":0},{"$f":"repro!R56","v":0}]
[null,null,"repro","",0,0,0,0,0,0,0,0,0,0,0,0,null,0,0,0,0,0,0,0,0,0,0,0,0,null,null,null,null,null,null,{"$f":"repro!G57","v":0},{"$f":"repro!H57","v":0},{"$f":"repro!I57","v":0},{"$f":"repro!J57","v":0},{"$f":"repro!K57","v":0},{"$f":"repro!L57","v":0},{"$f":"repro!M57","v":0},{"$f":"repro!N57","v":0},{"$f":"repro!O57","v":0},{"$f":"repro!P57","v":0},{"$f":"repro!Q57","v":0},{"$f":"repro!R57","v":0}]
[null,null,"repro","",0,0,0,0,0,0,0,0,0,0,0,0,null,0,0,0,0,0,0,0,0,0,0,0,0,null,null,null,null,null,null,{"$f":"repro!G58","v":0},{"$f":"repro!H58","v":0},{"$f":"repro!I58","v":0},{"$f":"repro!J58","v":0},{"$f":"repro!K58","v":0},{"$f":"repro!L58","v":0},{"$f":"repro!M58","v":0},{"$f":"repro!N58","v":0},{"$f":"repro!O58","v":0},{"$f":"repro!P58","v":0},{"$f":"repro!Q58","v":0},{"$f":"repro!R58","v":0}]
[null,null,"repro","",0,0,0,0,0,0,0,0,0,0,0,0,null,0,0,0,0,0,0,0,0,0,0,0,0,null,null,null,null,null,null,{"$f":"repro!G59","v":0},{"$f":"repro!H59","v":0},{"$f":"repro!I59","v":0},{"$f":"repro!J59","v":0},{"$f":"repro!K59","v":0},{"$f":"repro!L59","v":0},{"$f":"repro!M59","v":0},{"$f":"repro!N59","v":0},{"$f":"repro!O59","v":0},{"$f":"repro!P59","v":0},{"$f":"repro!Q59","v":0},{"$f":"repro!R59","v":0}]
[null,null,"repro","",0,0,0,0,0,0,0,0,0,0,0,0,null,0,0,0,0,0,0,0,0,0,0,0,0,null,null,null,null,null,null,{"$f":"repro!G60","v":0},{"$f":"repro!H60","v":0},{"$f":"repro!I60","v":0},{"$f":"repro!J60","v":0},{"$f":"repro!K60","v":0},{"$f":"repro!L60","v":0},{"$f":"repro!M60","v":0},{"$f":"repro!N60","v":0},{"$f":"repro!O60","v":0},{"$f":"repro!P60","v":0},{"$f":"repro!Q60","v":0},{"$f":"repro!R60","v":0}]
[null,null,"repro","",0,0,0,0,0,0,0,0,0,0,0,0,null,0,0,0,0,0,0,0,0,0,0,0,0,null,null,null,null,null,null,{"$f":"repro!G61","v":0},{"$f":"repro!H61","v":0},{"$f":"repro!I61","v":0},{"$f":"repro!J61","v":0},{"$f":"repro!K61","v":0},{"$f":"repro!L61","v":0},{"$f":"repro!M61","v":0},{"$f":"repro!N61","v":0},{"$f":"repro!O61","v":0},{"$f":"repro!P61","v":0},{"$f":"repro!Q61","v":0},{"$f":"repro!R61","v":0}]
[null,null,"repro","",0,0,0,0,0,0,0,0,0,0,0,0,null,0,0,0,0,0,0,0,0,0,0,0,0,null,null,null,null,null,null,{"$f":"repro!G62","v":0},{"$f":"repro!H62","v":0},{"$f":"repro!I62","v":0},{"$f":"repro!J62","v":0},{"$f":"repro!K62","v":0},{"$f":"repro!L62","v":0},{"$f":"repro!M62","v":0},{"$f":"repro!N62","v":0},{"$f":"repro!O62","v":0},{"$f":"repro!P62","v":0},{"$f":"repro!Q62","v":0},{"$f":"repro!R62","v":0}]
[null,null,"repro","",0,0,0,0,0,0,0,0,0,0,0,0,null,0,0,0,0,0,0,0,0,0,0,0,0,null,null,null,null,null,null,{"$f":"repro!G63","v":0},{"$f":"repro!H63","v":0},{"$f":"repro!I63","v":0},{"$f":"repro!J63","v":0},{"$f":"repro!K63","v":0},{"$f":"repro!L63","v":0},{"$f":"repro!M63","v":0},{"$f":"repro!N63","v":0},{"$f":"repro!O63","v":0},{"$f":"repro!P63","v":0},{"$f":"repro!Q63","v":0},{"$f":"repro!R63","v":0}]
[null,null,"repro","",0,0,0,0,0,0,0,0,0,0,0,0,null,0,0,0,0,0,0,0,0,0,0,0,0,null,null,null,null,null,null,{"$f":"repro!G64","v":0},{"$f":"repro!H64","v":0},{"$f":"repro!I64","v":0},{"$f":"repro!J64","v":0},{"$f":"repro!K64","v":0},{"$f":"repro!L64","v":0},{"$f":"repro!M64","v":0},{"$f":"repro!N64","v":0},{"$f":"repro!O64","v":0},{"$f":"repro!P64","v":0},{"$f":"repro!Q64","v":0},{"$f":"repro!R64","v":0}]
[null,null,"repro","",0,0,0,0,0,0,0,0,0,0,0,0,null,0,0,0,0,0,0,0,0,0,0,0,0,null,null,null,null,null,null,{"$f":"repro!G65","v":0},{"$f":"repro!H65","v":0},{"$f":"repro!I65","v":0},{"$f":"repro!J65","v":0},{"$f":"repro!K65","v":0},{"$f":"repro!L65","v":0},{"$f":"repro!M65","v":0},{"$f":"repro!N65","v":0},{"$f":"repro!O65","v":0},{"$f":"repro!P65","v":0},{"$f":"repro!Q65","v":0},{"$f":"repro!R65","v":0}]
[null,null,null,""]
[null,null,{"$f":"IF(D324=1,\" cull \",\"cull\")","v":"cull"},"","INVOLUNTARY CULLING",null,null,null,null,null,null,null,null,null,null,null,null,"INVOLUNTARY CULLING",null,null,null,null,null,null,null,null,null,null,null,null,null,null,null,null,null,{"$f":"cull!$B$1","v":"INVOLUNTARY CULLING"}]
[null,null,{"$f":"IF(D325=1,\" cull \",\"cull\")","v":"cull"},"","Relative risk of involuntary culling per lactation number",null,null,null,null,null,null,null,null,null,null,null,null,"Relative risk of involuntary culling per lactation number",null,null,null,null,null,null,null,null,null,null,null,null,null,null,null,null,null,{"$f":"cull!G3","v":"Relative risk of involuntary culling per lactation number"}]
[null,null,"cull","",1,1.36,2.02,2.61,3.24,3.67,4.45,5.52,5.52,5.52,5.52,5.52,null,1,1.36,2.02,2.61,3.24,3.67,4.45,5.52,5.52,5.52,5.52,5.52,null,null,null,null,null,null,{"$f":"cull!G4","v":1},{"$f":"cull!H4","v":1.36},{"$f":"cull!I4","v":2.02},{"$f":"cull!J4","v":2.61},{"$f":"cull!K4","v":3.24},{"$f":"cull!L4","v":3.67},{"$f":"cull!M4","v":4.45},{"$f":"cull!N4","v":5.52},{"$f":"cull!O4","v":5.52},{"$f":"cull!P4","v":5.52},{"$f":"cull!Q4","v":5.52},{"$f":"cull!R4","v":5.52}]
[null,null,"cull","",1,2,3,4,5,6,7,8,9,10,11,12,null,1,2,3,4,5,6,7,8,9,10,11,12,null,null,null,null,null,null,{"$f":"cull!G5","v":1},{"$f":"cull!H5","v":2},{"$f":"cull!I5","v":3},{"$f":"cull!J5","v":4},{"$f":"cull!K5","v":5},{"$f":"cull!L5","v":6},{"$f":"cull!M5","v":7},{"$f":"cull!N5","v":8},{"$f":"cull!O5","v":9},{"$f":"cull!P5","v":10},{"$f":"cull!Q5","v":11},{"$f":"cull!R5","v":12}]
[null,null,"cull","",1,"cfunction",null,null,null,null,null,null,null,null,null,null,null,1,"cfunction",null,null,null,null,null,null,null,null,null,null,null,null,null,null,null,null,{"$f":"cull!$AP2","v":1},{"$f":"cull!$AO2","v":"cfunction"}]
[null,null,"cull","","+/- (abs)",0,null,null,null,null,null,null,null,null,null,null,null,"+/- (abs)",0,null,null,null,null,null,null,null,null,null,null,null,null,null,null,null,null,{"$f":"cull!C13","v":"+/- (abs)"},{"$f":"cull!D13","v":0}]
[null,null,"cull","","+/- (%)",-0.5,null,null,null,null,null,null,null,null,null,null,null,"+/- (%)",-0.5,null,null,null,null,null,null,null,null,null,null,null,null,null,null,null,null,{"$f":"cull!C14","v":"+/- (%)"},{"$f":"cull!D14","v":-0.5}]
[null,null,{"$f":"IF(D331=1,\" cull \",\"cull\")","v":"cull"},{"$f":"IF(CONCATENATE(E331,F331,G331,H331,I331,J331,K331,L331,M331,N331,O331,P331)=CONCATENATE(R331,S331,T331,U331,V331,W331,X331,Y331,Z331,AA331,AB331,AC331),\"\",1)","v":""},"Seasonality",1,null,null,null,null,null,null,null,null,null,null,null,"Seasonality",1,null,null,null,null,null,null,null,null,null,null,null,null,null,null,null,null,{"$f":"cull!C15","v":"Seasonality"},{"$f":"cull!D15","v":1}]
[null,null,"cull","","Jan",1,null,null,null,null,null,null,null,null,null,null,null,"Jan",1,null,null,null,null,null,null,null,null,null,null,null,null,null,null,null,null,{"$f":"cull!C16","v":"Jan"},{"$f":"cull!D16","v":1}]
[null,null,"cull","","Feb",1,null,null,null,null,null,null,null,null,null,null,null,"Feb",1,null,null,null,null,null,null,null,null,null,null,null,null,null,null,null,null,{"$f":"cull!C17","v":"Feb"},{"$f":"cull!D17","v":1}]
[null,null,"cull","","Mar",1,null,null,null,null,null,null,null,null,null,null,null,"Mar",1,null,null,null,null,null,null,null,null,null,null,null,null,null,null,null,null,{"$f":"cull!C18","v":"Mar"},{"$f":"cull!D18","v":1}]
[null,null,"cull","","Apr",1,null,null,null,null,null,null,null,null,null,null,null,"Apr",1,null,null,null,null,null,null,null,null,null,null,null,null,null,null,null,null,{"$f":"cull!C19","v":"Apr"},{"$f":"cull!D19","v":1}]
[null,null,"cull","","May",1,null,null,null,null,null,null,null,null,null,null,null,"May",1,null,null,null,null,null,null,null,null,null,null,null,null,null,null,null,null,{"$f":"cull!C20","v":"May"},{"$f":"cull!D20","v":1}]
[null,null,"cull","","Jun",1,null,null,null,null,null,null,null,null,null,null,null,"Jun",1,null,null,null,null,null,null,null,null,null,null,null,null,null,null,null,null,{"$f":"cull!C21","v":"Jun"},{"$f":"cull!D21","v":1}]
[null,null,"cull","","Jul",1,null,null,null,null,null,null,null,null,null,null,null,"Jul",1,null,null,null,null,null,null,null,null,null,null,null,null,null,null,null,null,{"$f":"cull!C22","v":"Jul"},{"$f":"cull!D22","v":1}]
[null,null,"cull","","Aug",1,null,null,null,null,null,null,null,null,null,null,null,"Aug",1,null,null,null,null,null,null,null,null,null,null,null,null,null,null,null,null,{"$f":"cull!C23","v":"Aug"},{"$f":"cull!D23","v":1}]
[null,null,"cull","","Sep",1,null,null,null,null,null,null,null,null,null,null,null,"Sep",1,null,null,null,null,null,null,null,null,null,null,null,null,null,null,null,null,{"$f":"cull!C24","v":"Sep"},{"$f":"cull!D24","v":1}]
[null,null,"cull","","Oct",1,null,null,null,null,null,null,null,null,null,null,null,"Oct",1,null,null,null,null,null,null,null,null,null,null,null,null,null,null,null,null,{"$f":"cull!C25","v":"Oct"},{"$f":"cull!D25","v":1}]
[null,null,"cull","","Nov",1,null,null,null,null,null,null,null,null,null,null,null,"Nov",1,null,null,null,null,null,null,null,null,null,null,null,null,null,null,null,null,{"$f":"cull!C26","v":"Nov"},{"$f":"cull!D26","v":1}]
[null,null,"cull","","Dec",1,null,null,null,null,null,null,null,null,null,null,null,"Dec",1,null,null,null,null,null,null,null,null,null,null,null,null,null,null,null,null,{"$f":"cull!C27","v":"Dec"},{"$f":"cull!D27","v":1}]
[null,null,"cull","","Default",null,null,null,null,null,null,null,null,null,null,null,null,"Default",null,null,null,null,null,null,null,null,null,null,null,null,null,null,null,null,null,{"$f":"cull!T9","v":"Default"}]
[null,null,"cull","",15.2,2.60219595E-2,null,null,null,null,null,null,null,null,null,null,null,15.2,2.60219595E-2,null,null,null,null,null,null,null,null,null,null,null,null,null,null,null,null,{"$f":"cull!S10","v":15.2},{"$f":"cull!T10","v":2.60219595E-2}]
[null,null,"cull","",45.6,1.6912067999999999E-2,null,null,null,null,null,null,null,null,null,null,null,45.6,1.6912067999999999E-2,null,null,null,null,null,null,null,null,null,null,null,null,null,null,null,null,{"$f":"cull!S11","v":45.6},{"$f":"cull!T11","v":1.6912067999999999E-2}]
[null,null,"cull","",76,1.22043315E-2,null,null,null,null,null,null,null,null,null,null,null,76,1.22043315E-2,null,null,null,null,null,null,null,null,null,null,null,null,null,null,null,null,{"$f":"cull!S12","v":76},{"$f":"cull!T12","v":1.22043315E-2}]
[null,null,"cull","",106.4,1.01060865E-2,null,null,null,null,null,null,null,null,null,null,null,106.4,1.01060865E-2,null,null,null,null,null,null,null,null,null,null,null,null,null,null,null,null,{"$f":"cull!S13","v":106.4},{"$f":"cull!T13","v":1.01060865E-2}]
[null,null,"cull","",136.80000000000001,9.3925905000000007E-3,null,null,null,null,null,null,null,null,null,null,null,136.80000000000001,9.3925905000000007E-3,null,null,null,null,null,null,null,null,null,null,null,null,null,null,null,null,{"$f":"cull!S14","v":136.80000000000001},{"$f":"cull!T14","v":9.3925905000000007E-3}]
[null,null,"cull","",167.2,9.2849309999999997E-3,null,null,null,null,null,null,null,null,null,null,null,167.2,9.2849309999999997E-3,null,null,null,null,null,null,null,null,null,null,null,null,null,null,null,null,{"$f":"cull!S15","v":167.2},{"$f":"cull!T15","v":9.2849309999999997E-3}]
[null,null,"cull",{"$f":"IF(CONCATENATE(E351,F351,G351,H351,I351,J351,K351,L351,M351,N351,O351,P351)=CONCATENATE(R351,S351,T351,U351,V351,W351,X351,Y351,Z351,AA351,AB351,AC351),\"\",1)","v":""},197.6,9.2987999999999994E-3,null,null,null,null,null,null,null,null,null,null,null,197.6,9.2987999999999994E-3,null,null,null,null,null,null,null,null,null,null,null,null,null,null,null,null,{"$f":"cull!S16","v":197.6},{"$f":"cull!T16","v":9.2987999999999994E-3}]
[null,null,"cull","",228,9.2987999999999994E-3,null,null,null,null,null,null,null,null,null,null,null,228,9.2987999999999994E-3,null,null,null,null,null,null,null,null,null,null,null,null,null,null,null,null,{"$f":"cull!S17","v":228},{"$f":"cull!T17","v":9.2987999999999994E-3}]
[null,null,"cull","",258.39999999999998,9.3065969999999998E-3,null,null,null,null,null,null,null,null,null,null,null,258.39999999999998,9.3065969999999998E-3,null,null,null,null,null,null,null,null,null,null,null,null,null,null,null,null,{"$f":"cull!S18","v":258.39999999999998},{"$f":"cull!T18","v":9.3065969999999998E-3}]
[null,null,"cull","",288.8,9.2270970000000001E-3,null,null,null,null,null,null,null,null,null,null,null,288.8,9.2270970000000001E-3,null,null,null,null,null,null,null,null,null,null,null,null,null,null,null,null,{"$f":"cull!S19","v":288.8},{"$f":"cull!T19","v":9.2270970000000001E-3}]
[null,null,"cull","",319.2,9.2113904999999996E-3,null,null,null,null,null,null,null,null,null,null,null,319.2,9.2113904999999996E-3,null,null,null,null,null,null,null,null,null,null,null,null,null,null,null,null,{"$f":"cull!S20","v":319.2},{"$f":"cull!T20","v":9.2113904999999996E-3}]
[null,null,"cull","",349.6,9.3422969999999994E-3,null,null,null,null,null,null,null,null,null,null,null,349.6,9.3422969999999994E-3,null,null,null,null,null,null,null,null,null,null,null,null,null,null,null,null,{"$f":"cull!S21","v":349.6},{"$f":"cull!T21","v":9.3422969999999994E-3}]
[null,null,"cull","",380,9.6691875000000007E-3,null,null,null,null,null,null,null,null,null,null,null,380,9.6691875000000007E-3,null,null,null,null,null,null,null,null,null,null,null,null,null,null,null,null,{"$f":"cull!S22","v":380},{"$f":"cull!T22","v":9.6691875000000007E-3}]
[null,null,"cull","",410.4,1.0193142000000001E-2,null,null,null,null,null,null,null,null,null,null,null,410.4,1.0193142000000001E-2,null,null,null,null,null,null,null,null,null,null,null,null,null,null,null,null,{"$f":"cull!S23","v":410.4},{"$f":"cull!T23","v":1.0193142000000001E-2}]
[null,null,"cull","",440.8,1.0865517E-2,null,null,null,null,null,null,null,null,null,null,null,440.8,1.0865517E-2,null,null,null,null,null,null,null,null,null,null,null,null,null,null,null,null,{"$f":"cull!S24","v":440.8},{"$f":"cull!T24","v":1.0865517E-2}]
[null,null,"cull","",471.2,1.1599917E-2,null,null,null,null,null,null,null,null,null,null,null,471.2,1.1599917E-2,null,null,null,null,null,null,null,null,null,null,null,null,null,null,null,null,{"$f":"cull!S25","v":471.2},{"$f":"cull!T25","v":1.1599917E-2}]
[null,null,"cull","",501.6,1.2297572999999999E-2,null,null,null,null,null,null,null,null,null,null,null,501.6,1.2297572999999999E-2,null,null,null,null,null,null,null,null,null,null,null,null,null,null,null,null,{"$f":"cull!S26","v":501.6},{"$f":"cull!T26","v":1.2297572999999999E-2}]
[null,null,"cull","",532,1.28861355E-2,null,null,null,null,null,null,null,null,null,null,null,532,1.28861355E-2,null,null,null,null,null,null,null,null,null,null,null,null,null,null,null,null,{"$f":"cull!S27","v":532},{"$f":"cull!T27","v":1.28861355E-2}]
[null,null,"cull","",562.4,1.33718625E-2,null,null,null,null,null,null,null,null,null,null,null,562.4,1.33718625E-2,null,null,null,null,null,null,null,null,null,null,null,null,null,null,null,null,{"$f":"cull!S28","v":562.4},{"$f":"cull!T28","v":1.33718625E-2}]
[null,null,"cull","",592.79999999999995,1.3905223499999999E-2,null,null,null,null,null,null,null,null,null,null,null,592.79999999999995,1.3905223499999999E-2,null,null,null,null,null,null,null,null,null,null,null,null,null,null,null,null,{"$f":"cull!S29","v":592.79999999999995},{"$f":"cull!T29","v":1.3905223499999999E-2}]
[null,null,"cull","",623.20000000000005,1.4859903000000001E-2,null,null,null,null,null,null,null,null,null,null,null,623.20000000000005,1.4859903000000001E-2,null,null,null,null,null,null,null,null,null,null,null,null,null,null,null,null,{"$f":"cull!S30","v":623.20000000000005},{"$f":"cull!T30","v":1.4859903000000001E-2}]
[null,null,"cull","",653.6,1.69252215E-2,null,null,null,null,null,null,null,null,null,null,null,653.6,1.69252215E-2,null,null,null,null,null,null,null,null,null,null,null,null,null,null,null,null,{"$f":"cull!S31","v":653.6},{"$f":"cull!T31","v":1.69252215E-2}]
[null,null,"cull","",684,1.89E-2,null,null,null,null,null,null,null,null,null,null,null,684,1.89E-2,null,null,null,null,null,null,null,null,null,null,null,null,null,null,null,null,{"$f":"cull!S32","v":684},{"$f":"cull!T32","v":1.89E-2}]
[null,null,"cull","",714.4,2.1167999999999999E-2,null,null,null,null,null,null,null,null,null,null,null,714.4,2.1167999999999999E-2,null,null,null,null,null,null,null,null,null,null,null,null,null,null,null,null,{"$f":"cull!S33","v":714.4},{"$f":"cull!T33","v":2.1167999999999999E-2}]
[null,null,"cull","","Monthly Risk of Involuntary Culling",null,null,null,null,null,null,null,null,null,null,null,null,"Monthly Risk of Involuntary Culling",null,null,null,null,null,null,null,null,null,null,null,null,null,null,null,null,null,"Monthly Risk of Involuntary Culling"]
[null,null,"cull","","Jan","Feb","Mar","Apr","May","Jun","Jul","Aug","Sep","Oct","Nov","Dec",null,"Jan","Feb","Mar","Apr","May","Jun","Jul","Aug","Sep","Oct","Nov","Dec",null,null,null,null,null,null,"Jan","Feb","Mar","Apr","May","Jun","Jul","Aug","Sep","Oct","Nov","Dec"]
[null,null," cull ",1,1.301098E-2,1.301098E-2,1.301098E-2,1.301098E-2,1.301098E-2,1.301098E-2,1.301098E-2,1.301098E-2,1.301098E-2,1.301098E-2,1.301098E-2,1.301098E-2,null,1.301097975E-2,1.301097975E-2,1.301097975E-2,1.301097975E-2,1.301097975E-2,1.301097975E-2,1.301097975E-2,1.301097975E-2,1.301097975E-2,1.301097975E-2,1.301097975E-2,1.301097975E-2,null,null,null,null,null,null,{"$f":"cull!G10","v":1.301098E-2},{"$f":"cull!H10","v":1.301098E-2},{"$f":"cull!I10","v":1.301098E-2},{"$f":"cull!J10","v":1.301098E-2},{"$f":"cull!K10","v":1.301098E-2},{"$f":"cull!L10","v":1.301098E-2},{"$f":"cull!M10","v":1.301098E-2},{"$f":"cull!N10","v":1.301098E-2},{"$f":"cull!O10","v":1.301098E-2},{"$f":"cull!P10","v":1.301098E-2},{"$f":"cull!Q10","v":1.301098E-2},{"$f":"cull!R10","v":1.301098E-2}]
[null,null,"cull","",8.4560339999999994E-3,8.4560339999999994E-3,8.4560339999999994E-3,8.4560339999999994E-3,8.4560339999999994E-3,8.4560339999999994E-3,8.4560339999999994E-3,8.4560339999999994E-3,8.4560339999999994E-3,8.4560339999999994E-3,8.4560339999999994E-3,8.4560339999999994E-3,null,8.4560339999999994E-3,8.4560339999999994E-3,8.4560339999999994E-3,8.4560339999999994E-3,8.4560339999999994E-3,8.4560339999999994E-3,8.4560339999999994E-3,8.4560339999999994E-3,8.4560339999999994E-3,8.4560339999999994E-3,8.4560339999999994E-3,8.4560339999999994E-3,null,null,null,null,null,null,{"$f":"cull!G11","v":8.4560339999999994E-3},{"$f":"cull!H11","v":8.4560339999999994E-3},{"$f":"cull!I11","v":8.4560339999999994E-3},{"$f":"cull!J11","v":8.4560339999999994E-3},{"$f":"cull!K11","v":8.4560339999999994E-3},{"$f":"cull!L11","v":8.4560339999999994E-3},{"$f":"cull!M11","v":8.4560339999999994E-3},{"$f":"cull!N11","v":8.4560339999999994E-3},{"$f":"cull!O11","v":8.4560339999999994E-3},{"$f":"cull!P11","v":8.4560339999999994E-3},{"$f":"cull!Q11","v":8.4560339999999994E-3},{"$f":"cull!R11","v":8.4560339999999994E-3}]
[null,null," cull ",1,6.102166E-3,6.102166E-3,6.102166E-3,6.102166E-3,6.102166E-3,6.102166E-3,6.102166E-3,6.102166E-3,6.102166E-3,6.102166E-3,6.102166E-3,6.102166E-3,null,6.1021657500000001E-3,6.1021657500000001E-3,6.1021657500000001E-3,6.1021657500000001E-3,6.1021657500000001E-3,6.1021657500000001E-3,6.1021657500000001E-3,6.1021657500000001E-3,6.1021657500000001E-3,6.1021657500000001E-3,6.1021657500000001E-3,6.1021657500000001E-3,null,null,null,null,null,null,{"$f":"cull!G12","v":6.102166E-3},{"$f":"cull!H12","v":6.102166E-3},{"$f":"cull!I12","v":6.102166E-3},{"$f":"cull!J12","v":6.102166E-3},{"$f":"cull!K12","v":6.102166E-3},{"$f":"cull!L12","v":6.102166E-3},{"$f":"cull!M12","v":6.102166E-3},{"$f":"cull!N12","v":6.102166E-3},{"$f":"cull!O12","v":6.102166E-3},{"$f":"cull!P12","v":6.102166E-3},{"$f":"cull!Q12","v":6.102166E-3},{"$f":"cull!R12","v":6.102166E-3}]
[null,null," cull ",1,5.0530430000000001E-3,5.0530430000000001E-3,5.0530430000000001E-3,5.0530430000000001E-3,5.0530430000000001E-3,5.0530430000000001E-3,5.0530430000000001E-3,5.0530430000000001E-3,5.0530430000000001E-3,5.0530430000000001E-3,5.0530430000000001E-3,5.0530430000000001E-3,null,5.05304325E-3,5.05304325E-3,5.05304325E-3,5.05304325E-3,5.05304325E-3,5.05304325E-3,5.05304325E-3,5.05304325E-3,5.05304325E-3,5.05304325E-3,5.05304325E-3,5.05304325E-3,null,null,null,null,null,null,{"$f":"cull!G13","v":5.0530430000000001E-3},{"$f":"cull!H13","v":5.0530430000000001E-3},{"$f":"cull!I13","v":5.0530430000000001E-3},{"$f":"cull!J13","v":5.0530430000000001E-3},{"$f":"cull!K13","v":5.0530430000000001E-3},{"$f":"cull!L13","v":5.0530430000000001E-3},{"$f":"cull!M13","v":5.0530430000000001E-3},{"$f":"cull!N13","v":5.0530430000000001E-3},{"$f":"cull!O13","v":5.0530430000000001E-3},{"$f":"cull!P13","v":5.0530430000000001E-3},{"$f":"cull!Q13","v":5.0530430000000001E-3},{"$f":"cull!R13","v":5.0530430000000001E-3}]
[null,null," cull ",1,4.6962949999999996E-3,4.6962949999999996E-3,4.6962949999999996E-3,4.6962949999999996E-3,4.6962949999999996E-3,4.6962949999999996E-3,4.6962949999999996E-3,4.6962949999999996E-3,4.6962949999999996E-3,4.6962949999999996E-3,4.6962949999999996E-3,4.6962949999999996E-3,null,4.6962952500000004E-3,4.6962952500000004E-3,4.6962952500000004E-3,4.6962952500000004E-3,4.6962952500000004E-3,4.6962952500000004E-3,4.6962952500000004E-3,4.6962952500000004E-3,4.6962952500000004E-3,4.6962952500000004E-3,4.6962952500000004E-3,4.6962952500000004E-3,null,null,null,null,null,null,{"$f":"cull!G14","v":4.6962949999999996E-3},{"$f":"cull!H14","v":4.6962949999999996E-3},{"$f":"cull!I14","v":4.6962949999999996E-3},{"$f":"cull!J14","v":4.6962949999999996E-3},{"$f":"cull!K14","v":4.6962949999999996E-3},{"$f":"cull!L14","v":4.6962949999999996E-3},{"$f":"cull!M14","v":4.6962949999999996E-3},{"$f":"cull!N14","v":4.6962949999999996E-3},{"$f":"cull!O14","v":4.6962949999999996E-3},{"$f":"cull!P14","v":4.6962949999999996E-3},{"$f":"cull!Q14","v":4.6962949999999996E-3},{"$f":"cull!R14","v":4.6962949999999996E-3}]
[null,null," cull ",1,4.6424659999999996E-3,4.6424659999999996E-3,4.6424659999999996E-3,4.6424659999999996E-3,4.6424659999999996E-3,4.6424659999999996E-3,4.6424659999999996E-3,4.6424659999999996E-3,4.6424659999999996E-3,4.6424659999999996E-3,4.6424659999999996E-3,4.6424659999999996E-3,null,4.6424654999999999E-3,4.6424654999999999E-3,4.6424654999999999E-3,4.6424654999999999E-3,4.6424654999999999E-3,4.6424654999999999E-3,4.6424654999999999E-3,4.6424654999999999E-3,4.6424654999999999E-3,4.6424654999999999E-3,4.6424654999999999E-3,4.6424654999999999E-3,null,null,null,null,null,null,{"$f":"cull!G15","v":4.6424659999999996E-3},{"$f":"cull!H15","v":4.6424659999999996E-3},{"$f":"cull!I15","v":4.6424659999999996E-3},{"$f":"cull!J15","v":4.6424659999999996E-3},{"$f":"cull!K15","v":4.6424659999999996E-3},{"$f":"cull!L15","v":4.6424659999999996E-3},{"$f":"cull!M15","v":4.6424659999999996E-3},{"$f":"cull!N15","v":4.6424659999999996E-3},{"$f":"cull!O15","v":4.6424659999999996E-3},{"$f":"cull!P15","v":4.6424659999999996E-3},{"$f":"cull!Q15","v":4.6424659999999996E-3},{"$f":"cull!R15","v":4.6424659999999996E-3}]
[null,null,"cull","",4.6493999999999997E-3,4.6493999999999997E-3,4.6493999999999997E-3,4.6493999999999997E-3,4.6493999999999997E-3,4.6493999999999997E-3,4.6493999999999997E-3,4.6493999999999997E-3,4.6493999999999997E-3,4.6493999999999997E-3,4.6493999999999997E-3,4.6493999999999997E-3,null,4.6493999999999997E-3,4.6493999999999997E-3,4.6493999999999997E-3,4.6493999999999997E-3,4.6493999999999997E-3,4.6493999999999997E-3,4.6493999999999997E-3,4.6493999999999997E-3,4.6493999999999997E-3,4.6493999999999997E-3,4.6493999999999997E-3,4.6493999999999997E-3,null,null,null,null,null,null,{"$f":"cull!G16","v":4.6493999999999997E-3},{"$f":"cull!H16","v":4.6493999999999997E-3},{"$f":"cull!I16","v":4.6493999999999997E-3},{"$f":"cull!J16","v":4.6493999999999997E-3},{"$f":"cull!K16","v":4.6493999999999997E-3},{"$f":"cull!L16","v":4.6493999999999997E-3},{"$f":"cull!M16","v":4.6493999999999997E-3},{"$f":"cull!N16","v":4.6493999999999997E-3},{"$f":"cull!O16","v":4.6493999999999997E-3},{"$f":"cull!P16","v":4.6493999999999997E-3},{"$f":"cull!Q16","v":4.6493999999999997E-3},{"$f":"cull!R16","v":4.6493999999999997E-3}]
[null,null,"cull","",4.6493999999999997E-3,4.6493999999999997E-3,4.6493999999999997E-3,4.6493999999999997E-3,4.6493999999999997E-3,4.6493999999999997E-3,4.6493999999999997E-3,4.6493999999999997E-3,4.6493999999999997E-3,4.6493999999999997E-3,4.6493999999999997E-3,4.6493999999999997E-3,null,4.6493999999999997E-3,4.6493999999999997E-3,4.6493999999999997E-3,4.6493999999999997E-3,4.6493999999999997E-3,4.6493999999999997E-3,4.6493999999999997E-3,4.6493999999999997E-3,4.6493999999999997E-3,4.6493999999999997E-3,4.6493999999999997E-3,4.6493999999999997E-3,null,null,null,null,null,null,{"$f":"cull!G17","v":4.6493999999999997E-3},{"$f":"cull!H17","v":4.6493999999999997E-3},{"$f":"cull!I17","v":4.6493999999999997E-3},{"$f":"cull!J17","v":4.6493999999999997E-3},{"$f":"cull!K17","v":4.6493999999999997E-3},{"$f":"cull!L17","v":4.6493999999999997E-3},{"$f":"cull!M17","v":4.6493999999999997E-3},{"$f":"cull!N17","v":4.6493999999999997E-3},{"$f":"cull!O17","v":4.6493999999999997E-3},{"$f":"cull!P17","v":4.6493999999999997E-3},{"$f":"cull!Q17","v":4.6493999999999997E-3},{"$f":"cull!R17","v":4.6493999999999997E-3}]
[null,null," cull ",1,4.6532989999999996E-3,4.6532989999999996E-3,4.6532989999999996E-3,4.6532989999999996E-3,4.6532989999999996E-3,4.6532989999999996E-3,4.6532989999999996E-3,4.6532989999999996E-3,4.6532989999999996E-3,4.6532989999999996E-3,4.6532989999999996E-3,4.6532989999999996E-3,null,4.6532984999999999E-3,4.6532984999999999E-3,4.6532984999999999E-3,4.6532984999999999E-3,4.6532984999999999E-3,4.6532984999999999E-3,4.6532984999999999E-3,4.6532984999999999E-3,4.6532984999999999E-3,4.6532984999999999E-3,4.6532984999999999E-3,4.6532984999999999E-3,null,null,null,null,null,null,{"$f":"cull!G18","v":4.6532989999999996E-3},{"$f":"cull!H18","v":4.6532989999999996E-3},{"$f":"cull!I18","v":4.6532989999999996E-3},{"$f":"cull!J18","v":4.6532989999999996E-3},{"$f":"cull!K18","v":4.6532989999999996E-3},{"$f":"cull!L18","v":4.6532989999999996E-3},{"$f":"cull!M18","v":4.6532989999999996E-3},{"$f":"cull!N18","v":4.6532989999999996E-3},{"$f":"cull!O18","v":4.6532989999999996E-3},{"$f":"cull!P18","v":4.6532989999999996E-3},{"$f":"cull!Q18","v":4.6532989999999996E-3},{"$f":"cull!R18","v":4.6532989999999996E-3}]
[null,null," cull ",1,4.6135489999999998E-3,4.6135489999999998E-3,4.6135489999999998E-3,4.6135489999999998E-3,4.6135489999999998E-3,4.6135489999999998E-3,4.6135489999999998E-3,4.6135489999999998E-3,4.6135489999999998E-3,4.6135489999999998E-3,4.6135489999999998E-3,4.6135489999999998E-3,null,4.6135485E-3,4.6135485E-3,4.6135485E-3,4.6135485E-3,4.6135485E-3,4.6135485E-3,4.6135485E-3,4.6135485E-3,4.6135485E-3,4.6135485E-3,4.6135485E-3,4.6135485E-3,null,null,null,null,null,null,{"$f":"cull!G19","v":4.6135489999999998E-3},{"$f":"cull!H19","v":4.6135489999999998E-3},{"$f":"cull!I19","v":4.6135489999999998E-3},{"$f":"cull!J19","v":4.6135489999999998E-3},{"$f":"cull!K19","v":4.6135489999999998E-3},{"$f":"cull!L19","v":4.6135489999999998E-3},{"$f":"cull!M19","v":4.6135489999999998E-3},{"$f":"cull!N19","v":4.6135489999999998E-3},{"$f":"cull!O19","v":4.6135489999999998E-3},{"$f":"cull!P19","v":4.6135489999999998E-3},{"$f":"cull!Q19","v":4.6135489999999998E-3},{"$f":"cull!R19","v":4.6135489999999998E-3}]
[null,null," cull ",1,4.6056949999999999E-3,4.6056949999999999E-3,4.6056949999999999E-3,4.6056949999999999E-3,4.6056949999999999E-3,4.6056949999999999E-3,4.6056949999999999E-3,4.6056949999999999E-3,4.6056949999999999E-3,4.6056949999999999E-3,4.6056949999999999E-3,4.6056949999999999E-3,null,4.6056952499999998E-3,4.6056952499999998E-3,4.6056952499999998E-3,4.6056952499999998E-3,4.6056952499999998E-3,4.6056952499999998E-3,4.6056952499999998E-3,4.6056952499999998E-3,4.6056952499999998E-3,4.6056952499999998E-3,4.6056952499999998E-3,4.6056952499999998E-3,null,null,null,null,null,null,{"$f":"cull!G20","v":4.6056949999999999E-3},{"$f":"cull!H20","v":4.6056949999999999E-3},{"$f":"cull!I20","v":4.6056949999999999E-3},{"$f":"cull!J20","v":4.6056949999999999E-3},{"$f":"cull!K20","v":4.6056949999999999E-3},{"$f":"cull!L20","v":4.6056949999999999E-3},{"$f":"cull!M20","v":4.6056949999999999E-3},{"$f":"cull!N20","v":4.6056949999999999E-3},{"$f":"cull!O20","v":4.6056949999999999E-3},{"$f":"cull!P20","v":4.6056949999999999E-3},{"$f":"cull!Q20","v":4.6056949999999999E-3},{"$f":"cull!R20","v":4.6056949999999999E-3}]
[null,null," cull ",1,4.6711490000000003E-3,4.6711490000000003E-3,4.6711490000000003E-3,4.6711490000000003E-3,4.6711490000000003E-3,4.6711490000000003E-3,4.6711490000000003E-3,4.6711490000000003E-3,4.6711490000000003E-3,4.6711490000000003E-3,4.6711490000000003E-3,4.6711490000000003E-3,null,4.6711484999999997E-3,4.6711484999999997E-3,4.6711484999999997E-3,4.6711484999999997E-3,4.6711484999999997E-3,4.6711484999999997E-3,4.6711484999999997E-3,4.6711484999999997E-3,4.6711484999999997E-3,4.6711484999999997E-3,4.6711484999999997E-3,4.6711484999999997E-3,null,null,null,null,null,null,{"$f":"cull!G21","v":4.6711490000000003E-3},{"$f":"cull!H21","v":4.6711490000000003E-3},{"$f":"cull!I21","v":4.6711490000000003E-3},{"$f":"cull!J21","v":4.6711490000000003E-3},{"$f":"cull!K21","v":4.6711490000000003E-3},{"$f":"cull!L21","v":4.6711490000000003E-3},{"$f":"cull!M21","v":4.6711490000000003E-3},{"$f":"cull!N21","v":4.6711490000000003E-3},{"$f":"cull!O21","v":4.6711490000000003E-3},{"$f":"cull!P21","v":4.6711490000000003E-3},{"$f":"cull!Q21","v":4.6711490000000003E-3},{"$f":"cull!R21","v":4.6711490000000003E-3}]
[null,null," cull ",1,4.8345940000000002E-3,4.8345940000000002E-3,4.8345940000000002E-3,4.8345940000000002E-3,4.8345940000000002E-3,4.8345940000000002E-3,4.8345940000000002E-3,4.8345940000000002E-3,4.8345940000000002E-3,4.8345940000000002E-3,4.8345940000000002E-3,4.8345940000000002E-3,null,4.8345937500000003E-3,4.8345937500000003E-3,4.8345937500000003E-3,4.8345937500000003E-3,4.8345937500000003E-3,4.8345937500000003E-3,4.8345937500000003E-3,4.8345937500000003E-3,4.8345937500000003E-3,4.8345937500000003E-3,4.8345937500000003E-3,4.8345937500000003E-3,null,null,null,null,null,null,{"$f":"cull!G22","v":4.8345940000000002E-3},{"$f":"cull!H22","v":4.8345940000000002E-3},{"$f":"cull!I22","v":4.8345940000000002E-3},{"$f":"cull!J22","v":4.8345940000000002E-3},{"$f":"cull!K22","v":4.8345940000000002E-3},{"$f":"cull!L22","v":4.8345940000000002E-3},{"$f":"cull!M22","v":4.8345940000000002E-3},{"$f":"cull!N22","v":4.8345940000000002E-3},{"$f":"cull!O22","v":4.8345940000000002E-3},{"$f":"cull!P22","v":4.8345940000000002E-3},{"$f":"cull!Q22","v":4.8345940000000002E-3},{"$f":"cull!R22","v":4.8345940000000002E-3}]
[null,null,"cull","",5.0965710000000003E-3,5.0965710000000003E-3,5.0965710000000003E-3,5.0965710000000003E-3,5.0965710000000003E-3,5.0965710000000003E-3,5.0965710000000003E-3,5.0965710000000003E-3,5.0965710000000003E-3,5.0965710000000003E-3,5.0965710000000003E-3,5.0965710000000003E-3,null,5.0965710000000003E-3,5.0965710000000003E-3,5.0965710000000003E-3,5.0965710000000003E-3,5.0965710000000003E-3,5.0965710000000003E-3,5.0965710000000003E-3,5.0965710000000003E-3,5.0965710000000003E-3,5.0965710000000003E-3,5.0965710000000003E-3,5.0965710000000003E-3,null,null,null,null,null,null,{"$f":"cull!G23","v":5.0965710000000003E-3},{"$f":"cull!H23","v":5.0965710000000003E-3},{"$f":"cull!I23","v":5.0965710000000003E-3},{"$f":"cull!J23","v":5.0965710000000003E-3},{"$f":"cull!K23","v":5.0965710000000003E-3},{"$f":"cull!L23","v":5.0965710000000003E-3},{"$f":"cull!M23","v":5.0965710000000003E-3},{"$f":"cull!N23","v":5.0965710000000003E-3},{"$f":"cull!O23","v":5.0965710000000003E-3},{"$f":"cull!P23","v":5.0965710000000003E-3},{"$f":"cull!Q23","v":5.0965710000000003E-3},{"$f":"cull!R23","v":5.0965710000000003E-3}]
[null,null," cull ",1,5.4327589999999997E-3,5.4327589999999997E-3,5.4327589999999997E-3,5.4327589999999997E-3,5.4327589999999997E-3,5.4327589999999997E-3,5.4327589999999997E-3,5.4327589999999997E-3,5.4327589999999997E-3,5.4327589999999997E-3,5.4327589999999997E-3,5.4327589999999997E-3,null,5.4327584999999999E-3,5.4327584999999999E-3,5.4327584999999999E-3,5.4327584999999999E-3,5.4327584999999999E-3,5.4327584999999999E-3,5.4327584999999999E-3,5.4327584999999999E-3,5.4327584999999999E-3,5.4327584999999999E-3,5.4327584999999999E-3,5.4327584999999999E-3,null,null,null,null,null,null,{"$f":"cull!G24","v":5.4327589999999997E-3},{"$f":"cull!H24","v":5.4327589999999997E-3},{"$f":"cull!I24","v":5.4327589999999997E-3},{"$f":"cull!J24","v":5.4327589999999997E-3},{"$f":"cull!K24","v":5.4327589999999997E-3},{"$f":"cull!L24","v":5.4327589999999997E-3},{"$f":"cull!M24","v":5.4327589999999997E-3},{"$f":"cull!N24","v":5.4327589999999997E-3},{"$f":"cull!O24","v":5.4327589999999997E-3},{"$f":"cull!P24","v":5.4327589999999997E-3},{"$f":"cull!Q24","v":5.4327589999999997E-3},{"$f":"cull!R24","v":5.4327589999999997E-3}]
[null,null," cull ",1,5.7999590000000004E-3,5.7999590000000004E-3,5.7999590000000004E-3,5.7999590000000004E-3,5.7999590000000004E-3,5.7999590000000004E-3,5.7999590000000004E-3,5.7999590000000004E-3,5.7999590000000004E-3,5.7999590000000004E-3,5.7999590000000004E-3,5.7999590000000004E-3,null,5.7999584999999998E-3,5.7999584999999998E-3,5.7999584999999998E-3,5.7999584999999998E-3,5.7999584999999998E-3,5.7999584999999998E-3,5.7999584999999998E-3,5.7999584999999998E-3,5.7999584999999998E-3,5.7999584999999998E-3,5.7999584999999998E-3,5.7999584999999998E-3,null,null,null,null,null,null,{"$f":"cull!G25","v":5.7999590000000004E-3},{"$f":"cull!H25","v":5.7999590000000004E-3},{"$f":"cull!I25","v":5.7999590000000004E-3},{"$f":"cull!J25","v":5.7999590000000004E-3},{"$f":"cull!K25","v":5.7999590000000004E-3},{"$f":"cull!L25","v":5.7999590000000004E-3},{"$f":"cull!M25","v":5.7999590000000004E-3},{"$f":"cull!N25","v":5.7999590000000004E-3},{"$f":"cull!O25","v":5.7999590000000004E-3},{"$f":"cull!P25","v":5.7999590000000004E-3},{"$f":"cull!Q25","v":5.7999590000000004E-3},{"$f":"cull!R25","v":5.7999590000000004E-3}]
[null,null," cull ",1,6.1487870000000002E-3,6.1487870000000002E-3,6.1487870000000002E-3,6.1487870000000002E-3,6.1487870000000002E-3,6.1487870000000002E-3,6.1487870000000002E-3,6.1487870000000002E-3,6.1487870000000002E-3,6.1487870000000002E-3,6.1487870000000002E-3,6.1487870000000002E-3,null,6.1487864999999996E-3,6.1487864999999996E-3,6.1487864999999996E-3,6.1487864999999996E-3,6.1487864999999996E-3,6.1487864999999996E-3,6.1487864999999996E-3,6.1487864999999996E-3,6.1487864999999996E-3,6.1487864999999996E-3,6.1487864999999996E-3,6.1487864999999996E-3,null,null,null,null,null,null,{"$f":"cull!G26","v":6.1487870000000002E-3},{"$f":"cull!H26","v":6.1487870000000002E-3},{"$f":"cull!I26","v":6.1487870000000002E-3},{"$f":"cull!J26","v":6.1487870000000002E-3},{"$f":"cull!K26","v":6.1487870000000002E-3},{"$f":"cull!L26","v":6.1487870000000002E-3},{"$f":"cull!M26","v":6.1487870000000002E-3},{"$f":"cull!N26","v":6.1487870000000002E-3},{"$f":"cull!O26","v":6.1487870000000002E-3},{"$f":"cull!P26","v":6.1487870000000002E-3},{"$f":"cull!Q26","v":6.1487870000000002E-3},{"$f":"cull!R26","v":6.1487870000000002E-3}]
[null,null," cull ",1,6.4430679999999997E-3,6.4430679999999997E-3,6.4430679999999997E-3,6.4430679999999997E-3,6.4430679999999997E-3,6.4430679999999997E-3,6.4430679999999997E-3,6.4430679999999997E-3,6.4430679999999997E-3,6.4430679999999997E-3,6.4430679999999997E-3,6.4430679999999997E-3,null,6.4430677499999998E-3,6.4430677499999998E-3,6.4430677499999998E-3,6.4430677499999998E-3,6.4430677499999998E-3,6.4430677499999998E-3,6.4430677499999998E-3,6.4430677499999998E-3,6.4430677499999998E-3,6.4430677499999998E-3,6.4430677499999998E-3,6.4430677499999998E-3,null,null,null,null,null,null,{"$f":"cull!G27","v":6.4430679999999997E-3},{"$f":"cull!H27","v":6.4430679999999997E-3},{"$f":"cull!I27","v":6.4430679999999997E-3},{"$f":"cull!J27","v":6.4430679999999997E-3},{"$f":"cull!K27","v":6.4430679999999997E-3},{"$f":"cull!L27","v":6.4430679999999997E-3},{"$f":"cull!M27","v":6.4430679999999997E-3},{"$f":"cull!N27","v":6.4430679999999997E-3},{"$f":"cull!O27","v":6.4430679999999997E-3},{"$f":"cull!P27","v":6.4430679999999997E-3},{"$f":"cull!Q27","v":6.4430679999999997E-3},{"$f":"cull!R27","v":6.4430679999999997E-3}]
[null,null," cull ",1,6.685931E-3,6.685931E-3,6.685931E-3,6.685931E-3,6.685931E-3,6.685931E-3,6.685931E-3,6.685931E-3,6.685931E-3,6.685931E-3,6.685931E-3,6.685931E-3,null,6.6859312499999999E-3,6.6859312499999999E-3,6.6859312499999999E-3,6.6859312499999999E-3,6.6859312499999999E-3,6.6859312499999999E-3,6.6859312499999999E-3,6.6859312499999999E-3,6.6859312499999999E-3,6.6859312499999999E-3,6.6859312499999999E-3,6.6859312499999999E-3,null,null,null,null,null,null,{"$f":"cull!G28","v":6.685931E-3},{"$f":"cull!H28","v":6.685931E-3},{"$f":"cull!I28","v":6.685931E-3},{"$f":"cull!J28","v":6.685931E-3},{"$f":"cull!K28","v":6.685931E-3},{"$f":"cull!L28","v":6.685931E-3},{"$f":"cull!M28","v":6.685931E-3},{"$f":"cull!N28","v":6.685931E-3},{"$f":"cull!O28","v":6.685931E-3},{"$f":"cull!P28","v":6.685931E-3},{"$f":"cull!Q28","v":6.685931E-3},{"$f":"cull!R28","v":6.685931E-3}]
[null,null,{"$f":"IF(D390=1,\" cull \",\"cull\")","v":" cull "},1,6.9526120000000004E-3,6.9526120000000004E-3,6.9526120000000004E-3,6.9526120000000004E-3,6.9526120000000004E-3,6.9526120000000004E-3,6.9526120000000004E-3,6.9526120000000004E-3,6.9526120000000004E-3,6.9526120000000004E-3,6.9526120000000004E-3,6.9526120000000004E-3,null,6.9526117499999996E-3,6.9526117499999996E-3,6.9526117499999996E-3,6.9526117499999996E-3,6.9526117499999996E-3,6.9526117499999996E-3,6.9526117499999996E-3,6.9526117499999996E-3,6.9526117499999996E-3,6.9526117499999996E-3,6.9526117499999996E-3,6.9526117499999996E-3,null,null,null,null,null,null,{"$f":"cull!G29","v":6.9526120000000004E-3},{"$f":"cull!H29","v":6.9526120000000004E-3},{"$f":"cull!I29","v":6.9526120000000004E-3},{"$f":"cull!J29","v":6.9526120000000004E-3},{"$f":"cull!K29","v":6.9526120000000004E-3},{"$f":"cull!L29","v":6.9526120000000004E-3},{"$f":"cull!M29","v":6.9526120000000004E-3},{"$f":"cull!N29","v":6.9526120000000004E-3},{"$f":"cull!O29","v":6.9526120000000004E-3},{"$f":"cull!P29","v":6.9526120000000004E-3},{"$f":"cull!Q29","v":6.9526120000000004E-3},{"$f":"cull!R29","v":6.9526120000000004E-3}]
[null,null,{"$f":"IF(D391=1,\" cull \",\"cull\")","v":" cull "},1,7.4299520000000001E-3,7.4299520000000001E-3,7.4299520000000001E-3,7.4299520000000001E-3,7.4299520000000001E-3,7.4299520000000001E-3,7.4299520000000001E-3,7.4299520000000001E-3,7.4299520000000001E-3,7.4299520000000001E-3,7.4299520000000001E-3,7.4299520000000001E-3,null,7.4299515000000003E-3,7.4299515000000003E-3,7.4299515000000003E-3,7.4299515000000003E-3,7.4299515000000003E-3,7.4299515000000003E-3,7.4299515000000003E-3,7.4299515000000003E-3,7.4299515000000003E-3,7.4299515000000003E-3,7.4299515000000003E-3,7.4299515000000003E-3,null,null,null,null,null,null,{"$f":"cull!G30","v":7.4299520000000001E-3},{"$f":"cull!H30","v":7.4299520000000001E-3},{"$f":"cull!I30","v":7.4299520000000001E-3},{"$f":"cull!J30","v":7.4299520000000001E-3},{"$f":"cull!K30","v":7.4299520000000001E-3},{"$f":"cull!L30","v":7.4299520000000001E-3},{"$f":"cull!M30","v":7.4299520000000001E-3},{"$f":"cull!N30","v":7.4299520000000001E-3},{"$f":"cull!O30","v":7.4299520000000001E-3},{"$f":"cull!P30","v":7.4299520000000001E-3},{"$f":"cull!Q30","v":7.4299520000000001E-3},{"$f":"cull!R30","v":7.4299520000000001E-3}]
[null,null,{"$f":"IF(D392=1,\" cull \",\"cull\")","v":" cull "},1,8.4626110000000001E-3,8.4626110000000001E-3,8.4626110000000001E-3,8.4626110000000001E-3,8.4626110000000001E-3,8.4626110000000001E-3,8.4626110000000001E-3,8.4626110000000001E-3,8.4626110000000001E-3,8.4626110000000001E-3,8.4626110000000001E-3,8.4626110000000001E-3,null,8.4626107500000002E-3,8.4626107500000002E-3,8.4626107500000002E-3,8.4626107500000002E-3,8.4626107500000002E-3,8.4626107500000002E-3,8.4626107500000002E-3,8.4626107500000002E-3,8.4626107500000002E-3,8.4626107500000002E-3,8.4626107500000002E-3,8.4626107500000002E-3,null,null,null,null,null,null,{"$f":"cull!G31","v":8.4626110000000001E-3},{"$f":"cull!H31","v":8.4626110000000001E-3},{"$f":"cull!I31","v":8.4626110000000001E-3},{"$f":"cull!J31","v":8.4626110000000001E-3},{"$f":"cull!K31","v":8.4626110000000001E-3},{"$f":"cull!L31","v":8.4626110000000001E-3},{"$f":"cull!M31","v":8.4626110000000001E-3},{"$f":"cull!N31","v":8.4626110000000001E-3},{"$f":"cull!O31","v":8.4626110000000001E-3},{"$f":"cull!P31","v":8.4626110000000001E-3},{"$f":"cull!Q31","v":8.4626110000000001E-3},{"$f":"cull!R31","v":8.4626110000000001E-3}]
[null,null,{"$f":"IF(D393=1,\" cull \",\"cull\")","v":"cull"},"",9.4500000000000001E-3,9.4500000000000001E-3,9.4500000000000001E-3,9.4500000000000001E-3,9.4500000000000001E-3,9.4500000000000001E-3,9.4500000000000001E-3,9.4500000000000001E-3,9.4500000000000001E-3,9.4500000000000001E-3,9.4500000000000001E-3,9.4500000000000001E-3,null,9.4500000000000001E-3,9.4500000000000001E-3,9.4500000000000001E-3,9.4500000000000001E-3,9.4500000000000001E-3,9.4500000000000001E-3,9.4500000000000001E-3,9.4500000000000001E-3,9.4500000000000001E-3,9.4500000000000001E-3,9.4500000000000001E-3,9.4500000000000001E-3,null,null,null,null,null,null,{"$f":"cull!G32","v":9.4500000000000001E-3},{"$f":"cull!H32","v":9.4500000000000001E-3},{"$f":"cull!I32","v":9.4500000000000001E-3},{"$f":"cull!J32","v":9.4500000000000001E-3},{"$f":"cull!K32","v":9.4500000000000001E-3},{"$f":"cull!L32","v":9.4500000000000001E-3},{"$f":"cull!M32","v":9.4500000000000001E-3},{"$f":"cull!N32","v":9.4500000000000001E-3},{"$f":"cull!O32","v":9.4500000000000001E-3},{"$f":"cull!P32","v":9.4500000000000001E-3},{"$f":"cull!Q32","v":9.4500000000000001E-3},{"$f":"cull!R32","v":9.4500000000000001E-3}]
[null,null,{"$f":"IF(D394=1,\" cull \",\"cull\")","v":"cull"},"",1.0584E-2,1.0584E-2,1.0584E-2,1.0584E-2,1.0584E-2,1.0584E-2,1.0584E-2,1.0584E-2,1.0584E-2,1.0584E-2,1.0584E-2,1.0584E-2,null,1.0584E-2,1.0584E-2,1.0584E-2,1.0584E-2,1.0584E-2,1.0584E-2,1.0584E-2,1.0584E-2,1.0584E-2,1.0584E-2,1.0584E-2,1.0584E-2,null,null,null,null,null,null,{"$f":"cull!G33","v":1.0584E-2},{"$f":"cull!H33","v":1.0584E-2},{"$f":"cull!I33","v":1.0584E-2},{"$f":"cull!J33","v":1.0584E-2},{"$f":"cull!K33","v":1.0584E-2},{"$f":"cull!L33","v":1.0584E-2},{"$f":"cull!M33","v":1.0584E-2},{"$f":"cull!N33","v":1.0584E-2},{"$f":"cull!O33","v":1.0584E-2},{"$f":"cull!P33","v":1.0584E-2},{"$f":"cull!Q33","v":1.0584E-2},{"$f":"cull!R33","v":1.0584E-2}]
[null,null,null,""]
[null,null,{"$f":"IF(D396=1,\" bw \",\"bw\")","v":"bw"},"","BODY WEIGHT",null,null,null,null,null,null,null,null,null,null,null,null,"BODY WEIGHT",null,null,null,null,null,null,null,null,null,null,null,null,null,null,null,null,null,{"$f":"bw!$B$1","v":"BODY WEIGHT"}]
[null,null,{"$f":"IF(D397=1,\" bw \",\"bw\")","v":"bw"},"",1,"bfunction",null,null,null,null,null,null,null,null,null,null,null,1,"bfunction",null,null,null,null,null,null,null,null,null,null,null,null,null,null,null,null,{"$f":"bw!$AI2","v":1},{"$f":"bw!$AH2","v":"bfunction"}]
[null,null,"bw","",null,"lact = 1",null,null,null,null,null,null,null,null,null,null,null,null,"lact = 1",null,null,null,null,null,null,null,null,null,null,null,null,null,null,null,null,null,{"$f":"bw!D12","v":"lact = 1"}]
[null,null,"bw","","A",600,null,null,null,null,null,null,null,null,null,null,null,"A",600,null,null,null,null,null,null,null,null,null,null,null,null,null,null,null,null,{"$f":"bw!C13","v":"A"},{"$f":"bw!D13","v":600}]
[null,null,"bw","","yo",42,null,null,null,null,null,null,null,null,null,null,null,"yo",42,null,null,null,null,null,null,null,null,null,null,null,null,null,null,null,null,{"$f":"bw!C14","v":"yo"},{"$f":"bw!D14","v":42}]
[null,null,"bw","","k",3.9,null,null,null,null,null,null,null,null,null,null,null,"k",3.9,null,null,null,null,null,null,null,null,null,null,null,null,null,null,null,null,{"$f":"bw!C15","v":"k"},{"$f":"bw!D15","v":3.9}]
[null,null,"bw","","p1",20,null,null,null,null,null,null,null,null,null,null,null,"p1",20,null,null,null,null,null,null,null,null,null,null,null,null,null,null,null,null,{"$f":"bw!C16","v":"p1"},{"$f":"bw!D16","v":20}]
[null,null,"bw","","p2",65,null,null,null,null,null,null,null,null,null,null,null,"p2",65,null,null,null,null,null,null,null,null,null,null,null,null,null,null,null,null,{"$f":"bw!C17","v":"p2"},{"$f":"bw!D17","v":65}]
[null,null,"bw","","p3",1.8700000000000001E-2,null,null,null,null,null,null,null,null,null,null,null,"p3",1.8700000000000001E-2,null,null,null,null,null,null,null,null,null,null,null,null,null,null,null,null,{"$f":"bw!C18","v":"p3"},{"$f":"bw!D18","v":1.8700000000000001E-2}]
[null,null,"bw","",null,"lact ≥ 2 ",null,null,null,null,null,null,null,null,null,null,null,null,"lact ≥ 2 ",null,null,null,null,null,null,null,null,null,null,null,null,null,null,null,null,null,{"$f":"bw!D19","v":"lact ≥ 2 "}]
[null,null,"bw","","A",640,null,null,null,null,null,null,null,null,null,null,null,"A",640,null,null,null,null,null,null,null,null,null,null,null,null,null,null,null,null,{"$f":"bw!C20","v":"A"},{"$f":"bw!D20","v":640}]
[null,null,"bw","","yo",42,null,null,null,null,null,null,null,null,null,null,null,"yo",42,null,null,null,null,null,null,null,null,null,null,null,null,null,null,null,null,{"$f":"bw!C21","v":"yo"},{"$f":"bw!D21","v":42}]
[null,null,"bw","","k",6,null,null,null,null,null,null,null,null,null,null,null,"k",6,null,null,null,null,null,null,null,null,null,null,null,null,null,null,null,null,{"$f":"bw!C22","v":"k"},{"$f":"bw!D22","v":6}]
[null,null,"bw","","p1",40,null,null,null,null,null,null,null,null,null,null,null,"p1",40,null,null,null,null,null,null,null,null,null,null,null,null,null,null,null,null,{"$f":"bw!C23","v":"p1"},{"$f":"bw!D23","v":40}]
[null,null,"bw","","p2",70,null,null,null,null,null,null,null,null,null,null,null,"p2",70,null,null,null,null,null,null,null,null,null,null,null,null,null,null,null,null,{"$f":"bw!C24","v":"p2"},{"$f":"bw!D24","v":70}]
[null,null,"bw","","p3",1.8700000000000001E-2,null,null,null,null,null,null,null,null,null,null,null,"p3",1.8700000000000001E-2,null,null,null,null,null,null,null,null,null,null,null,null,null,null,null,null,{"$f":"bw!C25","v":"p3"},{"$f":"bw!D25","v":1.8700000000000001E-2}]
[null,null,"bw","","  Open cows",null,null,null,null,null,null,null,null,null,null,null,null,"  Open cows",null,null,null,null,null,null,null,null,null,null,null,null,null,null,null,null,null,{"$f":"bw!G3","v":"  Open cows"}]
[null,null,"bw","","lact 1","lact ≥ 2 ",null,null,null,null,null,null,null,null,null,null,null,"lact 1","lact ≥ 2 ",null,null,null,null,null,null,null,null,null,null,null,null,null,null,null,null,{"$f":"bw!G4","v":"lact 1"},{"$f":"bw!H4","v":"lact ≥ 2 "}]
[null,null," bw ",1,1177.0883100000001,1340.78611570561,null,null,null,null,null,null,null,null,null,null,null,1177.0883100466237,1340.7861157056134,null,null,null,null,null,null,null,null,null,null,null,null,null,null,null,null,{"$f":"bw!G5","v":1177.0883100000001},{"$f":"bw!H5","v":1340.78611570561}]
[null,null," bw ",{"$f":"IF(CONCATENATE(E415,F415,G415,H415,I415,J415,K415,L415,M415,N415,O415,P415)=CONCATENATE(R415,S415,T415,U415,V415,W415,X415,Y415,Z415,AA415,AB415,AC415),\"\",1)","v":1},1170.9902139999999,1305.92396792463,null,null,null,null,null,null,null,null,null,null,null,1170.9902140848849,1305.9239679246257,null,null,null,null,null,null,null,null,null,null,null,null,null,null,null,null,{"$f":"bw!G6","v":1170.9902139999999},{"$f":"bw!H6","v":1305.92396792463}]
[null,null," bw ",1,1181.1457439999999,1302.91398463366,null,null,null,null,null,null,null,null,null,null,null,1181.1457441750822,1302.9139846336634,null,null,null,null,null,null,null,null,null,null,null,null,null,null,null,null,{"$f":"bw!G7","v":1181.1457439999999},{"$f":"bw!H7","v":1302.91398463366}]
[null,null," bw ",1,1197.2169610000001,1313.9477053834701,null,null,null,null,null,null,null,null,null,null,null,1197.2169609703883,1313.9477053834717,null,null,null,null,null,null,null,null,null,null,null,null,null,null,null,null,{"$f":"bw!G8","v":1197.2169610000001},{"$f":"bw!H8","v":1313.9477053834701}]
[null,null," bw ",1,1214.2169670000001,1329.7349937014001,null,null,null,null,null,null,null,null,null,null,null,1214.2169670378059,1329.7349937013989,null,null,null,null,null,null,null,null,null,null,null,null,null,null,null,null,{"$f":"bw!G9","v":1214.2169670000001},{"$f":"bw!H9","v":1329.7349937014001}]
[null,null," bw ",1,1229.965886,1345.7337168705101,null,null,null,null,null,null,null,null,null,null,null,1229.9658859870162,1345.7337168705071,null,null,null,null,null,null,null,null,null,null,null,null,null,null,null,null,{"$f":"bw!G10","v":1229.965886},{"$f":"bw!H10","v":1345.7337168705101}]
[null,null," bw ",1,1243.6996489999999,1359.9721510167999,null,null,null,null,null,null,null,null,null,null,null,1243.6996489164035,1359.9721510168015,null,null,null,null,null,null,null,null,null,null,null,null,null,null,null,null,{"$f":"bw!G11","v":1243.6996489999999},{"$f":"bw!H11","v":1359.9721510167999}]
[null,null," bw ",1,1255.3254240000001,1371.8119793451699,null,null,null,null,null,null,null,null,null,null,null,1255.3254238473644,1371.8119793451731,null,null,null,null,null,null,null,null,null,null,null,null,null,null,null,null,{"$f":"bw!G12","v":1255.3254240000001},{"$f":"bw!H12","v":1371.8119793451699}]
[null,null," bw ",1,1265.0348100000001,1381.26084002169,null,null,null,null,null,null,null,null,null,null,null,1265.0348098153502,1381.2608400216875,null,null,null,null,null,null,null,null,null,null,null,null,null,null,null,null,{"$f":"bw!G13","v":1265.0348100000001},{"$f":"bw!H13","v":1381.26084002169}]
[null,null," bw ",1,1273.1114990000001,1388.6016919843,null,null,null,null,null,null,null,null,null,null,null,1273.1114986109305,1388.6016919843,null,null,null,null,null,null,null,null,null,null,null,null,null,null,null,null,{"$f":"bw!G14","v":1273.1114990000001},{"$f":"bw!H14","v":1388.6016919843}]
[null,null," bw ",1,1279.842177,1394.20172848475,null,null,null,null,null,null,null,null,null,null,null,1279.8421766525876,1394.2017284847548,null,null,null,null,null,null,null,null,null,null,null,null,null,null,null,null,{"$f":"bw!G15","v":1279.842177},{"$f":"bw!H15","v":1394.20172848475}]
[null,null,"bw","",1285.4804524356152,1398.4207592450223,null,null,null,null,null,null,null,null,null,null,null,1285.4804524356152,1398.4207592450223,null,null,null,null,null,null,null,null,null,null,null,null,null,null,null,null,{"$f":"bw!G16","v":1285.480452},{"$f":"bw!H16","v":1398.42075924502}]
[null,null,"bw","",1290.2366973417309,1401.5729834858373,null,null,null,null,null,null,null,null,null,null,null,1290.2366973417309,1401.5729834858373,null,null,null,null,null,null,null,null,null,null,null,null,null,null,null,null,{"$f":"bw!G17","v":1290.236697},{"$f":"bw!H17","v":1401.57298348584}]
[null,null,"bw","",1294.2795374794241,1403.916105090492,null,null,null,null,null,null,null,null,null,null,null,1294.2795374794241,1403.916105090492,null,null,null,null,null,null,null,null,null,null,null,null,null,null,null,null,{"$f":"bw!G18","v":1294.2795369999999},{"$f":"bw!H18","v":1403.91610509049}]
[null,null,"bw","",1297.7417676143036,1405.6534070090991,null,null,null,null,null,null,null,null,null,null,null,1297.7417676143036,1405.6534070090991,null,null,null,null,null,null,null,null,null,null,null,null,null,null,null,null,{"$f":"bw!G19","v":1297.7417680000001},{"$f":"bw!H19","v":1405.6534070091}]
[null,null,"bw","",1300.7272275955413,1406.9411012020751,null,null,null,null,null,null,null,null,null,null,null,1300.7272275955413,1406.9411012020751,null,null,null,null,null,null,null,null,null,null,null,null,null,null,null,null,{"$f":"bw!G20","v":1300.727228},{"$f":"bw!H20","v":1406.9411012020801}]
[null,null,"bw","",1303.3171441198604,1407.8970478111116,null,null,null,null,null,null,null,null,null,null,null,1303.3171441198604,1407.8970478111116,null,null,null,null,null,null,null,null,null,null,null,null,null,null,null,null,{"$f":"bw!G21","v":1303.3171440000001},{"$f":"bw!H21","v":1407.89704781111}]
[null,null,"bw","",1305.5754201585175,1408.6090156202297,null,null,null,null,null,null,null,null,null,null,null,1305.5754201585175,1408.6090156202297,null,null,null,null,null,null,null,null,null,null,null,null,null,null,null,null,{"$f":"bw!G22","v":1305.5754199999999},{"$f":"bw!H22","v":1408.6090156202299}]
[null,null,"bw","",1307.5528114133424,1409.1417605925476,null,null,null,null,null,null,null,null,null,null,null,1307.5528114133424,1409.1417605925476,null,null,null,null,null,null,null,null,null,null,null,null,null,null,null,null,{"$f":"bw!G23","v":1307.552811},{"$f":"bw!H23","v":1409.1417605925501}]
[null,null,"bw","",1309.2901173833463,1409.54275647853,null,null,null,null,null,null,null,null,null,null,null,1309.2901173833463,1409.54275647853,null,null,null,null,null,null,null,null,null,null,null,null,null,null,null,null,{"$f":"bw!G24","v":1309.290117},{"$f":"bw!H24","v":1409.54275647853}]
[null,null,"bw","",1310.8205710527354,1409.8466685671103,null,null,null,null,null,null,null,null,null,null,null,1310.8205710527354,1409.8466685671103,null,null,null,null,null,null,null,null,null,null,null,null,null,null,null,null,{"$f":"bw!G25","v":1310.820571},{"$f":"bw!H25","v":1409.8466685671101}]
[null,null,"bw","",1312.1716080219021,1410.0787600519336,null,null,null,null,null,null,null,null,null,null,null,1312.1716080219021,1410.0787600519336,null,null,null,null,null,null,null,null,null,null,null,null,null,null,null,null,{"$f":"bw!G26","v":1312.1716080000001},{"$f":"bw!H26","v":1410.07876005193}]
[null,null,"bw","",1313.3661697355028,1410.2574395325457,null,null,null,null,null,null,null,null,null,null,null,1313.3661697355028,1410.2574395325457,null,null,null,null,null,null,null,null,null,null,null,null,null,null,null,null,{"$f":"bw!G27","v":1313.36617},{"$f":"bw!H27","v":1410.2574395325501}]
[null,null,"bw","",1314.4236639020321,1410.3961411777595,null,null,null,null,null,null,null,null,null,null,null,1314.4236639020321,1410.3961411777595,null,null,null,null,null,null,null,null,null,null,null,null,null,null,null,null,{"$f":"bw!G28","v":1314.4236639999999},{"$f":"bw!H28","v":1410.39614117776}]
[null,null,"bw","","           Add pregnant weight",null,null,null,null,null,null,null,null,null,null,null,null,"           Add pregnant weight",null,null,null,null,null,null,null,null,null,null,null,null,null,null,null,null,null,{"$f":"bw!L3","v":"           Add pregnant weight"}]
[null,null,"bw","","lact 1","lact ≥ 2 ","months pregnant",null,null,null,null,null,null,null,null,null,null,"lact 1","lact ≥ 2 ","months pregnant",null,null,null,null,null,null,null,null,null,null,null,null,null,null,null,{"$f":"bw!L4","v":"lact 1"},{"$f":"bw!M4","v":"lact ≥ 2 "},{"$f":"bw!K4","v":"months pregnant"}]
[null,null,"bw","",0,0,1,null,null,null,null,null,null,null,null,null,null,0,0,1,null,null,null,null,null,null,null,null,null,null,null,null,null,null,null,{"$f":"bw!L5","v":0},{"$f":"bw!M5","v":0},{"$f":"bw!K5","v":1}]
[null,null,"bw","",0,0,2,null,null,null,null,null,null,null,null,null,null,0,0,2,null,null,null,null,null,null,null,null,null,null,null,null,null,null,null,{"$f":"bw!L6","v":0},{"$f":"bw!M6","v":0},{"$f":"bw!K6","v":2}]
[null,null,"bw","",0.25338396197365104,0.25338396197365104,3,null,null,null,null,null,null,null,null,null,null,0.25338396197365104,0.25338396197365104,3,null,null,null,null,null,null,null,null,null,null,null,null,null,null,null,{"$f":"bw!L7","v":0.25338396197365098},{"$f":"bw!M7","v":0.25338396197365098},{"$f":"bw!K7","v":3}]
[null,null,"bw","",2.5864041630140751,2.5864041630140751,4,null,null,null,null,null,null,null,null,null,null,2.5864041630140751,2.5864041630140751,4,null,null,null,null,null,null,null,null,null,null,null,null,null,null,null,{"$f":"bw!L8","v":2.5864041630140799},{"$f":"bw!M8","v":2.5864041630140799},{"$f":"bw!K8","v":4}]
[null,null,"bw","",9.4279713523053807,9.4279713523053807,5,null,null,null,null,null,null,null,null,null,null,9.4279713523053807,9.4279713523053807,5,null,null,null,null,null,null,null,null,null,null,null,null,null,null,null,{"$f":"bw!L9","v":9.4279713523053807},{"$f":"bw!M9","v":9.4279713523053807},{"$f":"bw!K9","v":5}]
[null,null,"bw","",23.208224332025353,23.208224332025353,6,null,null,null,null,null,null,null,null,null,null,23.208224332025353,23.208224332025353,6,null,null,null,null,null,null,null,null,null,null,null,null,null,null,null,{"$f":"bw!L10","v":23.208224332025399},{"$f":"bw!M10","v":23.208224332025399},{"$f":"bw!K10","v":6}]
[null,null,"bw","",46.357301904351765,46.357301904351765,7,null,null,null,null,null,null,null,null,null,null,46.357301904351765,46.357301904351765,7,null,null,null,null,null,null,null,null,null,null,null,null,null,null,null,{"$f":"bw!L11","v":46.3573019043518},{"$f":"bw!M11","v":46.3573019043518},{"$f":"bw!K11","v":7}]
[null,null,"bw","",81.3053428714624,81.3053428714624,8,null,null,null,null,null,null,null,null,null,null,81.3053428714624,81.3053428714624,8,null,null,null,null,null,null,null,null,null,null,null,null,null,null,null,{"$f":"bw!L12","v":81.3053428714624},{"$f":"bw!M12","v":81.3053428714624},{"$f":"bw!K12","v":8}]
[null,null,"bw","",130.48248603553503,130.48248603553503,9,null,null,null,null,null,null,null,null,null,null,130.48248603553503,130.48248603553503,9,null,null,null,null,null,null,null,null,null,null,null,null,null,null,null,{"$f":"bw!L13","v":130.482486035535},{"$f":"bw!M13","v":130.482486035535},{"$f":"bw!K13","v":9}]

{"sheet":"notes","index":12,"n_rows":2,"n_cols":9,"rows_kept":2,"cut":false,"hidden":false,"merged":[]}
[null,"NOTES",null,null,null,null,null,null,{"$f":"main!L1","v":"v.dairyvip 1.4"}]
[null,"Use this sheet for additional calculations, notes, etc."]

{"sheet":"bio","index":13,"n_rows":291,"n_cols":24,"rows_kept":291,"cut":false,"hidden":true,"merged":[]}
[{"$f":"NOW()","v":"2012-06-28T13:57:20.650"},"                                                                                                                                                        "]
[{"$f":"CONCATENATE(BIOFILE,\".bio\")","v":"final.bio"}]
[{"$f":"CONCATENATE(BIOFILE,\".rpo\")","v":"final.rpo"}]
[{"$f":"CONCATENATE(BIOFILE,\".del\")","v":"final.del"}]
[{"$f":"MKVFILE","v":"final.mkv"}]
[{"$f":"RESFILE","v":"final.res"}]
[{"$f":"POLFILE","v":"final.pol"}]
[{"$f":"FUTFILE","v":1}]
[1.2]
[{"$f":"UPPER(UNITS)","v":"LBS"}]
[{"$f":"ANALYSIS","v":1}]
["milk parameters"]
[{"$f":"milk!G4","v":1},{"$f":"milk!H4","v":1},{"$f":"milk!I4","v":1},{"$f":"milk!J4","v":1},{"$f":"milk!K4","v":0.95},{"$f":"milk!L4","v":0.9},{"$f":"milk!M4","v":0.85},{"$f":"milk!N4","v":0},{"$f":"milk!O4","v":0}]
["milk lactation = 1"]
[{"$f":"milk!G9","v":58.623290423830099},{"$f":"milk!H9","v":58.623290423830099},{"$f":"milk!I9","v":58.623290423830099},{"$f":"milk!J9","v":58.623290423830099},{"$f":"milk!K9","v":58.623290423830099},{"$f":"milk!L9","v":58.623290423830099},{"$f":"milk!M9","v":58.623290423830099},{"$f":"milk!N9","v":58.623290423830099},{"$f":"milk!O9","v":58.623290423830099},{"$f":"milk!P9","v":58.623290423830099},{"$f":"milk!Q9","v":58.623290423830099},{"$f":"milk!R9","v":58.623290423830099}]
[{"$f":"milk!G10","v":78.221163448790904},{"$f":"milk!H10","v":78.221163448790904},{"$f":"milk!I10","v":78.221163448790904},{"$f":"milk!J10","v":78.221163448790904},{"$f":"milk!K10","v":78.221163448790904},{"$f":"milk!L10","v":78.221163448790904},{"$f":"milk!M10","v":78.221163448790904},{"$f":"milk!N10","v":78.221163448790904},{"$f":"milk!O10","v":78.221163448790904},{"$f":"milk!P10","v":78.221163448790904},{"$f":"milk!Q10","v":78.221163448790904},{"$f":"milk!R10","v":78.221163448790904}]
[{"$f":"milk!G11","v":85.464488916266404},{"$f":"milk!H11","v":85.464488916266404},{"$f":"milk!I11","v":85.464488916266404},{"$f":"milk!J11","v":85.464488916266404},{"$f":"milk!K11","v":85.464488916266404},{"$f":"milk!L11","v":85.464488916266404},{"$f":"milk!M11","v":85.464488916266404},{"$f":"milk!N11","v":85.464488916266404},{"$f":"milk!O11","v":85.464488916266404},{"$f":"milk!P11","v":85.464488916266404},{"$f":"milk!Q11","v":85.464488916266404},{"$f":"milk!R11","v":85.464488916266404}]
[{"$f":"milk!G12","v":88.003933804774405},{"$f":"milk!H12","v":88.003933804774405},{"$f":"milk!I12","v":88.003933804774405},{"$f":"milk!J12","v":88.003933804774405},{"$f":"milk!K12","v":88.003933804774405},{"$f":"milk!L12","v":88.003933804774405},{"$f":"milk!M12","v":88.003933804774405},{"$f":"milk!N12","v":88.003933804774405},{"$f":"milk!O12","v":88.003933804774405},{"$f":"milk!P12","v":88.003933804774405},{"$f":"milk!Q12","v":88.003933804774405},{"$f":"milk!R12","v":88.003933804774405}]
[{"$f":"milk!G13","v":88.032707487804998},{"$f":"milk!H13","v":88.032707487804998},{"$f":"milk!I13","v":88.032707487804998},{"$f":"milk!J13","v":88.032707487804998},{"$f":"milk!K13","v":88.032707487804998},{"$f":"milk!L13","v":88.032707487804998},{"$f":"milk!M13","v":88.032707487804998},{"$f":"milk!N13","v":88.032707487804998},{"$f":"milk!O13","v":88.032707487804998},{"$f":"milk!P13","v":88.032707487804998},{"$f":"milk!Q13","v":88.032707487804998},{"$f":"milk!R13","v":88.032707487804998}]
[{"$f":"milk!G14","v":86.558151338824501},{"$f":"milk!H14","v":86.558151338824501},{"$f":"milk!I14","v":86.558151338824501},{"$f":"milk!J14","v":86.558151338824501},{"$f":"milk!K14","v":86.558151338824501},{"$f":"milk!L14","v":86.558151338824501},{"$f":"milk!M14","v":86.558151338824501},{"$f":"milk!N14","v":86.558151338824501},{"$f":"milk!O14","v":86.558151338824501},{"$f":"milk!P14","v":86.558151338824501},{"$f":"milk!Q14","v":86.558151338824501},{"$f":"milk!R14","v":86.558151338824501}]
[{"$f":"milk!G15","v":84.141074348601194},{"$f":"milk!H15","v":84.141074348601194},{"$f":"milk!I15","v":84.141074348601194},{"$f":"milk!J15","v":84.141074348601194},{"$f":"milk!K15","v":84.141074348601194},{"$f":"milk!L15","v":84.141074348601194},{"$f":"milk!M15","v":84.141074348601194},{"$f":"milk!N15","v":84.141074348601194},{"$f":"milk!O15","v":84.141074348601194},{"$f":"milk!P15","v":84.141074348601194},{"$f":"milk!Q15","v":84.141074348601194},{"$f":"milk!R15","v":84.141074348601194}]
[{"$f":"milk!G16","v":81.128079439953297},{"$f":"milk!H16","v":81.128079439953297},{"$f":"milk!I16","v":81.128079439953297},{"$f":"milk!J16","v":81.128079439953297},{"$f":"milk!K16","v":81.128079439953297},{"$f":"milk!L16","v":81.128079439953297},{"$f":"milk!M16","v":81.128079439953297},{"$f":"milk!N16","v":81.128079439953297},{"$f":"milk!O16","v":81.128079439953297},{"$f":"milk!P16","v":81.128079439953297},{"$f":"milk!Q16","v":81.128079439953297},{"$f":"milk!R16","v":81.128079439953297}]
[{"$f":"milk!G17","v":77.747360513710902},{"$f":"milk!H17","v":77.747360513710902},{"$f":"milk!I17","v":77.747360513710902},{"$f":"milk!J17","v":77.747360513710902},{"$f":"milk!K17","v":77.747360513710902},{"$f":"milk!L17","v":77.747360513710902},{"$f":"milk!M17","v":77.747360513710902},{"$f":"milk!N17","v":77.747360513710902},{"$f":"milk!O17","v":77.747360513710902},{"$f":"milk!P17","v":77.747360513710902},{"$f":"milk!Q17","v":77.747360513710902},{"$f":"milk!R17","v":77.747360513710902}]
[{"$f":"milk!G18","v":74.155283335667505},{"$f":"milk!H18","v":74.155283335667505},{"$f":"milk!I18","v":74.155283335667505},{"$f":"milk!J18","v":74.155283335667505},{"$f":"milk!K18","v":74.155283335667505},{"$f":"milk!L18","v":74.155283335667505},{"$f":"milk!M18","v":74.155283335667505},{"$f":"milk!N18","v":74.155283335667505},{"$f":"milk!O18","v":74.155283335667505},{"$f":"milk!P18","v":74.155283335667505},{"$f":"milk!Q18","v":74.155283335667505},{"$f":"milk!R18","v":74.155283335667505}]
[{"$f":"milk!G19","v":70.4617277736712},{"$f":"milk!H19","v":70.4617277736712},{"$f":"milk!I19","v":70.4617277736712},{"$f":"milk!J19","v":70.4617277736712},{"$f":"milk!K19","v":70.4617277736712},{"$f":"milk!L19","v":70.4617277736712},{"$f":"milk!M19","v":70.4617277736712},{"$f":"milk!N19","v":70.4617277736712},{"$f":"milk!O19","v":70.4617277736712},{"$f":"milk!P19","v":70.4617277736712},{"$f":"milk!Q19","v":70.4617277736712},{"$f":"milk!R19","v":70.4617277736712}]
[{"$f":"milk!G20","v":66.745047418032797},{"$f":"milk!H20","v":66.745047418032797},{"$f":"milk!I20","v":66.745047418032797},{"$f":"milk!J20","v":66.745047418032797},{"$f":"milk!K20","v":66.745047418032797},{"$f":"milk!L20","v":66.745047418032797},{"$f":"milk!M20","v":66.745047418032797},{"$f":"milk!N20","v":66.745047418032797},{"$f":"milk!O20","v":66.745047418032797},{"$f":"milk!P20","v":66.745047418032797},{"$f":"milk!Q20","v":66.745047418032797},{"$f":"milk!R20","v":66.745047418032797}]
[{"$f":"milk!G21","v":63.061462470774998},{"$f":"milk!H21","v":63.061462470774998},{"$f":"milk!I21","v":63.061462470774998},{"$f":"milk!J21","v":63.061462470774998},{"$f":"milk!K21","v":63.061462470774998},{"$f":"milk!L21","v":63.061462470774998},{"$f":"milk!M21","v":63.061462470774998},{"$f":"milk!N21","v":63.061462470774998},{"$f":"milk!O21","v":63.061462470774998},{"$f":"milk!P21","v":63.061462470774998},{"$f":"milk!Q21","v":63.061462470774998},{"$f":"milk!R21","v":63.061462470774998}]
[{"$f":"milk!G22","v":59.451247061958398},{"$f":"milk!H22","v":59.451247061958398},{"$f":"milk!I22","v":59.451247061958398},{"$f":"milk!J22","v":59.451247061958398},{"$f":"milk!K22","v":59.451247061958398},{"$f":"milk!L22","v":59.451247061958398},{"$f":"milk!M22","v":59.451247061958398},{"$f":"milk!N22","v":59.451247061958398},{"$f":"milk!O22","v":59.451247061958398},{"$f":"milk!P22","v":59.451247061958398},{"$f":"milk!Q22","v":59.451247061958398},{"$f":"milk!R22","v":59.451247061958398}]
[{"$f":"milk!G23","v":55.942962635611899},{"$f":"milk!H23","v":55.942962635611899},{"$f":"milk!I23","v":55.942962635611899},{"$f":"milk!J23","v":55.942962635611899},{"$f":"milk!K23","v":55.942962635611899},{"$f":"milk!L23","v":55.942962635611899},{"$f":"milk!M23","v":55.942962635611899},{"$f":"milk!N23","v":55.942962635611899},{"$f":"milk!O23","v":55.942962635611899},{"$f":"milk!P23","v":55.942962635611899},{"$f":"milk!Q23","v":55.942962635611899},{"$f":"milk!R23","v":55.942962635611899}]
[{"$f":"milk!G24","v":52.556443935713197},{"$f":"milk!H24","v":52.556443935713197},{"$f":"milk!I24","v":52.556443935713197},{"$f":"milk!J24","v":52.556443935713197},{"$f":"milk!K24","v":52.556443935713197},{"$f":"milk!L24","v":52.556443935713197},{"$f":"milk!M24","v":52.556443935713197},{"$f":"milk!N24","v":52.556443935713197},{"$f":"milk!O24","v":52.556443935713197},{"$f":"milk!P24","v":52.556443935713197},{"$f":"milk!Q24","v":52.556443935713197},{"$f":"milk!R24","v":52.556443935713197}]
[{"$f":"milk!G25","v":49.304957609629},{"$f":"milk!H25","v":49.304957609629},{"$f":"milk!I25","v":49.304957609629},{"$f":"milk!J25","v":49.304957609629},{"$f":"milk!K25","v":49.304957609629},{"$f":"milk!L25","v":49.304957609629},{"$f":"milk!M25","v":49.304957609629},{"$f":"milk!N25","v":49.304957609629},{"$f":"milk!O25","v":49.304957609629},{"$f":"milk!P25","v":49.304957609629},{"$f":"milk!Q25","v":49.304957609629},{"$f":"milk!R25","v":49.304957609629}]
[{"$f":"milk!G26","v":46.196794198333698},{"$f":"milk!H26","v":46.196794198333698},{"$f":"milk!I26","v":46.196794198333698},{"$f":"milk!J26","v":46.196794198333698},{"$f":"milk!K26","v":46.196794198333698},{"$f":"milk!L26","v":46.196794198333698},{"$f":"milk!M26","v":46.196794198333698},{"$f":"milk!N26","v":46.196794198333698},{"$f":"milk!O26","v":46.196794198333698},{"$f":"milk!P26","v":46.196794198333698},{"$f":"milk!Q26","v":46.196794198333698},{"$f":"milk!R26","v":46.196794198333698}]
[{"$f":"milk!G27","v":43.2364614980076},{"$f":"milk!H27","v":43.2364614980076},{"$f":"milk!I27","v":43.2364614980076},{"$f":"milk!J27","v":43.2364614980076},{"$f":"milk!K27","v":43.2364614980076},{"$f":"milk!L27","v":43.2364614980076},{"$f":"milk!M27","v":43.2364614980076},{"$f":"milk!N27","v":43.2364614980076},{"$f":"milk!O27","v":43.2364614980076},{"$f":"milk!P27","v":43.2364614980076},{"$f":"milk!Q27","v":43.2364614980076},{"$f":"milk!R27","v":43.2364614980076}]
[{"$f":"milk!G28","v":40.425590991469797},{"$f":"milk!H28","v":40.425590991469797},{"$f":"milk!I28","v":40.425590991469797},{"$f":"milk!J28","v":40.425590991469797},{"$f":"milk!K28","v":40.425590991469797},{"$f":"milk!L28","v":40.425590991469797},{"$f":"milk!M28","v":40.425590991469797},{"$f":"milk!N28","v":40.425590991469797},{"$f":"milk!O28","v":40.425590991469797},{"$f":"milk!P28","v":40.425590991469797},{"$f":"milk!Q28","v":40.425590991469797},{"$f":"milk!R28","v":40.425590991469797}]
[{"$f":"milk!G29","v":37.763633688577002},{"$f":"milk!H29","v":37.763633688577002},{"$f":"milk!I29","v":37.763633688577002},{"$f":"milk!J29","v":37.763633688577002},{"$f":"milk!K29","v":37.763633688577002},{"$f":"milk!L29","v":37.763633688577002},{"$f":"milk!M29","v":37.763633688577002},{"$f":"milk!N29","v":37.763633688577002},{"$f":"milk!O29","v":37.763633688577002},{"$f":"milk!P29","v":37.763633688577002},{"$f":"milk!Q29","v":37.763633688577002},{"$f":"milk!R29","v":37.763633688577002}]
[{"$f":"milk!G30","v":35.248398812336099},{"$f":"milk!H30","v":35.248398812336099},{"$f":"milk!I30","v":35.248398812336099},{"$f":"milk!J30","v":35.248398812336099},{"$f":"milk!K30","v":35.248398812336099},{"$f":"milk!L30","v":35.248398812336099},{"$f":"milk!M30","v":35.248398812336099},{"$f":"milk!N30","v":35.248398812336099},{"$f":"milk!O30","v":35.248398812336099},{"$f":"milk!P30","v":35.248398812336099},{"$f":"milk!Q30","v":35.248398812336099},{"$f":"milk!R30","v":35.248398812336099}]
[{"$f":"milk!G31","v":32.876473528369502},{"$f":"milk!H31","v":32.876473528369502},{"$f":"milk!I31","v":32.876473528369502},{"$f":"milk!J31","v":32.876473528369502},{"$f":"milk!K31","v":32.876473528369502},{"$f":"milk!L31","v":32.876473528369502},{"$f":"milk!M31","v":32.876473528369502},{"$f":"milk!N31","v":32.876473528369502},{"$f":"milk!O31","v":32.876473528369502},{"$f":"milk!P31","v":32.876473528369502},{"$f":"milk!Q31","v":32.876473528369502},{"$f":"milk!R31","v":32.876473528369502}]
[{"$f":"milk!G32","v":30.643551529999701},{"$f":"milk!H32","v":30.643551529999701},{"$f":"milk!I32","v":30.643551529999701},{"$f":"milk!J32","v":30.643551529999701},{"$f":"milk!K32","v":30.643551529999701},{"$f":"milk!L32","v":30.643551529999701},{"$f":"milk!M32","v":30.643551529999701},{"$f":"milk!N32","v":30.643551529999701},{"$f":"milk!O32","v":30.643551529999701},{"$f":"milk!P32","v":30.643551529999701},{"$f":"milk!Q32","v":30.643551529999701},{"$f":"milk!R32","v":30.643551529999701}]
["milk lactation = 2"]
[{"$f":"milk!G36","v":88.963124879351895},{"$f":"milk!H36","v":88.963124879351895},{"$f":"milk!I36","v":88.963124879351895},{"$f":"milk!J36","v":88.963124879351895},{"$f":"milk!K36","v":88.963124879351895},{"$f":"milk!L36","v":88.963124879351895},{"$f":"milk!M36","v":88.963124879351895},{"$f":"milk!N36","v":88.963124879351895},{"$f":"milk!O36","v":88.963124879351895},{"$f":"milk!P36","v":88.963124879351895},{"$f":"milk!Q36","v":88.963124879351895},{"$f":"milk!R36","v":88.963124879351895}]
[{"$f":"milk!G37","v":106.166444135502},{"$f":"milk!H37","v":106.166444135502},{"$f":"milk!I37","v":106.166444135502},{"$f":"milk!J37","v":106.166444135502},{"$f":"milk!K37","v":106.166444135502},{"$f":"milk!L37","v":106.166444135502},{"$f":"milk!M37","v":106.166444135502},{"$f":"milk!N37","v":106.166444135502},{"$f":"milk!O37","v":106.166444135502},{"$f":"milk!P37","v":106.166444135502},{"$f":"milk!Q37","v":106.166444135502},{"$f":"milk!R37","v":106.166444135502}]
[{"$f":"milk!G38","v":109.06113803061299},{"$f":"milk!H38","v":109.06113803061299},{"$f":"milk!I38","v":109.06113803061299},{"$f":"milk!J38","v":109.06113803061299},{"$f":"milk!K38","v":109.06113803061299},{"$f":"milk!L38","v":109.06113803061299},{"$f":"milk!M38","v":109.06113803061299},{"$f":"milk!N38","v":109.06113803061299},{"$f":"milk!O38","v":109.06113803061299},{"$f":"milk!P38","v":109.06113803061299},{"$f":"milk!Q38","v":109.06113803061299},{"$f":"milk!R38","v":109.06113803061299}]
[{"$f":"milk!G39","v":107.162786197218},{"$f":"milk!H39","v":107.162786197218},{"$f":"milk!I39","v":107.162786197218},{"$f":"milk!J39","v":107.162786197218},{"$f":"milk!K39","v":107.162786197218},{"$f":"milk!L39","v":107.162786197218},{"$f":"milk!M39","v":107.162786197218},{"$f":"milk!N39","v":107.162786197218},{"$f":"milk!O39","v":107.162786197218},{"$f":"milk!P39","v":107.162786197218},{"$f":"milk!Q39","v":107.162786197218},{"$f":"milk!R39","v":107.162786197218}]
[{"$f":"milk!G40","v":103.03556541264599},{"$f":"milk!H40","v":103.03556541264599},{"$f":"milk!I40","v":103.03556541264599},{"$f":"milk!J40","v":103.03556541264599},{"$f":"milk!K40","v":103.03556541264599},{"$f":"milk!L40","v":103.03556541264599},{"$f":"milk!M40","v":103.03556541264599},{"$f":"milk!N40","v":103.03556541264599},{"$f":"milk!O40","v":103.03556541264599},{"$f":"milk!P40","v":103.03556541264599},{"$f":"milk!Q40","v":103.03556541264599},{"$f":"milk!R40","v":103.03556541264599}]
[{"$f":"milk!G41","v":97.796154012328003},{"$f":"milk!H41","v":97.796154012328003},{"$f":"milk!I41","v":97.796154012328003},{"$f":"milk!J41","v":97.796154012328003},{"$f":"milk!K41","v":97.796154012328003},{"$f":"milk!L41","v":97.796154012328003},{"$f":"milk!M41","v":97.796154012328003},{"$f":"milk!N41","v":97.796154012328003},{"$f":"milk!O41","v":97.796154012328003},{"$f":"milk!P41","v":97.796154012328003},{"$f":"milk!Q41","v":97.796154012328003},{"$f":"milk!R41","v":97.796154012328003}]
[{"$f":"milk!G42","v":92.030868029078903},{"$f":"milk!H42","v":92.030868029078903},{"$f":"milk!I42","v":92.030868029078903},{"$f":"milk!J42","v":92.030868029078903},{"$f":"milk!K42","v":92.030868029078903},{"$f":"milk!L42","v":92.030868029078903},{"$f":"milk!M42","v":92.030868029078903},{"$f":"milk!N42","v":92.030868029078903},{"$f":"milk!O42","v":92.030868029078903},{"$f":"milk!P42","v":92.030868029078903},{"$f":"milk!Q42","v":92.030868029078903},{"$f":"milk!R42","v":92.030868029078903}]
[{"$f":"milk!G43","v":86.078077127202306},{"$f":"milk!H43","v":86.078077127202306},{"$f":"milk!I43","v":86.078077127202306},{"$f":"milk!J43","v":86.078077127202306},{"$f":"milk!K43","v":86.078077127202306},{"$f":"milk!L43","v":86.078077127202306},{"$f":"milk!M43","v":86.078077127202306},{"$f":"milk!N43","v":86.078077127202306},{"$f":"milk!O43","v":86.078077127202306},{"$f":"milk!P43","v":86.078077127202306},{"$f":"milk!Q43","v":86.078077127202306},{"$f":"milk!R43","v":86.078077127202306}]
[{"$f":"milk!G44","v":80.142905464492003},{"$f":"milk!H44","v":80.142905464492003},{"$f":"milk!I44","v":80.142905464492003},{"$f":"milk!J44","v":80.142905464492003},{"$f":"milk!K44","v":80.142905464492003},{"$f":"milk!L44","v":80.142905464492003},{"$f":"milk!M44","v":80.142905464492003},{"$f":"milk!N44","v":80.142905464492003},{"$f":"milk!O44","v":80.142905464492003},{"$f":"milk!P44","v":80.142905464492003},{"$f":"milk!Q44","v":80.142905464492003},{"$f":"milk!R44","v":80.142905464492003}]
[{"$f":"milk!G45","v":74.352247148052598},{"$f":"milk!H45","v":74.352247148052598},{"$f":"milk!I45","v":74.352247148052598},{"$f":"milk!J45","v":74.352247148052598},{"$f":"milk!K45","v":74.352247148052598},{"$f":"milk!L45","v":74.352247148052598},{"$f":"milk!M45","v":74.352247148052598},{"$f":"milk!N45","v":74.352247148052598},{"$f":"milk!O45","v":74.352247148052598},{"$f":"milk!P45","v":74.352247148052598},{"$f":"milk!Q45","v":74.352247148052598},{"$f":"milk!R45","v":74.352247148052598}]
[{"$f":"milk!G46","v":68.784276411959596},{"$f":"milk!H46","v":68.784276411959596},{"$f":"milk!I46","v":68.784276411959596},{"$f":"milk!J46","v":68.784276411959596},{"$f":"milk!K46","v":68.784276411959596},{"$f":"milk!L46","v":68.784276411959596},{"$f":"milk!M46","v":68.784276411959596},{"$f":"milk!N46","v":68.784276411959596},{"$f":"milk!O46","v":68.784276411959596},{"$f":"milk!P46","v":68.784276411959596},{"$f":"milk!Q46","v":68.784276411959596},{"$f":"milk!R46","v":68.784276411959596}]
[{"$f":"milk!G47","v":63.485591950663},{"$f":"milk!H47","v":63.485591950663},{"$f":"milk!I47","v":63.485591950663},{"$f":"milk!J47","v":63.485591950663},{"$f":"milk!K47","v":63.485591950663},{"$f":"milk!L47","v":63.485591950663},{"$f":"milk!M47","v":63.485591950663},{"$f":"milk!N47","v":63.485591950663},{"$f":"milk!O47","v":63.485591950663},{"$f":"milk!P47","v":63.485591950663},{"$f":"milk!Q47","v":63.485591950663},{"$f":"milk!R47","v":63.485591950663}]
[{"$f":"milk!G48","v":58.481782297351799},{"$f":"milk!H48","v":58.481782297351799},{"$f":"milk!I48","v":58.481782297351799},{"$f":"milk!J48","v":58.481782297351799},{"$f":"milk!K48","v":58.481782297351799},{"$f":"milk!L48","v":58.481782297351799},{"$f":"milk!M48","v":58.481782297351799},{"$f":"milk!N48","v":58.481782297351799},{"$f":"milk!O48","v":58.481782297351799},{"$f":"milk!P48","v":58.481782297351799},{"$f":"milk!Q48","v":58.481782297351799},{"$f":"milk!R48","v":58.481782297351799}]
[{"$f":"milk!G49","v":53.784233011132301},{"$f":"milk!H49","v":53.784233011132301},{"$f":"milk!I49","v":53.784233011132301},{"$f":"milk!J49","v":53.784233011132301},{"$f":"milk!K49","v":53.784233011132301},{"$f":"milk!L49","v":53.784233011132301},{"$f":"milk!M49","v":53.784233011132301},{"$f":"milk!N49","v":53.784233011132301},{"$f":"milk!O49","v":53.784233011132301},{"$f":"milk!P49","v":53.784233011132301},{"$f":"milk!Q49","v":53.784233011132301},{"$f":"milk!R49","v":53.784233011132301}]
[{"$f":"milk!G50","v":49.394663563242098},{"$f":"milk!H50","v":49.394663563242098},{"$f":"milk!I50","v":49.394663563242098},{"$f":"milk!J50","v":49.394663563242098},{"$f":"milk!K50","v":49.394663563242098},{"$f":"milk!L50","v":49.394663563242098},{"$f":"milk!M50","v":49.394663563242098},{"$f":"milk!N50","v":49.394663563242098},{"$f":"milk!O50","v":49.394663563242098},{"$f":"milk!P50","v":49.394663563242098},{"$f":"milk!Q50","v":49.394663563242098},{"$f":"milk!R50","v":49.394663563242098}]
[{"$f":"milk!G51","v":45.308230005824001},{"$f":"milk!H51","v":45.308230005824001},{"$f":"milk!I51","v":45.308230005824001},{"$f":"milk!J51","v":45.308230005824001},{"$f":"milk!K51","v":45.308230005824001},{"$f":"milk!L51","v":45.308230005824001},{"$f":"milk!M51","v":45.308230005824001},{"$f":"milk!N51","v":45.308230005824001},{"$f":"milk!O51","v":45.308230005824001},{"$f":"milk!P51","v":45.308230005824001},{"$f":"milk!Q51","v":45.308230005824001},{"$f":"milk!R51","v":45.308230005824001}]
[{"$f":"milk!G52","v":41.515688205529202},{"$f":"milk!H52","v":41.515688205529202},{"$f":"milk!I52","v":41.515688205529202},{"$f":"milk!J52","v":41.515688205529202},{"$f":"milk!K52","v":41.515688205529202},{"$f":"milk!L52","v":41.515688205529202},{"$f":"milk!M52","v":41.515688205529202},{"$f":"milk!N52","v":41.515688205529202},{"$f":"milk!O52","v":41.515688205529202},{"$f":"milk!P52","v":41.515688205529202},{"$f":"milk!Q52","v":41.515688205529202},{"$f":"milk!R52","v":41.515688205529202}]
[{"$f":"milk!G53","v":38.004923318848803},{"$f":"milk!H53","v":38.004923318848803},{"$f":"milk!I53","v":38.004923318848803},{"$f":"milk!J53","v":38.004923318848803},{"$f":"milk!K53","v":38.004923318848803},{"$f":"milk!L53","v":38.004923318848803},{"$f":"milk!M53","v":38.004923318848803},{"$f":"milk!N53","v":38.004923318848803},{"$f":"milk!O53","v":38.004923318848803},{"$f":"milk!P53","v":38.004923318848803},{"$f":"milk!Q53","v":38.004923318848803},{"$f":"milk!R53","v":38.004923318848803}]
[{"$f":"milk!G54","v":34.762041306305001},{"$f":"milk!H54","v":34.762041306305001},{"$f":"milk!I54","v":34.762041306305001},{"$f":"milk!J54","v":34.762041306305001},{"$f":"milk!K54","v":34.762041306305001},{"$f":"milk!L54","v":34.762041306305001},{"$f":"milk!M54","v":34.762041306305001},{"$f":"milk!N54","v":34.762041306305001},{"$f":"milk!O54","v":34.762041306305001},{"$f":"milk!P54","v":34.762041306305001},{"$f":"milk!Q54","v":34.762041306305001},{"$f":"milk!R54","v":34.762041306305001}]
[{"$f":"milk!G55","v":31.7721517964554},{"$f":"milk!H55","v":31.7721517964554},{"$f":"milk!I55","v":31.7721517964554},{"$f":"milk!J55","v":31.7721517964554},{"$f":"milk!K55","v":31.7721517964554},{"$f":"milk!L55","v":31.7721517964554},{"$f":"milk!M55","v":31.7721517964554},{"$f":"milk!N55","v":31.7721517964554},{"$f":"milk!O55","v":31.7721517964554},{"$f":"milk!P55","v":31.7721517964554},{"$f":"milk!Q55","v":31.7721517964554},{"$f":"milk!R55","v":31.7721517964554}]
[{"$f":"milk!G56","v":29.019929952484201},{"$f":"milk!H56","v":29.019929952484201},{"$f":"milk!I56","v":29.019929952484201},{"$f":"milk!J56","v":29.019929952484201},{"$f":"milk!K56","v":29.019929952484201},{"$f":"milk!L56","v":29.019929952484201},{"$f":"milk!M56","v":29.019929952484201},{"$f":"milk!N56","v":29.019929952484201},{"$f":"milk!O56","v":29.019929952484201},{"$f":"milk!P56","v":29.019929952484201},{"$f":"milk!Q56","v":29.019929952484201},{"$f":"milk!R56","v":29.019929952484201}]
[{"$f":"milk!G57","v":26.490018089881399},{"$f":"milk!H57","v":26.490018089881399},{"$f":"milk!I57","v":26.490018089881399},{"$f":"milk!J57","v":26.490018089881399},{"$f":"milk!K57","v":26.490018089881399},{"$f":"milk!L57","v":26.490018089881399},{"$f":"milk!M57","v":26.490018089881399},{"$f":"milk!N57","v":26.490018089881399},{"$f":"milk!O57","v":26.490018089881399},{"$f":"milk!P57","v":26.490018089881399},{"$f":"milk!Q57","v":26.490018089881399},{"$f":"milk!R57","v":26.490018089881399}]
[{"$f":"milk!G58","v":24.167309952636899},{"$f":"milk!H58","v":24.167309952636899},{"$f":"milk!I58","v":24.167309952636899},{"$f":"milk!J58","v":24.167309952636899},{"$f":"milk!K58","v":24.167309952636899},{"$f":"milk!L58","v":24.167309952636899},{"$f":"milk!M58","v":24.167309952636899},{"$f":"milk!N58","v":24.167309952636899},{"$f":"milk!O58","v":24.167309952636899},{"$f":"milk!P58","v":24.167309952636899},{"$f":"milk!Q58","v":24.167309952636899},{"$f":"milk!R58","v":24.167309952636899}]
[{"$f":"milk!G59","v":22.037148447132399},{"$f":"milk!H59","v":22.037148447132399},{"$f":"milk!I59","v":22.037148447132399},{"$f":"milk!J59","v":22.037148447132399},{"$f":"milk!K59","v":22.037148447132399},{"$f":"milk!L59","v":22.037148447132399},{"$f":"milk!M59","v":22.037148447132399},{"$f":"milk!N59","v":22.037148447132399},{"$f":"milk!O59","v":22.037148447132399},{"$f":"milk!P59","v":22.037148447132399},{"$f":"milk!Q59","v":22.037148447132399},{"$f":"milk!R59","v":22.037148447132399}]
["milk lactation >= 3"]
[{"$f":"milk!G63","v":95.346042037239201},{"$f":"milk!H63","v":95.346042037239201},{"$f":"milk!I63","v":95.346042037239201},{"$f":"milk!J63","v":95.346042037239201},{"$f":"milk!K63","v":95.346042037239201},{"$f":"milk!L63","v":95.346042037239201},{"$f":"milk!M63","v":95.346042037239201},{"$f":"milk!N63","v":95.346042037239201},{"$f":"milk!O63","v":95.346042037239201},{"$f":"milk!P63","v":95.346042037239201},{"$f":"milk!Q63","v":95.346042037239201},{"$f":"milk!R63","v":95.346042037239201}]
[{"$f":"milk!G64","v":112.816871003835},{"$f":"milk!H64","v":112.816871003835},{"$f":"milk!I64","v":112.816871003835},{"$f":"milk!J64","v":112.816871003835},{"$f":"milk!K64","v":112.816871003835},{"$f":"milk!L64","v":112.816871003835},{"$f":"milk!M64","v":112.816871003835},{"$f":"milk!N64","v":112.816871003835},{"$f":"milk!O64","v":112.816871003835},{"$f":"milk!P64","v":112.816871003835},{"$f":"milk!Q64","v":112.816871003835},{"$f":"milk!R64","v":112.816871003835}]
[{"$f":"milk!G65","v":115.24638323304301},{"$f":"milk!H65","v":115.24638323304301},{"$f":"milk!I65","v":115.24638323304301},{"$f":"milk!J65","v":115.24638323304301},{"$f":"milk!K65","v":115.24638323304301},{"$f":"milk!L65","v":115.24638323304301},{"$f":"milk!M65","v":115.24638323304301},{"$f":"milk!N65","v":115.24638323304301},{"$f":"milk!O65","v":115.24638323304301},{"$f":"milk!P65","v":115.24638323304301},{"$f":"milk!Q65","v":115.24638323304301},{"$f":"milk!R65","v":115.24638323304301}]
[{"$f":"milk!G66","v":112.70686787317101},{"$f":"milk!H66","v":112.70686787317101},{"$f":"milk!I66","v":112.70686787317101},{"$f":"milk!J66","v":112.70686787317101},{"$f":"milk!K66","v":112.70686787317101},{"$f":"milk!L66","v":112.70686787317101},{"$f":"milk!M66","v":112.70686787317101},{"$f":"milk!N66","v":112.70686787317101},{"$f":"milk!O66","v":112.70686787317101},{"$f":"milk!P66","v":112.70686787317101},{"$f":"milk!Q66","v":112.70686787317101},{"$f":"milk!R66","v":112.70686787317101}]
[{"$f":"milk!G67","v":107.901520690724},{"$f":"milk!H67","v":107.901520690724},{"$f":"milk!I67","v":107.901520690724},{"$f":"milk!J67","v":107.901520690724},{"$f":"milk!K67","v":107.901520690724},{"$f":"milk!L67","v":107.901520690724},{"$f":"milk!M67","v":107.901520690724},{"$f":"milk!N67","v":107.901520690724},{"$f":"milk!O67","v":107.901520690724},{"$f":"milk!P67","v":107.901520690724},{"$f":"milk!Q67","v":107.901520690724},{"$f":"milk!R67","v":107.901520690724}]
[{"$f":"milk!G68","v":102.001410288806},{"$f":"milk!H68","v":102.001410288806},{"$f":"milk!I68","v":102.001410288806},{"$f":"milk!J68","v":102.001410288806},{"$f":"milk!K68","v":102.001410288806},{"$f":"milk!L68","v":102.001410288806},{"$f":"milk!M68","v":102.001410288806},{"$f":"milk!N68","v":102.001410288806},{"$f":"milk!O68","v":102.001410288806},{"$f":"milk!P68","v":102.001410288806},{"$f":"milk!Q68","v":102.001410288806},{"$f":"milk!R68","v":102.001410288806}]
[{"$f":"milk!G69","v":95.616955270286596},{"$f":"milk!H69","v":95.616955270286596},{"$f":"milk!I69","v":95.616955270286596},{"$f":"milk!J69","v":95.616955270286596},{"$f":"milk!K69","v":95.616955270286596},{"$f":"milk!L69","v":95.616955270286596},{"$f":"milk!M69","v":95.616955270286596},{"$f":"milk!N69","v":95.616955270286596},{"$f":"milk!O69","v":95.616955270286596},{"$f":"milk!P69","v":95.616955270286596},{"$f":"milk!Q69","v":95.616955270286596},{"$f":"milk!R69","v":95.616955270286596}]
[{"$f":"milk!G70","v":89.096973961338406},{"$f":"milk!H70","v":89.096973961338406},{"$f":"milk!I70","v":89.096973961338406},{"$f":"milk!J70","v":89.096973961338406},{"$f":"milk!K70","v":89.096973961338406},{"$f":"milk!L70","v":89.096973961338406},{"$f":"milk!M70","v":89.096973961338406},{"$f":"milk!N70","v":89.096973961338406},{"$f":"milk!O70","v":89.096973961338406},{"$f":"milk!P70","v":89.096973961338406},{"$f":"milk!Q70","v":89.096973961338406},{"$f":"milk!R70","v":89.096973961338406}]
[{"$f":"milk!G71","v":82.650110180537098},{"$f":"milk!H71","v":82.650110180537098},{"$f":"milk!I71","v":82.650110180537098},{"$f":"milk!J71","v":82.650110180537098},{"$f":"milk!K71","v":82.650110180537098},{"$f":"milk!L71","v":82.650110180537098},{"$f":"milk!M71","v":82.650110180537098},{"$f":"milk!N71","v":82.650110180537098},{"$f":"milk!O71","v":82.650110180537098},{"$f":"milk!P71","v":82.650110180537098},{"$f":"milk!Q71","v":82.650110180537098},{"$f":"milk!R71","v":82.650110180537098}]
[{"$f":"milk!G72","v":76.403046126361303},{"$f":"milk!H72","v":76.403046126361303},{"$f":"milk!I72","v":76.403046126361303},{"$f":"milk!J72","v":76.403046126361303},{"$f":"milk!K72","v":76.403046126361303},{"$f":"milk!L72","v":76.403046126361303},{"$f":"milk!M72","v":76.403046126361303},{"$f":"milk!N72","v":76.403046126361303},{"$f":"milk!O72","v":76.403046126361303},{"$f":"milk!P72","v":76.403046126361303},{"$f":"milk!Q72","v":76.403046126361303},{"$f":"milk!R72","v":76.403046126361303}]
[{"$f":"milk!G73","v":70.4316989346041},{"$f":"milk!H73","v":70.4316989346041},{"$f":"milk!I73","v":70.4316989346041},{"$f":"milk!J73","v":70.4316989346041},{"$f":"milk!K73","v":70.4316989346041},{"$f":"milk!L73","v":70.4316989346041},{"$f":"milk!M73","v":70.4316989346041},{"$f":"milk!N73","v":70.4316989346041},{"$f":"milk!O73","v":70.4316989346041},{"$f":"milk!P73","v":70.4316989346041},{"$f":"milk!Q73","v":70.4316989346041},{"$f":"milk!R73","v":70.4316989346041}]
[{"$f":"milk!G74","v":64.779317325335299},{"$f":"milk!H74","v":64.779317325335299},{"$f":"milk!I74","v":64.779317325335299},{"$f":"milk!J74","v":64.779317325335299},{"$f":"milk!K74","v":64.779317325335299},{"$f":"milk!L74","v":64.779317325335299},{"$f":"milk!M74","v":64.779317325335299},{"$f":"milk!N74","v":64.779317325335299},{"$f":"milk!O74","v":64.779317325335299},{"$f":"milk!P74","v":64.779317325335299},{"$f":"milk!Q74","v":64.779317325335299},{"$f":"milk!R74","v":64.779317325335299}]
[{"$f":"milk!G75","v":59.467608988236499},{"$f":"milk!H75","v":59.467608988236499},{"$f":"milk!I75","v":59.467608988236499},{"$f":"milk!J75","v":59.467608988236499},{"$f":"milk!K75","v":59.467608988236499},{"$f":"milk!L75","v":59.467608988236499},{"$f":"milk!M75","v":59.467608988236499},{"$f":"milk!N75","v":59.467608988236499},{"$f":"milk!O75","v":59.467608988236499},{"$f":"milk!P75","v":59.467608988236499},{"$f":"milk!Q75","v":59.467608988236499},{"$f":"milk!R75","v":59.467608988236499}]
[{"$f":"milk!G76","v":54.503887960583803},{"$f":"milk!H76","v":54.503887960583803},{"$f":"milk!I76","v":54.503887960583803},{"$f":"milk!J76","v":54.503887960583803},{"$f":"milk!K76","v":54.503887960583803},{"$f":"milk!L76","v":54.503887960583803},{"$f":"milk!M76","v":54.503887960583803},{"$f":"milk!N76","v":54.503887960583803},{"$f":"milk!O76","v":54.503887960583803},{"$f":"milk!P76","v":54.503887960583803},{"$f":"milk!Q76","v":54.503887960583803},{"$f":"milk!R76","v":54.503887960583803}]
[{"$f":"milk!G77","v":49.885819242196},{"$f":"milk!H77","v":49.885819242196},{"$f":"milk!I77","v":49.885819242196},{"$f":"milk!J77","v":49.885819242196},{"$f":"milk!K77","v":49.885819242196},{"$f":"milk!L77","v":49.885819242196},{"$f":"milk!M77","v":49.885819242196},{"$f":"milk!N77","v":49.885819242196},{"$f":"milk!O77","v":49.885819242196},{"$f":"milk!P77","v":49.885819242196},{"$f":"milk!Q77","v":49.885819242196},{"$f":"milk!R77","v":49.885819242196}]
[{"$f":"milk!G78","v":45.604647148142298},{"$f":"milk!H78","v":45.604647148142298},{"$f":"milk!I78","v":45.604647148142298},{"$f":"milk!J78","v":45.604647148142298},{"$f":"milk!K78","v":45.604647148142298},{"$f":"milk!L78","v":45.604647148142298},{"$f":"milk!M78","v":45.604647148142298},{"$f":"milk!N78","v":45.604647148142298},{"$f":"milk!O78","v":45.604647148142298},{"$f":"milk!P78","v":45.604647148142298},{"$f":"milk!Q78","v":45.604647148142298},{"$f":"milk!R78","v":45.604647148142298}]
[{"$f":"milk!G79","v":41.647432069435503},{"$f":"milk!H79","v":41.647432069435503},{"$f":"milk!I79","v":41.647432069435503},{"$f":"milk!J79","v":41.647432069435503},{"$f":"milk!K79","v":41.647432069435503},{"$f":"milk!L79","v":41.647432069435503},{"$f":"milk!M79","v":41.647432069435503},{"$f":"milk!N79","v":41.647432069435503},{"$f":"milk!O79","v":41.647432069435503},{"$f":"milk!P79","v":41.647432069435503},{"$f":"milk!Q79","v":41.647432069435503},{"$f":"milk!R79","v":41.647432069435503}]
[{"$f":"milk!G80","v":37.998619750911999},{"$f":"milk!H80","v":37.998619750911999},{"$f":"milk!I80","v":37.998619750911999},{"$f":"milk!J80","v":37.998619750911999},{"$f":"milk!K80","v":37.998619750911999},{"$f":"milk!L80","v":37.998619750911999},{"$f":"milk!M80","v":37.998619750911999},{"$f":"milk!N80","v":37.998619750911999},{"$f":"milk!O80","v":37.998619750911999},{"$f":"milk!P80","v":37.998619750911999},{"$f":"milk!Q80","v":37.998619750911999},{"$f":"milk!R80","v":37.998619750911999}]
[{"$f":"milk!G81","v":34.641150615001798},{"$f":"milk!H81","v":34.641150615001798},{"$f":"milk!I81","v":34.641150615001798},{"$f":"milk!J81","v":34.641150615001798},{"$f":"milk!K81","v":34.641150615001798},{"$f":"milk!L81","v":34.641150615001798},{"$f":"milk!M81","v":34.641150615001798},{"$f":"milk!N81","v":34.641150615001798},{"$f":"milk!O81","v":34.641150615001798},{"$f":"milk!P81","v":34.641150615001798},{"$f":"milk!Q81","v":34.641150615001798},{"$f":"milk!R81","v":34.641150615001798}]
[{"$f":"milk!G82","v":31.557246096870401},{"$f":"milk!H82","v":31.557246096870401},{"$f":"milk!I82","v":31.557246096870401},{"$f":"milk!J82","v":31.557246096870401},{"$f":"milk!K82","v":31.557246096870401},{"$f":"milk!L82","v":31.557246096870401},{"$f":"milk!M82","v":31.557246096870401},{"$f":"milk!N82","v":31.557246096870401},{"$f":"milk!O82","v":31.557246096870401},{"$f":"milk!P82","v":31.557246096870401},{"$f":"milk!Q82","v":31.557246096870401},{"$f":"milk!R82","v":31.557246096870401}]
[{"$f":"milk!G83","v":28.7289647341033},{"$f":"milk!H83","v":28.7289647341033},{"$f":"milk!I83","v":28.7289647341033},{"$f":"milk!J83","v":28.7289647341033},{"$f":"milk!K83","v":28.7289647341033},{"$f":"milk!L83","v":28.7289647341033},{"$f":"milk!M83","v":28.7289647341033},{"$f":"milk!N83","v":28.7289647341033},{"$f":"milk!O83","v":28.7289647341033},{"$f":"milk!P83","v":28.7289647341033},{"$f":"milk!Q83","v":28.7289647341033},{"$f":"milk!R83","v":28.7289647341033}]
[{"$f":"milk!G84","v":26.138592191810499},{"$f":"milk!H84","v":26.138592191810499},{"$f":"milk!I84","v":26.138592191810499},{"$f":"milk!J84","v":26.138592191810499},{"$f":"milk!K84","v":26.138592191810499},{"$f":"milk!L84","v":26.138592191810499},{"$f":"milk!M84","v":26.138592191810499},{"$f":"milk!N84","v":26.138592191810499},{"$f":"milk!O84","v":26.138592191810499},{"$f":"milk!P84","v":26.138592191810499},{"$f":"milk!Q84","v":26.138592191810499},{"$f":"milk!R84","v":26.138592191810499}]
[{"$f":"milk!G85","v":23.768910465704302},{"$f":"milk!H85","v":23.768910465704302},{"$f":"milk!I85","v":23.768910465704302},{"$f":"milk!J85","v":23.768910465704302},{"$f":"milk!K85","v":23.768910465704302},{"$f":"milk!L85","v":23.768910465704302},{"$f":"milk!M85","v":23.768910465704302},{"$f":"milk!N85","v":23.768910465704302},{"$f":"milk!O85","v":23.768910465704302},{"$f":"milk!P85","v":23.768910465704302},{"$f":"milk!Q85","v":23.768910465704302},{"$f":"milk!R85","v":23.768910465704302}]
[{"$f":"milk!G86","v":21.6033786573025},{"$f":"milk!H86","v":21.6033786573025},{"$f":"milk!I86","v":21.6033786573025},{"$f":"milk!J86","v":21.6033786573025},{"$f":"milk!K86","v":21.6033786573025},{"$f":"milk!L86","v":21.6033786573025},{"$f":"milk!M86","v":21.6033786573025},{"$f":"milk!N86","v":21.6033786573025},{"$f":"milk!O86","v":21.6033786573025},{"$f":"milk!P86","v":21.6033786573025},{"$f":"milk!Q86","v":21.6033786573025},{"$f":"milk!R86","v":21.6033786573025}]
["involuntary cull relative risk"]
[{"$f":"cull!G4","v":1},{"$f":"cull!H4","v":1.36},{"$f":"cull!I4","v":2.02},{"$f":"cull!J4","v":2.61},{"$f":"cull!K4","v":3.24},{"$f":"cull!L4","v":3.67},{"$f":"cull!M4","v":4.45},{"$f":"cull!N4","v":5.52},{"$f":"cull!O4","v":5.52},{"$f":"cull!P4","v":5.52},{"$f":"cull!Q4","v":5.52},{"$f":"cull!R4","v":5.52}]
["involuntary cull rate"]
[{"$f":"ROUND(cull!G10,9)","v":1.301098E-2},{"$f":"ROUND(cull!H10,9)","v":1.301098E-2},{"$f":"ROUND(cull!I10,9)","v":1.301098E-2},{"$f":"ROUND(cull!J10,9)","v":1.301098E-2},{"$f":"ROUND(cull!K10,9)","v":1.301098E-2},{"$f":"ROUND(cull!L10,9)","v":1.301098E-2},{"$f":"ROUND(cull!M10,9)","v":1.301098E-2},{"$f":"ROUND(cull!N10,9)","v":1.301098E-2},{"$f":"ROUND(cull!O10,9)","v":1.301098E-2},{"$f":"ROUND(cull!P10,9)","v":1.301098E-2},{"$f":"ROUND(cull!Q10,9)","v":1.301098E-2},{"$f":"ROUND(cull!R10,9)","v":1.301098E-2}]
[{"$f":"ROUND(cull!G11,9)","v":8.4560339999999994E-3},{"$f":"ROUND(cull!H11,9)","v":8.4560339999999994E-3},{"$f":"ROUND(cull!I11,9)","v":8.4560339999999994E-3},{"$f":"ROUND(cull!J11,9)","v":8.4560339999999994E-3},{"$f":"ROUND(cull!K11,9)","v":8.4560339999999994E-3},{"$f":"ROUND(cull!L11,9)","v":8.4560339999999994E-3},{"$f":"ROUND(cull!M11,9)","v":8.4560339999999994E-3},{"$f":"ROUND(cull!N11,9)","v":8.4560339999999994E-3},{"$f":"ROUND(cull!O11,9)","v":8.4560339999999994E-3},{"$f":"ROUND(cull!P11,9)","v":8.4560339999999994E-3},{"$f":"ROUND(cull!Q11,9)","v":8.4560339999999994E-3},{"$f":"ROUND(cull!R11,9)","v":8.4560339999999994E-3}]
[{"$f":"ROUND(cull!G12,9)","v":6.102166E-3},{"$f":"ROUND(cull!H12,9)","v":6.102166E-3},{"$f":"ROUND(cull!I12,9)","v":6.102166E-3},{"$f":"ROUND(cull!J12,9)","v":6.102166E-3},{"$f":"ROUND(cull!K12,9)","v":6.102166E-3},{"$f":"ROUND(cull!L12,9)","v":6.102166E-3},{"$f":"ROUND(cull!M12,9)","v":6.102166E-3},{"$f":"ROUND(cull!N12,9)","v":6.102166E-3},{"$f":"ROUND(cull!O12,9)","v":6.102166E-3},{"$f":"ROUND(cull!P12,9)","v":6.102166E-3},{"$f":"ROUND(cull!Q12,9)","v":6.102166E-3},{"$f":"ROUND(cull!R12,9)","v":6.102166E-3}]
[{"$f":"ROUND(cull!G13,9)","v":5.0530430000000001E-3},{"$f":"ROUND(cull!H13,9)","v":5.0530430000000001E-3},{"$f":"ROUND(cull!I13,9)","v":5.0530430000000001E-3},{"$f":"ROUND(cull!J13,9)","v":5.0530430000000001E-3},{"$f":"ROUND(cull!K13,9)","v":5.0530430000000001E-3},{"$f":"ROUND(cull!L13,9)","v":5.0530430000000001E-3},{"$f":"ROUND(cull!M13,9)","v":5.0530430000000001E-3},{"$f":"ROUND(cull!N13,9)","v":5.0530430000000001E-3},{"$f":"ROUND(cull!O13,9)","v":5.0530430000000001E-3},{"$f":"ROUND(cull!P13,9)","v":5.0530430000000001E-3},{"$f":"ROUND(cull!Q13,9)","v":5.0530430000000001E-3},{"$f":"ROUND(cull!R13,9)","v":5.0530430000000001E-3}]
[{"$f":"ROUND(cull!G14,9)","v":4.6962949999999996E-3},{"$f":"ROUND(cull!H14,9)","v":4.6962949999999996E-3},{"$f":"ROUND(cull!I14,9)","v":4.6962949999999996E-3},{"$f":"ROUND(cull!J14,9)","v":4.6962949999999996E-3},{"$f":"ROUND(cull!K14,9)","v":4.6962949999999996E-3},{"$f":"ROUND(cull!L14,9)","v":4.6962949999999996E-3},{"$f":"ROUND(cull!M14,9)","v":4.6962949999999996E-3},{"$f":"ROUND(cull!N14,9)","v":4.6962949999999996E-3},{"$f":"ROUND(cull!O14,9)","v":4.6962949999999996E-3},{"$f":"ROUND(cull!P14,9)","v":4.6962949999999996E-3},{"$f":"ROUND(cull!Q14,9)","v":4.6962949999999996E-3},{"$f":"ROUND(cull!R14,9)","v":4.6962949999999996E-3}]
[{"$f":"ROUND(cull!G15,9)","v":4.6424659999999996E-3},{"$f":"ROUND(cull!H15,9)","v":4.6424659999999996E-3},{"$f":"ROUND(cull!I15,9)","v":4.6424659999999996E-3},{"$f":"ROUND(cull!J15,9)","v":4.6424659999999996E-3},{"$f":"ROUND(cull!K15,9)","v":4.6424659999999996E-3},{"$f":"ROUND(cull!L15,9)","v":4.6424659999999996E-3},{"$f":"ROUND(cull!M15,9)","v":4.6424659999999996E-3},{"$f":"ROUND(cull!N15,9)","v":4.6424659999999996E-3},{"$f":"ROUND(cull!O15,9)","v":4.6424659999999996E-3},{"$f":"ROUND(cull!P15,9)","v":4.6424659999999996E-3},{"$f":"ROUND(cull!Q15,9)","v":4.6424659999999996E-3},{"$f":"ROUND(cull!R15,9)","v":4.6424659999999996E-3}]
[{"$f":"ROUND(cull!G16,9)","v":4.6493999999999997E-3},{"$f":"ROUND(cull!H16,9)","v":4.6493999999999997E-3},{"$f":"ROUND(cull!I16,9)","v":4.6493999999999997E-3},{"$f":"ROUND(cull!J16,9)","v":4.6493999999999997E-3},{"$f":"ROUND(cull!K16,9)","v":4.6493999999999997E-3},{"$f":"ROUND(cull!L16,9)","v":4.6493999999999997E-3},{"$f":"ROUND(cull!M16,9)","v":4.6493999999999997E-3},{"$f":"ROUND(cull!N16,9)","v":4.6493999999999997E-3},{"$f":"ROUND(cull!O16,9)","v":4.6493999999999997E-3},{"$f":"ROUND(cull!P16,9)","v":4.6493999999999997E-3},{"$f":"ROUND(cull!Q16,9)","v":4.6493999999999997E-3},{"$f":"ROUND(cull!R16,9)","v":4.6493999999999997E-3}]
[{"$f":"ROUND(cull!G17,9)","v":4.6493999999999997E-3},{"$f":"ROUND(cull!H17,9)","v":4.6493999999999997E-3},{"$f":"ROUND(cull!I17,9)","v":4.6493999999999997E-3},{"$f":"ROUND(cull!J17,9)","v":4.6493999999999997E-3},{"$f":"ROUND(cull!K17,9)","v":4.6493999999999997E-3},{"$f":"ROUND(cull!L17,9)","v":4.6493999999999997E-3},{"$f":"ROUND(cull!M17,9)","v":4.6493999999999997E-3},{"$f":"ROUND(cull!N17,9)","v":4.6493999999999997E-3},{"$f":"ROUND(cull!O17,9)","v":4.6493999999999997E-3},{"$f":"ROUND(cull!P17,9)","v":4.6493999999999997E-3},{"$f":"ROUND(cull!Q17,9)","v":4.6493999999999997E-3},{"$f":"ROUND(cull!R17,9)","v":4.6493999999999997E-3}]
[{"$f":"ROUND(cull!G18,9)","v":4.6532989999999996E-3},{"$f":"ROUND(cull!H18,9)","v":4.6532989999999996E-3},{"$f":"ROUND(cull!I18,9)","v":4.6532989999999996E-3},{"$f":"ROUND(cull!J18,9)","v":4.6532989999999996E-3},{"$f":"ROUND(cull!K18,9)","v":4.6532989999999996E-3},{"$f":"ROUND(cull!L18,9)","v":4.6532989999999996E-3},{"$f":"ROUND(cull!M18,9)","v":4.6532989999999996E-3},{"$f":"ROUND(cull!N18,9)","v":4.6532989999999996E-3},{"$f":"ROUND(cull!O18,9)","v":4.6532989999999996E-3},{"$f":"ROUND(cull!P18,9)","v":4.6532989999999996E-3},{"$f":"ROUND(cull!Q18,9)","v":4.6532989999999996E-3},{"$f":"ROUND(cull!R18,9)","v":4.6532989999999996E-3}]
[{"$f":"ROUND(cull!G19,9)","v":4.6135489999999998E-3},{"$f":"ROUND(cull!H19,9)","v":4.6135489999999998E-3},{"$f":"ROUND(cull!I19,9)","v":4.6135489999999998E-3},{"$f":"ROUND(cull!J19,9)","v":4.6135489999999998E-3},{"$f":"ROUND(cull!K19,9)","v":4.6135489999999998E-3},{"$f":"ROUND(cull!L19,9)","v":4.6135489999999998E-3},{"$f":"ROUND(cull!M19,9)","v":4.6135489999999998E-3},{"$f":"ROUND(cull!N19,9)","v":4.6135489999999998E-3},{"$f":"ROUND(cull!O19,9)","v":4.6135489999999998E-3},{"$f":"ROUND(cull!P19,9)","v":4.6135489999999998E-3},{"$f":"ROUND(cull!Q19,9)","v":4.6135489999999998E-3},{"$f":"ROUND(cull!R19,9)","v":4.6135489999999998E-3}]
[{"$f":"ROUND(cull!G20,9)","v":4.6056949999999999E-3},{"$f":"ROUND(cull!H20,9)","v":4.6056949999999999E-3},{"$f":"ROUND(cull!I20,9)","v":4.6056949999999999E-3},{"$f":"ROUND(cull!J20,9)","v":4.6056949999999999E-3},{"$f":"ROUND(cull!K20,9)","v":4.6056949999999999E-3},{"$f":"ROUND(cull!L20,9)","v":4.6056949999999999E-3},{"$f":"ROUND(cull!M20,9)","v":4.6056949999999999E-3},{"$f":"ROUND(cull!N20,9)","v":4.6056949999999999E-3},{"$f":"ROUND(cull!O20,9)","v":4.6056949999999999E-3},{"$f":"ROUND(cull!P20,9)","v":4.6056949999999999E-3},{"$f":"ROUND(cull!Q20,9)","v":4.6056949999999999E-3},{"$f":"ROUND(cull!R20,9)","v":4.6056949999999999E-3}]
[{"$f":"ROUND(cull!G21,9)","v":4.6711490000000003E-3},{"$f":"ROUND(cull!H21,9)","v":4.6711490000000003E-3},{"$f":"ROUND(cull!I21,9)","v":4.6711490000000003E-3},{"$f":"ROUND(cull!J21,9)","v":4.6711490000000003E-3},{"$f":"ROUND(cull!K21,9)","v":4.6711490000000003E-3},{"$f":"ROUND(cull!L21,9)","v":4.6711490000000003E-3},{"$f":"ROUND(cull!M21,9)","v":4.6711490000000003E-3},{"$f":"ROUND(cull!N21,9)","v":4.6711490000000003E-3},{"$f":"ROUND(cull!O21,9)","v":4.6711490000000003E-3},{"$f":"ROUND(cull!P21,9)","v":4.6711490000000003E-3},{"$f":"ROUND(cull!Q21,9)","v":4.6711490000000003E-3},{"$f":"ROUND(cull!R21,9)","v":4.6711490000000003E-3}]
[{"$f":"ROUND(cull!G22,9)","v":4.8345940000000002E-3},{"$f":"ROUND(cull!H22,9)","v":4.8345940000000002E-3},{"$f":"ROUND(cull!I22,9)","v":4.8345940000000002E-3},{"$f":"ROUND(cull!J22,9)","v":4.8345940000000002E-3},{"$f":"ROUND(cull!K22,9)","v":4.8345940000000002E-3},{"$f":"ROUND(cull!L22,9)","v":4.8345940000000002E-3},{"$f":"ROUND(cull!M22,9)","v":4.8345940000000002E-3},{"$f":"ROUND(cull!N22,9)","v":4.8345940000000002E-3},{"$f":"ROUND(cull!O22,9)","v":4.8345940000000002E-3},{"$f":"ROUND(cull!P22,9)","v":4.8345940000000002E-3},{"$f":"ROUND(cull!Q22,9)","v":4.8345940000000002E-3},{"$f":"ROUND(cull!R22,9)","v":4.8345940000000002E-3}]
[{"$f":"ROUND(cull!G23,9)","v":5.0965710000000003E-3},{"$f":"ROUND(cull!H23,9)","v":5.0965710000000003E-3},{"$f":"ROUND(cull!I23,9)","v":5.0965710000000003E-3},{"$f":"ROUND(cull!J23,9)","v":5.0965710000000003E-3},{"$f":"ROUND(cull!K23,9)","v":5.0965710000000003E-3},{"$f":"ROUND(cull!L23,9)","v":5.0965710000000003E-3},{"$f":"ROUND(cull!M23,9)","v":5.0965710000000003E-3},{"$f":"ROUND(cull!N23,9)","v":5.0965710000000003E-3},{"$f":"ROUND(cull!O23,9)","v":5.0965710000000003E-3},{"$f":"ROUND(cull!P23,9)","v":5.0965710000000003E-3},{"$f":"ROUND(cull!Q23,9)","v":5.0965710000000003E-3},{"$f":"ROUND(cull!R23,9)","v":5.0965710000000003E-3}]
[{"$f":"ROUND(cull!G24,9)","v":5.4327589999999997E-3},{"$f":"ROUND(cull!H24,9)","v":5.4327589999999997E-3},{"$f":"ROUND(cull!I24,9)","v":5.4327589999999997E-3},{"$f":"ROUND(cull!J24,9)","v":5.4327589999999997E-3},{"$f":"ROUND(cull!K24,9)","v":5.4327589999999997E-3},{"$f":"ROUND(cull!L24,9)","v":5.4327589999999997E-3},{"$f":"ROUND(cull!M24,9)","v":5.4327589999999997E-3},{"$f":"ROUND(cull!N24,9)","v":5.4327589999999997E-3},{"$f":"ROUND(cull!O24,9)","v":5.4327589999999997E-3},{"$f":"ROUND(cull!P24,9)","v":5.4327589999999997E-3},{"$f":"ROUND(cull!Q24,9)","v":5.4327589999999997E-3},{"$f":"ROUND(cull!R24,9)","v":5.4327589999999997E-3}]
[{"$f":"ROUND(cull!G25,9)","v":5.7999590000000004E-3},{"$f":"ROUND(cull!H25,9)","v":5.7999590000000004E-3},{"$f":"ROUND(cull!I25,9)","v":5.7999590000000004E-3},{"$f":"ROUND(cull!J25,9)","v":5.7999590000000004E-3},{"$f":"ROUND(cull!K25,9)","v":5.7999590000000004E-3},{"$f":"ROUND(cull!L25,9)","v":5.7999590000000004E-3},{"$f":"ROUND(cull!M25,9)","v":5.7999590000000004E-3},{"$f":"ROUND(cull!N25,9)","v":5.7999590000000004E-3},{"$f":"ROUND(cull!O25,9)","v":5.7999590000000004E-3},{"$f":"ROUND(cull!P25,9)","v":5.7999590000000004E-3},{"$f":"ROUND(cull!Q25,9)","v":5.7999590000000004E-3},{"$f":"ROUND(cull!R25,9)","v":5.7999590000000004E-3}]
[{"$f":"ROUND(cull!G26,9)","v":6.1487870000000002E-3},{"$f":"ROUND(cull!H26,9)","v":6.1487870000000002E-3},{"$f":"ROUND(cull!I26,9)","v":6.1487870000000002E-3},{"$f":"ROUND(cull!J26,9)","v":6.1487870000000002E-3},{"$f":"ROUND(cull!K26,9)","v":6.1487870000000002E-3},{"$f":"ROUND(cull!L26,9)","v":6.1487870000000002E-3},{"$f":"ROUND(cull!M26,9)","v":6.1487870000000002E-3},{"$f":"ROUND(cull!N26,9)","v":6.1487870000000002E-3},{"$f":"ROUND(cull!O26,9)","v":6.1487870000000002E-3},{"$f":"ROUND(cull!P26,9)","v":6.1487870000000002E-3},{"$f":"ROUND(cull!Q26,9)","v":6.1487870000000002E-3},{"$f":"ROUND(cull!R26,9)","v":6.1487870000000002E-3}]
[{"$f":"ROUND(cull!G27,9)","v":6.4430679999999997E-3},{"$f":"ROUND(cull!H27,9)","v":6.4430679999999997E-3},{"$f":"ROUND(cull!I27,9)","v":6.4430679999999997E-3},{"$f":"ROUND(cull!J27,9)","v":6.4430679999999997E-3},{"$f":"ROUND(cull!K27,9)","v":6.4430679999999997E-3},{"$f":"ROUND(cull!L27,9)","v":6.4430679999999997E-3},{"$f":"ROUND(cull!M27,9)","v":6.4430679999999997E-3},{"$f":"ROUND(cull!N27,9)","v":6.4430679999999997E-3},{"$f":"ROUND(cull!O27,9)","v":6.4430679999999997E-3},{"$f":"ROUND(cull!P27,9)","v":6.4430679999999997E-3},{"$f":"ROUND(cull!Q27,9)","v":6.4430679999999997E-3},{"$f":"ROUND(cull!R27,9)","v":6.4430679999999997E-3}]
[{"$f":"ROUND(cull!G28,9)","v":6.685931E-3},{"$f":"ROUND(cull!H28,9)","v":6.685931E-3},{"$f":"ROUND(cull!I28,9)","v":6.685931E-3},{"$f":"ROUND(cull!J28,9)","v":6.685931E-3},{"$f":"ROUND(cull!K28,9)","v":6.685931E-3},{"$f":"ROUND(cull!L28,9)","v":6.685931E-3},{"$f":"ROUND(cull!M28,9)","v":6.685931E-3},{"$f":"ROUND(cull!N28,9)","v":6.685931E-3},{"$f":"ROUND(cull!O28,9)","v":6.685931E-3},{"$f":"ROUND(cull!P28,9)","v":6.685931E-3},{"$f":"ROUND(cull!Q28,9)","v":6.685931E-3},{"$f":"ROUND(cull!R28,9)","v":6.685931E-3}]
[{"$f":"ROUND(cull!G29,9)","v":6.9526120000000004E-3},{"$f":"ROUND(cull!H29,9)","v":6.9526120000000004E-3},{"$f":"ROUND(cull!I29,9)","v":6.9526120000000004E-3},{"$f":"ROUND(cull!J29,9)","v":6.9526120000000004E-3},{"$f":"ROUND(cull!K29,9)","v":6.9526120000000004E-3},{"$f":"ROUND(cull!L29,9)","v":6.9526120000000004E-3},{"$f":"ROUND(cull!M29,9)","v":6.9526120000000004E-3},{"$f":"ROUND(cull!N29,9)","v":6.9526120000000004E-3},{"$f":"ROUND(cull!O29,9)","v":6.9526120000000004E-3},{"$f":"ROUND(cull!P29,9)","v":6.9526120000000004E-3},{"$f":"ROUND(cull!Q29,9)","v":6.9526120000000004E-3},{"$f":"ROUND(cull!R29,9)","v":6.9526120000000004E-3}]
[{"$f":"ROUND(cull!G30,9)","v":7.4299520000000001E-3},{"$f":"ROUND(cull!H30,9)","v":7.4299520000000001E-3},{"$f":"ROUND(cull!I30,9)","v":7.4299520000000001E-3},{"$f":"ROUND(cull!J30,9)","v":7.4299520000000001E-3},{"$f":"ROUND(cull!K30,9)","v":7.4299520000000001E-3},{"$f":"ROUND(cull!L30,9)","v":7.4299520000000001E-3},{"$f":"ROUND(cull!M30,9)","v":7.4299520000000001E-3},{"$f":"ROUND(cull!N30,9)","v":7.4299520000000001E-3},{"$f":"ROUND(cull!O30,9)","v":7.4299520000000001E-3},{"$f":"ROUND(cull!P30,9)","v":7.4299520000000001E-3},{"$f":"ROUND(cull!Q30,9)","v":7.4299520000000001E-3},{"$f":"ROUND(cull!R30,9)","v":7.4299520000000001E-3}]
[{"$f":"ROUND(cull!G31,9)","v":8.4626110000000001E-3},{"$f":"ROUND(cull!H31,9)","v":8.4626110000000001E-3},{"$f":"ROUND(cull!I31,9)","v":8.4626110000000001E-3},{"$f":"ROUND(cull!J31,9)","v":8.4626110000000001E-3},{"$f":"ROUND(cull!K31,9)","v":8.4626110000000001E-3},{"$f":"ROUND(cull!L31,9)","v":8.4626110000000001E-3},{"$f":"ROUND(cull!M31,9)","v":8.4626110000000001E-3},{"$f":"ROUND(cull!N31,9)","v":8.4626110000000001E-3},{"$f":"ROUND(cull!O31,9)","v":8.4626110000000001E-3},{"$f":"ROUND(cull!P31,9)","v":8.4626110000000001E-3},{"$f":"ROUND(cull!Q31,9)","v":8.4626110000000001E-3},{"$f":"ROUND(cull!R31,9)","v":8.4626110000000001E-3}]
[{"$f":"ROUND(cull!G32,9)","v":9.4500000000000001E-3},{"$f":"ROUND(cull!H32,9)","v":9.4500000000000001E-3},{"$f":"ROUND(cull!I32,9)","v":9.4500000000000001E-3},{"$f":"ROUND(cull!J32,9)","v":9.4500000000000001E-3},{"$f":"ROUND(cull!K32,9)","v":9.4500000000000001E-3},{"$f":"ROUND(cull!L32,9)","v":9.4500000000000001E-3},{"$f":"ROUND(cull!M32,9)","v":9.4500000000000001E-3},{"$f":"ROUND(cull!N32,9)","v":9.4500000000000001E-3},{"$f":"ROUND(cull!O32,9)","v":9.4500000000000001E-3},{"$f":"ROUND(cull!P32,9)","v":9.4500000000000001E-3},{"$f":"ROUND(cull!Q32,9)","v":9.4500000000000001E-3},{"$f":"ROUND(cull!R32,9)","v":9.4500000000000001E-3}]
[{"$f":"ROUND(cull!G33,9)","v":1.0584E-2},{"$f":"ROUND(cull!H33,9)","v":1.0584E-2},{"$f":"ROUND(cull!I33,9)","v":1.0584E-2},{"$f":"ROUND(cull!J33,9)","v":1.0584E-2},{"$f":"ROUND(cull!K33,9)","v":1.0584E-2},{"$f":"ROUND(cull!L33,9)","v":1.0584E-2},{"$f":"ROUND(cull!M33,9)","v":1.0584E-2},{"$f":"ROUND(cull!N33,9)","v":1.0584E-2},{"$f":"ROUND(cull!O33,9)","v":1.0584E-2},{"$f":"ROUND(cull!P33,9)","v":1.0584E-2},{"$f":"ROUND(cull!Q33,9)","v":1.0584E-2},{"$f":"ROUND(cull!R33,9)","v":1.0584E-2}]
["repro parameters"]
[{"$f":"ABORT2","v":3.5000000000000003E-2},{"$f":"ABORT3","v":2.5000000000000001E-2},{"$f":"ABORT4","v":1.4999999999999999E-2},{"$f":"ABORT5","v":5.0000000000000001E-3},{"$f":"ABORT6","v":3.0000000000000001E-3},{"$f":"ABORT7","v":1E-3},{"$f":"ABORT8","v":1E-3},{"$f":"ABORT9","v":0}]
[{"$f":"_VWP1","v":3},{"$f":"_VWP2","v":3},{"$f":"_VWP3","v":3},{"$f":"LBM","v":16},{"$f":"TIMEBREEDING","v":0},{"$f":"P_SEMEN","v":20},{"$f":"MAXLACT","v":12}]
[{"$f":"repro!G11","v":1},{"$f":"repro!H11","v":0.9},{"$f":"repro!I11","v":0.88},{"$f":"repro!J11","v":0.86},{"$f":"repro!K11","v":0.84},{"$f":"repro!L11","v":0.82},{"$f":"repro!M11","v":0.8},{"$f":"repro!N11","v":0.78},{"$f":"repro!O11","v":0.76},{"$f":"repro!P11","v":0.74},{"$f":"repro!Q11","v":0.72},{"$f":"repro!R11","v":0.70000000000000095}]
["heatdetectionrate"]
[{"$f":"repro!G34","v":0.55000000000000004},{"$f":"repro!H34","v":0.55000000000000004},{"$f":"repro!I34","v":0.55000000000000004},{"$f":"repro!J34","v":0.55000000000000004},{"$f":"repro!K34","v":0.55000000000000004},{"$f":"repro!L34","v":0.55000000000000004},{"$f":"repro!M34","v":0.55000000000000004},{"$f":"repro!N34","v":0.55000000000000004},{"$f":"repro!O34","v":0.55000000000000004},{"$f":"repro!P34","v":0.55000000000000004},{"$f":"repro!Q34","v":0.55000000000000004},{"$f":"repro!R34","v":0.55000000000000004}]
[{"$f":"repro!G35","v":0.55000000000000004},{"$f":"repro!H35","v":0.55000000000000004},{"$f":"repro!I35","v":0.55000000000000004},{"$f":"repro!J35","v":0.55000000000000004},{"$f":"repro!K35","v":0.55000000000000004},{"$f":"repro!L35","v":0.55000000000000004},{"$f":"repro!M35","v":0.55000000000000004},{"$f":"repro!N35","v":0.55000000000000004},{"$f":"repro!O35","v":0.55000000000000004},{"$f":"repro!P35","v":0.55000000000000004},{"$f":"repro!Q35","v":0.55000000000000004},{"$f":"repro!R35","v":0.55000000000000004}]
[{"$f":"repro!G36","v":0.55000000000000004},{"$f":"repro!H36","v":0.55000000000000004},{"$f":"repro!I36","v":0.55000000000000004},{"$f":"repro!J36","v":0.55000000000000004},{"$f":"repro!K36","v":0.55000000000000004},{"$f":"repro!L36","v":0.55000000000000004},{"$f":"repro!M36","v":0.55000000000000004},{"$f":"repro!N36","v":0.55000000000000004},{"$f":"repro!O36","v":0.55000000000000004},{"$f":"repro!P36","v":0.55000000000000004},{"$f":"repro!Q36","v":0.55000000000000004},{"$f":"repro!R36","v":0.55000000000000004}]
[{"$f":"repro!G37","v":0.55000000000000004},{"$f":"repro!H37","v":0.55000000000000004},{"$f":"repro!I37","v":0.55000000000000004},{"$f":"repro!J37","v":0.55000000000000004},{"$f":"repro!K37","v":0.55000000000000004},{"$f":"repro!L37","v":0.55000000000000004},{"$f":"repro!M37","v":0.55000000000000004},{"$f":"repro!N37","v":0.55000000000000004},{"$f":"repro!O37","v":0.55000000000000004},{"$f":"repro!P37","v":0.55000000000000004},{"$f":"repro!Q37","v":0.55000000000000004},{"$f":"repro!R37","v":0.55000000000000004}]
[{"$f":"repro!G38","v":0.55000000000000004},{"$f":"repro!H38","v":0.55000000000000004},{"$f":"repro!I38","v":0.55000000000000004},{"$f":"repro!J38","v":0.55000000000000004},{"$f":"repro!K38","v":0.55000000000000004},{"$f":"repro!L38","v":0.55000000000000004},{"$f":"repro!M38","v":0.55000000000000004},{"$f":"repro!N38","v":0.55000000000000004},{"$f":"repro!O38","v":0.55000000000000004},{"$f":"repro!P38","v":0.55000000000000004},{"$f":"repro!Q38","v":0.55000000000000004},{"$f":"repro!R38","v":0.55000000000000004}]
[{"$f":"repro!G39","v":0.55000000000000004},{"$f":"repro!H39","v":0.55000000000000004},{"$f":"repro!I39","v":0.55000000000000004},{"$f":"repro!J39","v":0.55000000000000004},{"$f":"repro!K39","v":0.55000000000000004},{"$f":"repro!L39","v":0.55000000000000004},{"$f":"repro!M39","v":0.55000000000000004},{"$f":"repro!N39","v":0.55000000000000004},{"$f":"repro!O39","v":0.55000000000000004},{"$f":"repro!P39","v":0.55000000000000004},{"$f":"repro!Q39","v":0.55000000000000004},{"$f":"repro!R39","v":0.55000000000000004}]
[{"$f":"repro!G40","v":0.55000000000000004},{"$f":"repro!H40","v":0.55000000000000004},{"$f":"repro!I40","v":0.55000000000000004},{"$f":"repro!J40","v":0.55000000000000004},{"$f":"repro!K40","v":0.55000000000000004},{"$f":"repro!L40","v":0.55000000000000004},{"$f":"repro!M40","v":0.55000000000000004},{"$f":"repro!N40","v":0.55000000000000004},{"$f":"repro!O40","v":0.55000000000000004},{"$f":"repro!P40","v":0.55000000000000004},{"$f":"repro!Q40","v":0.55000000000000004},{"$f":"repro!R40","v":0.55000000000000004}]
[{"$f":"repro!G41","v":0.55000000000000004},{"$f":"repro!H41","v":0.55000000000000004},{"$f":"repro!I41","v":0.55000000000000004},{"$f":"repro!J41","v":0.55000000000000004},{"$f":"repro!K41","v":0.55000000000000004},{"$f":"repro!L41","v":0.55000000000000004},{"$f":"repro!M41","v":0.55000000000000004},{"$f":"repro!N41","v":0.55000000000000004},{"$f":"repro!O41","v":0.55000000000000004},{"$f":"repro!P41","v":0.55000000000000004},{"$f":"repro!Q41","v":0.55000000000000004},{"$f":"repro!R41","v":0.55000000000000004}]
[{"$f":"repro!G42","v":0.55000000000000004},{"$f":"repro!H42","v":0.55000000000000004},{"$f":"repro!I42","v":0.55000000000000004},{"$f":"repro!J42","v":0.55000000000000004},{"$f":"repro!K42","v":0.55000000000000004},{"$f":"repro!L42","v":0.55000000000000004},{"$f":"repro!M42","v":0.55000000000000004},{"$f":"repro!N42","v":0.55000000000000004},{"$f":"repro!O42","v":0.55000000000000004},{"$f":"repro!P42","v":0.55000000000000004},{"$f":"repro!Q42","v":0.55000000000000004},{"$f":"repro!R42","v":0.55000000000000004}]
[{"$f":"repro!G43","v":0.55000000000000004},{"$f":"repro!H43","v":0.55000000000000004},{"$f":"repro!I43","v":0.55000000000000004},{"$f":"repro!J43","v":0.55000000000000004},{"$f":"repro!K43","v":0.55000000000000004},{"$f":"repro!L43","v":0.55000000000000004},{"$f":"repro!M43","v":0.55000000000000004},{"$f":"repro!N43","v":0.55000000000000004},{"$f":"repro!O43","v":0.55000000000000004},{"$f":"repro!P43","v":0.55000000000000004},{"$f":"repro!Q43","v":0.55000000000000004},{"$f":"repro!R43","v":0.55000000000000004}]
[{"$f":"repro!G44","v":0.55000000000000004},{"$f":"repro!H44","v":0.55000000000000004},{"$f":"repro!I44","v":0.55000000000000004},{"$f":"repro!J44","v":0.55000000000000004},{"$f":"repro!K44","v":0.55000000000000004},{"$f":"repro!L44","v":0.55000000000000004},{"$f":"repro!M44","v":0.55000000000000004},{"$f":"repro!N44","v":0.55000000000000004},{"$f":"repro!O44","v":0.55000000000000004},{"$f":"repro!P44","v":0.55000000000000004},{"$f":"repro!Q44","v":0.55000000000000004},{"$f":"repro!R44","v":0.55000000000000004}]
[{"$f":"repro!G45","v":0.55000000000000004},{"$f":"repro!H45","v":0.55000000000000004},{"$f":"repro!I45","v":0.55000000000000004},{"$f":"repro!J45","v":0.55000000000000004},{"$f":"repro!K45","v":0.55000000000000004},{"$f":"repro!L45","v":0.55000000000000004},{"$f":"repro!M45","v":0.55000000000000004},{"$f":"repro!N45","v":0.55000000000000004},{"$f":"repro!O45","v":0.55000000000000004},{"$f":"repro!P45","v":0.55000000000000004},{"$f":"repro!Q45","v":0.55000000000000004},{"$f":"repro!R45","v":0.55000000000000004}]
[{"$f":"repro!G46","v":0.55000000000000004},{"$f":"repro!H46","v":0.55000000000000004},{"$f":"repro!I46","v":0.55000000000000004},{"$f":"repro!J46","v":0.55000000000000004},{"$f":"repro!K46","v":0.55000000000000004},{"$f":"repro!L46","v":0.55000000000000004},{"$f":"repro!M46","v":0.55000000000000004},{"$f":"repro!N46","v":0.55000000000000004},{"$f":"repro!O46","v":0.55000000000000004},{"$f":"repro!P46","v":0.55000000000000004},{"$f":"repro!Q46","v":0.55000000000000004},{"$f":"repro!R46","v":0.55000000000000004}]
[{"$f":"repro!G47","v":0.55000000000000004},{"$f":"repro!H47","v":0.55000000000000004},{"$f":"repro!I47","v":0.55000000000000004},{"$f":"repro!J47","v":0.55000000000000004},{"$f":"repro!K47","v":0.55000000000000004},{"$f":"repro!L47","v":0.55000000000000004},{"$f":"repro!M47","v":0.55000000000000004},{"$f":"repro!N47","v":0.55000000000000004},{"$f":"repro!O47","v":0.55000000000000004},{"$f":"repro!P47","v":0.55000000000000004},{"$f":"repro!Q47","v":0.55000000000000004},{"$f":"repro!R47","v":0.55000000000000004}]
["conceptionrate"]
[{"$f":"repro!G16","v":0.38800000000000001},{"$f":"repro!H16","v":0.38800000000000001},{"$f":"repro!I16","v":0.38800000000000001},{"$f":"repro!J16","v":0.38800000000000001},{"$f":"repro!K16","v":0.38800000000000001},{"$f":"repro!L16","v":0.38800000000000001},{"$f":"repro!M16","v":0.38800000000000001},{"$f":"repro!N16","v":0.38800000000000001},{"$f":"repro!O16","v":0.38800000000000001},{"$f":"repro!P16","v":0.38800000000000001},{"$f":"repro!Q16","v":0.38800000000000001},{"$f":"repro!R16","v":0.38800000000000001}]
[{"$f":"repro!G17","v":0.42},{"$f":"repro!H17","v":0.42},{"$f":"repro!I17","v":0.42},{"$f":"repro!J17","v":0.42},{"$f":"repro!K17","v":0.42},{"$f":"repro!L17","v":0.42},{"$f":"repro!M17","v":0.42},{"$f":"repro!N17","v":0.42},{"$f":"repro!O17","v":0.42},{"$f":"repro!P17","v":0.42},{"$f":"repro!Q17","v":0.42},{"$f":"repro!R17","v":0.42}]
[{"$f":"repro!G18","v":0.41699999999999998},{"$f":"repro!H18","v":0.41699999999999998},{"$f":"repro!I18","v":0.41699999999999998},{"$f":"repro!J18","v":0.41699999999999998},{"$f":"repro!K18","v":0.41699999999999998},{"$f":"repro!L18","v":0.41699999999999998},{"$f":"repro!M18","v":0.41699999999999998},{"$f":"repro!N18","v":0.41699999999999998},{"$f":"repro!O18","v":0.41699999999999998},{"$f":"repro!P18","v":0.41699999999999998},{"$f":"repro!Q18","v":0.41699999999999998},{"$f":"repro!R18","v":0.41699999999999998}]
[{"$f":"repro!G19","v":0.41399999999999998},{"$f":"repro!H19","v":0.41399999999999998},{"$f":"repro!I19","v":0.41399999999999998},{"$f":"repro!J19","v":0.41399999999999998},{"$f":"repro!K19","v":0.41399999999999998},{"$f":"repro!L19","v":0.41399999999999998},{"$f":"repro!M19","v":0.41399999999999998},{"$f":"repro!N19","v":0.41399999999999998},{"$f":"repro!O19","v":0.41399999999999998},{"$f":"repro!P19","v":0.41399999999999998},{"$f":"repro!Q19","v":0.41399999999999998},{"$f":"repro!R19","v":0.41399999999999998}]
[{"$f":"repro!G20","v":0.40799999999999997},{"$f":"repro!H20","v":0.40799999999999997},{"$f":"repro!I20","v":0.40799999999999997},{"$f":"repro!J20","v":0.40799999999999997},{"$f":"repro!K20","v":0.40799999999999997},{"$f":"repro!L20","v":0.40799999999999997},{"$f":"repro!M20","v":0.40799999999999997},{"$f":"repro!N20","v":0.40799999999999997},{"$f":"repro!O20","v":0.40799999999999997},{"$f":"repro!P20","v":0.40799999999999997},{"$f":"repro!Q20","v":0.40799999999999997},{"$f":"repro!R20","v":0.40799999999999997}]
[{"$f":"repro!G21","v":0.4},{"$f":"repro!H21","v":0.4},{"$f":"repro!I21","v":0.4},{"$f":"repro!J21","v":0.4},{"$f":"repro!K21","v":0.4},{"$f":"repro!L21","v":0.4},{"$f":"repro!M21","v":0.4},{"$f":"repro!N21","v":0.4},{"$f":"repro!O21","v":0.4},{"$f":"repro!P21","v":0.4},{"$f":"repro!Q21","v":0.4},{"$f":"repro!R21","v":0.4}]
[{"$f":"repro!G22","v":0.39},{"$f":"repro!H22","v":0.39},{"$f":"repro!I22","v":0.39},{"$f":"repro!J22","v":0.39},{"$f":"repro!K22","v":0.39},{"$f":"repro!L22","v":0.39},{"$f":"repro!M22","v":0.39},{"$f":"repro!N22","v":0.39},{"$f":"repro!O22","v":0.39},{"$f":"repro!P22","v":0.39},{"$f":"repro!Q22","v":0.39},{"$f":"repro!R22","v":0.39}]
[{"$f":"repro!G23","v":0.38},{"$f":"repro!H23","v":0.38},{"$f":"repro!I23","v":0.38},{"$f":"repro!J23","v":0.38},{"$f":"repro!K23","v":0.38},{"$f":"repro!L23","v":0.38},{"$f":"repro!M23","v":0.38},{"$f":"repro!N23","v":0.38},{"$f":"repro!O23","v":0.38},{"$f":"repro!P23","v":0.38},{"$f":"repro!Q23","v":0.38},{"$f":"repro!R23","v":0.38}]
[{"$f":"repro!G24","v":0.36499999999999999},{"$f":"repro!H24","v":0.36499999999999999},{"$f":"repro!I24","v":0.36499999999999999},{"$f":"repro!J24","v":0.36499999999999999},{"$f":"repro!K24","v":0.36499999999999999},{"$f":"repro!L24","v":0.36499999999999999},{"$f":"repro!M24","v":0.36499999999999999},{"$f":"repro!N24","v":0.36499999999999999},{"$f":"repro!O24","v":0.36499999999999999},{"$f":"repro!P24","v":0.36499999999999999},{"$f":"repro!Q24","v":0.36499999999999999},{"$f":"repro!R24","v":0.36499999999999999}]
[{"$f":"repro!G25","v":0.35},{"$f":"repro!H25","v":0.35},{"$f":"repro!I25","v":0.35},{"$f":"repro!J25","v":0.35},{"$f":"repro!K25","v":0.35},{"$f":"repro!L25","v":0.35},{"$f":"repro!M25","v":0.35},{"$f":"repro!N25","v":0.35},{"$f":"repro!O25","v":0.35},{"$f":"repro!P25","v":0.35},{"$f":"repro!Q25","v":0.35},{"$f":"repro!R25","v":0.35}]
[{"$f":"repro!G26","v":0.33400000000000002},{"$f":"repro!H26","v":0.33400000000000002},{"$f":"repro!I26","v":0.33400000000000002},{"$f":"repro!J26","v":0.33400000000000002},{"$f":"repro!K26","v":0.33400000000000002},{"$f":"repro!L26","v":0.33400000000000002},{"$f":"repro!M26","v":0.33400000000000002},{"$f":"repro!N26","v":0.33400000000000002},{"$f":"repro!O26","v":0.33400000000000002},{"$f":"repro!P26","v":0.33400000000000002},{"$f":"repro!Q26","v":0.33400000000000002},{"$f":"repro!R26","v":0.33400000000000002}]
[{"$f":"repro!G27","v":0.315},{"$f":"repro!H27","v":0.315},{"$f":"repro!I27","v":0.315},{"$f":"repro!J27","v":0.315},{"$f":"repro!K27","v":0.315},{"$f":"repro!L27","v":0.315},{"$f":"repro!M27","v":0.315},{"$f":"repro!N27","v":0.315},{"$f":"repro!O27","v":0.315},{"$f":"repro!P27","v":0.315},{"$f":"repro!Q27","v":0.315},{"$f":"repro!R27","v":0.315}]
[{"$f":"repro!G28","v":0.29299999999999998},{"$f":"repro!H28","v":0.29299999999999998},{"$f":"repro!I28","v":0.29299999999999998},{"$f":"repro!J28","v":0.29299999999999998},{"$f":"repro!K28","v":0.29299999999999998},{"$f":"repro!L28","v":0.29299999999999998},{"$f":"repro!M28","v":0.29299999999999998},{"$f":"repro!N28","v":0.29299999999999998},{"$f":"repro!O28","v":0.29299999999999998},{"$f":"repro!P28","v":0.29299999999999998},{"$f":"repro!Q28","v":0.29299999999999998},{"$f":"repro!R28","v":0.29299999999999998}]
[{"$f":"repro!G29","v":0.27700000000000002},{"$f":"repro!H29","v":0.27700000000000002},{"$f":"repro!I29","v":0.27700000000000002},{"$f":"repro!J29","v":0.27700000000000002},{"$f":"repro!K29","v":0.27700000000000002},{"$f":"repro!L29","v":0.27700000000000002},{"$f":"repro!M29","v":0.27700000000000002},{"$f":"repro!N29","v":0.27700000000000002},{"$f":"repro!O29","v":0.27700000000000002},{"$f":"repro!P29","v":0.27700000000000002},{"$f":"repro!Q29","v":0.27700000000000002},{"$f":"repro!R29","v":0.27700000000000002}]
["reprocost"]
[{"$f":"repro!G52","v":0},{"$f":"repro!H52","v":0},{"$f":"repro!I52","v":0},{"$f":"repro!J52","v":0},{"$f":"repro!K52","v":0},{"$f":"repro!L52","v":0},{"$f":"repro!M52","v":0},{"$f":"repro!N52","v":0},{"$f":"repro!O52","v":0},{"$f":"repro!P52","v":0},{"$f":"repro!Q52","v":0},{"$f":"repro!R52","v":0}]
[{"$f":"repro!G53","v":0},{"$f":"repro!H53","v":0},{"$f":"repro!I53","v":0},{"$f":"repro!J53","v":0},{"$f":"repro!K53","v":0},{"$f":"repro!L53","v":0},{"$f":"repro!M53","v":0},{"$f":"repro!N53","v":0},{"$f":"repro!O53","v":0},{"$f":"repro!P53","v":0},{"$f":"repro!Q53","v":0},{"$f":"repro!R53","v":0}]
[{"$f":"repro!G54","v":0},{"$f":"repro!H54","v":0},{"$f":"repro!I54","v":0},{"$f":"repro!J54","v":0},{"$f":"repro!K54","v":0},{"$f":"repro!L54","v":0},{"$f":"repro!M54","v":0},{"$f":"repro!N54","v":0},{"$f":"repro!O54","v":0},{"$f":"repro!P54","v":0},{"$f":"repro!Q54","v":0},{"$f":"repro!R54","v":0}]
[{"$f":"repro!G55","v":0},{"$f":"repro!H55","v":0},{"$f":"repro!I55","v":0},{"$f":"repro!J55","v":0},{"$f":"repro!K55","v":0},{"$f":"repro!L55","v":0},{"$f":"repro!M55","v":0},{"$f":"repro!N55","v":0},{"$f":"repro!O55","v":0},{"$f":"repro!P55","v":0},{"$f":"repro!Q55","v":0},{"$f":"repro!R55","v":0}]
[{"$f":"repro!G56","v":0},{"$f":"repro!H56","v":0},{"$f":"repro!I56","v":0},{"$f":"repro!J56","v":0},{"$f":"repro!K56","v":0},{"$f":"repro!L56","v":0},{"$f":"repro!M56","v":0},{"$f":"repro!N56","v":0},{"$f":"repro!O56","v":0},{"$f":"repro!P56","v":0},{"$f":"repro!Q56","v":0},{"$f":"repro!R56","v":0}]
[{"$f":"repro!G57","v":0},{"$f":"repro!H57","v":0},{"$f":"repro!I57","v":0},{"$f":"repro!J57","v":0},{"$f":"repro!K57","v":0},{"$f":"repro!L57","v":0},{"$f":"repro!M57","v":0},{"$f":"repro!N57","v":0},{"$f":"repro!O57","v":0},{"$f":"repro!P57","v":0},{"$f":"repro!Q57","v":0},{"$f":"repro!R57","v":0}]
[{"$f":"repro!G58","v":0},{"$f":"repro!H58","v":0},{"$f":"repro!I58","v":0},{"$f":"repro!J58","v":0},{"$f":"repro!K58","v":0},{"$f":"repro!L58","v":0},{"$f":"repro!M58","v":0},{"$f":"repro!N58","v":0},{"$f":"repro!O58","v":0},{"$f":"repro!P58","v":0},{"$f":"repro!Q58","v":0},{"$f":"repro!R58","v":0}]
[{"$f":"repro!G59","v":0},{"$f":"repro!H59","v":0},{"$f":"repro!I59","v":0},{"$f":"repro!J59","v":0},{"$f":"repro!K59","v":0},{"$f":"repro!L59","v":0},{"$f":"repro!M59","v":0},{"$f":"repro!N59","v":0},{"$f":"repro!O59","v":0},{"$f":"repro!P59","v":0},{"$f":"repro!Q59","v":0},{"$f":"repro!R59","v":0}]
[{"$f":"repro!G60","v":0},{"$f":"repro!H60","v":0},{"$f":"repro!I60","v":0},{"$f":"repro!J60","v":0},{"$f":"repro!K60","v":0},{"$f":"repro!L60","v":0},{"$f":"repro!M60","v":0},{"$f":"repro!N60","v":0},{"$f":"repro!O60","v":0},{"$f":"repro!P60","v":0},{"$f":"repro!Q60","v":0},{"$f":"repro!R60","v":0}]
[{"$f":"repro!G61","v":0},{"$f":"repro!H61","v":0},{"$f":"repro!I61","v":0},{"$f":"repro!J61","v":0},{"$f":"repro!K61","v":0},{"$f":"repro!L61","v":0},{"$f":"repro!M61","v":0},{"$f":"repro!N61","v":0},{"$f":"repro!O61","v":0},{"$f":"repro!P61","v":0},{"$f":"repro!Q61","v":0},{"$f":"repro!R61","v":0}]
[{"$f":"repro!G62","v":0},{"$f":"repro!H62","v":0},{"$f":"repro!I62","v":0},{"$f":"repro!J62","v":0},{"$f":"repro!K62","v":0},{"$f":"repro!L62","v":0},{"$f":"repro!M62","v":0},{"$f":"repro!N62","v":0},{"$f":"repro!O62","v":0},{"$f":"repro!P62","v":0},{"$f":"repro!Q62","v":0},{"$f":"repro!R62","v":0}]
[{"$f":"repro!G63","v":0},{"$f":"repro!H63","v":0},{"$f":"repro!I63","v":0},{"$f":"repro!J63","v":0},{"$f":"repro!K63","v":0},{"$f":"repro!L63","v":0},{"$f":"repro!M63","v":0},{"$f":"repro!N63","v":0},{"$f":"repro!O63","v":0},{"$f":"repro!P63","v":0},{"$f":"repro!Q63","v":0},{"$f":"repro!R63","v":0}]
[{"$f":"repro!G64","v":0},{"$f":"repro!H64","v":0},{"$f":"repro!I64","v":0},{"$f":"repro!J64","v":0},{"$f":"repro!K64","v":0},{"$f":"repro!L64","v":0},{"$f":"repro!M64","v":0},{"$f":"repro!N64","v":0},{"$f":"repro!O64","v":0},{"$f":"repro!P64","v":0},{"$f":"repro!Q64","v":0},{"$f":"repro!R64","v":0}]
[{"$f":"repro!G65","v":0},{"$f":"repro!H65","v":0},{"$f":"repro!I65","v":0},{"$f":"repro!J65","v":0},{"$f":"repro!K65","v":0},{"$f":"repro!L65","v":0},{"$f":"repro!M65","v":0},{"$f":"repro!N65","v":0},{"$f":"repro!O65","v":0},{"$f":"repro!P65","v":0},{"$f":"repro!Q65","v":0},{"$f":"repro!R65","v":0}]
["bw open cows"]
[{"$f":"ROUND(bw!G5,6)","v":1177.0883100000001},{"$f":"bw!H5","v":1340.78611570561}]
[{"$f":"ROUND(bw!G6,6)","v":1170.9902139999999},{"$f":"bw!H6","v":1305.92396792463}]
[{"$f":"ROUND(bw!G7,6)","v":1181.1457439999999},{"$f":"bw!H7","v":1302.91398463366}]
[{"$f":"ROUND(bw!G8,6)","v":1197.2169610000001},{"$f":"bw!H8","v":1313.9477053834701}]
[{"$f":"ROUND(bw!G9,6)","v":1214.2169670000001},{"$f":"bw!H9","v":1329.7349937014001}]
[{"$f":"ROUND(bw!G10,6)","v":1229.965886},{"$f":"bw!H10","v":1345.7337168705101}]
[{"$f":"ROUND(bw!G11,6)","v":1243.6996489999999},{"$f":"bw!H11","v":1359.9721510167999}]
[{"$f":"ROUND(bw!G12,6)","v":1255.3254240000001},{"$f":"bw!H12","v":1371.8119793451699}]
[{"$f":"ROUND(bw!G13,6)","v":1265.0348100000001},{"$f":"bw!H13","v":1381.26084002169}]
[{"$f":"ROUND(bw!G14,6)","v":1273.1114990000001},{"$f":"bw!H14","v":1388.6016919843}]
[{"$f":"ROUND(bw!G15,6)","v":1279.842177},{"$f":"bw!H15","v":1394.20172848475}]
[{"$f":"ROUND(bw!G16,6)","v":1285.480452},{"$f":"bw!H16","v":1398.42075924502}]
[{"$f":"ROUND(bw!G17,6)","v":1290.236697},{"$f":"bw!H17","v":1401.57298348584}]
[{"$f":"ROUND(bw!G18,6)","v":1294.2795369999999},{"$f":"bw!H18","v":1403.91610509049}]
[{"$f":"ROUND(bw!G19,6)","v":1297.7417680000001},{"$f":"bw!H19","v":1405.6534070091}]
[{"$f":"ROUND(bw!G20,6)","v":1300.727228},{"$f":"bw!H20","v":1406.9411012020801}]
[{"$f":"ROUND(bw!G21,6)","v":1303.3171440000001},{"$f":"bw!H21","v":1407.89704781111}]
[{"$f":"ROUND(bw!G22,6)","v":1305.5754199999999},{"$f":"bw!H22","v":1408.6090156202299}]
[{"$f":"ROUND(bw!G23,6)","v":1307.552811},{"$f":"bw!H23","v":1409.1417605925501}]
[{"$f":"ROUND(bw!G24,6)","v":1309.290117},{"$f":"bw!H24","v":1409.54275647853}]
[{"$f":"ROUND(bw!G25,6)","v":1310.820571},{"$f":"bw!H25","v":1409.8466685671101}]
[{"$f":"ROUND(bw!G26,6)","v":1312.1716080000001},{"$f":"bw!H26","v":1410.07876005193}]
[{"$f":"ROUND(bw!G27,6)","v":1313.36617},{"$f":"bw!H27","v":1410.2574395325501}]
[{"$f":"ROUND(bw!G28,6)","v":1314.4236639999999},{"$f":"bw!H28","v":1410.39614117776}]
["bw pregnancy"]
[{"$f":"bw!$L$5","v":0},{"$f":"bw!L6","v":0},{"$f":"bw!L7","v":0.25338396197365098},{"$f":"bw!L8","v":2.5864041630140799},{"$f":"bw!L9","v":9.4279713523053807},{"$f":"bw!L10","v":23.208224332025399},{"$f":"bw!L11","v":46.3573019043518},{"$f":"bw!L12","v":81.3053428714624},{"$f":"bw!L13","v":130.482486035535}]
[{"$f":"bw!M5","v":0},{"$f":"bw!M6","v":0},{"$f":"bw!M7","v":0.25338396197365098},{"$f":"bw!M8","v":2.5864041630140799},{"$f":"bw!M9","v":9.4279713523053807},{"$f":"bw!M10","v":23.208224332025399},{"$f":"bw!M11","v":46.3573019043518},{"$f":"bw!M12","v":81.3053428714624},{"$f":"bw!M13","v":130.482486035535}]
["price: breed cows"]
[{"$f":"UPPER(SERVE1)","v":"DECIDE"}]
[{"$f":"UPPER(SERVE2)","v":"DECIDE"}]
[{"$f":"UPPER(SERVE3)","v":"DECIDE"}]
[{"$f":"UPPER(SERVE4)","v":"DECIDE"}]
[{"$f":"UPPER(SERVE5)","v":"DECIDE"}]
[{"$f":"UPPER(SERVE6)","v":"DECIDE"}]
[{"$f":"UPPER(SERVE7)","v":"DECIDE"}]
[{"$f":"UPPER(SERVE8)","v":"DECIDE"}]
[{"$f":"UPPER(SERVE9)","v":"DECIDE"}]
[{"$f":"UPPER(SERVE10)","v":"DECIDE"}]
[{"$f":"UPPER(SERVE11)","v":"DECIDE"}]
[{"$f":"UPPER(SERVE12)","v":"DECIDE"}]
[{"$f":"UPPER(SERVE13)","v":"DECIDE"}]
[{"$f":"UPPER(SERVE14)","v":"DECIDE"}]
[{"$f":"UPPER(SERVE15)","v":"DECIDE"}]
[{"$f":"UPPER(SERVE16)","v":"DECIDE"}]
[{"$f":"UPPER(SERVE17)","v":"DECIDE"}]
[{"$f":"UPPER(SERVE18)","v":"DECIDE"}]
[{"$f":"UPPER(SERVE19)","v":"DECIDE"}]
[{"$f":"UPPER(SERVE20)","v":"DECIDE"}]
[{"$f":"UPPER(SERVE21)","v":"DECIDE"}]
[{"$f":"UPPER(SERVE22)","v":"DECIDE"}]
[{"$f":"UPPER(SERVE23)","v":"DECIDE"}]
[{"$f":"UPPER(SERVE24)","v":"DECIDE"}]
["price: enter cows"]
[{"$f":"ENTER1","v":"DECIDE"}]
[{"$f":"ENTER2","v":"DECIDE"}]
[{"$f":"ENTER3","v":"DECIDE"}]
[{"$f":"ENTER4","v":"DECIDE"}]
[{"$f":"ENTER5","v":"DECIDE"}]
[{"$f":"ENTER6","v":"DECIDE"}]
[{"$f":"ENTER7","v":"DECIDE"}]
[{"$f":"ENTER8","v":"DECIDE"}]
[{"$f":"ENTER9","v":"DECIDE"}]
[{"$f":"ENTER10","v":"DECIDE"}]
[{"$f":"ENTER11","v":"DECIDE"}]
[{"$f":"ENTER12","v":"DECIDE"}]
[{"$f":"ENTER13","v":"DECIDE"}]
[{"$f":"ENTER14","v":"DECIDE"}]
[{"$f":"ENTER15","v":"DECIDE"}]
[{"$f":"ENTER16","v":"DECIDE"}]
[{"$f":"ENTER17","v":"DECIDE"}]
[{"$f":"ENTER18","v":"DECIDE"}]
[{"$f":"ENTER19","v":"DECIDE"}]
[{"$f":"ENTER20","v":"DECIDE"}]
[{"$f":"ENTER21","v":"DECIDE"}]
[{"$f":"ENTER22","v":"DECIDE"}]
[{"$f":"ENTER23","v":"DECIDE"}]
[{"$f":"ENTER24","v":"DECIDE"}]
["price: heifer price milk price cull price"]
[{"$f":"PHEIFER1","v":1600},{"$f":"PHEIFER2","v":1600},{"$f":"PHEIFER3","v":1600},{"$f":"PHEIFER4","v":1600},{"$f":"PHEIFER5","v":1600},{"$f":"PHEIFER6","v":1600},{"$f":"PHEIFER7","v":1600},{"$f":"PHEIFER8","v":1600},{"$f":"PHEIFER9","v":1600},{"$f":"PHEIFER10","v":1600},{"$f":"PHEIFER11","v":1600},{"$f":"PHEIFER12","v":1600},{"$f":"PHEIFER13","v":1600},{"$f":"PHEIFER14","v":1600},{"$f":"PHEIFER15","v":1600},{"$f":"PHEIFER16","v":1600},{"$f":"PHEIFER17","v":1600},{"$f":"PHEIFER18","v":1600},{"$f":"PHEIFER19","v":1600},{"$f":"PHEIFER20","v":1600},{"$f":"PHEIFER21","v":1600},{"$f":"PHEIFER22","v":1600},{"$f":"PHEIFER23","v":1600},{"$f":"PHEIFER24","v":1600}]
[{"$f":"PMILK1","v":18},{"$f":"PMILK2","v":18},{"$f":"PMILK3","v":18},{"$f":"PMILK4","v":18},{"$f":"PMILK5","v":18},{"$f":"PMILK6","v":18},{"$f":"PMILK7","v":18},{"$f":"PMILK8","v":18},{"$f":"PMILK9","v":18},{"$f":"PMILK10","v":18},{"$f":"PMILK11","v":18},{"$f":"PMILK12","v":18},{"$f":"PMILK13","v":18},{"$f":"PMILK14","v":18},{"$f":"PMILK15","v":18},{"$f":"PMILK16","v":18},{"$f":"PMILK17","v":18},{"$f":"PMILK18","v":18},{"$f":"PMILK19","v":18},{"$f":"PMILK20","v":18},{"$f":"PMILK21","v":18},{"$f":"PMILK22","v":18},{"$f":"PMILK23","v":18},{"$f":"PMILK24","v":18}]
[{"$f":"_PBW1","v":0.6},{"$f":"_PBW2","v":0.6},{"$f":"_PBW3","v":0.6},{"$f":"_PBW4","v":0.6},{"$f":"_PBW5","v":0.6},{"$f":"_PBW6","v":0.6},{"$f":"_PBW7","v":0.6},{"$f":"_PBW8","v":0.6},{"$f":"_PBW9","v":0.6},{"$f":"_PBW10","v":0.6},{"$f":"_PBW11","v":0.6},{"$f":"_PBW12","v":0.6},{"$f":"_PBW13","v":0.6},{"$f":"_PBW14","v":0.6},{"$f":"_PBW15","v":0.6},{"$f":"_PBW16","v":0.6},{"$f":"_PBW17","v":0.6},{"$f":"_PBW18","v":0.6},{"$f":"_PBW19","v":0.6},{"$f":"_PBW20","v":0.6},{"$f":"_PBW21","v":0.6},{"$f":"_PBW22","v":0.6},{"$f":"_PBW23","v":0.6},{"$f":"_PBW24","v":0.6}]
["misc"]
[{"$f":"UPPER(WRITEPOL)","v":"NO"}]
[{"$f":"UPPER(WRITERPO)","v":"NO"}]
[{"$f":"UPPER(STARTSEA)","v":"JAN"}]
[{"$f":"UPPER(POLICY)","v":"OPTIMAL"}]
[{"$f":"MAXMIM","v":24}]
[{"$f":"CULLMILK","v":0}]
[{"$f":"cullmargin","v":-999}]
[{"$f":"INTEREST","v":0}]
[{"$f":"P_LOSS","v":0}]
[{"$f":"INVCULLPCT","v":0.8}]
[{"$f":"UPPER(FUNK)","v":"YES"}]
[{"$f":"P_CALF","v":200}]
[{"$f":"P_FIXED_LABOR","v":0.5}]
[{"$f":"P_FIXED_OTHER","v":2}]
[{"$f":"P_OTHER_DRY","v":1}]
[{"$f":"P_OTHER_LACT","v":1}]
[{"$f":"P_TMRDMLACT","v":0.15}]
[{"$f":"P_TMRDMDRY","v":0.1}]
[{"$f":"DMI_DRY","v":25}]
[{"$f":"PCTFAT","v":3.5}]
[{"$f":"PA_CV","v":12}]
[{"$f":"MREPEAT","v":0.6}]
[{"$f":"P_LABOR","v":10}]
[{"$f":"TIMEFRESH","v":30}]
[{"$f":"TIMELACT","v":213}]
[{"$f":"TIMEDRY","v":91}]
[{"$f":"vetcost1","v":38}]
[{"$f":"vetcost2","v":23}]
[{"$f":"vetcost3","v":8}]
[{"$f":"vetcost4","v":1}]
["functions"]
[{"$f":"milk!D15","v":0},{"$f":"milk!D16","v":0.1},{"$f":"milk!D18","v":1},{"$f":"milk!D19","v":1},{"$f":"milk!D20","v":1},{"$f":"milk!D21","v":1},{"$f":"milk!D22","v":1},{"$f":"milk!D23","v":1},{"$f":"milk!D24","v":1},{"$f":"milk!D25","v":1},{"$f":"milk!D26","v":1},{"$f":"milk!D27","v":1},{"$f":"milk!D28","v":1},{"$f":"milk!D29","v":1}]
[{"$f":"milk!D32","v":10},{"$f":"milk!D33","v":0.34},{"$f":"milk!D34","v":2.8E-3},{"$f":"milk!D35","v":19.3},{"$f":"milk!D36","v":0.255},{"$f":"milk!D37","v":3.3999999999999998E-3},{"$f":"milk!D38","v":21},{"$f":"milk!D39","v":0.25},{"$f":"milk!D40","v":3.5000000000000001E-3}]
[{"$f":"milk!D43","v":36},{"$f":"milk!D44","v":137},{"$f":"milk!D45","v":10000},{"$f":"milk!D46","v":45},{"$f":"milk!D47","v":76},{"$f":"milk!D48","v":12000},{"$f":"milk!D49","v":45},{"$f":"milk!D50","v":76},{"$f":"milk!D51","v":12000}]
[{"$f":"repro!D16","v":0.05},{"$f":"repro!D17","v":1},{"$f":"repro!D18","v":1},{"$f":"repro!D19","v":1},{"$f":"repro!D20","v":1},{"$f":"repro!D21","v":1},{"$f":"repro!D22","v":1},{"$f":"repro!D23","v":1},{"$f":"repro!D24","v":1},{"$f":"repro!D25","v":1},{"$f":"repro!D26","v":1},{"$f":"repro!D27","v":1},{"$f":"repro!D28","v":1},{"$f":"repro!D29","v":1}]
[{"$f":"repro!D34","v":0},{"$f":"repro!D35","v":1},{"$f":"repro!D36","v":0.55000000000000004},{"$f":"repro!D37","v":0.55000000000000004},{"$f":"repro!D38","v":0.55000000000000004},{"$f":"repro!D39","v":0.55000000000000004},{"$f":"repro!D40","v":0.55000000000000004},{"$f":"repro!D41","v":0.55000000000000004},{"$f":"repro!D42","v":0.55000000000000004},{"$f":"repro!D43","v":0.55000000000000004},{"$f":"repro!D44","v":0.55000000000000004},{"$f":"repro!D45","v":0.55000000000000004},{"$f":"repro!D46","v":0.55000000000000004},{"$f":"repro!D47","v":0.55000000000000004}]
[{"$f":"repro!T16","v":0.33800000000000002},{"$f":"repro!T17","v":0.37},{"$f":"repro!T18","v":0.36699999999999999},{"$f":"repro!T19","v":0.36399999999999999},{"$f":"repro!T20","v":0.35799999999999998},{"$f":"repro!T21","v":0.35},{"$f":"repro!T22","v":0.34},{"$f":"repro!T23","v":0.33},{"$f":"repro!T24","v":0.315},{"$f":"repro!T25","v":0.3},{"$f":"repro!T26","v":0.28399999999999997},{"$f":"repro!T27","v":0.26500000000000001},{"$f":"repro!T28","v":0.24299999999999999},{"$f":"repro!T29","v":0.22700000000000001}]
[{"$f":"cull!D13","v":0},{"$f":"cull!D14","v":-0.5},{"$f":"cull!D16","v":1},{"$f":"cull!D17","v":1},{"$f":"cull!D18","v":1},{"$f":"cull!D19","v":1},{"$f":"cull!D20","v":1},{"$f":"cull!D21","v":1},{"$f":"cull!D22","v":1},{"$f":"cull!D23","v":1},{"$f":"cull!D24","v":1},{"$f":"cull!D25","v":1},{"$f":"cull!D26","v":1},{"$f":"cull!D27","v":1}]
[{"$f":"cull!T10","v":2.60219595E-2},{"$f":"cull!T11","v":1.6912067999999999E-2},{"$f":"cull!T12","v":1.22043315E-2},{"$f":"cull!T13","v":1.01060865E-2},{"$f":"cull!T14","v":9.3925905000000007E-3},{"$f":"cull!T15","v":9.2849309999999997E-3},{"$f":"cull!T16","v":9.2987999999999994E-3},{"$f":"cull!T17","v":9.2987999999999994E-3},{"$f":"cull!T18","v":9.3065969999999998E-3},{"$f":"cull!T19","v":9.2270970000000001E-3},{"$f":"cull!T20","v":9.2113904999999996E-3},{"$f":"cull!T21","v":9.3422969999999994E-3},{"$f":"cull!T22","v":9.6691875000000007E-3},{"$f":"cull!T23","v":1.0193142000000001E-2},{"$f":"cull!T24","v":1.0865517E-2},{"$f":"cull!T25","v":1.1599917E-2},{"$f":"cull!T26","v":1.2297572999999999E-2},{"$f":"cull!T27","v":1.28861355E-2},{"$f":"cull!T28","v":1.33718625E-2},{"$f":"cull!T29","v":1.3905223499999999E-2},{"$f":"cull!T30","v":1.4859903000000001E-2},{"$f":"cull!T31","v":1.69252215E-2},{"$f":"cull!T32","v":1.89E-2},{"$f":"cull!T33","v":2.1167999999999999E-2}]
[{"$f":"bw!D13","v":600},{"$f":"bw!D14","v":42},{"$f":"bw!D15","v":3.9},{"$f":"bw!D16","v":20},{"$f":"bw!D17","v":65},{"$f":"bw!D18","v":1.8700000000000001E-2},{"$f":"bw!D20","v":640},{"$f":"bw!D21","v":42},{"$f":"bw!D22","v":6},{"$f":"bw!D23","v":40},{"$f":"bw!D24","v":70},{"$f":"bw!D25","v":1.8700000000000001E-2}]
["additions"]
[{"$f":"mseasonality","v":0},{"$f":"cseasonality","v":1}]
[{"$f":"milk!D56","v":11111.9143868501},{"$f":"milk!D57","v":2.2119208448299001E-3},{"$f":"milk!D58","v":84.8372778027001},{"$f":"milk!D59","v":4532.3905743120704},{"$f":"milk!D60","v":2.6179328048536602E-3},{"$f":"milk!D61","v":124.146313312345},{"$f":"milk!D62","v":7573.8781797789497},{"$f":"milk!D63","v":3.7891438428152399E-3},{"$f":"milk!D64","v":55.7223134200621},{"$f":"milk!D65","v":4609.7805615738698},{"$f":"milk!D66","v":3.1718183841241798E-3},{"$f":"milk!D67","v":92.585956781865804},{"$f":"milk!D68","v":7928.5272875363298},{"$f":"milk!D69","v":3.9198545299194898E-3},{"$f":"milk!D70","v":55.119172393741401},{"$f":"milk!D71","v":4707.01209506332},{"$f":"milk!D72","v":3.2127911962137102E-3},{"$f":"milk!D73","v":91.6869714211808}]
[{"$f":"milk!G90","v":1},{"$f":"milk!H90","v":1},{"$f":"milk!I90","v":1},{"$f":"milk!J90","v":1},{"$f":"milk!K90","v":1},{"$f":"milk!L90","v":1},{"$f":"milk!M90","v":1},{"$f":"milk!N90","v":1},{"$f":"milk!O90","v":1}]

{"sheet":"res","index":14,"n_rows":369,"n_cols":140,"rows_kept":369,"cut":false,"hidden":true,"merged":[]}
[1,2,3,4,5,6,7,8,9,10,11,12,13,14,15,16,17,18,19,20,21,22,23,24,25,26,27,28,29,30,31,32,33,34,35,36,37,38,39,40,41,42,43,44,45,46,47,48,49,50,51,52,53,54,55,56,57,58,59,60,61,62,63,64,65,66,67,68,69,70,71,72,73,74,75,76,77,78,79,80,81,82,83,84,85,86,87,88,89,90,91,92,93,94,95,96,97,98,99,100,101,102,103,104,105,106,107,108,109,110,111,112,113,114,115,116,117,118,119,120,121,122,123,124,125,126,127,128,129,130,131,132,133,134,135,136,137,138,139,140]
["final.bio",1]
["2012-06-28","01:57:06","PM"]
["t","sea","operating_cash","total_cash","sumcash","milkyield","discount","calves_born","heifers_purchased","heifers_raised","heifers_sold","heiferpool","keep","pind","repl","open","preg","milking","present","milksales","cwt","feedcost","cullprice","calfsales","cowsales","heiferpurchasecost","calvinginterval_clvlact","calvinginterval_clvsea","daystoconception_clvlact","daystoconception_clvsea","feedcost_wet_mim","repl_clv","smy_curr","smy_ave","pind_clv","dayslbm_curr","delayed","serv","serv_keep","lactation1","lactation2","mkv_enter","open_dim","preg_dim","%open","%preg","calved","fixedcost","saldo","milkyield_mcow_d","feedcost_lact","insval_mim","rpo","inv","vol","insval_sea","daysfirstservice_curr","daystoconception_curr","hz_open_repl","hz_open_pind","hz_preg_repl","hz_preg_pind","replopen_mlk[mim]","replopen_mlk[t]","daysvwp_curr","dim","totrevenue","totcost","replopen_dim[mim]","replopen_dim[t]","replopen_cur[mim]","replopen_cur[t]","replopen_rev[mim]","replopen_rev[t]","replopen_iof[mim]","replopen_iof[t]","replopen_rpo[mim]","replopen_rpo[t]","daysopencost_dim","dmi_mcow_d","dmi_mim","dayspregcost_mim","lactationcurve","milkingcows_mim","cows_lact","hz_cull_mim","pctcull_mim","breedingsupplycost","pv_curr","pv_lact","pv_mim","pv_mpreg","pv_t_open","pv_t_preg","labortime","laborcost","calvinginterval","daystoconc","pv_curr_lact","opportunitycost","cowvalue","pind_rpo_curr","pind_rpo_lact","pind_rpo_mim","pind_rpo_mpreg","daysvwp_clvlact","daysvwp_clvsea","dvwp","daysfs_clvlact","daysfs_clvsea","dfs","dayslbm_clvlact","dayslbm_clvsea","dlbm","present_dim","breedings1","dryoffyield","breedings","eligible_keep_mim","eligible_serv_mim","eligible_bred_mim","eligible_preg_mim","keep_rev0","mim","rpo","iofc","rev","milkyld","pregval","feedefficiency","feedcost","varcost","pol","bio_pmilk","bio_pheifer"]
[1,1,134.82344699999999,48.409435999999999,48.409435999999999,79.919370999999998,1,8.8594000000000006E-2,2.8091999999999999E-2,0,0,2.8091999999999999E-2,"X",1.0754E-2,1.7337000000000002E-2,0.41221799999999997,0.58778200000000003,0.87732600000000005,1,437.31879900000001,24.295489,231.94733299999999,737.29244600000004,17.718827999999998,20.711877000000001,44.946891000000001,13.998590999999999,13.432834,151.72496699999999,134.174024,6.9301579999999996,7.2473000000000001,69.740432999999996,104.23561599999999,5.7309549999999998,0,0.18470300000000001,0.202768,0.16531599999999999,0.33504499999999998,0.249775,1,8.8313000000000003E-2,0,1,0,8.8594000000000006E-2,76,-27.590564000000001,91.094297999999995,7.3231609999999998,0,804.162375,1.0754E-2,1.7337000000000002E-2,23.224710000000002,0,0,3.1749999999999999E-3,2.4237999999999999E-2,0,0,64.695383000000007,72.470380000000006,0,223.234309,475.749504,427.34006799999997,0,221.571012,1,6.0854100000000004,2.0808550000000001,3.1767059999999998,4.6630919999999998,4.4852359999999996,-57.238487999999997,-21.204042999999999,0,48.821072000000001,46.201054999999997,0,84.579108000000005,8.8313000000000003E-2,0.33504499999999998,2.7413E-2,8.6452000000000001E-2,3.8978250000000001,0,152.45612700000001,0,193.05622299999999,193.056217,513.42673100000002,200.68312499999999,33.447187,13.432834,134.17402300000001,0,124.415582,1594.053864,-77.626305000000002,797.74938299999997,1050.582958,915.75039200000003,89.973208999999997,72.359088999999997,72.359088999999997,100.41057000000001,82.375184000000004,82.375184000000004,257.29653000000002,"X",208.436294,8.8313000000000003E-2,5.4644999999999999E-2,60.992989000000001,0.19489100000000001,0,0,0,0,0,1,627.45000000000005,4.13,1.55,58.62,-99999999,1.62,5.42,9.01,1,0.18,1600]
[2,2,134.82344699999999,48.409435999999999,96.818871000000001,79.919370999999998,1,8.8594000000000006E-2,2.8091999999999999E-2,0,0,2.8091999999999999E-2,"X",1.0754E-2,1.7337000000000002E-2,0.41221799999999997,0.58778200000000003,0.87732600000000005,1,437.31879900000001,24.295489,231.94733299999999,737.29244600000004,17.718827999999998,20.711877000000001,44.946891000000001,13.454566,13.432834,135.30483100000001,134.174024,8.5756019999999999,7.2473000000000001,76.219787999999994,104.23561599999999,5.7309549999999998,0,0.18470300000000001,0.202768,0.16531599999999999,0.33504499999999998,0.249775,1,8.4292000000000006E-2,0,1,0,8.8594000000000006E-2,76,-27.590564000000001,91.094297999999995,7.3231609999999998,4.4643819999999996,804.16237100000001,1.0754E-2,1.7337000000000002E-2,23.224709000000001,0,0,2.1742000000000001E-2,1.5507E-2,0,0,60.238216000000001,72.470380000000006,0,223.234309,475.749504,427.34006799999997,30.4,221.571012,2.222912,6.0854100000000004,1.7633620000000001,3.1767059999999998,3.6877040000000001,4.4852359999999996,-61.748716000000002,-21.204042999999999,0.39535599999999999,48.821072000000001,57.170681000000002,-1.322298,103.767506,8.4292000000000006E-2,0.249775,3.7248000000000003E-2,0.11425100000000001,3.8978250000000001,0,204.904979,0,208.54521,193.05621400000001,513.42672600000003,200.68312499999999,33.447187,13.432834,134.174024,0,124.415583,1594.0538590000001,42.308579999999999,964.43441700000005,1075.8825549999999,916.77577099999996,70.747755999999995,72.359088999999997,72.359088999999997,80.743374000000003,82.375184000000004,82.375184000000004,231.11906300000001,"X",208.436294,8.4292000000000006E-2,5.4644999999999999E-2,60.992989000000001,0.19489100000000001,3.8362E-2,7.4506000000000003E-2,4.0978000000000001E-2,1.4004000000000001E-2,0,2,715.61,6,4.08,78.22,-99999999,1.66,7.08,10,1,0.18,1600]
[3,3,134.82344699999999,48.409435999999999,145.228307,79.919370999999998,1,8.8594000000000006E-2,2.8091999999999999E-2,0,0,2.8091999999999999E-2,"X",1.0754E-2,1.7337000000000002E-2,0.41221799999999997,0.58778200000000003,0.87732600000000005,1,437.31879900000001,24.295489,231.94733299999999,737.29244600000004,17.718827999999998,20.711877000000001,44.946891000000001,13.01309,13.432834,122.01970900000001,134.174024,9.0891559999999991,7.2473000000000001,80.183564000000004,104.23561599999999,5.7309549999999998,0,0.18470300000000001,0.202768,0.16531599999999999,0.33504499999999998,0.249775,1,6.8689E-2,1.4001E-2,0.830681,0.169319,8.8594000000000006E-2,76,-27.590564000000001,91.094297999999995,7.3231609999999998,18.500257000000001,804.16236700000002,1.0754E-2,1.7337000000000002E-2,23.224709000000001,0,0,3.8210000000000002E-3,1.0985999999999999E-2,2.13E-4,1.3247999999999999E-2,69.102087999999995,72.470380000000006,0,223.234309,475.749504,427.34006799999997,60.8,221.571012,2.8040370000000001,6.0854100000000004,3.0733380000000001,3.1767059999999998,4.5042590000000002,4.4852359999999996,-20.698561999999999,-21.204042999999999,0.86197299999999999,48.821072000000001,60.594372,3.9854000000000001E-2,107.85527,8.269E-2,0.172955,1.4579E-2,4.3053000000000001E-2,3.8978250000000001,0,239.81710200000001,90.519023000000004,261.28238099999999,193.05621199999999,513.42672200000004,200.68312499999999,33.447187,13.432834,134.174024,2.8912399999999998,124.415583,1594.0538550000001,110.831801,938.33749499999999,976.486671,802.41169600000001,60.961455000000001,72.359088999999997,72.359088999999997,70.632529000000005,82.375184000000004,82.375184000000004,202.44732099999999,"X",208.436294,8.269E-2,5.4644999999999999E-2,60.992989000000001,0.19489100000000001,8.5839999999999996E-3,8.3315E-2,4.5823000000000003E-2,1.7606E-2,0,3,715.23,6.63,5.2,85.46,32.08,1.65,7.76,10.19,2,0.18,1600]
[4,4,134.82344699999999,48.409435000000002,193.637742,79.919370999999998,1,8.8594000000000006E-2,2.8091999999999999E-2,0,0,2.8091999999999999E-2,"X",1.0754E-2,1.7337000000000002E-2,0.41221799999999997,0.58778200000000003,0.87732600000000005,1,437.31879900000001,24.295489,231.94733299999999,737.29244600000004,17.718827999999998,20.711877000000001,44.946891000000001,12.882642000000001,13.432834,118.07693500000001,134.174024,9.2005850000000002,7.2473000000000001,84.147120000000001,104.23561599999999,5.7309549999999998,96.413093000000003,0.18470300000000001,0.202768,0.16531599999999999,0.33504499999999998,0.249775,1,5.0230999999999998E-2,3.1372999999999998E-2,0.61554299999999995,0.38445699999999999,8.8594000000000006E-2,76,-27.590565000000002,91.094297999999995,7.3231609999999998,24.997888,804.16236300000003,1.0754E-2,1.7337000000000002E-2,23.224708,77.843554999999995,86.243274999999997,1.8710000000000001E-3,9.1750000000000009E-3,1.526E-3,9.7730000000000004E-3,71.136852000000005,72.470380000000006,72.720128000000003,223.234309,475.749504,427.34006799999997,91.2,221.571012,2.7187229999999998,6.0854100000000004,3.392236,3.1767059999999998,4.5928940000000003,4.4852359999999996,-12.003657,-21.204044,1.1413329999999999,48.821072000000001,61.337232999999998,0.43742900000000001,106.958033,8.1603999999999996E-2,0.11154799999999999,1.1143E-2,3.2426999999999997E-2,3.8978250000000001,65.146569999999997,225.13780199999999,151.50418300000001,331.091409,193.05620999999999,513.42671800000005,200.68312499999999,33.447187,13.432834,134.174024,5.6617819999999996,124.415583,1594.053852,171.70225199999999,847.60104200000001,825.12093500000003,723.94558900000004,60.818083999999999,72.359088999999997,72.359088999999997,70.205220999999995,82.375184000000004,82.375184000000004,176.34111899999999,"X",208.436294,8.1603999999999996E-2,5.4644999999999999E-2,60.992989000000001,0.19489100000000001,6.13E-3,6.1237E-2,3.3680000000000002E-2,1.2903E-2,0,4,653.75,6.79,5.59,88,118.67,1.64,8.0500000000000007,10.25,2,0.18,1600]
[5,5,134.82344699999999,48.409435000000002,242.047178,79.919370999999998,1,8.8594000000000006E-2,2.8091999999999999E-2,0,0,2.8091999999999999E-2,"X",1.0754E-2,1.7337000000000002E-2,0.41221799999999997,0.58778200000000003,0.87732600000000005,1,437.31879900000001,24.295489,231.94733299999999,737.29244600000004,17.718827999999998,20.711877000000001,44.946891000000001,12.862762,13.432834,117.56139,134.174024,9.1347780000000007,7.2473000000000001,88.110496999999995,104.23561599999999,5.7309549999999998,128.30001100000001,0.18470300000000001,0.202768,0.16531599999999999,0.33504499999999998,0.249775,1,3.6735999999999998E-2,4.3441E-2,0.45818700000000001,0.54181299999999999,8.8594000000000006E-2,76,-27.590565000000002,91.094297999999995,7.3231609999999998,31.300775000000002,804.16236000000004,1.0754E-2,1.7337000000000002E-2,23.224708,71.970515000000006,95.004344000000003,1.6286999999999999E-2,8.6060000000000008E-3,1.1540000000000001E-3,8.7480000000000006E-3,74.075605999999993,72.470380000000006,63.306524000000003,223.234309,475.749504,427.34006799999997,121.6,221.571012,3.2810800000000002,6.0854100000000004,3.6567940000000001,3.1767059999999998,4.8574520000000003,4.4852359999999996,-3.0724800000000001,-21.204044,1.441122,48.821072000000001,60.898522,0.87549299999999997,103.874145,8.0176999999999998E-2,6.5712999999999994E-2,1.6827999999999999E-2,4.8423000000000001E-2,3.8978250000000001,111.232766,210.70065099999999,191.78072499999999,403.56836399999997,193.056209,513.42671399999995,200.68312499999999,33.447187,13.432834,134.174024,0,124.415584,1594.0538489999999,280.36017299999997,783.69328599999994,652.05405199999996,670.39000399999998,61.086219,72.359088999999997,72.359088999999997,70.328267999999994,82.375184000000004,82.375184000000004,180.06404699999999,"X",208.436294,8.0176999999999998E-2,5.4644999999999999E-2,60.992989000000001,0.19489100000000001,5.7720000000000002E-3,4.3555999999999997E-2,2.3956000000000002E-2,9.1210000000000006E-3,0,5,564.52,6.71,5.5,88.03,164.9,1.62,8.14,10.34,2,0.18,1600]
[6,6,134.82344699999999,48.409435000000002,290.456613,79.919370999999998,1,8.8594000000000006E-2,2.8091999999999999E-2,0,0,2.8091999999999999E-2,"X",1.0754E-2,1.7337000000000002E-2,0.41221799999999997,0.58778200000000003,0.87732600000000005,1,437.31879900000001,24.295489,231.94733299999999,737.29244600000004,17.718827999999998,20.711877000000001,44.946891000000001,12.760626,13.432834,114.344836,134.174024,8.9642379999999999,7.2473000000000001,92.073740000000001,104.23561599999999,5.7309549999999998,168.29896600000001,0.18470300000000001,0.202768,0.16531599999999999,0.33504499999999998,0.249775,1,2.7924999999999998E-2,5.1201999999999998E-2,0.35291600000000001,0.64708399999999999,8.8594000000000006E-2,76,-27.590565000000002,91.094297999999995,7.3231609999999998,35.076318000000001,804.16235700000004,1.0754E-2,1.7337000000000002E-2,23.224708,73.061379000000002,108.206794,1.0567999999999999E-2,8.7810000000000006E-3,9.6699999999999998E-4,8.4899999999999993E-3,75.250928000000002,72.470380000000006,63.351809000000003,223.234309,475.749504,427.34006799999997,152,221.571012,2.2640280000000002,6.0854100000000004,3.5897480000000002,3.1767059999999998,4.7904049999999998,4.4852359999999996,-8.3935809999999993,-21.204045000000001,1.640495,48.821072000000001,59.761583999999999,1.643486,99.395486000000005,7.9128000000000004E-2,3.5475E-2,1.2970000000000001E-2,3.6693999999999997E-2,3.8978250000000001,144.42082199999999,196.450828,241.09872899999999,475.47211199999998,193.056207,513.42670999999996,200.68312499999999,33.447187,13.432834,134.174024,0,124.41558499999999,1594.053846,396.74113999999997,737.48482300000001,476.53505000000001,639.89676599999996,60.901564,72.359088999999997,72.359088999999997,70.001317,82.375184000000004,82.375184000000004,164.690517,"X",208.436294,7.9128000000000004E-2,5.4644999999999999E-2,60.992989000000001,0.19489100000000001,7.4510000000000002E-3,3.0088E-2,1.6548E-2,6.221E-3,0,6,464.1,6.46,5.26,86.56,211.92,1.6,8.1199999999999992,10.32,2,0.18,1600]
[7,7,134.82344699999999,48.409435000000002,338.86604899999998,79.919370999999998,1,8.8594000000000006E-2,2.8091999999999999E-2,0,0,2.8091999999999999E-2,"X",1.0754E-2,1.7337000000000002E-2,0.41221799999999997,0.58778200000000003,0.87732600000000005,1,437.31879900000001,24.295489,231.94733299999999,737.29244600000004,17.718827999999998,20.711877000000001,44.946891000000001,12.713886,13.432834,112.94952000000001,134.174024,8.7245659999999994,7.2473000000000001,96.036893000000006,104.23561599999999,5.7309549999999998,209.06401099999999,0.18470300000000001,0.202768,0.16531599999999999,0.33504499999999998,0.249775,1,2.0785999999999999E-2,5.5721E-2,0.27168999999999999,0.72831000000000001,8.8594000000000006E-2,76,-27.590565000000002,91.094297999999995,7.3231609999999998,35.542150999999997,804.16235500000005,1.0754E-2,1.7337000000000002E-2,23.224708,80.248171999999997,124.665306,7.6198000000000002E-2,8.5500000000000003E-3,3.9899999999999996E-3,8.378E-3,75.441957000000002,72.470380000000006,69.819695999999993,223.234309,475.749504,427.34006799999997,182.4,221.571012,3.6590989999999999,6.0854100000000004,3.5947930000000001,3.1767059999999998,4.7954509999999999,4.4852359999999996,-9.2764100000000003,-21.204045000000001,1.690736,48.821072000000001,58.163770999999997,2.0079210000000001,93.883878999999993,7.6507000000000006E-2,1.7328E-2,3.3128999999999999E-2,9.2511999999999997E-2,3.8978250000000001,165.22347500000001,184.07743600000001,288.10626999999999,560.01435000000004,193.056206,513.42670799999996,200.68312499999999,33.447187,13.432834,134.174024,7.8502099999999997,124.41558499999999,1594.053844,529.65625,696.81938600000001,339.01819799999998,646.13118899999995,61.250506000000001,72.359088999999997,72.359088999999997,70.035792000000001,82.375184000000004,82.375184000000004,164.20187100000001,"X",208.436295,7.6507000000000006E-2,5.4644999999999999E-2,60.992989000000001,0.19489100000000001,6.3140000000000002E-3,2.1663999999999999E-2,1.1915E-2,4.385E-3,0,7,357.81,6.11,4.9000000000000004,84.14,261.66000000000003,1.57,8.0399999999999991,10.24,2,0.18,1600]
[8,8,134.82344699999999,48.409435000000002,387.27548400000001,79.919370999999998,1,8.8594000000000006E-2,2.8091999999999999E-2,0,0,2.8091999999999999E-2,"X",1.0754E-2,1.7337000000000002E-2,0.41221799999999997,0.58778200000000003,0.87732600000000005,1,437.31879900000001,24.295489,231.94733299999999,737.29244600000004,17.718827999999998,20.711877000000001,44.946891000000001,12.636621999999999,13.432834,110.62204699999999,134.174024,8.4139820000000007,7.2473000000000001,100,104.23561599999999,5.7309549999999998,244.336803,0.18470300000000001,0.202768,0.16531599999999999,0.33504499999999998,0.249775,1,1.4697999999999999E-2,5.8577999999999998E-2,0.20058699999999999,0.79941300000000004,8.8594000000000006E-2,76,-27.590565000000002,91.094297999999995,7.3231609999999998,37.741244999999999,804.16235400000005,1.0754E-2,1.7337000000000002E-2,23.224708,80.825497999999996,130.22208699999999,0.14166999999999999,7.8689999999999993E-3,2.4399999999999999E-3,8.3210000000000003E-3,76.650998999999999,72.470380000000006,70.582860999999994,223.234309,475.749504,427.34006799999997,212.8,221.571012,4.643116,6.0854100000000004,3.6604830000000002,3.1767059999999998,4.8611409999999999,4.4852359999999996,-9.488137,-21.204046000000002,1.7976890000000001,48.821072000000001,56.093215999999998,2.5369839999999999,87.151646999999997,7.3275999999999994E-2,7.4190000000000002E-3,4.2095E-2,0.113652,3.8978250000000001,180.87559099999999,184.30883,320.48287699999997,661.25616000000002,193.05620500000001,513.42670499999997,200.68312499999999,33.447187,13.432834,134.174024,0,124.415586,1594.0538429999999,662.62169400000005,684.43445399999996,255.610885,693.13138600000002,60.942734000000002,72.359088999999997,72.359088999999997,69.543476999999996,82.375184000000004,82.375184000000004,149.59930199999999,"X",208.436295,7.3275999999999994E-2,5.4644999999999999E-2,60.992989000000001,0.19489100000000001,4.7699999999999999E-3,1.5044999999999999E-2,8.2749999999999994E-3,2.9840000000000001E-3,0,8,251.56,5.69,4.49,81.13,307.52,1.54,7.92,10.119999999999999,2,0.18,1600]
[9,9,134.82344699999999,48.409435000000002,435.68491899999998,79.919370999999998,1,8.8594000000000006E-2,2.8091999999999999E-2,0,0,2.8091999999999999E-2,"X",1.0754E-2,1.7337000000000002E-2,0.41221799999999997,0.58778200000000003,0.87732600000000005,1,437.31879900000001,24.295489,231.94733299999999,737.29244600000004,17.718827999999998,20.711877000000001,44.946891000000001,12.668785,13.432834,111.60778999999999,134.174024,8.0660550000000004,7.2473000000000001,103.96310699999999,104.23561599999999,5.7309549999999998,276.25416999999999,0.18470300000000001,0.202768,0.16531599999999999,0.33504499999999998,0.249775,1,8.8870000000000008E-3,6.0301E-2,0.128443,0.87155700000000003,8.8594000000000006E-2,76,-27.590565000000002,91.094297999999995,7.3231609999999998,46.681527000000003,804.16235300000005,1.0754E-2,1.7337000000000002E-2,23.224708,80.510975000000002,134.787205,0.27722200000000002,6.3800000000000003E-3,9.5299999999999996E-4,8.2799999999999992E-3,76.460626000000005,72.470380000000006,70.101898000000006,223.234309,475.749504,427.34006799999997,243.2,221.571012,6.4069229999999999,6.0854100000000004,3.6369980000000002,3.1767059999999998,4.837656,4.4852359999999996,-11.290979999999999,-21.204046999999999,2.1689069999999999,48.821072000000001,53.773702,2.998802,79.654016999999996,6.9186999999999999E-2,2.9480000000000001E-3,5.5663999999999998E-2,0.14396300000000001,3.8978250000000001,193.61048299999999,187.022548,363.02382599999999,779.69504800000004,193.05620400000001,513.42670399999997,200.68312499999999,33.447187,13.432834,134.174024,0,124.415587,1594.053842,807.671741,688.59436600000004,222.28949600000001,778.80132900000001,60.935324000000001,72.359088999999997,72.359088999999997,69.517887999999999,82.375184000000004,82.375184000000004,152.10378299999999,"X",208.436295,6.9186999999999999E-2,5.4644999999999999E-2,60.992989000000001,0.19489100000000001,2.166E-3,9.8329999999999997E-3,5.4079999999999996E-3,1.9070000000000001E-3,0,9,155.81,5.23,4.03,77.75,325.07,1.5,7.76,9.9700000000000006,2,0.18,1600]
[10,10,134.82344699999999,48.409435999999999,484.09435500000001,79.919370999999998,1,8.8594000000000006E-2,2.8091999999999999E-2,0,0,2.8091999999999999E-2,"X",1.0754E-2,1.7337000000000002E-2,0.41221799999999997,0.58778200000000003,0.87732600000000005,1,437.31879900000001,24.295489,231.94733299999999,737.29244600000004,17.718827999999998,20.711877000000001,44.946891000000001,12.694527000000001,13.432834,112.39551899999999,134.174024,7.7766270000000004,7.2473000000000001,107.92626,104.23561599999999,5.7309549999999998,306.31625300000002,0.18470300000000001,0.202768,0.16531599999999999,0.33504499999999998,0.249775,1,5.3350000000000003E-3,6.1150999999999997E-2,8.0249000000000001E-2,0.91975099999999999,8.8594000000000006E-2,76,-27.590564000000001,91.094297999999995,7.3231609999999998,57.011418999999997,804.16235300000005,1.0754E-2,1.7337000000000002E-2,23.224708,80.848315999999997,138.70581300000001,0.28246300000000002,5.5640000000000004E-3,3.6000000000000002E-4,8.1659999999999996E-3,76.830427999999998,72.470380000000006,70.565691000000001,223.234309,475.749504,427.34006799999997,273.60000000000002,221.571012,8.2587329999999994,6.0854100000000004,3.6438380000000001,3.1767059999999998,4.8444960000000004,4.4852359999999996,-11.003358,-21.204048,2.59111,48.821072000000001,51.844183000000001,4.0730380000000004,60.752868999999997,6.6487000000000004E-2,1.1670000000000001E-3,3.8817999999999998E-2,9.4806000000000001E-2,3.8978250000000001,202.05775199999999,189.44810799999999,399.07670300000001,1058.080463,193.05620400000001,513.42670299999997,200.68312499999999,33.447187,13.432834,134.174024,199.58165299999999,124.415588,1594.053842,953.22740099999999,687.690833,203.42889500000001,1040.7607829999999,60.932834,72.359088999999997,72.359088999999997,69.478879000000006,82.375184000000004,82.375184000000004,153.70395099999999,"X",208.436295,6.6487000000000004E-2,5.4644999999999999E-2,60.992989000000001,0.19489100000000001,6.4300000000000002E-4,6.5799999999999999E-3,3.6189999999999998E-3,1.238E-3,0,10,75.510000000000005,4.75,3.55,74.16,329.37,1.46,7.6,9.8000000000000007,2,0.18,1600]
[11,11,134.82344699999999,48.409435999999999,532.50379099999998,79.919370999999998,1,8.8594000000000006E-2,2.8091999999999999E-2,0,0,2.8091999999999999E-2,"X",1.0754E-2,1.7337000000000002E-2,0.41221799999999997,0.58778200000000003,0.87732600000000005,1,437.31879900000001,24.295489,231.94733299999999,737.29244600000004,17.718827999999998,20.711877000000001,44.946891000000001,12.718133999999999,13.432834,113.117414,134.174024,7.5597200000000004,7.2473000000000001,111.889503,104.23561599999999,5.7309549999999998,338.87272200000001,0.18470300000000001,0.202768,0.16531599999999999,0.33504499999999998,0.249775,1,3.032E-3,6.1496000000000002E-2,4.6990999999999998E-2,0.953009,8.8594000000000006E-2,76,-27.590564000000001,91.094297999999995,7.3231609999999998,65.751768999999996,804.16235500000005,1.0754E-2,1.7337000000000002E-2,23.224708,87.583701000000005,148.52625499999999,0.318189,4.6709999999999998E-3,4.1E-5,8.1099999999999992E-3,73.358517000000006,72.470380000000006,77.314456000000007,223.234309,475.749504,427.34006799999997,304,221.571012,9.1671080000000007,6.0854100000000004,3.2353420000000002,3.1767059999999998,4.4359999999999999,4.4852359999999996,-21.165890999999998,-21.204049000000001,2.9621620000000002,48.821072000000001,50.398133999999999,4.3705369999999997,40.661918999999997,6.4528000000000002E-2,4.57E-4,2.9374999999999998E-2,6.8958000000000005E-2,3.8978250000000001,208.13915,192.06151800000001,461.05515600000001,513.42673600000001,193.05620500000001,513.42670299999997,200.68312499999999,33.447187,13.432834,134.174024,409.25341100000003,124.415589,1594.0538429999999,1108.322858,685.55708300000003,190.78749099999999,"X",60.931562999999997,72.359088999999997,72.359088999999997,69.435823999999997,82.375184000000004,82.375184000000004,155.03341800000001,"X",208.436295,6.4528000000000002E-2,5.4644999999999999E-2,60.992989000000001,0.19489100000000001,8.5000000000000006E-5,4.0309999999999999E-3,2.2169999999999998E-3,7.3099999999999999E-4,0,11,18.73,4.26,3.06,70.459999999999994,313.05,1.42,7.42,9.6199999999999992,2,0.18,1600]
[12,12,134.82344699999999,48.409435999999999,580.91322600000001,79.919370999999998,1,8.8594000000000006E-2,2.8091999999999999E-2,0,0,2.8091999999999999E-2,"X",1.0754E-2,1.7337000000000002E-2,0.41221799999999997,0.58778200000000003,0.87732600000000005,1,437.31879900000001,24.295489,231.94733299999999,737.29244600000004,17.718827999999998,20.711877000000001,44.946891000000001,0,13.432834,113.819202,134.174024,7.3462209999999999,7.2473000000000001,115.85288,104.23561599999999,5.7309549999999998,360.53882700000003,0.18470300000000001,0.202768,0.16531599999999999,0.33504499999999998,0.249775,1,1.627E-3,4.9924999999999997E-2,3.1556000000000001E-2,0.96844399999999997,8.8594000000000006E-2,76,-27.590564000000001,91.094297999999995,7.3231609999999998,76.021761999999995,804.16235700000004,1.0754E-2,1.7337000000000002E-2,23.224708,92.538184999999999,155.41662500000001,0.36294100000000001,3.9280000000000001E-3,3.6999999999999998E-5,7.7790000000000003E-3,70.035590999999997,72.470380000000006,82.132615000000001,223.234309,475.749504,427.34006799999997,334.4,221.571012,9.9436920000000004,6.0854100000000004,2.8205360000000002,3.1767059999999998,4.0211940000000004,4.4852359999999996,-24.644539999999999,-21.204049999999999,3.4228109999999998,48.821072000000001,48.974808000000003,4.6865949999999996,32.166679000000002,5.1551E-2,1.6899999999999999E-4,2.5285999999999999E-2,4.7238000000000002E-2,3.8978250000000001,231.96455900000001,195.57081600000001,524.15841,"X",193.05620500000001,513.42670399999997,200.68312499999999,33.447187,13.432834,134.174024,685.30655400000001,124.41558999999999,1594.053846,1271.809336,679.86957299999995,183.97448399999999,"X",60.930717999999999,72.359088999999997,72.359088999999997,69.391354000000007,82.375184000000004,82.375184000000004,156.26737700000001,"X",208.436295,5.1551E-2,5.4644999999999999E-2,60.992989000000001,0.19489100000000001,0,2.2139999999999998E-3,1.2179999999999999E-3,3.8699999999999997E-4,0,12,-21.81,3.77,2.57,66.75,239.07,1.38,7.24,9.44,0,0.18,1600]
[13,1,134.82344699999999,48.409435999999999,629.32266200000004,79.919370999999998,1,8.8594000000000006E-2,2.8091999999999999E-2,0,0,2.8091999999999999E-2,"X",1.0754E-2,1.7337000000000002E-2,0.41221799999999997,0.58778200000000003,0.87732600000000005,1,437.31879900000001,24.295489,231.94733299999999,737.29244600000004,17.718827999999998,20.711877000000001,44.946891000000001,"X","X","X","X",7.1367019999999997,"X",119.816436,104.23561599999999,"X",386.01124299999998,0.18470300000000001,0.202768,0.16531599999999999,0.33504499999999998,0.249775,1,8.9099999999999997E-4,3.4914000000000001E-2,2.4879999999999999E-2,0.97511999999999999,8.8594000000000006E-2,76,-27.590564000000001,91.094297999999995,7.3231609999999998,82.100983999999997,804.16236000000004,1.0754E-2,1.7337000000000002E-2,23.224708,93.916653999999994,155.93596700000001,0.36956899999999998,3.8319999999999999E-3,3.8999999999999999E-5,7.8980000000000005E-3,66.049887999999996,72.470380000000006,83.969312000000002,223.234309,475.749504,427.34006799999997,364.8,221.571012,10.245407999999999,6.0854100000000004,2.3320949999999998,3.1767059999999998,3.532753,4.4852359999999996,-28.235593000000001,-21.204049999999999,3.7076389999999999,48.821072000000001,47.578015000000001,4.9502300000000004,28.773123999999999,3.5804999999999997E-2,"X",2.2151000000000001E-2,2.8646000000000001E-2,3.8978250000000001,229.596915,"X",588.237078,"X",193.056207,513.42670499999997,200.68312499999999,33.447187,13.432834,134.174024,197.430499,124.41559100000001,1594.0538489999999,1453.999791,"X",153.03878900000001,"X","X","X",72.359088999999997,"X","X",82.375184000000004,"X","X",208.436295,3.5804999999999997E-2,5.4644999999999999E-2,60.992989000000001,0.19489100000000001,0,1.2160000000000001E-3,6.69E-4,2.02E-4,0,13,-59.32,3.29,2.09,63.06,149.43,1.34,7.06,9.26,0,0.18,1600]
[14,2,134.82344699999999,48.409435999999999,677.73209699999995,79.919370999999998,1,8.8594000000000006E-2,2.8091999999999999E-2,0,0,2.8091999999999999E-2,"X",1.0754E-2,1.7337000000000002E-2,0.41221799999999997,0.58778200000000003,0.87732600000000005,1,437.31879900000001,24.295489,231.94733299999999,737.29244600000004,17.718827999999998,20.711877000000001,44.946891000000001,"X","X","X","X",6.9349420000000004,"X",123.78021200000001,104.23561599999999,"X",409.01548600000001,0.18470300000000001,0.202768,0.16531599999999999,0.33504499999999998,0.249775,1,4.6200000000000001E-4,2.3781E-2,1.9075999999999999E-2,0.98092400000000002,8.8594000000000006E-2,76,-27.590564000000001,91.094297999999995,7.3231609999999998,87.901430000000005,804.16236500000002,1.0754E-2,1.7337000000000002E-2,23.224709000000001,93.057462000000001,152.94006300000001,0.42368299999999998,3.4420000000000002E-3,3.8000000000000002E-5,8.1919999999999996E-3,63.378616999999998,72.470380000000006,83.489690999999993,223.234309,475.749504,427.34006799999997,395.2,221.571012,10.99319,6.0854100000000004,1.9931369999999999,3.1767059999999998,3.1937950000000002,4.4852359999999996,-29.065066999999999,-21.204051,3.9837790000000002,48.821072000000001,46.232950000000002,5.1987310000000004,25.963194999999999,2.4243000000000001E-2,"X",2.1904E-2,1.9168999999999999E-2,3.8978250000000001,232.526309,"X",663.10451399999999,"X",193.056209,513.42670899999996,200.68312499999999,33.447187,13.432834,134.174024,386.84391900000003,124.415593,1594.053854,1706.451182,"X",123.875416,"X","X","X",72.359088999999997,"X","X",82.375184000000004,"X","X",208.436295,2.4243000000000001E-2,5.4644999999999999E-2,60.992989000000001,0.19489100000000001,0,6.3400000000000001E-4,3.48E-4,9.7999999999999997E-5,0,14,-74.069999999999993,2.81,1.61,59.45,62.47,1.29,6.89,9.09,0,0.18,1600]
[15,3,134.82344699999999,48.409435999999999,726.14153299999998,79.919370999999998,1,8.8594000000000006E-2,2.8091999999999999E-2,0,0,2.8091999999999999E-2,"X",1.0754E-2,1.7337000000000002E-2,0.41221799999999997,0.58778200000000003,0.87732600000000005,1,437.31879900000001,24.295489,231.94733299999999,737.29244600000004,17.718827999999998,20.711877000000001,44.946891000000001,"X","X","X","X",6.7528610000000002,"X",130.259567,104.23561599999999,"X",430.743762,0.18470300000000001,0.202768,0.16531599999999999,0.33504499999999998,0.249775,1,3.1300000000000002E-4,1.5893999999999998E-2,1.9296000000000001E-2,0.98070400000000002,8.8594000000000006E-2,76,-27.590564000000001,91.094297999999995,7.3231609999999998,85.318415999999999,804.16237100000001,1.0754E-2,1.7337000000000002E-2,23.224709000000001,108.170391,178.21647100000001,0.28021400000000002,4.2040000000000003E-3,3.6000000000000001E-5,8.5609999999999992E-3,59.203831000000001,72.470380000000006,97.299584999999993,223.234309,475.749504,427.34006799999997,425.6,221.571012,12.115755,6.0854100000000004,1.382269,3.1767059999999998,2.5829270000000002,4.4852359999999996,-57.507497999999998,-21.204052999999998,3.8752819999999999,48.821072000000001,45.019069999999999,0,23.278354,1.6206999999999999E-2,"X",1.5935999999999999E-2,9.2630000000000004E-3,3.8978250000000001,292.851336,"X",685.85580900000002,"X",193.05621099999999,513.42671299999995,200.68312499999999,33.447187,13.432834,134.174024,621.30641700000001,124.415594,1594.05386,1873.4418350000001,"X",63.077309,"X","X","X",72.359088999999997,"X","X",82.375184000000004,"X","X",208.436295,1.6206999999999999E-2,5.4644999999999999E-2,60.992989000000001,0.19489100000000001,0,4.2900000000000002E-4,2.3599999999999999E-4,6.3999999999999997E-5,0,15,-88.34,2.36,1.1599999999999999,55.94,0,1.25,6.71,8.91,0,0.18,1600]
[16,4,134.82344699999999,48.409435999999999,774.55096800000001,79.919370999999998,1,8.8594000000000006E-2,2.8091999999999999E-2,0,0,2.8091999999999999E-2,"X",1.0754E-2,1.7337000000000002E-2,0.41221799999999997,0.58778200000000003,0.87732600000000005,1,437.31879900000001,24.295489,231.94733299999999,737.29244600000004,17.718827999999998,20.711877000000001,44.946891000000001,"X","X","X","X",6.5671119999999998,"X","X",104.23561599999999,"X","X",0.18470300000000001,0.202768,0.16531599999999999,0.33504499999999998,0.249775,1,0,1.0489E-2,0,1,8.8594000000000006E-2,76,-27.590564000000001,91.094297999999995,7.3231609999999998,0,804.16237799999999,1.0754E-2,1.7337000000000002E-2,23.224710000000002,"X","X",1,0,3.1999999999999999E-5,8.9339999999999992E-3,60.281689,72.470380000000006,"X",223.234309,475.749504,427.34006799999997,456,221.571012,12.637365000000001,6.0854100000000004,1.648163,3.1767059999999998,2.848821,4.4852359999999996,-74.056939,-21.204053999999999,0,48.821072000000001,43.780746999999998,0,19.614045999999998,1.0489E-2,"X",3.5621E-2,1.3669000000000001E-2,3.8978250000000001,"X","X",0,"X",193.05621400000001,513.42671800000005,200.68312499999999,33.447187,13.432834,134.174024,216.88807499999999,124.41559599999999,1594.0538670000001,"X","X",0,"X","X","X",72.359088999999997,"X","X",82.375184000000004,"X","X",208.436295,1.0489E-2,5.4644999999999999E-2,60.992989000000001,0.19489100000000001,0,0,0,0,0,16,-102.05,1.92,0.71,52.56,0,1.2,6.54,8.75,0,0.18,1600]
[17,5,134.82344699999999,48.409435999999999,822.96040400000004,79.919370999999998,1,8.8594000000000006E-2,2.8091999999999999E-2,0,0,2.8091999999999999E-2,"X",1.0754E-2,1.7337000000000002E-2,0.41221799999999997,0.58778200000000003,0.87732600000000005,1,437.31879900000001,24.295489,231.94733299999999,737.29244600000004,17.718827999999998,20.711877000000001,44.946891000000001,"X","X","X","X",6.4076880000000003,"X","X",104.23561599999999,"X","X",0.18470300000000001,0.202768,0.16531599999999999,0.33504499999999998,0.249775,1,0,6.6499999999999997E-3,0,1,8.8594000000000006E-2,76,-27.590564000000001,91.094297999999995,7.3231609999999998,0,804.16238699999997,1.0754E-2,1.7337000000000002E-2,23.224710999999999,"X","X",1,0,2.6999999999999999E-5,9.1380000000000003E-3,52.485337000000001,72.470380000000006,"X",223.234309,475.749504,427.34006799999997,486.4,221.571012,11.559428,6.0854100000000004,0.60047899999999998,3.1767059999999998,1.801137,4.4852359999999996,-106.561834,-21.204055,0,48.821072000000001,42.717920999999997,0,17.033073999999999,6.6499999999999997E-3,"X",1.2765E-2,3.0330000000000001E-3,3.8978250000000001,"X","X",0,"X",193.056218,513.42672500000003,200.68312499999999,33.447187,13.432834,134.174024,367.97029700000002,124.41559700000001,1594.0538759999999,"X","X",0,"X","X","X",72.359088999999997,"X","X",82.375184000000004,"X","X",208.436295,6.6499999999999997E-3,5.4644999999999999E-2,60.992989000000001,0.19489100000000001,0,0,0,0,0,17,-115.17,1.49,0.28999999999999998,49.3,-99999999,1.1599999999999999,6.38,8.58,0,0.18,1600]
[18,6,134.82344699999999,48.409435999999999,871.36983899999996,79.919370999999998,1,8.8594000000000006E-2,2.8091999999999999E-2,0,0,2.8091999999999999E-2,"X",1.0754E-2,1.7337000000000002E-2,0.41221799999999997,0.58778200000000003,0.87732600000000005,1,437.31879900000001,24.295489,231.94733299999999,737.29244600000004,17.718827999999998,20.711877000000001,44.946891000000001,"X","X","X","X",6.2727830000000004,"X","X",104.23561599999999,"X","X",0.18470300000000001,0.202768,0.16531599999999999,0.33504499999999998,0.249775,1,0,4.0390000000000001E-3,0,1,8.8594000000000006E-2,76,-27.590564000000001,91.094297999999995,7.3231609999999998,0,804.16239800000005,1.0754E-2,1.7337000000000002E-2,23.224712,"X","X",1,0,2.1999999999999999E-5,9.2029999999999994E-3,49.889481000000004,72.470380000000006,"X",223.234309,475.749504,427.34006799999997,516.79999999999995,221.571012,11.947997000000001,6.0854100000000004,0.27558700000000003,3.1767059999999998,1.476245,4.4852359999999996,-116.52341,-21.204056000000001,0,48.821072000000001,41.818553999999999,0,14.389624,4.0390000000000001E-3,"X",1.2572E-2,1.8140000000000001E-3,3.8978250000000001,"X","X",0,"X",193.05622199999999,513.42673400000001,200.68312499999999,33.447187,13.432834,134.174024,516.32801099999995,124.415599,1594.053887,"X","X",0,"X","X","X",72.359088999999997,"X","X",82.375184000000004,"X","X",208.436295,4.0390000000000001E-3,5.4644999999999999E-2,60.992989000000001,0.19489100000000001,0,0,0,0,0,18,-127.67,1.0900000000000001,-0.11,46.2,-99999999,1.1100000000000001,6.23,8.43,0,0.18,1600]
[19,7,134.82344699999999,48.409435999999999,919.77927499999998,79.919370999999998,1,8.8594000000000006E-2,2.8091999999999999E-2,0,0,2.8091999999999999E-2,"X",1.0754E-2,1.7337000000000002E-2,0.41221799999999997,0.58778200000000003,0.87732600000000005,1,437.31879900000001,24.295489,231.94733299999999,737.29244600000004,17.718827999999998,20.711877000000001,44.946891000000001,"X","X","X","X",6.1523009999999996,"X","X",104.23561599999999,"X","X",0.18470300000000001,0.202768,0.16531599999999999,0.33504499999999998,0.249775,1,0,2.3709999999999998E-3,0,1,8.8594000000000006E-2,76,-27.590564000000001,91.094297999999995,7.3231609999999998,0,804.16241000000002,1.0754E-2,1.7337000000000002E-2,23.224713999999999,"X","X",1,0,1.5999999999999999E-5,9.0930000000000004E-3,46.881726,72.470380000000006,"X",223.234309,475.749504,427.34006799999997,547.20000000000005,221.571012,12.119680000000001,6.0854100000000004,-0.10707999999999999,3.1767059999999998,1.0935779999999999,4.4852359999999996,-128.25698,-21.204056999999999,0,48.821072000000001,41.015337000000002,0,11.761911,2.3709999999999998E-3,"X",1.1816999999999999E-2,1E-3,3.8978250000000001,"X","X",0,"X",193.056228,513.42674399999999,200.68312499999999,33.447187,13.432834,134.174024,316.19283899999999,124.415601,1594.053899,"X","X",0,"X","X","X",72.359088999999997,"X","X",82.375184000000004,"X","X",208.436295,2.3709999999999998E-3,5.4644999999999999E-2,60.992989000000001,0.19489100000000001,0,0,0,0,0,19,-139.54,0.7,-0.5,43.24,-99999999,1.07,6.08,8.2799999999999994,0,0.18,1600]
[20,8,134.82344699999999,48.409435999999999,968.18871100000001,79.919370999999998,1,8.8594000000000006E-2,2.8091999999999999E-2,0,0,2.8091999999999999E-2,"X",1.0754E-2,1.7337000000000002E-2,0.41221799999999997,0.58778200000000003,0.87732600000000005,1,437.31879900000001,24.295489,231.94733299999999,737.29244600000004,17.718827999999998,20.711877000000001,44.946891000000001,"X","X","X","X",6.0260579999999999,"X","X",104.23561599999999,"X","X",0.18470300000000001,0.202768,0.16531599999999999,0.33504499999999998,0.249775,1,0,1.2899999999999999E-3,0,1,8.8594000000000006E-2,76,-27.590564000000001,91.094297999999995,7.3231609999999998,0,804.16242399999999,1.0754E-2,1.7337000000000002E-2,23.224715,"X","X",1,0,1.2999999999999999E-5,9.044E-3,43.985194999999997,72.470380000000006,"X",223.234309,475.749504,427.34006799999997,577.6,221.571012,12.279019999999999,6.0854100000000004,-0.47674499999999997,3.1767059999999998,0.72391300000000003,4.4852359999999996,-139.599761,-21.204059000000001,0,48.821072000000001,40.173718999999998,0,9.8462250000000004,1.2899999999999999E-3,"X",1.1219E-2,5.1599999999999997E-4,3.8978250000000001,"X","X",0,"X",193.05623399999999,513.42675499999996,200.68312499999999,33.447187,13.432834,134.174024,684.01419899999996,124.415603,1594.053913,"X","X",0,"X","X","X",72.359088999999997,"X","X",82.375184000000004,"X","X",208.436295,1.2899999999999999E-3,5.4644999999999999E-2,60.992989000000001,0.19489100000000001,0,0,0,0,0,20,-150.79,0.34,-0.86,40.43,-99999999,1.02,5.94,8.14,0,0.18,1600]
[21,9,134.82344699999999,48.409435999999999,1016.598146,79.919370999999998,1,8.8594000000000006E-2,2.8091999999999999E-2,0,0,2.8091999999999999E-2,"X",1.0754E-2,1.7337000000000002E-2,0.41221799999999997,0.58778200000000003,0.87732600000000005,1,437.31879900000001,24.295489,231.94733299999999,737.29244600000004,17.718827999999998,20.711877000000001,44.946891000000001,"X","X","X","X",5.8985320000000003,"X","X",104.23561599999999,"X","X",0.18470300000000001,0.202768,0.16531599999999999,0.33504499999999998,0.249775,1,0,6.5300000000000004E-4,0,1,8.8594000000000006E-2,76,-27.590564000000001,91.094297999999995,7.3231609999999998,0,804.16243999999995,1.0754E-2,1.7337000000000002E-2,23.224716999999998,"X","X",1,0,1.4E-5,9.1389999999999996E-3,41.198034,72.470380000000006,"X",223.234309,475.749504,427.34006799999997,608,221.571012,12.459847,6.0854100000000004,-0.83436999999999995,3.1767059999999998,0.366288,4.4852359999999996,-150.613651,-21.204059999999998,0,48.821072000000001,39.323549999999997,0,8.1160899999999998,6.5300000000000004E-4,"X",1.0754E-2,2.5000000000000001E-4,3.8978250000000001,"X","X",0,"X",193.056241,513.42676900000004,200.68312499999999,33.447187,13.432834,134.174024,1217.3145139999999,124.415605,1594.0539289999999,"X","X",0,"X","X","X",72.359088999999997,"X","X",82.375184000000004,"X","X",208.436295,6.5300000000000004E-4,5.4644999999999999E-2,60.992989000000001,0.19489100000000001,0,0,0,0,0,21,-161.47,-0.01,-1.21,37.76,-99999999,0.98,5.8,8,0,0.18,1600]
[22,10,134.82344699999999,48.409435999999999,1065.007582,79.919370999999998,1,8.8594000000000006E-2,2.8091999999999999E-2,0,0,2.8091999999999999E-2,"X",1.0754E-2,1.7337000000000002E-2,0.41221799999999997,0.58778200000000003,0.87732600000000005,1,437.31879900000001,24.295489,231.94733299999999,737.29244600000004,17.718827999999998,20.711877000000001,44.946891000000001,"X","X","X","X",5.7588759999999999,"X","X",104.23561599999999,"X","X",0.18470300000000001,0.202768,0.16531599999999999,0.33504499999999998,0.249775,1,0,3.1599999999999998E-4,0,1,8.8594000000000006E-2,76,-27.590564000000001,91.094297999999995,7.3231609999999998,0,804.16245800000002,1.0754E-2,1.7337000000000002E-2,23.224719,"X","X",1,0,0,9.9740000000000002E-3,38.856209,72.470380000000006,"X",223.234309,475.749504,427.34006799999997,638.4,221.571012,12.684151,6.0854100000000004,-1.1304510000000001,3.1767059999999998,7.0207000000000006E-2,4.4852359999999996,-159.81804600000001,-21.204060999999999,0,48.821072000000001,38.392505999999997,0,6.0857609999999998,3.1599999999999998E-4,"X",1.1318E-2,1.2799999999999999E-4,3.8978250000000001,"X","X",0,"X",193.05624900000001,513.426784,200.68312499999999,33.447187,13.432834,134.174024,283.25089000000003,124.41560699999999,1594.0539470000001,"X","X",0,"X","X","X",72.359088999999997,"X","X",82.375184000000004,"X","X",208.436295,3.1599999999999998E-4,5.4644999999999999E-2,60.992989000000001,0.19489100000000001,0,0,0,0,0,22,-171.63,-0.33,-1.53,35.25,-99999999,0.93,5.68,7.88,0,0.18,1600]
[23,11,134.82344699999999,48.409435999999999,1113.4170180000001,79.919370999999998,1,8.8594000000000006E-2,2.8091999999999999E-2,0,0,2.8091999999999999E-2,"X",1.0754E-2,1.7337000000000002E-2,0.41221799999999997,0.58778200000000003,0.87732600000000005,1,437.31879900000001,24.295489,231.94733299999999,737.29244600000004,17.718827999999998,20.711877000000001,44.946891000000001,"X","X","X","X",0,"X","X",104.23561599999999,"X","X",0.18470300000000001,0.202768,0.16531599999999999,0.33504499999999998,0.249775,1,0,1.4100000000000001E-4,0,1,8.8594000000000006E-2,76,-27.590564000000001,91.094297999999995,7.3231609999999998,0,804.16247799999996,1.0754E-2,1.7337000000000002E-2,23.224720999999999,"X","X",1,0,0,1.0591E-2,36.550564000000001,72.470380000000006,"X",223.234309,475.749504,427.34006799999997,668.8,221.571012,12.928201,6.0854100000000004,-1.4246909999999999,3.1767059999999998,-0.22403300000000001,4.4852359999999996,-168.95553200000001,-21.204063000000001,0,48.821072000000001,0,0,0,1.4100000000000001E-4,"X",1.1580999999999999E-2,5.8E-5,3.8978250000000001,"X","X",0,"X",193.05625800000001,513.42680199999995,200.68312499999999,33.447187,13.432834,134.174024,637.43849299999999,124.415609,1594.0539670000001,"X","X",0,"X","X","X",72.359088999999997,"X","X",82.375184000000004,"X","X",208.436295,1.4100000000000001E-4,5.4644999999999999E-2,60.992989000000001,0.19489100000000001,0,0,0,0,0,23,-181.21,-0.64,-1.84,32.880000000000003,-99999999,0.89,5.56,7.76,0,0.18,1600]
[24,12,134.82344699999999,48.409435999999999,1161.8264529999999,79.919370999999998,1,8.8594000000000006E-2,2.8091999999999999E-2,0,0,2.8091999999999999E-2,"X",1.0754E-2,1.7337000000000002E-2,0.41221799999999997,0.58778200000000003,0.87732600000000005,1,437.31879900000001,24.295489,231.94733299999999,737.29244600000004,17.718827999999998,20.711877000000001,44.946891000000001,"X","X","X","X",0,"X","X",104.23561599999999,"X","X",0.18470300000000001,0.202768,0.16531599999999999,0.33504499999999998,0.249775,1,0,5.5000000000000002E-5,0,1,8.8594000000000006E-2,76,-27.590564000000001,91.094297999999995,7.3231609999999998,0,804.16250000000002,1.0754E-2,1.7337000000000002E-2,23.224723000000001,"X","X",1,0,0,1.1305000000000001E-2,0,72.470380000000006,"X",223.234309,475.749504,427.34006799999997,0,221.571012,0,6.0854100000000004,0,3.1767059999999998,0,4.4852359999999996,0,-21.204063999999999,0,48.821072000000001,0,0,0,5.5000000000000002E-5,"X",1.2293999999999999E-2,2.4000000000000001E-5,3.8978250000000001,"X","X",0,"X",193.05626799999999,513.42682100000002,200.68312499999999,33.447187,13.432834,134.174024,1131.758683,124.415611,1594.053989,"X","X",0,"X","X","X",72.359088999999997,"X","X",82.375184000000004,"X","X",208.436295,5.5000000000000002E-5,5.4644999999999999E-2,60.992989000000001,0.19489100000000001,0,0,0,0,0,24,-190.8,-0.93,-2.13,30.64,-99999999,0.84,5.44,7.64,0,0.18,1600]
[25,1,134.82344699999999,48.409435999999999,1210.235889,79.919370999999998,1,8.8594000000000006E-2,2.8091999999999999E-2,0,0,2.8091999999999999E-2,"X",1.0754E-2,1.7337000000000002E-2,0.41221799999999997,0.58778200000000003,0.87732600000000005,1,437.31879900000001,24.295489,231.94733299999999,737.29244600000004,17.718827999999998,20.711877000000001,44.946891000000001,"X","X","X","X","X","X","X",104.23561599999999,"X","X",0.18470300000000001,0.202768,0.16531599999999999,0.33504499999999998,0.249775,1,"X","X","X","X",8.8594000000000006E-2,76,-27.590564000000001,91.094297999999995,7.3231609999999998,"X",804.16236100000003,1.0754E-2,1.7337000000000002E-2,23.224708,"X","X","X","X","X","X","X",72.470380000000006,"X",223.234309,475.749504,427.34006799999997,"X",221.571012,"X",6.0854100000000004,"X",3.1767059999999998,"X",4.4852359999999996,"X",-21.204049999999999,"X",48.821072000000001,"X","X","X","X","X","X","X",3.8978250000000001,"X","X","X","X",193.056207,513.42670599999997,200.68312499999999,33.447187,13.432834,134.174024,262.60765099999998,124.41559100000001,1594.05385,"X","X","X","X","X","X",72.359088999999997,"X","X",82.375184000000004,"X","X",208.436295,"X",5.4644999999999999E-2,60.992989000000001,0.19489100000000001,"X","X","X","X",0,1,967.45,7.78,5.2,88.96,-99999999,1.84,7.23,10.82,1,"X","X"]
[26,2,134.82344699999999,48.409435999999999,1258.645325,79.919370999999998,1,8.8594000000000006E-2,2.8091999999999999E-2,0,0,2.8091999999999999E-2,"X",1.0754E-2,1.7337000000000002E-2,0.41221799999999997,0.58778200000000003,0.87732600000000005,1,437.31879900000001,24.295489,231.94733299999999,737.29244600000004,17.718827999999998,20.711877000000001,44.946891000000001,"X","X","X","X","X","X","X",104.23561599999999,"X","X",0.18470300000000001,0.202768,0.16531599999999999,0.33504499999999998,0.249775,1,"X","X","X","X",8.8594000000000006E-2,76,-27.590564000000001,91.094297999999995,7.3231609999999998,"X",804.16236600000002,1.0754E-2,1.7337000000000002E-2,23.224709000000001,"X","X","X","X","X","X","X",72.470380000000006,"X",223.234309,475.749504,427.34006799999997,"X",221.571012,"X",6.0854100000000004,"X",3.1767059999999998,"X",4.4852359999999996,"X",-21.204052000000001,"X",48.821072000000001,"X","X","X","X","X","X","X",3.8978250000000001,"X","X","X","X",193.056209,513.42670899999996,200.68312499999999,33.447187,13.432834,134.174024,559.04678000000001,124.415593,1594.0538550000001,"X","X","X","X","X","X",72.359088999999997,"X","X",82.375184000000004,"X","X",208.436295,"X",5.4644999999999999E-2,60.992989000000001,0.19489100000000001,"X","X","X","X",0,2,971.11,9.33,7.41,106.17,-99999999,1.81,8.7799999999999994,11.7,2,"X","X"]
[27,3,134.82344699999999,48.409435999999999,1307.05476,79.919370999999998,1,8.8594000000000006E-2,2.8091999999999999E-2,0,0,2.8091999999999999E-2,"X",1.0754E-2,1.7337000000000002E-2,0.41221799999999997,0.58778200000000003,0.87732600000000005,1,437.31879900000001,24.295489,231.94733299999999,737.29244600000004,17.718827999999998,20.711877000000001,44.946891000000001,"X","X","X","X","X","X","X",104.23561599999999,"X","X",0.18470300000000001,0.202768,0.16531599999999999,0.33504499999999998,0.249775,1,"X","X","X","X",8.8594000000000006E-2,76,-27.590564000000001,91.094297999999995,7.3231609999999998,"X",804.162372,1.0754E-2,1.7337000000000002E-2,23.224710000000002,"X","X","X","X","X","X","X",72.470380000000006,"X",223.234309,475.749504,427.34006799999997,"X",221.571012,"X",6.0854100000000004,"X",3.1767059999999998,"X",4.4852359999999996,"X",-21.204052999999998,"X",48.821072000000001,"X","X","X","X","X","X","X",3.8978250000000001,"X","X","X","X",193.05621099999999,513.42671299999995,200.68312499999999,33.447187,13.432834,134.174024,955.04385200000002,124.415594,1594.0538610000001,"X","X","X","X","X","X",72.359088999999997,"X","X",82.375184000000004,"X","X",208.436295,"X",5.4644999999999999E-2,60.992989000000001,0.19489100000000001,"X","X","X","X",0,3,873.27,9.4,7.97,109.06,91.6,1.77,9.23,11.66,2,"X","X"]
[28,4,134.82344699999999,48.409435999999999,1355.4641959999999,79.919370999999998,1,8.8594000000000006E-2,2.8091999999999999E-2,0,0,2.8091999999999999E-2,"X",1.0754E-2,1.7337000000000002E-2,0.41221799999999997,0.58778200000000003,0.87732600000000005,1,437.31879900000001,24.295489,231.94733299999999,737.29244600000004,17.718827999999998,20.711877000000001,44.946891000000001,"X","X","X","X","X","X","X",104.23561599999999,"X","X",0.18470300000000001,0.202768,0.16531599999999999,0.33504499999999998,0.249775,1,"X","X","X","X",8.8594000000000006E-2,76,-27.590564000000001,91.094297999999995,7.3231609999999998,"X",804.16237899999999,1.0754E-2,1.7337000000000002E-2,23.224710000000002,"X","X","X","X","X","X","X",72.470380000000006,"X",223.234309,475.749504,427.34006799999997,"X",221.571012,"X",6.0854100000000004,"X",3.1767059999999998,"X",4.4852359999999996,"X",-21.204053999999999,"X",48.821072000000001,"X","X","X","X","X","X","X",3.8978250000000001,"X","X","X","X",193.05621400000001,513.42671900000005,200.68312499999999,33.447187,13.432834,134.174024,"X",124.41559599999999,1594.053868,"X","X","X","X","X","X",72.359088999999997,"X","X",82.375184000000004,"X","X",208.436295,"X",5.4644999999999999E-2,60.992989000000001,0.19489100000000001,"X","X","X","X",0,4,718.5,9,7.8,107.16,182.57,1.73,9.2899999999999991,11.49,2,"X","X"]
[29,5,134.82344699999999,48.409435999999999,1403.873632,79.919370999999998,1,8.8594000000000006E-2,2.8091999999999999E-2,0,0,2.8091999999999999E-2,"X",1.0754E-2,1.7337000000000002E-2,0.41221799999999997,0.58778200000000003,0.87732600000000005,1,437.31879900000001,24.295489,231.94733299999999,737.29244600000004,17.718827999999998,20.711877000000001,44.946891000000001,"X","X","X","X","X","X","X",104.23561599999999,"X","X",0.18470300000000001,0.202768,0.16531599999999999,0.33504499999999998,0.249775,1,"X","X","X","X",8.8594000000000006E-2,76,-27.590564000000001,91.094297999999995,7.3231609999999998,"X",804.16238799999996,1.0754E-2,1.7337000000000002E-2,23.224710999999999,"X","X","X","X","X","X","X",72.470380000000006,"X",223.234309,475.749504,427.34006799999997,"X",221.571012,"X",6.0854100000000004,"X",3.1767059999999998,"X",4.4852359999999996,"X",-21.204055,"X",48.821072000000001,"X","X","X","X","X","X","X",3.8978250000000001,"X","X","X","X",193.056218,513.42672600000003,200.68312499999999,33.447187,13.432834,134.174024,"X",124.41559700000001,1594.0538770000001,"X","X","X","X","X","X",72.359088999999997,"X","X",82.375184000000004,"X","X",208.436295,"X",5.4644999999999999E-2,60.992989000000001,0.19489100000000001,"X","X","X","X",0,5,551.21,8.3800000000000008,7.18,103.04,228.84,1.69,9.17,11.37,2,"X","X"]
[30,6,134.82344699999999,48.409435999999999,1452.2830670000001,79.919370999999998,1,8.8594000000000006E-2,2.8091999999999999E-2,0,0,2.8091999999999999E-2,"X",1.0754E-2,1.7337000000000002E-2,0.41221799999999997,0.58778200000000003,0.87732600000000005,1,437.31879900000001,24.295489,231.94733299999999,737.29244600000004,17.718827999999998,20.711877000000001,44.946891000000001,"X","X","X","X","X","X","X",104.23561599999999,"X","X",0.18470300000000001,0.202768,0.16531599999999999,0.33504499999999998,0.249775,1,"X","X","X","X",8.8594000000000006E-2,76,-27.590564000000001,91.094297999999995,7.3231609999999998,"X",804.16239800000005,1.0754E-2,1.7337000000000002E-2,23.224712,"X","X","X","X","X","X","X",72.470380000000006,"X",223.234309,475.749504,427.34006799999997,"X",221.571012,"X",6.0854100000000004,"X",3.1767059999999998,"X",4.4852359999999996,"X",-21.204056000000001,"X",48.821072000000001,"X","X","X","X","X","X","X",3.8978250000000001,4.7569999999999999E-3,535.643866,0,"X",193.05622299999999,513.42673400000001,200.68312499999999,33.447187,13.432834,134.174024,"X",124.415599,1594.053887,"X","X","X","X","X","X",72.359088999999997,"X","X",82.375184000000004,"X","X",208.436295,"X",5.4644999999999999E-2,60.992989000000001,0.19489100000000001,"X","X","X","X",0,6,391.32,7.64,6.44,97.8,267.05,1.64,8.9600000000000009,11.16,2,"X","X"]
[31,7,134.82344699999999,48.409435999999999,1500.692503,79.919370999999998,1,8.8594000000000006E-2,2.8091999999999999E-2,0,0,2.8091999999999999E-2,"X",1.0754E-2,1.7337000000000002E-2,0.41221799999999997,0.58778200000000003,0.87732600000000005,1,437.31879900000001,24.295489,231.94733299999999,737.29244600000004,17.718827999999998,20.711877000000001,44.946891000000001,"X","X","X","X","X","X","X",104.23561599999999,"X","X",0.18470300000000001,0.202768,0.16531599999999999,0.33504499999999998,0.249775,1,"X","X","X","X",8.8594000000000006E-2,76,-27.590564000000001,91.094297999999995,7.3231609999999998,"X",804.16241000000002,1.0754E-2,1.7337000000000002E-2,23.224713999999999,"X","X","X","X","X","X","X",72.470380000000006,"X",223.234309,475.749504,427.34006799999997,"X",221.571012,"X",6.0854100000000004,"X",3.1767059999999998,"X",4.4852359999999996,"X",-21.204056999999999,"X",48.821072000000001,"X","X","X","X","X","X","X",3.8978250000000001,2.6397050000000002,561.63764700000002,0,"X",193.056228,513.42674399999999,200.68312499999999,33.447187,13.432834,134.174024,"X",124.415601,1594.0539000000001,"X","X","X","X","X","X",72.359088999999997,"X","X",82.375184000000004,"X","X",208.436295,"X",5.4644999999999999E-2,60.992989000000001,0.19489100000000001,"X","X","X","X",0,7,246.7,6.86,5.66,92.03,296.69,1.59,8.6999999999999993,10.9,2,"X","X"]
[32,8,134.82344699999999,48.409435999999999,1549.1019389999999,79.919370999999998,1,8.8594000000000006E-2,2.8091999999999999E-2,0,0,2.8091999999999999E-2,"X",1.0754E-2,1.7337000000000002E-2,0.41221799999999997,0.58778200000000003,0.87732600000000005,1,437.31879900000001,24.295489,231.94733299999999,737.29244600000004,17.718827999999998,20.711877000000001,44.946891000000001,"X","X","X","X","X","X","X",104.23561599999999,"X","X",0.18470300000000001,0.202768,0.16531599999999999,0.33504499999999998,0.249775,1,"X","X","X","X",8.8594000000000006E-2,76,-27.590564000000001,91.094297999999995,7.3231609999999998,"X",804.16242399999999,1.0754E-2,1.7337000000000002E-2,23.224715,"X","X","X","X","X","X","X",72.470380000000006,"X",223.234309,475.749504,427.34006799999997,"X",221.571012,"X",6.0854100000000004,"X",3.1767059999999998,"X",4.4852359999999996,"X",-21.204059000000001,"X",48.821072000000001,"X","X","X","X","X","X","X",3.8978250000000001,33.794663999999997,509.77657799999997,130.89614800000001,"X",193.05623399999999,513.42675599999995,200.68312499999999,33.447187,13.432834,134.174024,"X",124.415603,1594.0539140000001,"X","X","X","X","X","X",72.359088999999997,"X","X",82.375184000000004,"X","X",208.436295,"X",5.4644999999999999E-2,60.992989000000001,0.19489100000000001,"X","X","X","X",0,8,125.67,6.07,4.87,86.08,308.16000000000003,1.53,8.43,10.63,2,"X","X"]
[33,9,134.82344699999999,48.409435999999999,1597.5113739999999,79.919370999999998,1,8.8594000000000006E-2,2.8091999999999999E-2,0,0,2.8091999999999999E-2,"X",1.0754E-2,1.7337000000000002E-2,0.41221799999999997,0.58778200000000003,0.87732600000000005,1,437.31879900000001,24.295489,231.94733299999999,737.29244600000004,17.718827999999998,20.711877000000001,44.946891000000001,"X","X","X","X","X","X","X",104.23561599999999,"X","X",0.18470300000000001,0.202768,0.16531599999999999,0.33504499999999998,0.249775,1,"X","X","X","X",8.8594000000000006E-2,76,-27.590564000000001,91.094297999999995,7.3231609999999998,"X",804.16243999999995,1.0754E-2,1.7337000000000002E-2,23.224716999999998,"X","X","X","X","X","X","X",72.470380000000006,"X",223.234309,475.749504,427.34006799999997,"X",221.571012,"X",6.0854100000000004,"X",3.1767059999999998,"X",4.4852359999999996,"X",-21.204059999999998,"X",48.821072000000001,"X","X","X","X","X","X","X",3.8978250000000001,139.89768599999999,461.271998,160.47156100000001,"X",193.056241,513.42676900000004,200.68312499999999,33.447187,13.432834,134.174024,"X",124.415605,1594.0539289999999,"X","X","X","X","X","X",72.359088999999997,"X","X",82.375184000000004,"X","X",208.436295,"X",5.4644999999999999E-2,60.992989000000001,0.19489100000000001,"X","X","X","X",0,9,40.5,5.28,4.08,80.14,274.64,1.48,8.14,10.34,2,"X","X"]
[34,10,134.82344699999999,48.409435999999999,1645.9208100000001,79.919370999999998,1,8.8594000000000006E-2,2.8091999999999999E-2,0,0,2.8091999999999999E-2,"X",1.0754E-2,1.7337000000000002E-2,0.41221799999999997,0.58778200000000003,0.87732600000000005,1,437.31879900000001,24.295489,231.94733299999999,737.29244600000004,17.718827999999998,20.711877000000001,44.946891000000001,"X","X","X","X","X","X","X",104.23561599999999,"X","X",0.18470300000000001,0.202768,0.16531599999999999,0.33504499999999998,0.249775,1,"X","X","X","X",8.8594000000000006E-2,76,-27.590564000000001,91.094297999999995,7.3231609999999998,"X",804.16245800000002,1.0754E-2,1.7337000000000002E-2,23.224719,"X","X","X","X","X","X","X",72.470380000000006,"X",223.234309,475.749504,427.34006799999997,"X",221.571012,"X",6.0854100000000004,"X",3.1767059999999998,"X",4.4852359999999996,"X",-21.204060999999999,"X",48.821072000000001,"X","X","X","X","X","X","X",3.8978250000000001,232.99445900000001,422.829317,200.20438899999999,"X",193.05624900000001,513.426785,200.68312499999999,33.447187,13.432834,134.174024,"X",124.41560699999999,1594.0539470000001,"X","X","X","X","X","X",72.359088999999997,"X","X",82.375184000000004,"X","X",208.436295,"X",5.4644999999999999E-2,60.992989000000001,0.19489100000000001,"X","X","X","X",0,10,-11.3,4.5199999999999996,3.32,74.349999999999994,203.9,1.42,7.86,10.06,0,"X","X"]
[35,11,134.82344699999999,48.409435999999999,1694.330246,79.919370999999998,1,8.8594000000000006E-2,2.8091999999999999E-2,0,0,2.8091999999999999E-2,"X",1.0754E-2,1.7337000000000002E-2,0.41221799999999997,0.58778200000000003,0.87732600000000005,1,437.31879900000001,24.295489,231.94733299999999,737.29244600000004,17.718827999999998,20.711877000000001,44.946891000000001,"X","X","X","X","X","X","X",104.23561599999999,"X","X",0.18470300000000001,0.202768,0.16531599999999999,0.33504499999999998,0.249775,1,"X","X","X","X",8.8594000000000006E-2,76,-27.590564000000001,91.094297999999995,7.3231609999999998,"X",804.16247799999996,1.0754E-2,1.7337000000000002E-2,23.224720999999999,"X","X","X","X","X","X","X",72.470380000000006,"X",223.234309,475.749504,427.34006799999997,"X",221.571012,"X",6.0854100000000004,"X",3.1767059999999998,"X",4.4852359999999996,"X",-21.204063000000001,"X",48.821072000000001,"X","X","X","X","X","X","X",3.8978250000000001,316.72284999999999,384.63373100000001,250.58199500000001,"X",193.05625800000001,513.42680199999995,200.68312499999999,33.447187,13.432834,134.174024,"X",124.415609,1594.0539670000001,"X","X","X","X","X","X",72.359088999999997,"X","X",82.375184000000004,"X","X",208.436295,"X",5.4644999999999999E-2,60.992989000000001,0.19489100000000001,"X","X","X","X",0,11,-44.1,3.79,2.59,68.78,101.07,1.36,7.59,9.7899999999999991,0,"X","X"]
[36,12,134.82344699999999,48.409435999999999,1742.7396819999999,79.919370999999998,1,8.8594000000000006E-2,2.8091999999999999E-2,0,0,2.8091999999999999E-2,"X",1.0754E-2,1.7337000000000002E-2,0.41221799999999997,0.58778200000000003,0.87732600000000005,1,437.31879900000001,24.295489,231.94733299999999,737.29244600000004,17.718827999999998,20.711877000000001,44.946891000000001,"X","X","X","X","X","X","X",104.23561599999999,"X","X",0.18470300000000001,0.202768,0.16531599999999999,0.33504499999999998,0.249775,1,"X","X","X","X",8.8594000000000006E-2,76,-27.590564000000001,91.094297999999995,7.3231609999999998,"X",804.16250000000002,1.0754E-2,1.7337000000000002E-2,23.224723000000001,"X","X","X","X","X","X","X",72.470380000000006,"X",223.234309,475.749504,427.34006799999997,"X",221.571012,"X",6.0854100000000004,"X",3.1767059999999998,"X",4.4852359999999996,"X",-21.204063999999999,"X",48.821072000000001,"X","X","X","X","X","X","X",3.8978250000000001,395.30856399999999,356.22830699999997,310.875314,"X",193.05626899999999,513.42682100000002,200.68312499999999,33.447187,13.432834,134.174024,"X",124.415611,1594.053989,"X","X","X","X","X","X",72.359088999999997,"X","X",82.375184000000004,"X","X",208.436295,"X",5.4644999999999999E-2,60.992989000000001,0.19489100000000001,"X","X","X","X",0,12,-65.72,3.1,1.9,63.49,0,1.3,7.32,9.52,0,"X","X"]
[37,1,"X","X","X","X","X","X","X","X","X","X","X","X","X","X","X","X","X","X","X","X","X","X","X","X","X","X","X","X","X","X","X","X","X","X","X","X","X","X","X","X","X","X","X","X","X","X","X","X","X","X","X","X","X","X","X","X","X","X","X","X","X","X","X","X","X","X","X","X","X","X","X","X","X","X","X","X","X","X","X","X","X","X","X","X","X","X",461.37123400000002,353.27662299999997,374.69876799999997,"X","X","X","X","X","X","X","X","X","X","X","X","X","X","X","X","X","X","X","X","X","X","X","X","X","X","X","X","X","X","X","X",13,-85.98,2.46,1.25,58.48,0,1.24,7.07,9.27,0,"X","X"]
[38,2,"X","X","X","X","X","X","X","X","X","X","X","X","X","X","X","X","X","X","X","X","X","X","X","X","X","X","X","X","X","X","X","X","X","X","X","X","X","X","X","X","X","X","X","X","X","X","X","X","X","X","X","X","X","X","X","X","X","X","X","X","X","X","X","X","X","X","X","X","X","X","X","X","X","X","X","X","X","X","X","X","X","X","X","X","X","X",518.31631200000004,354.53278599999999,445.35572300000001,"X","X","X","X","X","X","X","X","X","X","X","X","X","X","X","X","X","X","X","X","X","X","X","X","X","X","X","X","X","X","X","X",14,-104.89,1.85,0.65,53.78,0,1.18,6.83,9.0299999999999994,0,"X","X"]
[39,3,"X","X","X","X","X","X","X","X","X","X","X","X","X","X","X","X","X","X","X","X","X","X","X","X","X","X","X","X","X","X","X","X","X","X","X","X","X","X","X","X","X","X","X","X","X","X","X","X","X","X","X","X","X","X","X","X","X","X","X","X","X","X","X","X","X","X","X","X","X","X","X","X","X","X","X","X","X","X","X","X","X","X","X","X","X","X",566.44161799999995,354.592985,526.40416700000003,"X","X","X","X","X","X","X","X","X","X","X","X","X","X","X","X","X","X","X","X","X","X","X","X","X","X","X","X","X","X","X","X",15,-122.49,1.28,0.08,49.39,0,1.1200000000000001,6.61,8.81,0,"X","X"]
[40,4,"X","X","X","X","X","X","X","X","X","X","X","X","X","X","X","X","X","X","X","X","X","X","X","X","X","X","X","X","X","X","X","X","X","X","X","X","X","X","X","X","X","X","X","X","X","X","X","X","X","X","X","X","X","X","X","X","X","X","X","X","X","X","X","X","X","X","X","X","X","X","X","X","X","X","X","X","X","X","X","X","X","X","X","X","X","X",621.01475900000003,354.79273699999999,653.12951799999996,"X","X","X","X","X","X","X","X","X","X","X","X","X","X","X","X","X","X","X","X","X","X","X","X","X","X","X","X","X","X","X","X",16,-138.81,0.75,-0.45,45.31,0,1.06,6.4,8.6,0,"X","X"]
[41,5,"X","X","X","X","X","X","X","X","X","X","X","X","X","X","X","X","X","X","X","X","X","X","X","X","X","X","X","X","X","X","X","X","X","X","X","X","X","X","X","X","X","X","X","X","X","X","X","X","X","X","X","X","X","X","X","X","X","X","X","X","X","X","X","X","X","X","X","X","X","X","X","X","X","X","X","X","X","X","X","X","X","X","X","X","X","X",677.46814300000005,310.07435700000002,758.94495900000004,"X","X","X","X","X","X","X","X","X","X","X","X","X","X","X","X","X","X","X","X","X","X","X","X","X","X","X","X","X","X","X","X",17,-153.9,0.26,-0.94,41.52,-99999999,1,6.21,8.41,0,"X","X"]
[42,6,"X","X","X","X","X","X","X","X","X","X","X","X","X","X","X","X","X","X","X","X","X","X","X","X","X","X","X","X","X","X","X","X","X","X","X","X","X","X","X","X","X","X","X","X","X","X","X","X","X","X","X","X","X","X","X","X","X","X","X","X","X","X","X","X","X","X","X","X","X","X","X","X","X","X","X","X","X","X","X","X","X","X","X","X","X","X",716.13247000000001,0,835.84615699999995,"X","X","X","X","X","X","X","X","X","X","X","X","X","X","X","X","X","X","X","X","X","X","X","X","X","X","X","X","X","X","X","X",18,-167.82,-0.19,-1.39,38,-99999999,0.95,6.03,8.23,0,"X","X"]
[43,7,"X","X","X","X","X","X","X","X","X","X","X","X","X","X","X","X","X","X","X","X","X","X","X","X","X","X","X","X","X","X","X","X","X","X","X","X","X","X","X","X","X","X","X","X","X","X","X","X","X","X","X","X","X","X","X","X","X","X","X","X","X","X","X","X","X","X","X","X","X","X","X","X","X","X","X","X","X","X","X","X","X","X","X","X","X","X",750.05675499999995,"X",910.602665,"X","X","X","X","X","X","X","X","X","X","X","X","X","X","X","X","X","X","X","X","X","X","X","X","X","X","X","X","X","X","X","X",19,-180.65,-0.61,-1.81,34.76,-99999999,0.89,5.86,8.06,0,"X","X"]
[44,8,"X","X","X","X","X","X","X","X","X","X","X","X","X","X","X","X","X","X","X","X","X","X","X","X","X","X","X","X","X","X","X","X","X","X","X","X","X","X","X","X","X","X","X","X","X","X","X","X","X","X","X","X","X","X","X","X","X","X","X","X","X","X","X","X","X","X","X","X","X","X","X","X","X","X","X","X","X","X","X","X","X","X","X","X","X","X",867.72242600000004,"X",981.662601,"X","X","X","X","X","X","X","X","X","X","X","X","X","X","X","X","X","X","X","X","X","X","X","X","X","X","X","X","X","X","X","X",20,-192.46,-0.99,-2.19,31.77,-99999999,0.83,5.71,7.91,0,"X","X"]
[45,9,"X","X","X","X","X","X","X","X","X","X","X","X","X","X","X","X","X","X","X","X","X","X","X","X","X","X","X","X","X","X","X","X","X","X","X","X","X","X","X","X","X","X","X","X","X","X","X","X","X","X","X","X","X","X","X","X","X","X","X","X","X","X","X","X","X","X","X","X","X","X","X","X","X","X","X","X","X","X","X","X","X","X","X","X","X","X",0,"X",1056.5447409999999,"X","X","X","X","X","X","X","X","X","X","X","X","X","X","X","X","X","X","X","X","X","X","X","X","X","X","X","X","X","X","X","X",21,-203.38,-1.35,-2.5499999999999998,29.02,-99999999,0.78,5.57,7.77,0,"X","X"]
[46,10,"X","X","X","X","X","X","X","X","X","X","X","X","X","X","X","X","X","X","X","X","X","X","X","X","X","X","X","X","X","X","X","X","X","X","X","X","X","X","X","X","X","X","X","X","X","X","X","X","X","X","X","X","X","X","X","X","X","X","X","X","X","X","X","X","X","X","X","X","X","X","X","X","X","X","X","X","X","X","X","X","X","X","X","X","X","X","X","X",1138.7880740000001,"X","X","X","X","X","X","X","X","X","X","X","X","X","X","X","X","X","X","X","X","X","X","X","X","X","X","X","X","X","X","X","X",22,-213.54,-1.67,-2.87,26.49,-99999999,0.73,5.44,7.64,0,"X","X"]
[47,11,"X","X","X","X","X","X","X","X","X","X","X","X","X","X","X","X","X","X","X","X","X","X","X","X","X","X","X","X","X","X","X","X","X","X","X","X","X","X","X","X","X","X","X","X","X","X","X","X","X","X","X","X","X","X","X","X","X","X","X","X","X","X","X","X","X","X","X","X","X","X","X","X","X","X","X","X","X","X","X","X","X","X","X","X","X","X","X","X",1233.414344,"X","X","X","X","X","X","X","X","X","X","X","X","X","X","X","X","X","X","X","X","X","X","X","X","X","X","X","X","X","X","X","X",23,-222.86,-1.97,-3.17,24.17,-99999999,0.68,5.32,7.52,0,"X","X"]
[48,12,"X","X","X","X","X","X","X","X","X","X","X","X","X","X","X","X","X","X","X","X","X","X","X","X","X","X","X","X","X","X","X","X","X","X","X","X","X","X","X","X","X","X","X","X","X","X","X","X","X","X","X","X","X","X","X","X","X","X","X","X","X","X","X","X","X","X","X","X","X","X","X","X","X","X","X","X","X","X","X","X","X","X","X","X","X","X","X","X",1335.1175109999999,"X","X","X","X","X","X","X","X","X","X","X","X","X","X","X","X","X","X","X","X","X","X","X","X","X","X","X","X","X","X","X","X",24,-231.53,-2.2400000000000002,-3.44,22.04,-99999999,0.63,5.21,7.41,0,"X","X"]
[49,1,"X","X","X","X","X","X","X","X","X","X","X","X","X","X","X","X","X","X","X","X","X","X","X","X","X","X","X","X","X","X","X","X","X","X","X","X","X","X","X","X","X","X","X","X","X","X","X","X","X","X","X","X","X","X","X","X","X","X","X","X","X","X","X","X","X","X","X","X","X","X","X","X","X","X","X","X","X","X","X","X","X","X","X","X","X","X","X","X",1444.281669,"X","X","X","X","X","X","X","X","X","X","X","X","X","X","X","X","X","X","X","X","X","X","X","X","X","X","X","X","X","X","X","X",1,1008.49,8.6,6.02,95.35,-99999999,1.89,7.56,11.15,1,"X","X"]
[50,2,"X","X","X","X","X","X","X","X","X","X","X","X","X","X","X","X","X","X","X","X","X","X","X","X","X","X","X","X","X","X","X","X","X","X","X","X","X","X","X","X","X","X","X","X","X","X","X","X","X","X","X","X","X","X","X","X","X","X","X","X","X","X","X","X","X","X","X","X","X","X","X","X","X","X","X","X","X","X","X","X","X","X","X","X","X","X","X","X",1562.900183,"X","X","X","X","X","X","X","X","X","X","X","X","X","X","X","X","X","X","X","X","X","X","X","X","X","X","X","X","X","X","X","X",2,997.13,10.18,8.26,112.82,-99999999,1.86,9.1199999999999992,12.05,2,"X","X"]
[51,3,"X","X","X","X","X","X","X","X","X","X","X","X","X","X","X","X","X","X","X","X","X","X","X","X","X","X","X","X","X","X","X","X","X","X","X","X","X","X","X","X","X","X","X","X","X","X","X","X","X","X","X","X","X","X","X","X","X","X","X","X","X","X","X","X","X","X","X","X","X","X","X","X","X","X","X","X","X","X","X","X","X","X","X","X","X","X","X","X",1680.075945,"X","X","X","X","X","X","X","X","X","X","X","X","X","X","X","X","X","X","X","X","X","X","X","X","X","X","X","X","X","X","X","X",3,852.94,10.199999999999999,8.76,115.25,195.42,1.81,9.5500000000000007,11.98,2,"X","X"]
[52,4,"X","X","X","X","X","X","X","X","X","X","X","X","X","X","X","X","X","X","X","X","X","X","X","X","X","X","X","X","X","X","X","X","X","X","X","X","X","X","X","X","X","X","X","X","X","X","X","X","X","X","X","X","X","X","X","X","X","X","X","X","X","X","X","X","X","X","X","X","X","X","X","X","X","X","X","X","X","X","X","X","X","X","X","X","X","X","X","X",1796.755257,"X","X","X","X","X","X","X","X","X","X","X","X","X","X","X","X","X","X","X","X","X","X","X","X","X","X","X","X","X","X","X","X",4,664.47,9.7100000000000009,8.51,112.71,232.09,1.77,9.58,11.78,2,"X","X"]
[53,5,"X","X","X","X","X","X","X","X","X","X","X","X","X","X","X","X","X","X","X","X","X","X","X","X","X","X","X","X","X","X","X","X","X","X","X","X","X","X","X","X","X","X","X","X","X","X","X","X","X","X","X","X","X","X","X","X","X","X","X","X","X","X","X","X","X","X","X","X","X","X","X","X","X","X","X","X","X","X","X","X","X","X","X","X","X","X","X","X",1914.7165910000001,"X","X","X","X","X","X","X","X","X","X","X","X","X","X","X","X","X","X","X","X","X","X","X","X","X","X","X","X","X","X","X","X",5,471.67,9,7.8,107.9,253.99,1.72,9.42,11.62,2,"X","X"]
[54,6,"X","X","X","X","X","X","X","X","X","X","X","X","X","X","X","X","X","X","X","X","X","X","X","X","X","X","X","X","X","X","X","X","X","X","X","X","X","X","X","X","X","X","X","X","X","X","X","X","X","X","X","X","X","X","X","X","X","X","X","X","X","X","X","X","X","X","X","X","X","X","X","X","X","X","X","X","X","X","X","X","X","X","X","X","X","X","X","X",0,"X","X","X","X","X","X","X","X","X","X","X","X","X","X","X","X","X","X","X","X","X","X","X","X","X","X","X","X","X","X","X","X",6,297.89999999999998,8.18,6.98,102,257.18,1.67,9.18,11.38,2,"X","X"]
[55,7,"X","X","X","X","X","X","X","X","X","X","X","X","X","X","X","X","X","X","X","X","X","X","X","X","X","X","X","X","X","X","X","X","X","X","X","X","X","X","X","X","X","X","X","X","X","X","X","X","X","X","X","X","X","X","X","X","X","X","X","X","X","X","X","X","X","X","X","X","X","X","X","X","X","X","X","X","X","X","X","X","X","X","X","X","X","X","X","X","X","X","X","X","X","X","X","X","X","X","X","X","X","X","X","X","X","X","X","X","X","X","X","X","X","X","X","X","X","X","X","X","X",7,155.41999999999999,7.32,6.12,95.62,235.24,1.61,8.89,11.09,2,"X","X"]
[56,8,"X","X","X","X","X","X","X","X","X","X","X","X","X","X","X","X","X","X","X","X","X","X","X","X","X","X","X","X","X","X","X","X","X","X","X","X","X","X","X","X","X","X","X","X","X","X","X","X","X","X","X","X","X","X","X","X","X","X","X","X","X","X","X","X","X","X","X","X","X","X","X","X","X","X","X","X","X","X","X","X","X","X","X","X","X","X","X","X","X","X","X","X","X","X","X","X","X","X","X","X","X","X","X","X","X","X","X","X","X","X","X","X","X","X","X","X","X","X","X","X","X",8,56.22,6.45,5.25,89.1,178.11,1.56,8.58,10.78,2,"X","X"]
[57,9,"X","X","X","X","X","X","X","X","X","X","X","X","X","X","X","X","X","X","X","X","X","X","X","X","X","X","X","X","X","X","X","X","X","X","X","X","X","X","X","X","X","X","X","X","X","X","X","X","X","X","X","X","X","X","X","X","X","X","X","X","X","X","X","X","X","X","X","X","X","X","X","X","X","X","X","X","X","X","X","X","X","X","X","X","X","X","X","X","X","X","X","X","X","X","X","X","X","X","X","X","X","X","X","X","X","X","X","X","X","X","X","X","X","X","X","X","X","X","X","X","X",9,12.25,5.6,4.4000000000000004,82.65,75.34,1.5,8.27,10.47,1,"X","X"]
[58,10,"X","X","X","X","X","X","X","X","X","X","X","X","X","X","X","X","X","X","X","X","X","X","X","X","X","X","X","X","X","X","X","X","X","X","X","X","X","X","X","X","X","X","X","X","X","X","X","X","X","X","X","X","X","X","X","X","X","X","X","X","X","X","X","X","X","X","X","X","X","X","X","X","X","X","X","X","X","X","X","X","X","X","X","X","X","X","X","X","X","X","X","X","X","X","X","X","X","X","X","X","X","X","X","X","X","X","X","X","X","X","X","X","X","X","X","X","X","X","X","X","X",10,-13.67,4.79,3.58,76.400000000000006,0,1.44,7.97,10.17,0,"X","X"]
[59,11,"X","X","X","X","X","X","X","X","X","X","X","X","X","X","X","X","X","X","X","X","X","X","X","X","X","X","X","X","X","X","X","X","X","X","X","X","X","X","X","X","X","X","X","X","X","X","X","X","X","X","X","X","X","X","X","X","X","X","X","X","X","X","X","X","X","X","X","X","X","X","X","X","X","X","X","X","X","X","X","X","X","X","X","X","X","X","X","X","X","X","X","X","X","X","X","X","X","X","X","X","X","X","X","X","X","X","X","X","X","X","X","X","X","X","X","X","X","X","X","X","X",11,-38.19,4.01,2.81,70.430000000000007,0,1.38,7.67,9.8699999999999992,0,"X","X"]
[60,12,"X","X","X","X","X","X","X","X","X","X","X","X","X","X","X","X","X","X","X","X","X","X","X","X","X","X","X","X","X","X","X","X","X","X","X","X","X","X","X","X","X","X","X","X","X","X","X","X","X","X","X","X","X","X","X","X","X","X","X","X","X","X","X","X","X","X","X","X","X","X","X","X","X","X","X","X","X","X","X","X","X","X","X","X","X","X","X","X","X","X","X","X","X","X","X","X","X","X","X","X","X","X","X","X","X","X","X","X","X","X","X","X","X","X","X","X","X","X","X","X","X",12,-61.19,3.27,2.0699999999999998,64.78,0,1.31,7.39,9.59,0,"X","X"]
[61,1,"X","X","X","X","X","X","X","X","X","X","X","X","X","X","X","X","X","X","X","X","X","X","X","X","X","X","X","X","X","X","X","X","X","X","X","X","X","X","X","X","X","X","X","X","X","X","X","X","X","X","X","X","X","X","X","X","X","X","X","X","X","X","X","X","X","X","X","X","X","X","X","X","X","X","X","X","X","X","X","X","X","X","X","X","X","X","X","X","X","X","X","X","X","X","X","X","X","X","X","X","X","X","X","X","X","X","X","X","X","X","X","X","X","X","X","X","X","X","X","X","X",13,-82.67,2.58,1.38,59.47,0,1.25,7.12,9.32,0,"X","X"]
[62,2,"X","X","X","X","X","X","X","X","X","X","X","X","X","X","X","X","X","X","X","X","X","X","X","X","X","X","X","X","X","X","X","X","X","X","X","X","X","X","X","X","X","X","X","X","X","X","X","X","X","X","X","X","X","X","X","X","X","X","X","X","X","X","X","X","X","X","X","X","X","X","X","X","X","X","X","X","X","X","X","X","X","X","X","X","X","X","X","X","X","X","X","X","X","X","X","X","X","X","X","X","X","X","X","X","X","X","X","X","X","X","X","X","X","X","X","X","X","X","X","X","X",14,-102.66,1.94,0.74,54.5,0,1.19,6.87,9.07,0,"X","X"]
[63,3,"X","X","X","X","X","X","X","X","X","X","X","X","X","X","X","X","X","X","X","X","X","X","X","X","X","X","X","X","X","X","X","X","X","X","X","X","X","X","X","X","X","X","X","X","X","X","X","X","X","X","X","X","X","X","X","X","X","X","X","X","X","X","X","X","X","X","X","X","X","X","X","X","X","X","X","X","X","X","X","X","X","X","X","X","X","X","X","X","X","X","X","X","X","X","X","X","X","X","X","X","X","X","X","X","X","X","X","X","X","X","X","X","X","X","X","X","X","X","X","X","X",15,-121.18,1.34,0.14000000000000001,49.89,0,1.1299999999999999,6.64,8.84,0,"X","X"]
[64,4,"X","X","X","X","X","X","X","X","X","X","X","X","X","X","X","X","X","X","X","X","X","X","X","X","X","X","X","X","X","X","X","X","X","X","X","X","X","X","X","X","X","X","X","X","X","X","X","X","X","X","X","X","X","X","X","X","X","X","X","X","X","X","X","X","X","X","X","X","X","X","X","X","X","X","X","X","X","X","X","X","X","X","X","X","X","X","X","X","X","X","X","X","X","X","X","X","X","X","X","X","X","X","X","X","X","X","X","X","X","X","X","X","X","X","X","X","X","X","X","X","X",16,-138.30000000000001,0.79,-0.41,45.6,0,1.07,6.42,8.6199999999999992,0,"X","X"]
[65,5,"X","X","X","X","X","X","X","X","X","X","X","X","X","X","X","X","X","X","X","X","X","X","X","X","X","X","X","X","X","X","X","X","X","X","X","X","X","X","X","X","X","X","X","X","X","X","X","X","X","X","X","X","X","X","X","X","X","X","X","X","X","X","X","X","X","X","X","X","X","X","X","X","X","X","X","X","X","X","X","X","X","X","X","X","X","X","X","X","X","X","X","X","X","X","X","X","X","X","X","X","X","X","X","X","X","X","X","X","X","X","X","X","X","X","X","X","X","X","X","X","X",17,-154.07,0.28000000000000003,-0.92,41.65,-99999999,1,6.22,8.42,0,"X","X"]
[66,6,"X","X","X","X","X","X","X","X","X","X","X","X","X","X","X","X","X","X","X","X","X","X","X","X","X","X","X","X","X","X","X","X","X","X","X","X","X","X","X","X","X","X","X","X","X","X","X","X","X","X","X","X","X","X","X","X","X","X","X","X","X","X","X","X","X","X","X","X","X","X","X","X","X","X","X","X","X","X","X","X","X","X","X","X","X","X","X","X","X","X","X","X","X","X","X","X","X","X","X","X","X","X","X","X","X","X","X","X","X","X","X","X","X","X","X","X","X","X","X","X","X",18,-168.57,-0.19,-1.39,38,-99999999,0.95,6.03,8.23,0,"X","X"]
[67,7,"X","X","X","X","X","X","X","X","X","X","X","X","X","X","X","X","X","X","X","X","X","X","X","X","X","X","X","X","X","X","X","X","X","X","X","X","X","X","X","X","X","X","X","X","X","X","X","X","X","X","X","X","X","X","X","X","X","X","X","X","X","X","X","X","X","X","X","X","X","X","X","X","X","X","X","X","X","X","X","X","X","X","X","X","X","X","X","X","X","X","X","X","X","X","X","X","X","X","X","X","X","X","X","X","X","X","X","X","X","X","X","X","X","X","X","X","X","X","X","X","X",19,-181.87,-0.62,-1.82,34.64,-99999999,0.89,5.86,8.06,0,"X","X"]
[68,8,"X","X","X","X","X","X","X","X","X","X","X","X","X","X","X","X","X","X","X","X","X","X","X","X","X","X","X","X","X","X","X","X","X","X","X","X","X","X","X","X","X","X","X","X","X","X","X","X","X","X","X","X","X","X","X","X","X","X","X","X","X","X","X","X","X","X","X","X","X","X","X","X","X","X","X","X","X","X","X","X","X","X","X","X","X","X","X","X","X","X","X","X","X","X","X","X","X","X","X","X","X","X","X","X","X","X","X","X","X","X","X","X","X","X","X","X","X","X","X","X","X",20,-194.08,-1.02,-2.2200000000000002,31.56,-99999999,0.83,5.7,7.9,0,"X","X"]
[69,9,"X","X","X","X","X","X","X","X","X","X","X","X","X","X","X","X","X","X","X","X","X","X","X","X","X","X","X","X","X","X","X","X","X","X","X","X","X","X","X","X","X","X","X","X","X","X","X","X","X","X","X","X","X","X","X","X","X","X","X","X","X","X","X","X","X","X","X","X","X","X","X","X","X","X","X","X","X","X","X","X","X","X","X","X","X","X","X","X","X","X","X","X","X","X","X","X","X","X","X","X","X","X","X","X","X","X","X","X","X","X","X","X","X","X","X","X","X","X","X","X","X",21,-205.34,-1.38,-2.58,28.73,-99999999,0.78,5.55,7.75,0,"X","X"]
[70,10,"X","X","X","X","X","X","X","X","X","X","X","X","X","X","X","X","X","X","X","X","X","X","X","X","X","X","X","X","X","X","X","X","X","X","X","X","X","X","X","X","X","X","X","X","X","X","X","X","X","X","X","X","X","X","X","X","X","X","X","X","X","X","X","X","X","X","X","X","X","X","X","X","X","X","X","X","X","X","X","X","X","X","X","X","X","X","X","X","X","X","X","X","X","X","X","X","X","X","X","X","X","X","X","X","X","X","X","X","X","X","X","X","X","X","X","X","X","X","X","X","X",22,-215.85,-1.72,-2.92,26.14,-99999999,0.72,5.42,7.62,0,"X","X"]
[71,11,"X","X","X","X","X","X","X","X","X","X","X","X","X","X","X","X","X","X","X","X","X","X","X","X","X","X","X","X","X","X","X","X","X","X","X","X","X","X","X","X","X","X","X","X","X","X","X","X","X","X","X","X","X","X","X","X","X","X","X","X","X","X","X","X","X","X","X","X","X","X","X","X","X","X","X","X","X","X","X","X","X","X","X","X","X","X","X","X","X","X","X","X","X","X","X","X","X","X","X","X","X","X","X","X","X","X","X","X","X","X","X","X","X","X","X","X","X","X","X","X","X",23,-225.48,-2.02,-3.22,23.77,-99999999,0.67,5.3,7.5,0,"X","X"]
[72,12,"X","X","X","X","X","X","X","X","X","X","X","X","X","X","X","X","X","X","X","X","X","X","X","X","X","X","X","X","X","X","X","X","X","X","X","X","X","X","X","X","X","X","X","X","X","X","X","X","X","X","X","X","X","X","X","X","X","X","X","X","X","X","X","X","X","X","X","X","X","X","X","X","X","X","X","X","X","X","X","X","X","X","X","X","X","X","X","X","X","X","X","X","X","X","X","X","X","X","X","X","X","X","X","X","X","X","X","X","X","X","X","X","X","X","X","X","X","X","X","X","X",24,-234.41,-2.2999999999999998,-3.5,21.6,-99999999,0.62,5.19,7.39,0,"X","X"]
[73,1,"X","X","X","X","X","X","X","X","X","X","X","X","X","X","X","X","X","X","X","X","X","X","X","X","X","X","X","X","X","X","X","X","X","X","X","X","X","X","X","X","X","X","X","X","X","X","X","X","X","X","X","X","X","X","X","X","X","X","X","X","X","X","X","X","X","X","X","X","X","X","X","X","X","X","X","X","X","X","X","X","X","X","X","X","X","X","X","X","X","X","X","X","X","X","X","X","X","X","X","X","X","X","X","X","X","X","X","X","X","X","X","X","X","X","X","X","X","X","X","X","X","X","X","X","X","X","X","X","X","X","X","X","X"]
[74,2,"X","X","X","X","X","X","X","X","X","X","X","X","X","X","X","X","X","X","X","X","X","X","X","X","X","X","X","X","X","X","X","X","X","X","X","X","X","X","X","X","X","X","X","X","X","X","X","X","X","X","X","X","X","X","X","X","X","X","X","X","X","X","X","X","X","X","X","X","X","X","X","X","X","X","X","X","X","X","X","X","X","X","X","X","X","X","X","X","X","X","X","X","X","X","X","X","X","X","X","X","X","X","X","X","X","X","X","X","X","X","X","X","X","X","X","X","X","X","X","X","X","X","X","X","X","X","X","X","X","X","X","X","X"]
[75,3,"X","X","X","X","X","X","X","X","X","X","X","X","X","X","X","X","X","X","X","X","X","X","X","X","X","X","X","X","X","X","X","X","X","X","X","X","X","X","X","X","X","X","X","X","X","X","X","X","X","X","X","X","X","X","X","X","X","X","X","X","X","X","X","X","X","X","X","X","X","X","X","X","X","X","X","X","X","X","X","X","X","X","X","X","X","X","X","X","X","X","X","X","X","X","X","X","X","X","X","X","X","X","X","X","X","X","X","X","X","X","X","X","X","X","X","X","X","X","X","X","X","X","X","X","X","X","X","X","X","X","X","X","X"]
[76,4,"X","X","X","X","X","X","X","X","X","X","X","X","X","X","X","X","X","X","X","X","X","X","X","X","X","X","X","X","X","X","X","X","X","X","X","X","X","X","X","X","X","X","X","X","X","X","X","X","X","X","X","X","X","X","X","X","X","X","X","X","X","X","X","X","X","X","X","X","X","X","X","X","X","X","X","X","X","X","X","X","X","X","X","X","X","X","X","X","X","X","X","X","X","X","X","X","X","X","X","X","X","X","X","X","X","X","X","X","X","X","X","X","X","X","X","X","X","X","X","X","X","X","X","X","X","X","X","X","X","X","X","X","X"]
[77,5,"X","X","X","X","X","X","X","X","X","X","X","X","X","X","X","X","X","X","X","X","X","X","X","X","X","X","X","X","X","X","X","X","X","X","X","X","X","X","X","X","X","X","X","X","X","X","X","X","X","X","X","X","X","X","X","X","X","X","X","X","X","X","X","X","X","X","X","X","X","X","X","X","X","X","X","X","X","X","X","X","X","X","X","X","X","X","X","X","X","X","X","X","X","X","X","X","X","X","X","X","X","X","X","X","X","X","X","X","X","X","X","X","X","X","X","X","X","X","X","X","X","X","X","X","X","X","X","X","X","X","X","X","X"]
[78,6,"X","X","X","X","X","X","X","X","X","X","X","X","X","X","X","X","X","X","X","X","X","X","X","X","X","X","X","X","X","X","X","X","X","X","X","X","X","X","X","X","X","X","X","X","X","X","X","X","X","X","X","X","X","X","X","X","X","X","X","X","X","X","X","X","X","X","X","X","X","X","X","X","X","X","X","X","X","X","X","X","X","X","X","X","X","X","X","X","X","X","X","X","X","X","X","X","X","X","X","X","X","X","X","X","X","X","X","X","X","X","X","X","X","X","X","X","X","X","X","X","X","X","X","X","X","X","X","X","X","X","X","X","X"]
[79,7,"X","X","X","X","X","X","X","X","X","X","X","X","X","X","X","X","X","X","X","X","X","X","X","X","X","X","X","X","X","X","X","X","X","X","X","X","X","X","X","X","X","X","X","X","X","X","X","X","X","X","X","X","X","X","X","X","X","X","X","X","X","X","X","X","X","X","X","X","X","X","X","X","X","X","X","X","X","X","X","X","X","X","X","X","X","X","X","X","X","X","X","X","X","X","X","X","X","X","X","X","X","X","X","X","X","X","X","X","X","X","X","X","X","X","X","X","X","X","X","X","X","X","X","X","X","X","X","X","X","X","X","X","X"]
[80,8,"X","X","X","X","X","X","X","X","X","X","X","X","X","X","X","X","X","X","X","X","X","X","X","X","X","X","X","X","X","X","X","X","X","X","X","X","X","X","X","X","X","X","X","X","X","X","X","X","X","X","X","X","X","X","X","X","X","X","X","X","X","X","X","X","X","X","X","X","X","X","X","X","X","X","X","X","X","X","X","X","X","X","X","X","X","X","X","X","X","X","X","X","X","X","X","X","X","X","X","X","X","X","X","X","X","X","X","X","X","X","X","X","X","X","X","X","X","X","X","X","X","X","X","X","X","X","X","X","X","X","X","X","X"]
[81,9,"X","X","X","X","X","X","X","X","X","X","X","X","X","X","X","X","X","X","X","X","X","X","X","X","X","X","X","X","X","X","X","X","X","X","X","X","X","X","X","X","X","X","X","X","X","X","X","X","X","X","X","X","X","X","X","X","X","X","X","X","X","X","X","X","X","X","X","X","X","X","X","X","X","X","X","X","X","X","X","X","X","X","X","X","X","X","X","X","X","X","X","X","X","X","X","X","X","X","X","X","X","X","X","X","X","X","X","X","X","X","X","X","X","X","X","X","X","X","X","X","X","X","X","X","X","X","X","X","X","X","X","X","X"]
[82,10,"X","X","X","X","X","X","X","X","X","X","X","X","X","X","X","X","X","X","X","X","X","X","X","X","X","X","X","X","X","X","X","X","X","X","X","X","X","X","X","X","X","X","X","X","X","X","X","X","X","X","X","X","X","X","X","X","X","X","X","X","X","X","X","X","X","X","X","X","X","X","X","X","X","X","X","X","X","X","X","X","X","X","X","X","X","X","X","X","X","X","X","X","X","X","X","X","X","X","X","X","X","X","X","X","X","X","X","X","X","X","X","X","X","X","X","X","X","X","X","X","X","X","X","X","X","X","X","X","X","X","X","X","X"]
[83,11,"X","X","X","X","X","X","X","X","X","X","X","X","X","X","X","X","X","X","X","X","X","X","X","X","X","X","X","X","X","X","X","X","X","X","X","X","X","X","X","X","X","X","X","X","X","X","X","X","X","X","X","X","X","X","X","X","X","X","X","X","X","X","X","X","X","X","X","X","X","X","X","X","X","X","X","X","X","X","X","X","X","X","X","X","X","X","X","X","X","X","X","X","X","X","X","X","X","X","X","X","X","X","X","X","X","X","X","X","X","X","X","X","X","X","X","X","X","X","X","X","X","X","X","X","X","X","X","X","X","X","X","X","X"]
[84,12,"X","X","X","X","X","X","X","X","X","X","X","X","X","X","X","X","X","X","X","X","X","X","X","X","X","X","X","X","X","X","X","X","X","X","X","X","X","X","X","X","X","X","X","X","X","X","X","X","X","X","X","X","X","X","X","X","X","X","X","X","X","X","X","X","X","X","X","X","X","X","X","X","X","X","X","X","X","X","X","X","X","X","X","X","X","X","X","X","X","X","X","X","X","X","X","X","X","X","X","X","X","X","X","X","X","X","X","X","X","X","X","X","X","X","X","X","X","X","X","X","X","X","X","X","X","X","X","X","X","X","X","X","X"]
[85,1,"X","X","X","X","X","X","X","X","X","X","X","X","X","X","X","X","X","X","X","X","X","X","X","X","X","X","X","X","X","X","X","X","X","X","X","X","X","X","X","X","X","X","X","X","X","X","X","X","X","X","X","X","X","X","X","X","X","X","X","X","X","X","X","X","X","X","X","X","X","X","X","X","X","X","X","X","X","X","X","X","X","X","X","X","X","X","X","X","X","X","X","X","X","X","X","X","X","X","X","X","X","X","X","X","X","X","X","X","X","X","X","X","X","X","X","X","X","X","X","X","X","X","X","X","X","X","X","X","X","X","X","X","X"]
[86,2,"X","X","X","X","X","X","X","X","X","X","X","X","X","X","X","X","X","X","X","X","X","X","X","X","X","X","X","X","X","X","X","X","X","X","X","X","X","X","X","X","X","X","X","X","X","X","X","X","X","X","X","X","X","X","X","X","X","X","X","X","X","X","X","X","X","X","X","X","X","X","X","X","X","X","X","X","X","X","X","X","X","X","X","X","X","X","X","X","X","X","X","X","X","X","X","X","X","X","X","X","X","X","X","X","X","X","X","X","X","X","X","X","X","X","X","X","X","X","X","X","X","X","X","X","X","X","X","X","X","X","X","X","X"]
[87,3,"X","X","X","X","X","X","X","X","X","X","X","X","X","X","X","X","X","X","X","X","X","X","X","X","X","X","X","X","X","X","X","X","X","X","X","X","X","X","X","X","X","X","X","X","X","X","X","X","X","X","X","X","X","X","X","X","X","X","X","X","X","X","X","X","X","X","X","X","X","X","X","X","X","X","X","X","X","X","X","X","X","X","X","X","X","X","X","X","X","X","X","X","X","X","X","X","X","X","X","X","X","X","X","X","X","X","X","X","X","X","X","X","X","X","X","X","X","X","X","X","X","X","X","X","X","X","X","X","X","X","X","X","X"]
[88,4,"X","X","X","X","X","X","X","X","X","X","X","X","X","X","X","X","X","X","X","X","X","X","X","X","X","X","X","X","X","X","X","X","X","X","X","X","X","X","X","X","X","X","X","X","X","X","X","X","X","X","X","X","X","X","X","X","X","X","X","X","X","X","X","X","X","X","X","X","X","X","X","X","X","X","X","X","X","X","X","X","X","X","X","X","X","X","X","X","X","X","X","X","X","X","X","X","X","X","X","X","X","X","X","X","X","X","X","X","X","X","X","X","X","X","X","X","X","X","X","X","X","X","X","X","X","X","X","X","X","X","X","X","X"]
[89,5,"X","X","X","X","X","X","X","X","X","X","X","X","X","X","X","X","X","X","X","X","X","X","X","X","X","X","X","X","X","X","X","X","X","X","X","X","X","X","X","X","X","X","X","X","X","X","X","X","X","X","X","X","X","X","X","X","X","X","X","X","X","X","X","X","X","X","X","X","X","X","X","X","X","X","X","X","X","X","X","X","X","X","X","X","X","X","X","X","X","X","X","X","X","X","X","X","X","X","X","X","X","X","X","X","X","X","X","X","X","X","X","X","X","X","X","X","X","X","X","X","X","X","X","X","X","X","X","X","X","X","X","X","X"]
[90,6,"X","X","X","X","X","X","X","X","X","X","X","X","X","X","X","X","X","X","X","X","X","X","X","X","X","X","X","X","X","X","X","X","X","X","X","X","X","X","X","X","X","X","X","X","X","X","X","X","X","X","X","X","X","X","X","X","X","X","X","X","X","X","X","X","X","X","X","X","X","X","X","X","X","X","X","X","X","X","X","X","X","X","X","X","X","X","X","X","X","X","X","X","X","X","X","X","X","X","X","X","X","X","X","X","X","X","X","X","X","X","X","X","X","X","X","X","X","X","X","X","X","X","X","X","X","X","X","X","X","X","X","X","X"]
[91,7,"X","X","X","X","X","X","X","X","X","X","X","X","X","X","X","X","X","X","X","X","X","X","X","X","X","X","X","X","X","X","X","X","X","X","X","X","X","X","X","X","X","X","X","X","X","X","X","X","X","X","X","X","X","X","X","X","X","X","X","X","X","X","X","X","X","X","X","X","X","X","X","X","X","X","X","X","X","X","X","X","X","X","X","X","X","X","X","X","X","X","X","X","X","X","X","X","X","X","X","X","X","X","X","X","X","X","X","X","X","X","X","X","X","X","X","X","X","X","X","X","X","X","X","X","X","X","X","X","X","X","X","X","X"]
[92,8,"X","X","X","X","X","X","X","X","X","X","X","X","X","X","X","X","X","X","X","X","X","X","X","X","X","X","X","X","X","X","X","X","X","X","X","X","X","X","X","X","X","X","X","X","X","X","X","X","X","X","X","X","X","X","X","X","X","X","X","X","X","X","X","X","X","X","X","X","X","X","X","X","X","X","X","X","X","X","X","X","X","X","X","X","X","X","X","X","X","X","X","X","X","X","X","X","X","X","X","X","X","X","X","X","X","X","X","X","X","X","X","X","X","X","X","X","X","X","X","X","X","X","X","X","X","X","X","X","X","X","X","X","X"]
[93,9,"X","X","X","X","X","X","X","X","X","X","X","X","X","X","X","X","X","X","X","X","X","X","X","X","X","X","X","X","X","X","X","X","X","X","X","X","X","X","X","X","X","X","X","X","X","X","X","X","X","X","X","X","X","X","X","X","X","X","X","X","X","X","X","X","X","X","X","X","X","X","X","X","X","X","X","X","X","X","X","X","X","X","X","X","X","X","X","X","X","X","X","X","X","X","X","X","X","X","X","X","X","X","X","X","X","X","X","X","X","X","X","X","X","X","X","X","X","X","X","X","X","X","X","X","X","X","X","X","X","X","X","X","X"]
[94,10,"X","X","X","X","X","X","X","X","X","X","X","X","X","X","X","X","X","X","X","X","X","X","X","X","X","X","X","X","X","X","X","X","X","X","X","X","X","X","X","X","X","X","X","X","X","X","X","X","X","X","X","X","X","X","X","X","X","X","X","X","X","X","X","X","X","X","X","X","X","X","X","X","X","X","X","X","X","X","X","X","X","X","X","X","X","X","X","X","X","X","X","X","X","X","X","X","X","X","X","X","X","X","X","X","X","X","X","X","X","X","X","X","X","X","X","X","X","X","X","X","X","X","X","X","X","X","X","X","X","X","X","X","X"]
[95,11,"X","X","X","X","X","X","X","X","X","X","X","X","X","X","X","X","X","X","X","X","X","X","X","X","X","X","X","X","X","X","X","X","X","X","X","X","X","X","X","X","X","X","X","X","X","X","X","X","X","X","X","X","X","X","X","X","X","X","X","X","X","X","X","X","X","X","X","X","X","X","X","X","X","X","X","X","X","X","X","X","X","X","X","X","X","X","X","X","X","X","X","X","X","X","X","X","X","X","X","X","X","X","X","X","X","X","X","X","X","X","X","X","X","X","X","X","X","X","X","X","X","X","X","X","X","X","X","X","X","X","X","X","X"]
[96,12,"X","X","X","X","X","X","X","X","X","X","X","X","X","X","X","X","X","X","X","X","X","X","X","X","X","X","X","X","X","X","X","X","X","X","X","X","X","X","X","X","X","X","X","X","X","X","X","X","X","X","X","X","X","X","X","X","X","X","X","X","X","X","X","X","X","X","X","X","X","X","X","X","X","X","X","X","X","X","X","X","X","X","X","X","X","X","X","X","X","X","X","X","X","X","X","X","X","X","X","X","X","X","X","X","X","X","X","X","X","X","X","X","X","X","X","X","X","X","X","X","X","X","X","X","X","X","X","X","X","X","X","X","X"]
[97,1,"X","X","X","X","X","X","X","X","X","X","X","X","X","X","X","X","X","X","X","X","X","X","X","X","X","X","X","X","X","X","X","X","X","X","X","X","X","X","X","X","X","X","X","X","X","X","X","X","X","X","X","X","X","X","X","X","X","X","X","X","X","X","X","X","X","X","X","X","X","X","X","X","X","X","X","X","X","X","X","X","X","X","X","X","X","X","X","X","X","X","X","X","X","X","X","X","X","X","X","X","X","X","X","X","X","X","X","X","X","X","X","X","X","X","X","X","X","X","X","X","X","X","X","X","X","X","X","X","X","X","X","X","X"]
[98,2,"X","X","X","X","X","X","X","X","X","X","X","X","X","X","X","X","X","X","X","X","X","X","X","X","X","X","X","X","X","X","X","X","X","X","X","X","X","X","X","X","X","X","X","X","X","X","X","X","X","X","X","X","X","X","X","X","X","X","X","X","X","X","X","X","X","X","X","X","X","X","X","X","X","X","X","X","X","X","X","X","X","X","X","X","X","X","X","X","X","X","X","X","X","X","X","X","X","X","X","X","X","X","X","X","X","X","X","X","X","X","X","X","X","X","X","X","X","X","X","X","X","X","X","X","X","X","X","X","X","X","X","X","X"]
[99,3,"X","X","X","X","X","X","X","X","X","X","X","X","X","X","X","X","X","X","X","X","X","X","X","X","X","X","X","X","X","X","X","X","X","X","X","X","X","X","X","X","X","X","X","X","X","X","X","X","X","X","X","X","X","X","X","X","X","X","X","X","X","X","X","X","X","X","X","X","X","X","X","X","X","X","X","X","X","X","X","X","X","X","X","X","X","X","X","X","X","X","X","X","X","X","X","X","X","X","X","X","X","X","X","X","X","X","X","X","X","X","X","X","X","X","X","X","X","X","X","X","X","X","X","X","X","X","X","X","X","X","X","X","X"]
[100,4,"X","X","X","X","X","X","X","X","X","X","X","X","X","X","X","X","X","X","X","X","X","X","X","X","X","X","X","X","X","X","X","X","X","X","X","X","X","X","X","X","X","X","X","X","X","X","X","X","X","X","X","X","X","X","X","X","X","X","X","X","X","X","X","X","X","X","X","X","X","X","X","X","X","X","X","X","X","X","X","X","X","X","X","X","X","X","X","X","X","X","X","X","X","X","X","X","X","X","X","X","X","X","X","X","X","X","X","X","X","X","X","X","X","X","X","X","X","X","X","X","X","X","X","X","X","X","X","X","X","X","X","X","X"]
[101,5,"X","X","X","X","X","X","X","X","X","X","X","X","X","X","X","X","X","X","X","X","X","X","X","X","X","X","X","X","X","X","X","X","X","X","X","X","X","X","X","X","X","X","X","X","X","X","X","X","X","X","X","X","X","X","X","X","X","X","X","X","X","X","X","X","X","X","X","X","X","X","X","X","X","X","X","X","X","X","X","X","X","X","X","X","X","X","X","X","X","X","X","X","X","X","X","X","X","X","X","X","X","X","X","X","X","X","X","X","X","X","X","X","X","X","X","X","X","X","X","X","X","X","X","X","X","X","X","X","X","X","X","X","X"]
[102,6,"X","X","X","X","X","X","X","X","X","X","X","X","X","X","X","X","X","X","X","X","X","X","X","X","X","X","X","X","X","X","X","X","X","X","X","X","X","X","X","X","X","X","X","X","X","X","X","X","X","X","X","X","X","X","X","X","X","X","X","X","X","X","X","X","X","X","X","X","X","X","X","X","X","X","X","X","X","X","X","X","X","X","X","X","X","X","X","X","X","X","X","X","X","X","X","X","X","X","X","X","X","X","X","X","X","X","X","X","X","X","X","X","X","X","X","X","X","X","X","X","X","X","X","X","X","X","X","X","X","X","X","X","X"]
[103,7,"X","X","X","X","X","X","X","X","X","X","X","X","X","X","X","X","X","X","X","X","X","X","X","X","X","X","X","X","X","X","X","X","X","X","X","X","X","X","X","X","X","X","X","X","X","X","X","X","X","X","X","X","X","X","X","X","X","X","X","X","X","X","X","X","X","X","X","X","X","X","X","X","X","X","X","X","X","X","X","X","X","X","X","X","X","X","X","X","X","X","X","X","X","X","X","X","X","X","X","X","X","X","X","X","X","X","X","X","X","X","X","X","X","X","X","X","X","X","X","X","X","X","X","X","X","X","X","X","X","X","X","X","X"]
[104,8,"X","X","X","X","X","X","X","X","X","X","X","X","X","X","X","X","X","X","X","X","X","X","X","X","X","X","X","X","X","X","X","X","X","X","X","X","X","X","X","X","X","X","X","X","X","X","X","X","X","X","X","X","X","X","X","X","X","X","X","X","X","X","X","X","X","X","X","X","X","X","X","X","X","X","X","X","X","X","X","X","X","X","X","X","X","X","X","X","X","X","X","X","X","X","X","X","X","X","X","X","X","X","X","X","X","X","X","X","X","X","X","X","X","X","X","X","X","X","X","X","X","X","X","X","X","X","X","X","X","X","X","X","X"]
[105,9,"X","X","X","X","X","X","X","X","X","X","X","X","X","X","X","X","X","X","X","X","X","X","X","X","X","X","X","X","X","X","X","X","X","X","X","X","X","X","X","X","X","X","X","X","X","X","X","X","X","X","X","X","X","X","X","X","X","X","X","X","X","X","X","X","X","X","X","X","X","X","X","X","X","X","X","X","X","X","X","X","X","X","X","X","X","X","X","X","X","X","X","X","X","X","X","X","X","X","X","X","X","X","X","X","X","X","X","X","X","X","X","X","X","X","X","X","X","X","X","X","X","X","X","X","X","X","X","X","X","X","X","X","X"]
[106,10,"X","X","X","X","X","X","X","X","X","X","X","X","X","X","X","X","X","X","X","X","X","X","X","X","X","X","X","X","X","X","X","X","X","X","X","X","X","X","X","X","X","X","X","X","X","X","X","X","X","X","X","X","X","X","X","X","X","X","X","X","X","X","X","X","X","X","X","X","X","X","X","X","X","X","X","X","X","X","X","X","X","X","X","X","X","X","X","X","X","X","X","X","X","X","X","X","X","X","X","X","X","X","X","X","X","X","X","X","X","X","X","X","X","X","X","X","X","X","X","X","X","X","X","X","X","X","X","X","X","X","X","X","X"]
[107,11,"X","X","X","X","X","X","X","X","X","X","X","X","X","X","X","X","X","X","X","X","X","X","X","X","X","X","X","X","X","X","X","X","X","X","X","X","X","X","X","X","X","X","X","X","X","X","X","X","X","X","X","X","X","X","X","X","X","X","X","X","X","X","X","X","X","X","X","X","X","X","X","X","X","X","X","X","X","X","X","X","X","X","X","X","X","X","X","X","X","X","X","X","X","X","X","X","X","X","X","X","X","X","X","X","X","X","X","X","X","X","X","X","X","X","X","X","X","X","X","X","X","X","X","X","X","X","X","X","X","X","X","X","X"]
[108,12,"X","X","X","X","X","X","X","X","X","X","X","X","X","X","X","X","X","X","X","X","X","X","X","X","X","X","X","X","X","X","X","X","X","X","X","X","X","X","X","X","X","X","X","X","X","X","X","X","X","X","X","X","X","X","X","X","X","X","X","X","X","X","X","X","X","X","X","X","X","X","X","X","X","X","X","X","X","X","X","X","X","X","X","X","X","X","X","X","X","X","X","X","X","X","X","X","X","X","X","X","X","X","X","X","X","X","X","X","X","X","X","X","X","X","X","X","X","X","X","X","X","X","X","X","X","X","X","X","X","X","X","X","X"]
[109,1,"X","X","X","X","X","X","X","X","X","X","X","X","X","X","X","X","X","X","X","X","X","X","X","X","X","X","X","X","X","X","X","X","X","X","X","X","X","X","X","X","X","X","X","X","X","X","X","X","X","X","X","X","X","X","X","X","X","X","X","X","X","X","X","X","X","X","X","X","X","X","X","X","X","X","X","X","X","X","X","X","X","X","X","X","X","X","X","X","X","X","X","X","X","X","X","X","X","X","X","X","X","X","X","X","X","X","X","X","X","X","X","X","X","X","X","X","X","X","X","X","X","X","X","X","X","X","X","X","X","X","X","X","X"]
[110,2,"X","X","X","X","X","X","X","X","X","X","X","X","X","X","X","X","X","X","X","X","X","X","X","X","X","X","X","X","X","X","X","X","X","X","X","X","X","X","X","X","X","X","X","X","X","X","X","X","X","X","X","X","X","X","X","X","X","X","X","X","X","X","X","X","X","X","X","X","X","X","X","X","X","X","X","X","X","X","X","X","X","X","X","X","X","X","X","X","X","X","X","X","X","X","X","X","X","X","X","X","X","X","X","X","X","X","X","X","X","X","X","X","X","X","X","X","X","X","X","X","X","X","X","X","X","X","X","X","X","X","X","X","X"]
[111,3,"X","X","X","X","X","X","X","X","X","X","X","X","X","X","X","X","X","X","X","X","X","X","X","X","X","X","X","X","X","X","X","X","X","X","X","X","X","X","X","X","X","X","X","X","X","X","X","X","X","X","X","X","X","X","X","X","X","X","X","X","X","X","X","X","X","X","X","X","X","X","X","X","X","X","X","X","X","X","X","X","X","X","X","X","X","X","X","X","X","X","X","X","X","X","X","X","X","X","X","X","X","X","X","X","X","X","X","X","X","X","X","X","X","X","X","X","X","X","X","X","X","X","X","X","X","X","X","X","X","X","X","X","X"]
[112,4,"X","X","X","X","X","X","X","X","X","X","X","X","X","X","X","X","X","X","X","X","X","X","X","X","X","X","X","X","X","X","X","X","X","X","X","X","X","X","X","X","X","X","X","X","X","X","X","X","X","X","X","X","X","X","X","X","X","X","X","X","X","X","X","X","X","X","X","X","X","X","X","X","X","X","X","X","X","X","X","X","X","X","X","X","X","X","X","X","X","X","X","X","X","X","X","X","X","X","X","X","X","X","X","X","X","X","X","X","X","X","X","X","X","X","X","X","X","X","X","X","X","X","X","X","X","X","X","X","X","X","X","X","X"]
[113,5,"X","X","X","X","X","X","X","X","X","X","X","X","X","X","X","X","X","X","X","X","X","X","X","X","X","X","X","X","X","X","X","X","X","X","X","X","X","X","X","X","X","X","X","X","X","X","X","X","X","X","X","X","X","X","X","X","X","X","X","X","X","X","X","X","X","X","X","X","X","X","X","X","X","X","X","X","X","X","X","X","X","X","X","X","X","X","X","X","X","X","X","X","X","X","X","X","X","X","X","X","X","X","X","X","X","X","X","X","X","X","X","X","X","X","X","X","X","X","X","X","X","X","X","X","X","X","X","X","X","X","X","X","X"]
[114,6,"X","X","X","X","X","X","X","X","X","X","X","X","X","X","X","X","X","X","X","X","X","X","X","X","X","X","X","X","X","X","X","X","X","X","X","X","X","X","X","X","X","X","X","X","X","X","X","X","X","X","X","X","X","X","X","X","X","X","X","X","X","X","X","X","X","X","X","X","X","X","X","X","X","X","X","X","X","X","X","X","X","X","X","X","X","X","X","X","X","X","X","X","X","X","X","X","X","X","X","X","X","X","X","X","X","X","X","X","X","X","X","X","X","X","X","X","X","X","X","X","X","X","X","X","X","X","X","X","X","X","X","X","X"]
[115,7,"X","X","X","X","X","X","X","X","X","X","X","X","X","X","X","X","X","X","X","X","X","X","X","X","X","X","X","X","X","X","X","X","X","X","X","X","X","X","X","X","X","X","X","X","X","X","X","X","X","X","X","X","X","X","X","X","X","X","X","X","X","X","X","X","X","X","X","X","X","X","X","X","X","X","X","X","X","X","X","X","X","X","X","X","X","X","X","X","X","X","X","X","X","X","X","X","X","X","X","X","X","X","X","X","X","X","X","X","X","X","X","X","X","X","X","X","X","X","X","X","X","X","X","X","X","X","X","X","X","X","X","X","X"]
[116,8,"X","X","X","X","X","X","X","X","X","X","X","X","X","X","X","X","X","X","X","X","X","X","X","X","X","X","X","X","X","X","X","X","X","X","X","X","X","X","X","X","X","X","X","X","X","X","X","X","X","X","X","X","X","X","X","X","X","X","X","X","X","X","X","X","X","X","X","X","X","X","X","X","X","X","X","X","X","X","X","X","X","X","X","X","X","X","X","X","X","X","X","X","X","X","X","X","X","X","X","X","X","X","X","X","X","X","X","X","X","X","X","X","X","X","X","X","X","X","X","X","X","X","X","X","X","X","X","X","X","X","X","X","X"]
[117,9,"X","X","X","X","X","X","X","X","X","X","X","X","X","X","X","X","X","X","X","X","X","X","X","X","X","X","X","X","X","X","X","X","X","X","X","X","X","X","X","X","X","X","X","X","X","X","X","X","X","X","X","X","X","X","X","X","X","X","X","X","X","X","X","X","X","X","X","X","X","X","X","X","X","X","X","X","X","X","X","X","X","X","X","X","X","X","X","X","X","X","X","X","X","X","X","X","X","X","X","X","X","X","X","X","X","X","X","X","X","X","X","X","X","X","X","X","X","X","X","X","X","X","X","X","X","X","X","X","X","X","X","X","X"]
[118,10,"X","X","X","X","X","X","X","X","X","X","X","X","X","X","X","X","X","X","X","X","X","X","X","X","X","X","X","X","X","X","X","X","X","X","X","X","X","X","X","X","X","X","X","X","X","X","X","X","X","X","X","X","X","X","X","X","X","X","X","X","X","X","X","X","X","X","X","X","X","X","X","X","X","X","X","X","X","X","X","X","X","X","X","X","X","X","X","X","X","X","X","X","X","X","X","X","X","X","X","X","X","X","X","X","X","X","X","X","X","X","X","X","X","X","X","X","X","X","X","X","X","X","X","X","X","X","X","X","X","X","X","X","X"]
[119,11,"X","X","X","X","X","X","X","X","X","X","X","X","X","X","X","X","X","X","X","X","X","X","X","X","X","X","X","X","X","X","X","X","X","X","X","X","X","X","X","X","X","X","X","X","X","X","X","X","X","X","X","X","X","X","X","X","X","X","X","X","X","X","X","X","X","X","X","X","X","X","X","X","X","X","X","X","X","X","X","X","X","X","X","X","X","X","X","X","X","X","X","X","X","X","X","X","X","X","X","X","X","X","X","X","X","X","X","X","X","X","X","X","X","X","X","X","X","X","X","X","X","X","X","X","X","X","X","X","X","X","X","X","X"]
[120,12,"X","X","X","X","X","X","X","X","X","X","X","X","X","X","X","X","X","X","X","X","X","X","X","X","X","X","X","X","X","X","X","X","X","X","X","X","X","X","X","X","X","X","X","X","X","X","X","X","X","X","X","X","X","X","X","X","X","X","X","X","X","X","X","X","X","X","X","X","X","X","X","X","X","X","X","X","X","X","X","X","X","X","X","X","X","X","X","X","X","X","X","X","X","X","X","X","X","X","X","X","X","X","X","X","X","X","X","X","X","X","X","X","X","X","X","X","X","X","X","X","X","X","X","X","X","X","X","X","X","X","X","X","X"]
[121,1,"X","X","X","X","X","X","X","X","X","X","X","X","X","X","X","X","X","X","X","X","X","X","X","X","X","X","X","X","X","X","X","X","X","X","X","X","X","X","X","X","X","X","X","X","X","X","X","X","X","X","X","X","X","X","X","X","X","X","X","X","X","X","X","X","X","X","X","X","X","X","X","X","X","X","X","X","X","X","X","X","X","X","X","X","X","X","X","X","X","X","X","X","X","X","X","X","X","X","X","X","X","X","X","X","X","X","X","X","X","X","X","X","X","X","X","X","X","X","X","X","X","X","X","X","X","X","X","X","X","X","X","X","X"]
[122,2,"X","X","X","X","X","X","X","X","X","X","X","X","X","X","X","X","X","X","X","X","X","X","X","X","X","X","X","X","X","X","X","X","X","X","X","X","X","X","X","X","X","X","X","X","X","X","X","X","X","X","X","X","X","X","X","X","X","X","X","X","X","X","X","X","X","X","X","X","X","X","X","X","X","X","X","X","X","X","X","X","X","X","X","X","X","X","X","X","X","X","X","X","X","X","X","X","X","X","X","X","X","X","X","X","X","X","X","X","X","X","X","X","X","X","X","X","X","X","X","X","X","X","X","X","X","X","X","X","X","X","X","X","X"]
[123,3,"X","X","X","X","X","X","X","X","X","X","X","X","X","X","X","X","X","X","X","X","X","X","X","X","X","X","X","X","X","X","X","X","X","X","X","X","X","X","X","X","X","X","X","X","X","X","X","X","X","X","X","X","X","X","X","X","X","X","X","X","X","X","X","X","X","X","X","X","X","X","X","X","X","X","X","X","X","X","X","X","X","X","X","X","X","X","X","X","X","X","X","X","X","X","X","X","X","X","X","X","X","X","X","X","X","X","X","X","X","X","X","X","X","X","X","X","X","X","X","X","X","X","X","X","X","X","X","X","X","X","X","X","X"]
[124,4,"X","X","X","X","X","X","X","X","X","X","X","X","X","X","X","X","X","X","X","X","X","X","X","X","X","X","X","X","X","X","X","X","X","X","X","X","X","X","X","X","X","X","X","X","X","X","X","X","X","X","X","X","X","X","X","X","X","X","X","X","X","X","X","X","X","X","X","X","X","X","X","X","X","X","X","X","X","X","X","X","X","X","X","X","X","X","X","X","X","X","X","X","X","X","X","X","X","X","X","X","X","X","X","X","X","X","X","X","X","X","X","X","X","X","X","X","X","X","X","X","X","X","X","X","X","X","X","X","X","X","X","X","X"]
[125,5,"X","X","X","X","X","X","X","X","X","X","X","X","X","X","X","X","X","X","X","X","X","X","X","X","X","X","X","X","X","X","X","X","X","X","X","X","X","X","X","X","X","X","X","X","X","X","X","X","X","X","X","X","X","X","X","X","X","X","X","X","X","X","X","X","X","X","X","X","X","X","X","X","X","X","X","X","X","X","X","X","X","X","X","X","X","X","X","X","X","X","X","X","X","X","X","X","X","X","X","X","X","X","X","X","X","X","X","X","X","X","X","X","X","X","X","X","X","X","X","X","X","X","X","X","X","X","X","X","X","X","X","X","X"]
[126,6,"X","X","X","X","X","X","X","X","X","X","X","X","X","X","X","X","X","X","X","X","X","X","X","X","X","X","X","X","X","X","X","X","X","X","X","X","X","X","X","X","X","X","X","X","X","X","X","X","X","X","X","X","X","X","X","X","X","X","X","X","X","X","X","X","X","X","X","X","X","X","X","X","X","X","X","X","X","X","X","X","X","X","X","X","X","X","X","X","X","X","X","X","X","X","X","X","X","X","X","X","X","X","X","X","X","X","X","X","X","X","X","X","X","X","X","X","X","X","X","X","X","X","X","X","X","X","X","X","X","X","X","X","X"]
[127,7,"X","X","X","X","X","X","X","X","X","X","X","X","X","X","X","X","X","X","X","X","X","X","X","X","X","X","X","X","X","X","X","X","X","X","X","X","X","X","X","X","X","X","X","X","X","X","X","X","X","X","X","X","X","X","X","X","X","X","X","X","X","X","X","X","X","X","X","X","X","X","X","X","X","X","X","X","X","X","X","X","X","X","X","X","X","X","X","X","X","X","X","X","X","X","X","X","X","X","X","X","X","X","X","X","X","X","X","X","X","X","X","X","X","X","X","X","X","X","X","X","X","X","X","X","X","X","X","X","X","X","X","X","X"]
[128,8,"X","X","X","X","X","X","X","X","X","X","X","X","X","X","X","X","X","X","X","X","X","X","X","X","X","X","X","X","X","X","X","X","X","X","X","X","X","X","X","X","X","X","X","X","X","X","X","X","X","X","X","X","X","X","X","X","X","X","X","X","X","X","X","X","X","X","X","X","X","X","X","X","X","X","X","X","X","X","X","X","X","X","X","X","X","X","X","X","X","X","X","X","X","X","X","X","X","X","X","X","X","X","X","X","X","X","X","X","X","X","X","X","X","X","X","X","X","X","X","X","X","X","X","X","X","X","X","X","X","X","X","X","X"]
[129,9,"X","X","X","X","X","X","X","X","X","X","X","X","X","X","X","X","X","X","X","X","X","X","X","X","X","X","X","X","X","X","X","X","X","X","X","X","X","X","X","X","X","X","X","X","X","X","X","X","X","X","X","X","X","X","X","X","X","X","X","X","X","X","X","X","X","X","X","X","X","X","X","X","X","X","X","X","X","X","X","X","X","X","X","X","X","X","X","X","X","X","X","X","X","X","X","X","X","X","X","X","X","X","X","X","X","X","X","X","X","X","X","X","X","X","X","X","X","X","X","X","X","X","X","X","X","X","X","X","X","X","X","X","X"]
[130,10,"X","X","X","X","X","X","X","X","X","X","X","X","X","X","X","X","X","X","X","X","X","X","X","X","X","X","X","X","X","X","X","X","X","X","X","X","X","X","X","X","X","X","X","X","X","X","X","X","X","X","X","X","X","X","X","X","X","X","X","X","X","X","X","X","X","X","X","X","X","X","X","X","X","X","X","X","X","X","X","X","X","X","X","X","X","X","X","X","X","X","X","X","X","X","X","X","X","X","X","X","X","X","X","X","X","X","X","X","X","X","X","X","X","X","X","X","X","X","X","X","X","X","X","X","X","X","X","X","X","X","X","X","X"]
[131,11,"X","X","X","X","X","X","X","X","X","X","X","X","X","X","X","X","X","X","X","X","X","X","X","X","X","X","X","X","X","X","X","X","X","X","X","X","X","X","X","X","X","X","X","X","X","X","X","X","X","X","X","X","X","X","X","X","X","X","X","X","X","X","X","X","X","X","X","X","X","X","X","X","X","X","X","X","X","X","X","X","X","X","X","X","X","X","X","X","X","X","X","X","X","X","X","X","X","X","X","X","X","X","X","X","X","X","X","X","X","X","X","X","X","X","X","X","X","X","X","X","X","X","X","X","X","X","X","X","X","X","X","X","X"]
[132,12,"X","X","X","X","X","X","X","X","X","X","X","X","X","X","X","X","X","X","X","X","X","X","X","X","X","X","X","X","X","X","X","X","X","X","X","X","X","X","X","X","X","X","X","X","X","X","X","X","X","X","X","X","X","X","X","X","X","X","X","X","X","X","X","X","X","X","X","X","X","X","X","X","X","X","X","X","X","X","X","X","X","X","X","X","X","X","X","X","X","X","X","X","X","X","X","X","X","X","X","X","X","X","X","X","X","X","X","X","X","X","X","X","X","X","X","X","X","X","X","X","X","X","X","X","X","X","X","X","X","X","X","X","X"]
[133,1,"X","X","X","X","X","X","X","X","X","X","X","X","X","X","X","X","X","X","X","X","X","X","X","X","X","X","X","X","X","X","X","X","X","X","X","X","X","X","X","X","X","X","X","X","X","X","X","X","X","X","X","X","X","X","X","X","X","X","X","X","X","X","X","X","X","X","X","X","X","X","X","X","X","X","X","X","X","X","X","X","X","X","X","X","X","X","X","X","X","X","X","X","X","X","X","X","X","X","X","X","X","X","X","X","X","X","X","X","X","X","X","X","X","X","X","X","X","X","X","X","X","X","X","X","X","X","X","X","X","X","X","X","X"]
[134,2,"X","X","X","X","X","X","X","X","X","X","X","X","X","X","X","X","X","X","X","X","X","X","X","X","X","X","X","X","X","X","X","X","X","X","X","X","X","X","X","X","X","X","X","X","X","X","X","X","X","X","X","X","X","X","X","X","X","X","X","X","X","X","X","X","X","X","X","X","X","X","X","X","X","X","X","X","X","X","X","X","X","X","X","X","X","X","X","X","X","X","X","X","X","X","X","X","X","X","X","X","X","X","X","X","X","X","X","X","X","X","X","X","X","X","X","X","X","X","X","X","X","X","X","X","X","X","X","X","X","X","X","X","X"]
[135,3,"X","X","X","X","X","X","X","X","X","X","X","X","X","X","X","X","X","X","X","X","X","X","X","X","X","X","X","X","X","X","X","X","X","X","X","X","X","X","X","X","X","X","X","X","X","X","X","X","X","X","X","X","X","X","X","X","X","X","X","X","X","X","X","X","X","X","X","X","X","X","X","X","X","X","X","X","X","X","X","X","X","X","X","X","X","X","X","X","X","X","X","X","X","X","X","X","X","X","X","X","X","X","X","X","X","X","X","X","X","X","X","X","X","X","X","X","X","X","X","X","X","X","X","X","X","X","X","X","X","X","X","X","X"]
[136,4,"X","X","X","X","X","X","X","X","X","X","X","X","X","X","X","X","X","X","X","X","X","X","X","X","X","X","X","X","X","X","X","X","X","X","X","X","X","X","X","X","X","X","X","X","X","X","X","X","X","X","X","X","X","X","X","X","X","X","X","X","X","X","X","X","X","X","X","X","X","X","X","X","X","X","X","X","X","X","X","X","X","X","X","X","X","X","X","X","X","X","X","X","X","X","X","X","X","X","X","X","X","X","X","X","X","X","X","X","X","X","X","X","X","X","X","X","X","X","X","X","X","X","X","X","X","X","X","X","X","X","X","X","X"]
[137,5,"X","X","X","X","X","X","X","X","X","X","X","X","X","X","X","X","X","X","X","X","X","X","X","X","X","X","X","X","X","X","X","X","X","X","X","X","X","X","X","X","X","X","X","X","X","X","X","X","X","X","X","X","X","X","X","X","X","X","X","X","X","X","X","X","X","X","X","X","X","X","X","X","X","X","X","X","X","X","X","X","X","X","X","X","X","X","X","X","X","X","X","X","X","X","X","X","X","X","X","X","X","X","X","X","X","X","X","X","X","X","X","X","X","X","X","X","X","X","X","X","X","X","X","X","X","X","X","X","X","X","X","X","X"]
[138,6,"X","X","X","X","X","X","X","X","X","X","X","X","X","X","X","X","X","X","X","X","X","X","X","X","X","X","X","X","X","X","X","X","X","X","X","X","X","X","X","X","X","X","X","X","X","X","X","X","X","X","X","X","X","X","X","X","X","X","X","X","X","X","X","X","X","X","X","X","X","X","X","X","X","X","X","X","X","X","X","X","X","X","X","X","X","X","X","X","X","X","X","X","X","X","X","X","X","X","X","X","X","X","X","X","X","X","X","X","X","X","X","X","X","X","X","X","X","X","X","X","X","X","X","X","X","X","X","X","X","X","X","X","X"]
[139,7,"X","X","X","X","X","X","X","X","X","X","X","X","X","X","X","X","X","X","X","X","X","X","X","X","X","X","X","X","X","X","X","X","X","X","X","X","X","X","X","X","X","X","X","X","X","X","X","X","X","X","X","X","X","X","X","X","X","X","X","X","X","X","X","X","X","X","X","X","X","X","X","X","X","X","X","X","X","X","X","X","X","X","X","X","X","X","X","X","X","X","X","X","X","X","X","X","X","X","X","X","X","X","X","X","X","X","X","X","X","X","X","X","X","X","X","X","X","X","X","X","X","X","X","X","X","X","X","X","X","X","X","X","X"]
[140,8,"X","X","X","X","X","X","X","X","X","X","X","X","X","X","X","X","X","X","X","X","X","X","X","X","X","X","X","X","X","X","X","X","X","X","X","X","X","X","X","X","X","X","X","X","X","X","X","X","X","X","X","X","X","X","X","X","X","X","X","X","X","X","X","X","X","X","X","X","X","X","X","X","X","X","X","X","X","X","X","X","X","X","X","X","X","X","X","X","X","X","X","X","X","X","X","X","X","X","X","X","X","X","X","X","X","X","X","X","X","X","X","X","X","X","X","X","X","X","X","X","X","X","X","X","X","X","X","X","X","X","X","X","X"]
[141,9,"X","X","X","X","X","X","X","X","X","X","X","X","X","X","X","X","X","X","X","X","X","X","X","X","X","X","X","X","X","X","X","X","X","X","X","X","X","X","X","X","X","X","X","X","X","X","X","X","X","X","X","X","X","X","X","X","X","X","X","X","X","X","X","X","X","X","X","X","X","X","X","X","X","X","X","X","X","X","X","X","X","X","X","X","X","X","X","X","X","X","X","X","X","X","X","X","X","X","X","X","X","X","X","X","X","X","X","X","X","X","X","X","X","X","X","X","X","X","X","X","X","X","X","X","X","X","X","X","X","X","X","X","X"]
[142,10,"X","X","X","X","X","X","X","X","X","X","X","X","X","X","X","X","X","X","X","X","X","X","X","X","X","X","X","X","X","X","X","X","X","X","X","X","X","X","X","X","X","X","X","X","X","X","X","X","X","X","X","X","X","X","X","X","X","X","X","X","X","X","X","X","X","X","X","X","X","X","X","X","X","X","X","X","X","X","X","X","X","X","X","X","X","X","X","X","X","X","X","X","X","X","X","X","X","X","X","X","X","X","X","X","X","X","X","X","X","X","X","X","X","X","X","X","X","X","X","X","X","X","X","X","X","X","X","X","X","X","X","X","X"]
[143,11,"X","X","X","X","X","X","X","X","X","X","X","X","X","X","X","X","X","X","X","X","X","X","X","X","X","X","X","X","X","X","X","X","X","X","X","X","X","X","X","X","X","X","X","X","X","X","X","X","X","X","X","X","X","X","X","X","X","X","X","X","X","X","X","X","X","X","X","X","X","X","X","X","X","X","X","X","X","X","X","X","X","X","X","X","X","X","X","X","X","X","X","X","X","X","X","X","X","X","X","X","X","X","X","X","X","X","X","X","X","X","X","X","X","X","X","X","X","X","X","X","X","X","X","X","X","X","X","X","X","X","X","X","X"]
[144,12,"X","X","X","X","X","X","X","X","X","X","X","X","X","X","X","X","X","X","X","X","X","X","X","X","X","X","X","X","X","X","X","X","X","X","X","X","X","X","X","X","X","X","X","X","X","X","X","X","X","X","X","X","X","X","X","X","X","X","X","X","X","X","X","X","X","X","X","X","X","X","X","X","X","X","X","X","X","X","X","X","X","X","X","X","X","X","X","X","X","X","X","X","X","X","X","X","X","X","X","X","X","X","X","X","X","X","X","X","X","X","X","X","X","X","X","X","X","X","X","X","X","X","X","X","X","X","X","X","X","X","X","X","X"]
[145,1,"X","X","X","X","X","X","X","X","X","X","X","X","X","X","X","X","X","X","X","X","X","X","X","X","X","X","X","X","X","X","X","X","X","X","X","X","X","X","X","X","X","X","X","X","X","X","X","X","X","X","X","X","X","X","X","X","X","X","X","X","X","X","X","X","X","X","X","X","X","X","X","X","X","X","X","X","X","X","X","X","X","X","X","X","X","X","X","X","X","X","X","X","X","X","X","X","X","X","X","X","X","X","X","X","X","X","X","X","X","X","X","X","X","X","X","X","X","X","X","X","X","X","X","X","X","X","X","X","X","X","X","X","X"]
[146,2,"X","X","X","X","X","X","X","X","X","X","X","X","X","X","X","X","X","X","X","X","X","X","X","X","X","X","X","X","X","X","X","X","X","X","X","X","X","X","X","X","X","X","X","X","X","X","X","X","X","X","X","X","X","X","X","X","X","X","X","X","X","X","X","X","X","X","X","X","X","X","X","X","X","X","X","X","X","X","X","X","X","X","X","X","X","X","X","X","X","X","X","X","X","X","X","X","X","X","X","X","X","X","X","X","X","X","X","X","X","X","X","X","X","X","X","X","X","X","X","X","X","X","X","X","X","X","X","X","X","X","X","X","X"]
[147,3,"X","X","X","X","X","X","X","X","X","X","X","X","X","X","X","X","X","X","X","X","X","X","X","X","X","X","X","X","X","X","X","X","X","X","X","X","X","X","X","X","X","X","X","X","X","X","X","X","X","X","X","X","X","X","X","X","X","X","X","X","X","X","X","X","X","X","X","X","X","X","X","X","X","X","X","X","X","X","X","X","X","X","X","X","X","X","X","X","X","X","X","X","X","X","X","X","X","X","X","X","X","X","X","X","X","X","X","X","X","X","X","X","X","X","X","X","X","X","X","X","X","X","X","X","X","X","X","X","X","X","X","X","X"]
[148,4,"X","X","X","X","X","X","X","X","X","X","X","X","X","X","X","X","X","X","X","X","X","X","X","X","X","X","X","X","X","X","X","X","X","X","X","X","X","X","X","X","X","X","X","X","X","X","X","X","X","X","X","X","X","X","X","X","X","X","X","X","X","X","X","X","X","X","X","X","X","X","X","X","X","X","X","X","X","X","X","X","X","X","X","X","X","X","X","X","X","X","X","X","X","X","X","X","X","X","X","X","X","X","X","X","X","X","X","X","X","X","X","X","X","X","X","X","X","X","X","X","X","X","X","X","X","X","X","X","X","X","X","X","X"]
[149,5,"X","X","X","X","X","X","X","X","X","X","X","X","X","X","X","X","X","X","X","X","X","X","X","X","X","X","X","X","X","X","X","X","X","X","X","X","X","X","X","X","X","X","X","X","X","X","X","X","X","X","X","X","X","X","X","X","X","X","X","X","X","X","X","X","X","X","X","X","X","X","X","X","X","X","X","X","X","X","X","X","X","X","X","X","X","X","X","X","X","X","X","X","X","X","X","X","X","X","X","X","X","X","X","X","X","X","X","X","X","X","X","X","X","X","X","X","X","X","X","X","X","X","X","X","X","X","X","X","X","X","X","X","X"]
[150,6,"X","X","X","X","X","X","X","X","X","X","X","X","X","X","X","X","X","X","X","X","X","X","X","X","X","X","X","X","X","X","X","X","X","X","X","X","X","X","X","X","X","X","X","X","X","X","X","X","X","X","X","X","X","X","X","X","X","X","X","X","X","X","X","X","X","X","X","X","X","X","X","X","X","X","X","X","X","X","X","X","X","X","X","X","X","X","X","X","X","X","X","X","X","X","X","X","X","X","X","X","X","X","X","X","X","X","X","X","X","X","X","X","X","X","X","X","X","X","X","X","X","X","X","X","X","X","X","X","X","X","X","X","X"]
[151,7,"X","X","X","X","X","X","X","X","X","X","X","X","X","X","X","X","X","X","X","X","X","X","X","X","X","X","X","X","X","X","X","X","X","X","X","X","X","X","X","X","X","X","X","X","X","X","X","X","X","X","X","X","X","X","X","X","X","X","X","X","X","X","X","X","X","X","X","X","X","X","X","X","X","X","X","X","X","X","X","X","X","X","X","X","X","X","X","X","X","X","X","X","X","X","X","X","X","X","X","X","X","X","X","X","X","X","X","X","X","X","X","X","X","X","X","X","X","X","X","X","X","X","X","X","X","X","X","X","X","X","X","X","X"]
[152,8,"X","X","X","X","X","X","X","X","X","X","X","X","X","X","X","X","X","X","X","X","X","X","X","X","X","X","X","X","X","X","X","X","X","X","X","X","X","X","X","X","X","X","X","X","X","X","X","X","X","X","X","X","X","X","X","X","X","X","X","X","X","X","X","X","X","X","X","X","X","X","X","X","X","X","X","X","X","X","X","X","X","X","X","X","X","X","X","X","X","X","X","X","X","X","X","X","X","X","X","X","X","X","X","X","X","X","X","X","X","X","X","X","X","X","X","X","X","X","X","X","X","X","X","X","X","X","X","X","X","X","X","X","X"]
[153,9,"X","X","X","X","X","X","X","X","X","X","X","X","X","X","X","X","X","X","X","X","X","X","X","X","X","X","X","X","X","X","X","X","X","X","X","X","X","X","X","X","X","X","X","X","X","X","X","X","X","X","X","X","X","X","X","X","X","X","X","X","X","X","X","X","X","X","X","X","X","X","X","X","X","X","X","X","X","X","X","X","X","X","X","X","X","X","X","X","X","X","X","X","X","X","X","X","X","X","X","X","X","X","X","X","X","X","X","X","X","X","X","X","X","X","X","X","X","X","X","X","X","X","X","X","X","X","X","X","X","X","X","X","X"]
[154,10,"X","X","X","X","X","X","X","X","X","X","X","X","X","X","X","X","X","X","X","X","X","X","X","X","X","X","X","X","X","X","X","X","X","X","X","X","X","X","X","X","X","X","X","X","X","X","X","X","X","X","X","X","X","X","X","X","X","X","X","X","X","X","X","X","X","X","X","X","X","X","X","X","X","X","X","X","X","X","X","X","X","X","X","X","X","X","X","X","X","X","X","X","X","X","X","X","X","X","X","X","X","X","X","X","X","X","X","X","X","X","X","X","X","X","X","X","X","X","X","X","X","X","X","X","X","X","X","X","X","X","X","X","X"]
[155,11,"X","X","X","X","X","X","X","X","X","X","X","X","X","X","X","X","X","X","X","X","X","X","X","X","X","X","X","X","X","X","X","X","X","X","X","X","X","X","X","X","X","X","X","X","X","X","X","X","X","X","X","X","X","X","X","X","X","X","X","X","X","X","X","X","X","X","X","X","X","X","X","X","X","X","X","X","X","X","X","X","X","X","X","X","X","X","X","X","X","X","X","X","X","X","X","X","X","X","X","X","X","X","X","X","X","X","X","X","X","X","X","X","X","X","X","X","X","X","X","X","X","X","X","X","X","X","X","X","X","X","X","X","X"]
[156,12,"X","X","X","X","X","X","X","X","X","X","X","X","X","X","X","X","X","X","X","X","X","X","X","X","X","X","X","X","X","X","X","X","X","X","X","X","X","X","X","X","X","X","X","X","X","X","X","X","X","X","X","X","X","X","X","X","X","X","X","X","X","X","X","X","X","X","X","X","X","X","X","X","X","X","X","X","X","X","X","X","X","X","X","X","X","X","X","X","X","X","X","X","X","X","X","X","X","X","X","X","X","X","X","X","X","X","X","X","X","X","X","X","X","X","X","X","X","X","X","X","X","X","X","X","X","X","X","X","X","X","X","X","X"]
[157,1,"X","X","X","X","X","X","X","X","X","X","X","X","X","X","X","X","X","X","X","X","X","X","X","X","X","X","X","X","X","X","X","X","X","X","X","X","X","X","X","X","X","X","X","X","X","X","X","X","X","X","X","X","X","X","X","X","X","X","X","X","X","X","X","X","X","X","X","X","X","X","X","X","X","X","X","X","X","X","X","X","X","X","X","X","X","X","X","X","X","X","X","X","X","X","X","X","X","X","X","X","X","X","X","X","X","X","X","X","X","X","X","X","X","X","X","X","X","X","X","X","X","X","X","X","X","X","X","X","X","X","X","X","X"]
[158,2,"X","X","X","X","X","X","X","X","X","X","X","X","X","X","X","X","X","X","X","X","X","X","X","X","X","X","X","X","X","X","X","X","X","X","X","X","X","X","X","X","X","X","X","X","X","X","X","X","X","X","X","X","X","X","X","X","X","X","X","X","X","X","X","X","X","X","X","X","X","X","X","X","X","X","X","X","X","X","X","X","X","X","X","X","X","X","X","X","X","X","X","X","X","X","X","X","X","X","X","X","X","X","X","X","X","X","X","X","X","X","X","X","X","X","X","X","X","X","X","X","X","X","X","X","X","X","X","X","X","X","X","X","X"]
[159,3,"X","X","X","X","X","X","X","X","X","X","X","X","X","X","X","X","X","X","X","X","X","X","X","X","X","X","X","X","X","X","X","X","X","X","X","X","X","X","X","X","X","X","X","X","X","X","X","X","X","X","X","X","X","X","X","X","X","X","X","X","X","X","X","X","X","X","X","X","X","X","X","X","X","X","X","X","X","X","X","X","X","X","X","X","X","X","X","X","X","X","X","X","X","X","X","X","X","X","X","X","X","X","X","X","X","X","X","X","X","X","X","X","X","X","X","X","X","X","X","X","X","X","X","X","X","X","X","X","X","X","X","X","X"]
[160,4,"X","X","X","X","X","X","X","X","X","X","X","X","X","X","X","X","X","X","X","X","X","X","X","X","X","X","X","X","X","X","X","X","X","X","X","X","X","X","X","X","X","X","X","X","X","X","X","X","X","X","X","X","X","X","X","X","X","X","X","X","X","X","X","X","X","X","X","X","X","X","X","X","X","X","X","X","X","X","X","X","X","X","X","X","X","X","X","X","X","X","X","X","X","X","X","X","X","X","X","X","X","X","X","X","X","X","X","X","X","X","X","X","X","X","X","X","X","X","X","X","X","X","X","X","X","X","X","X","X","X","X","X","X"]
[161,5,"X","X","X","X","X","X","X","X","X","X","X","X","X","X","X","X","X","X","X","X","X","X","X","X","X","X","X","X","X","X","X","X","X","X","X","X","X","X","X","X","X","X","X","X","X","X","X","X","X","X","X","X","X","X","X","X","X","X","X","X","X","X","X","X","X","X","X","X","X","X","X","X","X","X","X","X","X","X","X","X","X","X","X","X","X","X","X","X","X","X","X","X","X","X","X","X","X","X","X","X","X","X","X","X","X","X","X","X","X","X","X","X","X","X","X","X","X","X","X","X","X","X","X","X","X","X","X","X","X","X","X","X","X"]
[162,6,"X","X","X","X","X","X","X","X","X","X","X","X","X","X","X","X","X","X","X","X","X","X","X","X","X","X","X","X","X","X","X","X","X","X","X","X","X","X","X","X","X","X","X","X","X","X","X","X","X","X","X","X","X","X","X","X","X","X","X","X","X","X","X","X","X","X","X","X","X","X","X","X","X","X","X","X","X","X","X","X","X","X","X","X","X","X","X","X","X","X","X","X","X","X","X","X","X","X","X","X","X","X","X","X","X","X","X","X","X","X","X","X","X","X","X","X","X","X","X","X","X","X","X","X","X","X","X","X","X","X","X","X","X"]
[163,7,"X","X","X","X","X","X","X","X","X","X","X","X","X","X","X","X","X","X","X","X","X","X","X","X","X","X","X","X","X","X","X","X","X","X","X","X","X","X","X","X","X","X","X","X","X","X","X","X","X","X","X","X","X","X","X","X","X","X","X","X","X","X","X","X","X","X","X","X","X","X","X","X","X","X","X","X","X","X","X","X","X","X","X","X","X","X","X","X","X","X","X","X","X","X","X","X","X","X","X","X","X","X","X","X","X","X","X","X","X","X","X","X","X","X","X","X","X","X","X","X","X","X","X","X","X","X","X","X","X","X","X","X","X"]
[164,8,"X","X","X","X","X","X","X","X","X","X","X","X","X","X","X","X","X","X","X","X","X","X","X","X","X","X","X","X","X","X","X","X","X","X","X","X","X","X","X","X","X","X","X","X","X","X","X","X","X","X","X","X","X","X","X","X","X","X","X","X","X","X","X","X","X","X","X","X","X","X","X","X","X","X","X","X","X","X","X","X","X","X","X","X","X","X","X","X","X","X","X","X","X","X","X","X","X","X","X","X","X","X","X","X","X","X","X","X","X","X","X","X","X","X","X","X","X","X","X","X","X","X","X","X","X","X","X","X","X","X","X","X","X"]
[165,9,"X","X","X","X","X","X","X","X","X","X","X","X","X","X","X","X","X","X","X","X","X","X","X","X","X","X","X","X","X","X","X","X","X","X","X","X","X","X","X","X","X","X","X","X","X","X","X","X","X","X","X","X","X","X","X","X","X","X","X","X","X","X","X","X","X","X","X","X","X","X","X","X","X","X","X","X","X","X","X","X","X","X","X","X","X","X","X","X","X","X","X","X","X","X","X","X","X","X","X","X","X","X","X","X","X","X","X","X","X","X","X","X","X","X","X","X","X","X","X","X","X","X","X","X","X","X","X","X","X","X","X","X","X"]
[166,10,"X","X","X","X","X","X","X","X","X","X","X","X","X","X","X","X","X","X","X","X","X","X","X","X","X","X","X","X","X","X","X","X","X","X","X","X","X","X","X","X","X","X","X","X","X","X","X","X","X","X","X","X","X","X","X","X","X","X","X","X","X","X","X","X","X","X","X","X","X","X","X","X","X","X","X","X","X","X","X","X","X","X","X","X","X","X","X","X","X","X","X","X","X","X","X","X","X","X","X","X","X","X","X","X","X","X","X","X","X","X","X","X","X","X","X","X","X","X","X","X","X","X","X","X","X","X","X","X","X","X","X","X","X"]
[167,11,"X","X","X","X","X","X","X","X","X","X","X","X","X","X","X","X","X","X","X","X","X","X","X","X","X","X","X","X","X","X","X","X","X","X","X","X","X","X","X","X","X","X","X","X","X","X","X","X","X","X","X","X","X","X","X","X","X","X","X","X","X","X","X","X","X","X","X","X","X","X","X","X","X","X","X","X","X","X","X","X","X","X","X","X","X","X","X","X","X","X","X","X","X","X","X","X","X","X","X","X","X","X","X","X","X","X","X","X","X","X","X","X","X","X","X","X","X","X","X","X","X","X","X","X","X","X","X","X","X","X","X","X","X"]
[168,12,"X","X","X","X","X","X","X","X","X","X","X","X","X","X","X","X","X","X","X","X","X","X","X","X","X","X","X","X","X","X","X","X","X","X","X","X","X","X","X","X","X","X","X","X","X","X","X","X","X","X","X","X","X","X","X","X","X","X","X","X","X","X","X","X","X","X","X","X","X","X","X","X","X","X","X","X","X","X","X","X","X","X","X","X","X","X","X","X","X","X","X","X","X","X","X","X","X","X","X","X","X","X","X","X","X","X","X","X","X","X","X","X","X","X","X","X","X","X","X","X","X","X","X","X","X","X","X","X","X","X","X","X","X"]
[169,1,"X","X","X","X","X","X","X","X","X","X","X","X","X","X","X","X","X","X","X","X","X","X","X","X","X","X","X","X","X","X","X","X","X","X","X","X","X","X","X","X","X","X","X","X","X","X","X","X","X","X","X","X","X","X","X","X","X","X","X","X","X","X","X","X","X","X","X","X","X","X","X","X","X","X","X","X","X","X","X","X","X","X","X","X","X","X","X","X","X","X","X","X","X","X","X","X","X","X","X","X","X","X","X","X","X","X","X","X","X","X","X","X","X","X","X","X","X","X","X","X","X","X","X","X","X","X","X","X","X","X","X","X","X"]
[170,2,"X","X","X","X","X","X","X","X","X","X","X","X","X","X","X","X","X","X","X","X","X","X","X","X","X","X","X","X","X","X","X","X","X","X","X","X","X","X","X","X","X","X","X","X","X","X","X","X","X","X","X","X","X","X","X","X","X","X","X","X","X","X","X","X","X","X","X","X","X","X","X","X","X","X","X","X","X","X","X","X","X","X","X","X","X","X","X","X","X","X","X","X","X","X","X","X","X","X","X","X","X","X","X","X","X","X","X","X","X","X","X","X","X","X","X","X","X","X","X","X","X","X","X","X","X","X","X","X","X","X","X","X","X"]
[171,3,"X","X","X","X","X","X","X","X","X","X","X","X","X","X","X","X","X","X","X","X","X","X","X","X","X","X","X","X","X","X","X","X","X","X","X","X","X","X","X","X","X","X","X","X","X","X","X","X","X","X","X","X","X","X","X","X","X","X","X","X","X","X","X","X","X","X","X","X","X","X","X","X","X","X","X","X","X","X","X","X","X","X","X","X","X","X","X","X","X","X","X","X","X","X","X","X","X","X","X","X","X","X","X","X","X","X","X","X","X","X","X","X","X","X","X","X","X","X","X","X","X","X","X","X","X","X","X","X","X","X","X","X","X"]
[172,4,"X","X","X","X","X","X","X","X","X","X","X","X","X","X","X","X","X","X","X","X","X","X","X","X","X","X","X","X","X","X","X","X","X","X","X","X","X","X","X","X","X","X","X","X","X","X","X","X","X","X","X","X","X","X","X","X","X","X","X","X","X","X","X","X","X","X","X","X","X","X","X","X","X","X","X","X","X","X","X","X","X","X","X","X","X","X","X","X","X","X","X","X","X","X","X","X","X","X","X","X","X","X","X","X","X","X","X","X","X","X","X","X","X","X","X","X","X","X","X","X","X","X","X","X","X","X","X","X","X","X","X","X","X"]
[173,5,"X","X","X","X","X","X","X","X","X","X","X","X","X","X","X","X","X","X","X","X","X","X","X","X","X","X","X","X","X","X","X","X","X","X","X","X","X","X","X","X","X","X","X","X","X","X","X","X","X","X","X","X","X","X","X","X","X","X","X","X","X","X","X","X","X","X","X","X","X","X","X","X","X","X","X","X","X","X","X","X","X","X","X","X","X","X","X","X","X","X","X","X","X","X","X","X","X","X","X","X","X","X","X","X","X","X","X","X","X","X","X","X","X","X","X","X","X","X","X","X","X","X","X","X","X","X","X","X","X","X","X","X","X"]
[174,6,"X","X","X","X","X","X","X","X","X","X","X","X","X","X","X","X","X","X","X","X","X","X","X","X","X","X","X","X","X","X","X","X","X","X","X","X","X","X","X","X","X","X","X","X","X","X","X","X","X","X","X","X","X","X","X","X","X","X","X","X","X","X","X","X","X","X","X","X","X","X","X","X","X","X","X","X","X","X","X","X","X","X","X","X","X","X","X","X","X","X","X","X","X","X","X","X","X","X","X","X","X","X","X","X","X","X","X","X","X","X","X","X","X","X","X","X","X","X","X","X","X","X","X","X","X","X","X","X","X","X","X","X","X"]
[175,7,"X","X","X","X","X","X","X","X","X","X","X","X","X","X","X","X","X","X","X","X","X","X","X","X","X","X","X","X","X","X","X","X","X","X","X","X","X","X","X","X","X","X","X","X","X","X","X","X","X","X","X","X","X","X","X","X","X","X","X","X","X","X","X","X","X","X","X","X","X","X","X","X","X","X","X","X","X","X","X","X","X","X","X","X","X","X","X","X","X","X","X","X","X","X","X","X","X","X","X","X","X","X","X","X","X","X","X","X","X","X","X","X","X","X","X","X","X","X","X","X","X","X","X","X","X","X","X","X","X","X","X","X","X"]
[176,8,"X","X","X","X","X","X","X","X","X","X","X","X","X","X","X","X","X","X","X","X","X","X","X","X","X","X","X","X","X","X","X","X","X","X","X","X","X","X","X","X","X","X","X","X","X","X","X","X","X","X","X","X","X","X","X","X","X","X","X","X","X","X","X","X","X","X","X","X","X","X","X","X","X","X","X","X","X","X","X","X","X","X","X","X","X","X","X","X","X","X","X","X","X","X","X","X","X","X","X","X","X","X","X","X","X","X","X","X","X","X","X","X","X","X","X","X","X","X","X","X","X","X","X","X","X","X","X","X","X","X","X","X","X"]
[177,9,"X","X","X","X","X","X","X","X","X","X","X","X","X","X","X","X","X","X","X","X","X","X","X","X","X","X","X","X","X","X","X","X","X","X","X","X","X","X","X","X","X","X","X","X","X","X","X","X","X","X","X","X","X","X","X","X","X","X","X","X","X","X","X","X","X","X","X","X","X","X","X","X","X","X","X","X","X","X","X","X","X","X","X","X","X","X","X","X","X","X","X","X","X","X","X","X","X","X","X","X","X","X","X","X","X","X","X","X","X","X","X","X","X","X","X","X","X","X","X","X","X","X","X","X","X","X","X","X","X","X","X","X","X"]
[178,10,"X","X","X","X","X","X","X","X","X","X","X","X","X","X","X","X","X","X","X","X","X","X","X","X","X","X","X","X","X","X","X","X","X","X","X","X","X","X","X","X","X","X","X","X","X","X","X","X","X","X","X","X","X","X","X","X","X","X","X","X","X","X","X","X","X","X","X","X","X","X","X","X","X","X","X","X","X","X","X","X","X","X","X","X","X","X","X","X","X","X","X","X","X","X","X","X","X","X","X","X","X","X","X","X","X","X","X","X","X","X","X","X","X","X","X","X","X","X","X","X","X","X","X","X","X","X","X","X","X","X","X","X","X"]
[179,11,"X","X","X","X","X","X","X","X","X","X","X","X","X","X","X","X","X","X","X","X","X","X","X","X","X","X","X","X","X","X","X","X","X","X","X","X","X","X","X","X","X","X","X","X","X","X","X","X","X","X","X","X","X","X","X","X","X","X","X","X","X","X","X","X","X","X","X","X","X","X","X","X","X","X","X","X","X","X","X","X","X","X","X","X","X","X","X","X","X","X","X","X","X","X","X","X","X","X","X","X","X","X","X","X","X","X","X","X","X","X","X","X","X","X","X","X","X","X","X","X","X","X","X","X","X","X","X","X","X","X","X","X","X"]
[180,12,"X","X","X","X","X","X","X","X","X","X","X","X","X","X","X","X","X","X","X","X","X","X","X","X","X","X","X","X","X","X","X","X","X","X","X","X","X","X","X","X","X","X","X","X","X","X","X","X","X","X","X","X","X","X","X","X","X","X","X","X","X","X","X","X","X","X","X","X","X","X","X","X","X","X","X","X","X","X","X","X","X","X","X","X","X","X","X","X","X","X","X","X","X","X","X","X","X","X","X","X","X","X","X","X","X","X","X","X","X","X","X","X","X","X","X","X","X","X","X","X","X","X","X","X","X","X","X","X","X","X","X","X","X"]
[181,1,"X","X","X","X","X","X","X","X","X","X","X","X","X","X","X","X","X","X","X","X","X","X","X","X","X","X","X","X","X","X","X","X","X","X","X","X","X","X","X","X","X","X","X","X","X","X","X","X","X","X","X","X","X","X","X","X","X","X","X","X","X","X","X","X","X","X","X","X","X","X","X","X","X","X","X","X","X","X","X","X","X","X","X","X","X","X","X","X","X","X","X","X","X","X","X","X","X","X","X","X","X","X","X","X","X","X","X","X","X","X","X","X","X","X","X","X","X","X","X","X","X","X","X","X","X","X","X","X","X","X","X","X","X"]
[182,2,"X","X","X","X","X","X","X","X","X","X","X","X","X","X","X","X","X","X","X","X","X","X","X","X","X","X","X","X","X","X","X","X","X","X","X","X","X","X","X","X","X","X","X","X","X","X","X","X","X","X","X","X","X","X","X","X","X","X","X","X","X","X","X","X","X","X","X","X","X","X","X","X","X","X","X","X","X","X","X","X","X","X","X","X","X","X","X","X","X","X","X","X","X","X","X","X","X","X","X","X","X","X","X","X","X","X","X","X","X","X","X","X","X","X","X","X","X","X","X","X","X","X","X","X","X","X","X","X","X","X","X","X","X"]
[183,3,"X","X","X","X","X","X","X","X","X","X","X","X","X","X","X","X","X","X","X","X","X","X","X","X","X","X","X","X","X","X","X","X","X","X","X","X","X","X","X","X","X","X","X","X","X","X","X","X","X","X","X","X","X","X","X","X","X","X","X","X","X","X","X","X","X","X","X","X","X","X","X","X","X","X","X","X","X","X","X","X","X","X","X","X","X","X","X","X","X","X","X","X","X","X","X","X","X","X","X","X","X","X","X","X","X","X","X","X","X","X","X","X","X","X","X","X","X","X","X","X","X","X","X","X","X","X","X","X","X","X","X","X","X"]
[184,4,"X","X","X","X","X","X","X","X","X","X","X","X","X","X","X","X","X","X","X","X","X","X","X","X","X","X","X","X","X","X","X","X","X","X","X","X","X","X","X","X","X","X","X","X","X","X","X","X","X","X","X","X","X","X","X","X","X","X","X","X","X","X","X","X","X","X","X","X","X","X","X","X","X","X","X","X","X","X","X","X","X","X","X","X","X","X","X","X","X","X","X","X","X","X","X","X","X","X","X","X","X","X","X","X","X","X","X","X","X","X","X","X","X","X","X","X","X","X","X","X","X","X","X","X","X","X","X","X","X","X","X","X","X"]
[185,5,"X","X","X","X","X","X","X","X","X","X","X","X","X","X","X","X","X","X","X","X","X","X","X","X","X","X","X","X","X","X","X","X","X","X","X","X","X","X","X","X","X","X","X","X","X","X","X","X","X","X","X","X","X","X","X","X","X","X","X","X","X","X","X","X","X","X","X","X","X","X","X","X","X","X","X","X","X","X","X","X","X","X","X","X","X","X","X","X","X","X","X","X","X","X","X","X","X","X","X","X","X","X","X","X","X","X","X","X","X","X","X","X","X","X","X","X","X","X","X","X","X","X","X","X","X","X","X","X","X","X","X","X","X"]
[186,6,"X","X","X","X","X","X","X","X","X","X","X","X","X","X","X","X","X","X","X","X","X","X","X","X","X","X","X","X","X","X","X","X","X","X","X","X","X","X","X","X","X","X","X","X","X","X","X","X","X","X","X","X","X","X","X","X","X","X","X","X","X","X","X","X","X","X","X","X","X","X","X","X","X","X","X","X","X","X","X","X","X","X","X","X","X","X","X","X","X","X","X","X","X","X","X","X","X","X","X","X","X","X","X","X","X","X","X","X","X","X","X","X","X","X","X","X","X","X","X","X","X","X","X","X","X","X","X","X","X","X","X","X","X"]
[187,7,"X","X","X","X","X","X","X","X","X","X","X","X","X","X","X","X","X","X","X","X","X","X","X","X","X","X","X","X","X","X","X","X","X","X","X","X","X","X","X","X","X","X","X","X","X","X","X","X","X","X","X","X","X","X","X","X","X","X","X","X","X","X","X","X","X","X","X","X","X","X","X","X","X","X","X","X","X","X","X","X","X","X","X","X","X","X","X","X","X","X","X","X","X","X","X","X","X","X","X","X","X","X","X","X","X","X","X","X","X","X","X","X","X","X","X","X","X","X","X","X","X","X","X","X","X","X","X","X","X","X","X","X","X"]
[188,8,"X","X","X","X","X","X","X","X","X","X","X","X","X","X","X","X","X","X","X","X","X","X","X","X","X","X","X","X","X","X","X","X","X","X","X","X","X","X","X","X","X","X","X","X","X","X","X","X","X","X","X","X","X","X","X","X","X","X","X","X","X","X","X","X","X","X","X","X","X","X","X","X","X","X","X","X","X","X","X","X","X","X","X","X","X","X","X","X","X","X","X","X","X","X","X","X","X","X","X","X","X","X","X","X","X","X","X","X","X","X","X","X","X","X","X","X","X","X","X","X","X","X","X","X","X","X","X","X","X","X","X","X","X"]
[189,9,"X","X","X","X","X","X","X","X","X","X","X","X","X","X","X","X","X","X","X","X","X","X","X","X","X","X","X","X","X","X","X","X","X","X","X","X","X","X","X","X","X","X","X","X","X","X","X","X","X","X","X","X","X","X","X","X","X","X","X","X","X","X","X","X","X","X","X","X","X","X","X","X","X","X","X","X","X","X","X","X","X","X","X","X","X","X","X","X","X","X","X","X","X","X","X","X","X","X","X","X","X","X","X","X","X","X","X","X","X","X","X","X","X","X","X","X","X","X","X","X","X","X","X","X","X","X","X","X","X","X","X","X","X"]
[190,10,"X","X","X","X","X","X","X","X","X","X","X","X","X","X","X","X","X","X","X","X","X","X","X","X","X","X","X","X","X","X","X","X","X","X","X","X","X","X","X","X","X","X","X","X","X","X","X","X","X","X","X","X","X","X","X","X","X","X","X","X","X","X","X","X","X","X","X","X","X","X","X","X","X","X","X","X","X","X","X","X","X","X","X","X","X","X","X","X","X","X","X","X","X","X","X","X","X","X","X","X","X","X","X","X","X","X","X","X","X","X","X","X","X","X","X","X","X","X","X","X","X","X","X","X","X","X","X","X","X","X","X","X","X"]
[191,11,"X","X","X","X","X","X","X","X","X","X","X","X","X","X","X","X","X","X","X","X","X","X","X","X","X","X","X","X","X","X","X","X","X","X","X","X","X","X","X","X","X","X","X","X","X","X","X","X","X","X","X","X","X","X","X","X","X","X","X","X","X","X","X","X","X","X","X","X","X","X","X","X","X","X","X","X","X","X","X","X","X","X","X","X","X","X","X","X","X","X","X","X","X","X","X","X","X","X","X","X","X","X","X","X","X","X","X","X","X","X","X","X","X","X","X","X","X","X","X","X","X","X","X","X","X","X","X","X","X","X","X","X","X"]
[192,12,"X","X","X","X","X","X","X","X","X","X","X","X","X","X","X","X","X","X","X","X","X","X","X","X","X","X","X","X","X","X","X","X","X","X","X","X","X","X","X","X","X","X","X","X","X","X","X","X","X","X","X","X","X","X","X","X","X","X","X","X","X","X","X","X","X","X","X","X","X","X","X","X","X","X","X","X","X","X","X","X","X","X","X","X","X","X","X","X","X","X","X","X","X","X","X","X","X","X","X","X","X","X","X","X","X","X","X","X","X","X","X","X","X","X","X","X","X","X","X","X","X","X","X","X","X","X","X","X","X","X","X","X","X"]
[193,1,"X","X","X","X","X","X","X","X","X","X","X","X","X","X","X","X","X","X","X","X","X","X","X","X","X","X","X","X","X","X","X","X","X","X","X","X","X","X","X","X","X","X","X","X","X","X","X","X","X","X","X","X","X","X","X","X","X","X","X","X","X","X","X","X","X","X","X","X","X","X","X","X","X","X","X","X","X","X","X","X","X","X","X","X","X","X","X","X","X","X","X","X","X","X","X","X","X","X","X","X","X","X","X","X","X","X","X","X","X","X","X","X","X","X","X","X","X","X","X","X","X","X","X","X","X","X","X","X","X","X","X","X","X"]
[194,2,"X","X","X","X","X","X","X","X","X","X","X","X","X","X","X","X","X","X","X","X","X","X","X","X","X","X","X","X","X","X","X","X","X","X","X","X","X","X","X","X","X","X","X","X","X","X","X","X","X","X","X","X","X","X","X","X","X","X","X","X","X","X","X","X","X","X","X","X","X","X","X","X","X","X","X","X","X","X","X","X","X","X","X","X","X","X","X","X","X","X","X","X","X","X","X","X","X","X","X","X","X","X","X","X","X","X","X","X","X","X","X","X","X","X","X","X","X","X","X","X","X","X","X","X","X","X","X","X","X","X","X","X","X"]
[195,3,"X","X","X","X","X","X","X","X","X","X","X","X","X","X","X","X","X","X","X","X","X","X","X","X","X","X","X","X","X","X","X","X","X","X","X","X","X","X","X","X","X","X","X","X","X","X","X","X","X","X","X","X","X","X","X","X","X","X","X","X","X","X","X","X","X","X","X","X","X","X","X","X","X","X","X","X","X","X","X","X","X","X","X","X","X","X","X","X","X","X","X","X","X","X","X","X","X","X","X","X","X","X","X","X","X","X","X","X","X","X","X","X","X","X","X","X","X","X","X","X","X","X","X","X","X","X","X","X","X","X","X","X","X"]
[196,4,"X","X","X","X","X","X","X","X","X","X","X","X","X","X","X","X","X","X","X","X","X","X","X","X","X","X","X","X","X","X","X","X","X","X","X","X","X","X","X","X","X","X","X","X","X","X","X","X","X","X","X","X","X","X","X","X","X","X","X","X","X","X","X","X","X","X","X","X","X","X","X","X","X","X","X","X","X","X","X","X","X","X","X","X","X","X","X","X","X","X","X","X","X","X","X","X","X","X","X","X","X","X","X","X","X","X","X","X","X","X","X","X","X","X","X","X","X","X","X","X","X","X","X","X","X","X","X","X","X","X","X","X","X"]
[197,5,"X","X","X","X","X","X","X","X","X","X","X","X","X","X","X","X","X","X","X","X","X","X","X","X","X","X","X","X","X","X","X","X","X","X","X","X","X","X","X","X","X","X","X","X","X","X","X","X","X","X","X","X","X","X","X","X","X","X","X","X","X","X","X","X","X","X","X","X","X","X","X","X","X","X","X","X","X","X","X","X","X","X","X","X","X","X","X","X","X","X","X","X","X","X","X","X","X","X","X","X","X","X","X","X","X","X","X","X","X","X","X","X","X","X","X","X","X","X","X","X","X","X","X","X","X","X","X","X","X","X","X","X","X"]
[198,6,"X","X","X","X","X","X","X","X","X","X","X","X","X","X","X","X","X","X","X","X","X","X","X","X","X","X","X","X","X","X","X","X","X","X","X","X","X","X","X","X","X","X","X","X","X","X","X","X","X","X","X","X","X","X","X","X","X","X","X","X","X","X","X","X","X","X","X","X","X","X","X","X","X","X","X","X","X","X","X","X","X","X","X","X","X","X","X","X","X","X","X","X","X","X","X","X","X","X","X","X","X","X","X","X","X","X","X","X","X","X","X","X","X","X","X","X","X","X","X","X","X","X","X","X","X","X","X","X","X","X","X","X","X"]
[199,7,"X","X","X","X","X","X","X","X","X","X","X","X","X","X","X","X","X","X","X","X","X","X","X","X","X","X","X","X","X","X","X","X","X","X","X","X","X","X","X","X","X","X","X","X","X","X","X","X","X","X","X","X","X","X","X","X","X","X","X","X","X","X","X","X","X","X","X","X","X","X","X","X","X","X","X","X","X","X","X","X","X","X","X","X","X","X","X","X","X","X","X","X","X","X","X","X","X","X","X","X","X","X","X","X","X","X","X","X","X","X","X","X","X","X","X","X","X","X","X","X","X","X","X","X","X","X","X","X","X","X","X","X","X"]
[200,8,"X","X","X","X","X","X","X","X","X","X","X","X","X","X","X","X","X","X","X","X","X","X","X","X","X","X","X","X","X","X","X","X","X","X","X","X","X","X","X","X","X","X","X","X","X","X","X","X","X","X","X","X","X","X","X","X","X","X","X","X","X","X","X","X","X","X","X","X","X","X","X","X","X","X","X","X","X","X","X","X","X","X","X","X","X","X","X","X","X","X","X","X","X","X","X","X","X","X","X","X","X","X","X","X","X","X","X","X","X","X","X","X","X","X","X","X","X","X","X","X","X","X","X","X","X","X","X","X","X","X","X","X","X"]
[201,9,"X","X","X","X","X","X","X","X","X","X","X","X","X","X","X","X","X","X","X","X","X","X","X","X","X","X","X","X","X","X","X","X","X","X","X","X","X","X","X","X","X","X","X","X","X","X","X","X","X","X","X","X","X","X","X","X","X","X","X","X","X","X","X","X","X","X","X","X","X","X","X","X","X","X","X","X","X","X","X","X","X","X","X","X","X","X","X","X","X","X","X","X","X","X","X","X","X","X","X","X","X","X","X","X","X","X","X","X","X","X","X","X","X","X","X","X","X","X","X","X","X","X","X","X","X","X","X","X","X","X","X","X","X"]
[202,10,"X","X","X","X","X","X","X","X","X","X","X","X","X","X","X","X","X","X","X","X","X","X","X","X","X","X","X","X","X","X","X","X","X","X","X","X","X","X","X","X","X","X","X","X","X","X","X","X","X","X","X","X","X","X","X","X","X","X","X","X","X","X","X","X","X","X","X","X","X","X","X","X","X","X","X","X","X","X","X","X","X","X","X","X","X","X","X","X","X","X","X","X","X","X","X","X","X","X","X","X","X","X","X","X","X","X","X","X","X","X","X","X","X","X","X","X","X","X","X","X","X","X","X","X","X","X","X","X","X","X","X","X","X"]
[203,11,"X","X","X","X","X","X","X","X","X","X","X","X","X","X","X","X","X","X","X","X","X","X","X","X","X","X","X","X","X","X","X","X","X","X","X","X","X","X","X","X","X","X","X","X","X","X","X","X","X","X","X","X","X","X","X","X","X","X","X","X","X","X","X","X","X","X","X","X","X","X","X","X","X","X","X","X","X","X","X","X","X","X","X","X","X","X","X","X","X","X","X","X","X","X","X","X","X","X","X","X","X","X","X","X","X","X","X","X","X","X","X","X","X","X","X","X","X","X","X","X","X","X","X","X","X","X","X","X","X","X","X","X","X"]
[204,12,"X","X","X","X","X","X","X","X","X","X","X","X","X","X","X","X","X","X","X","X","X","X","X","X","X","X","X","X","X","X","X","X","X","X","X","X","X","X","X","X","X","X","X","X","X","X","X","X","X","X","X","X","X","X","X","X","X","X","X","X","X","X","X","X","X","X","X","X","X","X","X","X","X","X","X","X","X","X","X","X","X","X","X","X","X","X","X","X","X","X","X","X","X","X","X","X","X","X","X","X","X","X","X","X","X","X","X","X","X","X","X","X","X","X","X","X","X","X","X","X","X","X","X","X","X","X","X","X","X","X","X","X","X"]
[205,1,"X","X","X","X","X","X","X","X","X","X","X","X","X","X","X","X","X","X","X","X","X","X","X","X","X","X","X","X","X","X","X","X","X","X","X","X","X","X","X","X","X","X","X","X","X","X","X","X","X","X","X","X","X","X","X","X","X","X","X","X","X","X","X","X","X","X","X","X","X","X","X","X","X","X","X","X","X","X","X","X","X","X","X","X","X","X","X","X","X","X","X","X","X","X","X","X","X","X","X","X","X","X","X","X","X","X","X","X","X","X","X","X","X","X","X","X","X","X","X","X","X","X","X","X","X","X","X","X","X","X","X","X","X"]
[206,2,"X","X","X","X","X","X","X","X","X","X","X","X","X","X","X","X","X","X","X","X","X","X","X","X","X","X","X","X","X","X","X","X","X","X","X","X","X","X","X","X","X","X","X","X","X","X","X","X","X","X","X","X","X","X","X","X","X","X","X","X","X","X","X","X","X","X","X","X","X","X","X","X","X","X","X","X","X","X","X","X","X","X","X","X","X","X","X","X","X","X","X","X","X","X","X","X","X","X","X","X","X","X","X","X","X","X","X","X","X","X","X","X","X","X","X","X","X","X","X","X","X","X","X","X","X","X","X","X","X","X","X","X","X"]
[207,3,"X","X","X","X","X","X","X","X","X","X","X","X","X","X","X","X","X","X","X","X","X","X","X","X","X","X","X","X","X","X","X","X","X","X","X","X","X","X","X","X","X","X","X","X","X","X","X","X","X","X","X","X","X","X","X","X","X","X","X","X","X","X","X","X","X","X","X","X","X","X","X","X","X","X","X","X","X","X","X","X","X","X","X","X","X","X","X","X","X","X","X","X","X","X","X","X","X","X","X","X","X","X","X","X","X","X","X","X","X","X","X","X","X","X","X","X","X","X","X","X","X","X","X","X","X","X","X","X","X","X","X","X","X"]
[208,4,"X","X","X","X","X","X","X","X","X","X","X","X","X","X","X","X","X","X","X","X","X","X","X","X","X","X","X","X","X","X","X","X","X","X","X","X","X","X","X","X","X","X","X","X","X","X","X","X","X","X","X","X","X","X","X","X","X","X","X","X","X","X","X","X","X","X","X","X","X","X","X","X","X","X","X","X","X","X","X","X","X","X","X","X","X","X","X","X","X","X","X","X","X","X","X","X","X","X","X","X","X","X","X","X","X","X","X","X","X","X","X","X","X","X","X","X","X","X","X","X","X","X","X","X","X","X","X","X","X","X","X","X","X"]
[209,5,"X","X","X","X","X","X","X","X","X","X","X","X","X","X","X","X","X","X","X","X","X","X","X","X","X","X","X","X","X","X","X","X","X","X","X","X","X","X","X","X","X","X","X","X","X","X","X","X","X","X","X","X","X","X","X","X","X","X","X","X","X","X","X","X","X","X","X","X","X","X","X","X","X","X","X","X","X","X","X","X","X","X","X","X","X","X","X","X","X","X","X","X","X","X","X","X","X","X","X","X","X","X","X","X","X","X","X","X","X","X","X","X","X","X","X","X","X","X","X","X","X","X","X","X","X","X","X","X","X","X","X","X","X"]
[210,6,"X","X","X","X","X","X","X","X","X","X","X","X","X","X","X","X","X","X","X","X","X","X","X","X","X","X","X","X","X","X","X","X","X","X","X","X","X","X","X","X","X","X","X","X","X","X","X","X","X","X","X","X","X","X","X","X","X","X","X","X","X","X","X","X","X","X","X","X","X","X","X","X","X","X","X","X","X","X","X","X","X","X","X","X","X","X","X","X","X","X","X","X","X","X","X","X","X","X","X","X","X","X","X","X","X","X","X","X","X","X","X","X","X","X","X","X","X","X","X","X","X","X","X","X","X","X","X","X","X","X","X","X","X"]
[211,7,"X","X","X","X","X","X","X","X","X","X","X","X","X","X","X","X","X","X","X","X","X","X","X","X","X","X","X","X","X","X","X","X","X","X","X","X","X","X","X","X","X","X","X","X","X","X","X","X","X","X","X","X","X","X","X","X","X","X","X","X","X","X","X","X","X","X","X","X","X","X","X","X","X","X","X","X","X","X","X","X","X","X","X","X","X","X","X","X","X","X","X","X","X","X","X","X","X","X","X","X","X","X","X","X","X","X","X","X","X","X","X","X","X","X","X","X","X","X","X","X","X","X","X","X","X","X","X","X","X","X","X","X","X"]
[212,8,"X","X","X","X","X","X","X","X","X","X","X","X","X","X","X","X","X","X","X","X","X","X","X","X","X","X","X","X","X","X","X","X","X","X","X","X","X","X","X","X","X","X","X","X","X","X","X","X","X","X","X","X","X","X","X","X","X","X","X","X","X","X","X","X","X","X","X","X","X","X","X","X","X","X","X","X","X","X","X","X","X","X","X","X","X","X","X","X","X","X","X","X","X","X","X","X","X","X","X","X","X","X","X","X","X","X","X","X","X","X","X","X","X","X","X","X","X","X","X","X","X","X","X","X","X","X","X","X","X","X","X","X","X"]
[213,9,"X","X","X","X","X","X","X","X","X","X","X","X","X","X","X","X","X","X","X","X","X","X","X","X","X","X","X","X","X","X","X","X","X","X","X","X","X","X","X","X","X","X","X","X","X","X","X","X","X","X","X","X","X","X","X","X","X","X","X","X","X","X","X","X","X","X","X","X","X","X","X","X","X","X","X","X","X","X","X","X","X","X","X","X","X","X","X","X","X","X","X","X","X","X","X","X","X","X","X","X","X","X","X","X","X","X","X","X","X","X","X","X","X","X","X","X","X","X","X","X","X","X","X","X","X","X","X","X","X","X","X","X","X"]
[214,10,"X","X","X","X","X","X","X","X","X","X","X","X","X","X","X","X","X","X","X","X","X","X","X","X","X","X","X","X","X","X","X","X","X","X","X","X","X","X","X","X","X","X","X","X","X","X","X","X","X","X","X","X","X","X","X","X","X","X","X","X","X","X","X","X","X","X","X","X","X","X","X","X","X","X","X","X","X","X","X","X","X","X","X","X","X","X","X","X","X","X","X","X","X","X","X","X","X","X","X","X","X","X","X","X","X","X","X","X","X","X","X","X","X","X","X","X","X","X","X","X","X","X","X","X","X","X","X","X","X","X","X","X","X"]
[215,11,"X","X","X","X","X","X","X","X","X","X","X","X","X","X","X","X","X","X","X","X","X","X","X","X","X","X","X","X","X","X","X","X","X","X","X","X","X","X","X","X","X","X","X","X","X","X","X","X","X","X","X","X","X","X","X","X","X","X","X","X","X","X","X","X","X","X","X","X","X","X","X","X","X","X","X","X","X","X","X","X","X","X","X","X","X","X","X","X","X","X","X","X","X","X","X","X","X","X","X","X","X","X","X","X","X","X","X","X","X","X","X","X","X","X","X","X","X","X","X","X","X","X","X","X","X","X","X","X","X","X","X","X","X"]
[216,12,"X","X","X","X","X","X","X","X","X","X","X","X","X","X","X","X","X","X","X","X","X","X","X","X","X","X","X","X","X","X","X","X","X","X","X","X","X","X","X","X","X","X","X","X","X","X","X","X","X","X","X","X","X","X","X","X","X","X","X","X","X","X","X","X","X","X","X","X","X","X","X","X","X","X","X","X","X","X","X","X","X","X","X","X","X","X","X","X","X","X","X","X","X","X","X","X","X","X","X","X","X","X","X","X","X","X","X","X","X","X","X","X","X","X","X","X","X","X","X","X","X","X","X","X","X","X","X","X","X","X","X","X","X"]
[217,1,"X","X","X","X","X","X","X","X","X","X","X","X","X","X","X","X","X","X","X","X","X","X","X","X","X","X","X","X","X","X","X","X","X","X","X","X","X","X","X","X","X","X","X","X","X","X","X","X","X","X","X","X","X","X","X","X","X","X","X","X","X","X","X","X","X","X","X","X","X","X","X","X","X","X","X","X","X","X","X","X","X","X","X","X","X","X","X","X","X","X","X","X","X","X","X","X","X","X","X","X","X","X","X","X","X","X","X","X","X","X","X","X","X","X","X","X","X","X","X","X","X","X","X","X","X","X","X","X","X","X","X","X","X"]
[218,2,"X","X","X","X","X","X","X","X","X","X","X","X","X","X","X","X","X","X","X","X","X","X","X","X","X","X","X","X","X","X","X","X","X","X","X","X","X","X","X","X","X","X","X","X","X","X","X","X","X","X","X","X","X","X","X","X","X","X","X","X","X","X","X","X","X","X","X","X","X","X","X","X","X","X","X","X","X","X","X","X","X","X","X","X","X","X","X","X","X","X","X","X","X","X","X","X","X","X","X","X","X","X","X","X","X","X","X","X","X","X","X","X","X","X","X","X","X","X","X","X","X","X","X","X","X","X","X","X","X","X","X","X","X"]
[219,3,"X","X","X","X","X","X","X","X","X","X","X","X","X","X","X","X","X","X","X","X","X","X","X","X","X","X","X","X","X","X","X","X","X","X","X","X","X","X","X","X","X","X","X","X","X","X","X","X","X","X","X","X","X","X","X","X","X","X","X","X","X","X","X","X","X","X","X","X","X","X","X","X","X","X","X","X","X","X","X","X","X","X","X","X","X","X","X","X","X","X","X","X","X","X","X","X","X","X","X","X","X","X","X","X","X","X","X","X","X","X","X","X","X","X","X","X","X","X","X","X","X","X","X","X","X","X","X","X","X","X","X","X","X"]
[220,4,"X","X","X","X","X","X","X","X","X","X","X","X","X","X","X","X","X","X","X","X","X","X","X","X","X","X","X","X","X","X","X","X","X","X","X","X","X","X","X","X","X","X","X","X","X","X","X","X","X","X","X","X","X","X","X","X","X","X","X","X","X","X","X","X","X","X","X","X","X","X","X","X","X","X","X","X","X","X","X","X","X","X","X","X","X","X","X","X","X","X","X","X","X","X","X","X","X","X","X","X","X","X","X","X","X","X","X","X","X","X","X","X","X","X","X","X","X","X","X","X","X","X","X","X","X","X","X","X","X","X","X","X","X"]
[221,5,"X","X","X","X","X","X","X","X","X","X","X","X","X","X","X","X","X","X","X","X","X","X","X","X","X","X","X","X","X","X","X","X","X","X","X","X","X","X","X","X","X","X","X","X","X","X","X","X","X","X","X","X","X","X","X","X","X","X","X","X","X","X","X","X","X","X","X","X","X","X","X","X","X","X","X","X","X","X","X","X","X","X","X","X","X","X","X","X","X","X","X","X","X","X","X","X","X","X","X","X","X","X","X","X","X","X","X","X","X","X","X","X","X","X","X","X","X","X","X","X","X","X","X","X","X","X","X","X","X","X","X","X","X"]
[222,6,"X","X","X","X","X","X","X","X","X","X","X","X","X","X","X","X","X","X","X","X","X","X","X","X","X","X","X","X","X","X","X","X","X","X","X","X","X","X","X","X","X","X","X","X","X","X","X","X","X","X","X","X","X","X","X","X","X","X","X","X","X","X","X","X","X","X","X","X","X","X","X","X","X","X","X","X","X","X","X","X","X","X","X","X","X","X","X","X","X","X","X","X","X","X","X","X","X","X","X","X","X","X","X","X","X","X","X","X","X","X","X","X","X","X","X","X","X","X","X","X","X","X","X","X","X","X","X","X","X","X","X","X","X"]
[223,7,"X","X","X","X","X","X","X","X","X","X","X","X","X","X","X","X","X","X","X","X","X","X","X","X","X","X","X","X","X","X","X","X","X","X","X","X","X","X","X","X","X","X","X","X","X","X","X","X","X","X","X","X","X","X","X","X","X","X","X","X","X","X","X","X","X","X","X","X","X","X","X","X","X","X","X","X","X","X","X","X","X","X","X","X","X","X","X","X","X","X","X","X","X","X","X","X","X","X","X","X","X","X","X","X","X","X","X","X","X","X","X","X","X","X","X","X","X","X","X","X","X","X","X","X","X","X","X","X","X","X","X","X","X"]
[224,8,"X","X","X","X","X","X","X","X","X","X","X","X","X","X","X","X","X","X","X","X","X","X","X","X","X","X","X","X","X","X","X","X","X","X","X","X","X","X","X","X","X","X","X","X","X","X","X","X","X","X","X","X","X","X","X","X","X","X","X","X","X","X","X","X","X","X","X","X","X","X","X","X","X","X","X","X","X","X","X","X","X","X","X","X","X","X","X","X","X","X","X","X","X","X","X","X","X","X","X","X","X","X","X","X","X","X","X","X","X","X","X","X","X","X","X","X","X","X","X","X","X","X","X","X","X","X","X","X","X","X","X","X","X"]
[225,9,"X","X","X","X","X","X","X","X","X","X","X","X","X","X","X","X","X","X","X","X","X","X","X","X","X","X","X","X","X","X","X","X","X","X","X","X","X","X","X","X","X","X","X","X","X","X","X","X","X","X","X","X","X","X","X","X","X","X","X","X","X","X","X","X","X","X","X","X","X","X","X","X","X","X","X","X","X","X","X","X","X","X","X","X","X","X","X","X","X","X","X","X","X","X","X","X","X","X","X","X","X","X","X","X","X","X","X","X","X","X","X","X","X","X","X","X","X","X","X","X","X","X","X","X","X","X","X","X","X","X","X","X","X"]
[226,10,"X","X","X","X","X","X","X","X","X","X","X","X","X","X","X","X","X","X","X","X","X","X","X","X","X","X","X","X","X","X","X","X","X","X","X","X","X","X","X","X","X","X","X","X","X","X","X","X","X","X","X","X","X","X","X","X","X","X","X","X","X","X","X","X","X","X","X","X","X","X","X","X","X","X","X","X","X","X","X","X","X","X","X","X","X","X","X","X","X","X","X","X","X","X","X","X","X","X","X","X","X","X","X","X","X","X","X","X","X","X","X","X","X","X","X","X","X","X","X","X","X","X","X","X","X","X","X","X","X","X","X","X","X"]
[227,11,"X","X","X","X","X","X","X","X","X","X","X","X","X","X","X","X","X","X","X","X","X","X","X","X","X","X","X","X","X","X","X","X","X","X","X","X","X","X","X","X","X","X","X","X","X","X","X","X","X","X","X","X","X","X","X","X","X","X","X","X","X","X","X","X","X","X","X","X","X","X","X","X","X","X","X","X","X","X","X","X","X","X","X","X","X","X","X","X","X","X","X","X","X","X","X","X","X","X","X","X","X","X","X","X","X","X","X","X","X","X","X","X","X","X","X","X","X","X","X","X","X","X","X","X","X","X","X","X","X","X","X","X","X"]
[228,12,"X","X","X","X","X","X","X","X","X","X","X","X","X","X","X","X","X","X","X","X","X","X","X","X","X","X","X","X","X","X","X","X","X","X","X","X","X","X","X","X","X","X","X","X","X","X","X","X","X","X","X","X","X","X","X","X","X","X","X","X","X","X","X","X","X","X","X","X","X","X","X","X","X","X","X","X","X","X","X","X","X","X","X","X","X","X","X","X","X","X","X","X","X","X","X","X","X","X","X","X","X","X","X","X","X","X","X","X","X","X","X","X","X","X","X","X","X","X","X","X","X","X","X","X","X","X","X","X","X","X","X","X","X"]
[229,1,"X","X","X","X","X","X","X","X","X","X","X","X","X","X","X","X","X","X","X","X","X","X","X","X","X","X","X","X","X","X","X","X","X","X","X","X","X","X","X","X","X","X","X","X","X","X","X","X","X","X","X","X","X","X","X","X","X","X","X","X","X","X","X","X","X","X","X","X","X","X","X","X","X","X","X","X","X","X","X","X","X","X","X","X","X","X","X","X","X","X","X","X","X","X","X","X","X","X","X","X","X","X","X","X","X","X","X","X","X","X","X","X","X","X","X","X","X","X","X","X","X","X","X","X","X","X","X","X","X","X","X","X","X"]
[230,2,"X","X","X","X","X","X","X","X","X","X","X","X","X","X","X","X","X","X","X","X","X","X","X","X","X","X","X","X","X","X","X","X","X","X","X","X","X","X","X","X","X","X","X","X","X","X","X","X","X","X","X","X","X","X","X","X","X","X","X","X","X","X","X","X","X","X","X","X","X","X","X","X","X","X","X","X","X","X","X","X","X","X","X","X","X","X","X","X","X","X","X","X","X","X","X","X","X","X","X","X","X","X","X","X","X","X","X","X","X","X","X","X","X","X","X","X","X","X","X","X","X","X","X","X","X","X","X","X","X","X","X","X","X"]
[231,3,"X","X","X","X","X","X","X","X","X","X","X","X","X","X","X","X","X","X","X","X","X","X","X","X","X","X","X","X","X","X","X","X","X","X","X","X","X","X","X","X","X","X","X","X","X","X","X","X","X","X","X","X","X","X","X","X","X","X","X","X","X","X","X","X","X","X","X","X","X","X","X","X","X","X","X","X","X","X","X","X","X","X","X","X","X","X","X","X","X","X","X","X","X","X","X","X","X","X","X","X","X","X","X","X","X","X","X","X","X","X","X","X","X","X","X","X","X","X","X","X","X","X","X","X","X","X","X","X","X","X","X","X","X"]
[232,4,"X","X","X","X","X","X","X","X","X","X","X","X","X","X","X","X","X","X","X","X","X","X","X","X","X","X","X","X","X","X","X","X","X","X","X","X","X","X","X","X","X","X","X","X","X","X","X","X","X","X","X","X","X","X","X","X","X","X","X","X","X","X","X","X","X","X","X","X","X","X","X","X","X","X","X","X","X","X","X","X","X","X","X","X","X","X","X","X","X","X","X","X","X","X","X","X","X","X","X","X","X","X","X","X","X","X","X","X","X","X","X","X","X","X","X","X","X","X","X","X","X","X","X","X","X","X","X","X","X","X","X","X","X"]
[233,5,"X","X","X","X","X","X","X","X","X","X","X","X","X","X","X","X","X","X","X","X","X","X","X","X","X","X","X","X","X","X","X","X","X","X","X","X","X","X","X","X","X","X","X","X","X","X","X","X","X","X","X","X","X","X","X","X","X","X","X","X","X","X","X","X","X","X","X","X","X","X","X","X","X","X","X","X","X","X","X","X","X","X","X","X","X","X","X","X","X","X","X","X","X","X","X","X","X","X","X","X","X","X","X","X","X","X","X","X","X","X","X","X","X","X","X","X","X","X","X","X","X","X","X","X","X","X","X","X","X","X","X","X","X"]
[234,6,"X","X","X","X","X","X","X","X","X","X","X","X","X","X","X","X","X","X","X","X","X","X","X","X","X","X","X","X","X","X","X","X","X","X","X","X","X","X","X","X","X","X","X","X","X","X","X","X","X","X","X","X","X","X","X","X","X","X","X","X","X","X","X","X","X","X","X","X","X","X","X","X","X","X","X","X","X","X","X","X","X","X","X","X","X","X","X","X","X","X","X","X","X","X","X","X","X","X","X","X","X","X","X","X","X","X","X","X","X","X","X","X","X","X","X","X","X","X","X","X","X","X","X","X","X","X","X","X","X","X","X","X","X"]
[235,7,"X","X","X","X","X","X","X","X","X","X","X","X","X","X","X","X","X","X","X","X","X","X","X","X","X","X","X","X","X","X","X","X","X","X","X","X","X","X","X","X","X","X","X","X","X","X","X","X","X","X","X","X","X","X","X","X","X","X","X","X","X","X","X","X","X","X","X","X","X","X","X","X","X","X","X","X","X","X","X","X","X","X","X","X","X","X","X","X","X","X","X","X","X","X","X","X","X","X","X","X","X","X","X","X","X","X","X","X","X","X","X","X","X","X","X","X","X","X","X","X","X","X","X","X","X","X","X","X","X","X","X","X","X"]
[236,8,"X","X","X","X","X","X","X","X","X","X","X","X","X","X","X","X","X","X","X","X","X","X","X","X","X","X","X","X","X","X","X","X","X","X","X","X","X","X","X","X","X","X","X","X","X","X","X","X","X","X","X","X","X","X","X","X","X","X","X","X","X","X","X","X","X","X","X","X","X","X","X","X","X","X","X","X","X","X","X","X","X","X","X","X","X","X","X","X","X","X","X","X","X","X","X","X","X","X","X","X","X","X","X","X","X","X","X","X","X","X","X","X","X","X","X","X","X","X","X","X","X","X","X","X","X","X","X","X","X","X","X","X","X"]
[237,9,"X","X","X","X","X","X","X","X","X","X","X","X","X","X","X","X","X","X","X","X","X","X","X","X","X","X","X","X","X","X","X","X","X","X","X","X","X","X","X","X","X","X","X","X","X","X","X","X","X","X","X","X","X","X","X","X","X","X","X","X","X","X","X","X","X","X","X","X","X","X","X","X","X","X","X","X","X","X","X","X","X","X","X","X","X","X","X","X","X","X","X","X","X","X","X","X","X","X","X","X","X","X","X","X","X","X","X","X","X","X","X","X","X","X","X","X","X","X","X","X","X","X","X","X","X","X","X","X","X","X","X","X","X"]
[238,10,"X","X","X","X","X","X","X","X","X","X","X","X","X","X","X","X","X","X","X","X","X","X","X","X","X","X","X","X","X","X","X","X","X","X","X","X","X","X","X","X","X","X","X","X","X","X","X","X","X","X","X","X","X","X","X","X","X","X","X","X","X","X","X","X","X","X","X","X","X","X","X","X","X","X","X","X","X","X","X","X","X","X","X","X","X","X","X","X","X","X","X","X","X","X","X","X","X","X","X","X","X","X","X","X","X","X","X","X","X","X","X","X","X","X","X","X","X","X","X","X","X","X","X","X","X","X","X","X","X","X","X","X","X"]
[239,11,"X","X","X","X","X","X","X","X","X","X","X","X","X","X","X","X","X","X","X","X","X","X","X","X","X","X","X","X","X","X","X","X","X","X","X","X","X","X","X","X","X","X","X","X","X","X","X","X","X","X","X","X","X","X","X","X","X","X","X","X","X","X","X","X","X","X","X","X","X","X","X","X","X","X","X","X","X","X","X","X","X","X","X","X","X","X","X","X","X","X","X","X","X","X","X","X","X","X","X","X","X","X","X","X","X","X","X","X","X","X","X","X","X","X","X","X","X","X","X","X","X","X","X","X","X","X","X","X","X","X","X","X","X"]
[240,12,"X","X","X","X","X","X","X","X","X","X","X","X","X","X","X","X","X","X","X","X","X","X","X","X","X","X","X","X","X","X","X","X","X","X","X","X","X","X","X","X","X","X","X","X","X","X","X","X","X","X","X","X","X","X","X","X","X","X","X","X","X","X","X","X","X","X","X","X","X","X","X","X","X","X","X","X","X","X","X","X","X","X","X","X","X","X","X","X","X","X","X","X","X","X","X","X","X","X","X","X","X","X","X","X","X","X","X","X","X","X","X","X","X","X","X","X","X","X","X","X","X","X","X","X","X","X","X","X","X","X","X","X","X"]
[241,1,"X","X","X","X","X","X","X","X","X","X","X","X","X","X","X","X","X","X","X","X","X","X","X","X","X","X","X","X","X","X","X","X","X","X","X","X","X","X","X","X","X","X","X","X","X","X","X","X","X","X","X","X","X","X","X","X","X","X","X","X","X","X","X","X","X","X","X","X","X","X","X","X","X","X","X","X","X","X","X","X","X","X","X","X","X","X","X","X","X","X","X","X","X","X","X","X","X","X","X","X","X","X","X","X","X","X","X","X","X","X","X","X","X","X","X","X","X","X","X","X","X","X","X","X","X","X","X","X","X","X","X","X","X"]
[242,2,"X","X","X","X","X","X","X","X","X","X","X","X","X","X","X","X","X","X","X","X","X","X","X","X","X","X","X","X","X","X","X","X","X","X","X","X","X","X","X","X","X","X","X","X","X","X","X","X","X","X","X","X","X","X","X","X","X","X","X","X","X","X","X","X","X","X","X","X","X","X","X","X","X","X","X","X","X","X","X","X","X","X","X","X","X","X","X","X","X","X","X","X","X","X","X","X","X","X","X","X","X","X","X","X","X","X","X","X","X","X","X","X","X","X","X","X","X","X","X","X","X","X","X","X","X","X","X","X","X","X","X","X","X"]
[243,3,"X","X","X","X","X","X","X","X","X","X","X","X","X","X","X","X","X","X","X","X","X","X","X","X","X","X","X","X","X","X","X","X","X","X","X","X","X","X","X","X","X","X","X","X","X","X","X","X","X","X","X","X","X","X","X","X","X","X","X","X","X","X","X","X","X","X","X","X","X","X","X","X","X","X","X","X","X","X","X","X","X","X","X","X","X","X","X","X","X","X","X","X","X","X","X","X","X","X","X","X","X","X","X","X","X","X","X","X","X","X","X","X","X","X","X","X","X","X","X","X","X","X","X","X","X","X","X","X","X","X","X","X","X"]
[244,4,"X","X","X","X","X","X","X","X","X","X","X","X","X","X","X","X","X","X","X","X","X","X","X","X","X","X","X","X","X","X","X","X","X","X","X","X","X","X","X","X","X","X","X","X","X","X","X","X","X","X","X","X","X","X","X","X","X","X","X","X","X","X","X","X","X","X","X","X","X","X","X","X","X","X","X","X","X","X","X","X","X","X","X","X","X","X","X","X","X","X","X","X","X","X","X","X","X","X","X","X","X","X","X","X","X","X","X","X","X","X","X","X","X","X","X","X","X","X","X","X","X","X","X","X","X","X","X","X","X","X","X","X","X"]
[245,5,"X","X","X","X","X","X","X","X","X","X","X","X","X","X","X","X","X","X","X","X","X","X","X","X","X","X","X","X","X","X","X","X","X","X","X","X","X","X","X","X","X","X","X","X","X","X","X","X","X","X","X","X","X","X","X","X","X","X","X","X","X","X","X","X","X","X","X","X","X","X","X","X","X","X","X","X","X","X","X","X","X","X","X","X","X","X","X","X","X","X","X","X","X","X","X","X","X","X","X","X","X","X","X","X","X","X","X","X","X","X","X","X","X","X","X","X","X","X","X","X","X","X","X","X","X","X","X","X","X","X","X","X","X"]
[246,6,"X","X","X","X","X","X","X","X","X","X","X","X","X","X","X","X","X","X","X","X","X","X","X","X","X","X","X","X","X","X","X","X","X","X","X","X","X","X","X","X","X","X","X","X","X","X","X","X","X","X","X","X","X","X","X","X","X","X","X","X","X","X","X","X","X","X","X","X","X","X","X","X","X","X","X","X","X","X","X","X","X","X","X","X","X","X","X","X","X","X","X","X","X","X","X","X","X","X","X","X","X","X","X","X","X","X","X","X","X","X","X","X","X","X","X","X","X","X","X","X","X","X","X","X","X","X","X","X","X","X","X","X","X"]
[247,7,"X","X","X","X","X","X","X","X","X","X","X","X","X","X","X","X","X","X","X","X","X","X","X","X","X","X","X","X","X","X","X","X","X","X","X","X","X","X","X","X","X","X","X","X","X","X","X","X","X","X","X","X","X","X","X","X","X","X","X","X","X","X","X","X","X","X","X","X","X","X","X","X","X","X","X","X","X","X","X","X","X","X","X","X","X","X","X","X","X","X","X","X","X","X","X","X","X","X","X","X","X","X","X","X","X","X","X","X","X","X","X","X","X","X","X","X","X","X","X","X","X","X","X","X","X","X","X","X","X","X","X","X","X"]
[248,8,"X","X","X","X","X","X","X","X","X","X","X","X","X","X","X","X","X","X","X","X","X","X","X","X","X","X","X","X","X","X","X","X","X","X","X","X","X","X","X","X","X","X","X","X","X","X","X","X","X","X","X","X","X","X","X","X","X","X","X","X","X","X","X","X","X","X","X","X","X","X","X","X","X","X","X","X","X","X","X","X","X","X","X","X","X","X","X","X","X","X","X","X","X","X","X","X","X","X","X","X","X","X","X","X","X","X","X","X","X","X","X","X","X","X","X","X","X","X","X","X","X","X","X","X","X","X","X","X","X","X","X","X","X"]
[249,9,"X","X","X","X","X","X","X","X","X","X","X","X","X","X","X","X","X","X","X","X","X","X","X","X","X","X","X","X","X","X","X","X","X","X","X","X","X","X","X","X","X","X","X","X","X","X","X","X","X","X","X","X","X","X","X","X","X","X","X","X","X","X","X","X","X","X","X","X","X","X","X","X","X","X","X","X","X","X","X","X","X","X","X","X","X","X","X","X","X","X","X","X","X","X","X","X","X","X","X","X","X","X","X","X","X","X","X","X","X","X","X","X","X","X","X","X","X","X","X","X","X","X","X","X","X","X","X","X","X","X","X","X","X"]
[250,10,"X","X","X","X","X","X","X","X","X","X","X","X","X","X","X","X","X","X","X","X","X","X","X","X","X","X","X","X","X","X","X","X","X","X","X","X","X","X","X","X","X","X","X","X","X","X","X","X","X","X","X","X","X","X","X","X","X","X","X","X","X","X","X","X","X","X","X","X","X","X","X","X","X","X","X","X","X","X","X","X","X","X","X","X","X","X","X","X","X","X","X","X","X","X","X","X","X","X","X","X","X","X","X","X","X","X","X","X","X","X","X","X","X","X","X","X","X","X","X","X","X","X","X","X","X","X","X","X","X","X","X","X","X"]
[251,11,"X","X","X","X","X","X","X","X","X","X","X","X","X","X","X","X","X","X","X","X","X","X","X","X","X","X","X","X","X","X","X","X","X","X","X","X","X","X","X","X","X","X","X","X","X","X","X","X","X","X","X","X","X","X","X","X","X","X","X","X","X","X","X","X","X","X","X","X","X","X","X","X","X","X","X","X","X","X","X","X","X","X","X","X","X","X","X","X","X","X","X","X","X","X","X","X","X","X","X","X","X","X","X","X","X","X","X","X","X","X","X","X","X","X","X","X","X","X","X","X","X","X","X","X","X","X","X","X","X","X","X","X","X"]
[252,12,"X","X","X","X","X","X","X","X","X","X","X","X","X","X","X","X","X","X","X","X","X","X","X","X","X","X","X","X","X","X","X","X","X","X","X","X","X","X","X","X","X","X","X","X","X","X","X","X","X","X","X","X","X","X","X","X","X","X","X","X","X","X","X","X","X","X","X","X","X","X","X","X","X","X","X","X","X","X","X","X","X","X","X","X","X","X","X","X","X","X","X","X","X","X","X","X","X","X","X","X","X","X","X","X","X","X","X","X","X","X","X","X","X","X","X","X","X","X","X","X","X","X","X","X","X","X","X","X","X","X","X","X","X"]
[253,1,"X","X","X","X","X","X","X","X","X","X","X","X","X","X","X","X","X","X","X","X","X","X","X","X","X","X","X","X","X","X","X","X","X","X","X","X","X","X","X","X","X","X","X","X","X","X","X","X","X","X","X","X","X","X","X","X","X","X","X","X","X","X","X","X","X","X","X","X","X","X","X","X","X","X","X","X","X","X","X","X","X","X","X","X","X","X","X","X","X","X","X","X","X","X","X","X","X","X","X","X","X","X","X","X","X","X","X","X","X","X","X","X","X","X","X","X","X","X","X","X","X","X","X","X","X","X","X","X","X","X","X","X","X"]
[254,2,"X","X","X","X","X","X","X","X","X","X","X","X","X","X","X","X","X","X","X","X","X","X","X","X","X","X","X","X","X","X","X","X","X","X","X","X","X","X","X","X","X","X","X","X","X","X","X","X","X","X","X","X","X","X","X","X","X","X","X","X","X","X","X","X","X","X","X","X","X","X","X","X","X","X","X","X","X","X","X","X","X","X","X","X","X","X","X","X","X","X","X","X","X","X","X","X","X","X","X","X","X","X","X","X","X","X","X","X","X","X","X","X","X","X","X","X","X","X","X","X","X","X","X","X","X","X","X","X","X","X","X","X","X"]
[255,3,"X","X","X","X","X","X","X","X","X","X","X","X","X","X","X","X","X","X","X","X","X","X","X","X","X","X","X","X","X","X","X","X","X","X","X","X","X","X","X","X","X","X","X","X","X","X","X","X","X","X","X","X","X","X","X","X","X","X","X","X","X","X","X","X","X","X","X","X","X","X","X","X","X","X","X","X","X","X","X","X","X","X","X","X","X","X","X","X","X","X","X","X","X","X","X","X","X","X","X","X","X","X","X","X","X","X","X","X","X","X","X","X","X","X","X","X","X","X","X","X","X","X","X","X","X","X","X","X","X","X","X","X","X"]
[256,4,"X","X","X","X","X","X","X","X","X","X","X","X","X","X","X","X","X","X","X","X","X","X","X","X","X","X","X","X","X","X","X","X","X","X","X","X","X","X","X","X","X","X","X","X","X","X","X","X","X","X","X","X","X","X","X","X","X","X","X","X","X","X","X","X","X","X","X","X","X","X","X","X","X","X","X","X","X","X","X","X","X","X","X","X","X","X","X","X","X","X","X","X","X","X","X","X","X","X","X","X","X","X","X","X","X","X","X","X","X","X","X","X","X","X","X","X","X","X","X","X","X","X","X","X","X","X","X","X","X","X","X","X","X"]
[257,5,"X","X","X","X","X","X","X","X","X","X","X","X","X","X","X","X","X","X","X","X","X","X","X","X","X","X","X","X","X","X","X","X","X","X","X","X","X","X","X","X","X","X","X","X","X","X","X","X","X","X","X","X","X","X","X","X","X","X","X","X","X","X","X","X","X","X","X","X","X","X","X","X","X","X","X","X","X","X","X","X","X","X","X","X","X","X","X","X","X","X","X","X","X","X","X","X","X","X","X","X","X","X","X","X","X","X","X","X","X","X","X","X","X","X","X","X","X","X","X","X","X","X","X","X","X","X","X","X","X","X","X","X","X"]
[258,6,"X","X","X","X","X","X","X","X","X","X","X","X","X","X","X","X","X","X","X","X","X","X","X","X","X","X","X","X","X","X","X","X","X","X","X","X","X","X","X","X","X","X","X","X","X","X","X","X","X","X","X","X","X","X","X","X","X","X","X","X","X","X","X","X","X","X","X","X","X","X","X","X","X","X","X","X","X","X","X","X","X","X","X","X","X","X","X","X","X","X","X","X","X","X","X","X","X","X","X","X","X","X","X","X","X","X","X","X","X","X","X","X","X","X","X","X","X","X","X","X","X","X","X","X","X","X","X","X","X","X","X","X","X"]
[259,7,"X","X","X","X","X","X","X","X","X","X","X","X","X","X","X","X","X","X","X","X","X","X","X","X","X","X","X","X","X","X","X","X","X","X","X","X","X","X","X","X","X","X","X","X","X","X","X","X","X","X","X","X","X","X","X","X","X","X","X","X","X","X","X","X","X","X","X","X","X","X","X","X","X","X","X","X","X","X","X","X","X","X","X","X","X","X","X","X","X","X","X","X","X","X","X","X","X","X","X","X","X","X","X","X","X","X","X","X","X","X","X","X","X","X","X","X","X","X","X","X","X","X","X","X","X","X","X","X","X","X","X","X","X"]
[260,8,"X","X","X","X","X","X","X","X","X","X","X","X","X","X","X","X","X","X","X","X","X","X","X","X","X","X","X","X","X","X","X","X","X","X","X","X","X","X","X","X","X","X","X","X","X","X","X","X","X","X","X","X","X","X","X","X","X","X","X","X","X","X","X","X","X","X","X","X","X","X","X","X","X","X","X","X","X","X","X","X","X","X","X","X","X","X","X","X","X","X","X","X","X","X","X","X","X","X","X","X","X","X","X","X","X","X","X","X","X","X","X","X","X","X","X","X","X","X","X","X","X","X","X","X","X","X","X","X","X","X","X","X","X"]
[261,9,"X","X","X","X","X","X","X","X","X","X","X","X","X","X","X","X","X","X","X","X","X","X","X","X","X","X","X","X","X","X","X","X","X","X","X","X","X","X","X","X","X","X","X","X","X","X","X","X","X","X","X","X","X","X","X","X","X","X","X","X","X","X","X","X","X","X","X","X","X","X","X","X","X","X","X","X","X","X","X","X","X","X","X","X","X","X","X","X","X","X","X","X","X","X","X","X","X","X","X","X","X","X","X","X","X","X","X","X","X","X","X","X","X","X","X","X","X","X","X","X","X","X","X","X","X","X","X","X","X","X","X","X","X"]
[262,10,"X","X","X","X","X","X","X","X","X","X","X","X","X","X","X","X","X","X","X","X","X","X","X","X","X","X","X","X","X","X","X","X","X","X","X","X","X","X","X","X","X","X","X","X","X","X","X","X","X","X","X","X","X","X","X","X","X","X","X","X","X","X","X","X","X","X","X","X","X","X","X","X","X","X","X","X","X","X","X","X","X","X","X","X","X","X","X","X","X","X","X","X","X","X","X","X","X","X","X","X","X","X","X","X","X","X","X","X","X","X","X","X","X","X","X","X","X","X","X","X","X","X","X","X","X","X","X","X","X","X","X","X","X"]
[263,11,"X","X","X","X","X","X","X","X","X","X","X","X","X","X","X","X","X","X","X","X","X","X","X","X","X","X","X","X","X","X","X","X","X","X","X","X","X","X","X","X","X","X","X","X","X","X","X","X","X","X","X","X","X","X","X","X","X","X","X","X","X","X","X","X","X","X","X","X","X","X","X","X","X","X","X","X","X","X","X","X","X","X","X","X","X","X","X","X","X","X","X","X","X","X","X","X","X","X","X","X","X","X","X","X","X","X","X","X","X","X","X","X","X","X","X","X","X","X","X","X","X","X","X","X","X","X","X","X","X","X","X","X","X"]
[264,12,"X","X","X","X","X","X","X","X","X","X","X","X","X","X","X","X","X","X","X","X","X","X","X","X","X","X","X","X","X","X","X","X","X","X","X","X","X","X","X","X","X","X","X","X","X","X","X","X","X","X","X","X","X","X","X","X","X","X","X","X","X","X","X","X","X","X","X","X","X","X","X","X","X","X","X","X","X","X","X","X","X","X","X","X","X","X","X","X","X","X","X","X","X","X","X","X","X","X","X","X","X","X","X","X","X","X","X","X","X","X","X","X","X","X","X","X","X","X","X","X","X","X","X","X","X","X","X","X","X","X","X","X","X"]
[265,1,"X","X","X","X","X","X","X","X","X","X","X","X","X","X","X","X","X","X","X","X","X","X","X","X","X","X","X","X","X","X","X","X","X","X","X","X","X","X","X","X","X","X","X","X","X","X","X","X","X","X","X","X","X","X","X","X","X","X","X","X","X","X","X","X","X","X","X","X","X","X","X","X","X","X","X","X","X","X","X","X","X","X","X","X","X","X","X","X","X","X","X","X","X","X","X","X","X","X","X","X","X","X","X","X","X","X","X","X","X","X","X","X","X","X","X","X","X","X","X","X","X","X","X","X","X","X","X","X","X","X","X","X","X"]
[266,2,"X","X","X","X","X","X","X","X","X","X","X","X","X","X","X","X","X","X","X","X","X","X","X","X","X","X","X","X","X","X","X","X","X","X","X","X","X","X","X","X","X","X","X","X","X","X","X","X","X","X","X","X","X","X","X","X","X","X","X","X","X","X","X","X","X","X","X","X","X","X","X","X","X","X","X","X","X","X","X","X","X","X","X","X","X","X","X","X","X","X","X","X","X","X","X","X","X","X","X","X","X","X","X","X","X","X","X","X","X","X","X","X","X","X","X","X","X","X","X","X","X","X","X","X","X","X","X","X","X","X","X","X","X"]
[267,3,"X","X","X","X","X","X","X","X","X","X","X","X","X","X","X","X","X","X","X","X","X","X","X","X","X","X","X","X","X","X","X","X","X","X","X","X","X","X","X","X","X","X","X","X","X","X","X","X","X","X","X","X","X","X","X","X","X","X","X","X","X","X","X","X","X","X","X","X","X","X","X","X","X","X","X","X","X","X","X","X","X","X","X","X","X","X","X","X","X","X","X","X","X","X","X","X","X","X","X","X","X","X","X","X","X","X","X","X","X","X","X","X","X","X","X","X","X","X","X","X","X","X","X","X","X","X","X","X","X","X","X","X","X"]
[268,4,"X","X","X","X","X","X","X","X","X","X","X","X","X","X","X","X","X","X","X","X","X","X","X","X","X","X","X","X","X","X","X","X","X","X","X","X","X","X","X","X","X","X","X","X","X","X","X","X","X","X","X","X","X","X","X","X","X","X","X","X","X","X","X","X","X","X","X","X","X","X","X","X","X","X","X","X","X","X","X","X","X","X","X","X","X","X","X","X","X","X","X","X","X","X","X","X","X","X","X","X","X","X","X","X","X","X","X","X","X","X","X","X","X","X","X","X","X","X","X","X","X","X","X","X","X","X","X","X","X","X","X","X","X"]
[269,5,"X","X","X","X","X","X","X","X","X","X","X","X","X","X","X","X","X","X","X","X","X","X","X","X","X","X","X","X","X","X","X","X","X","X","X","X","X","X","X","X","X","X","X","X","X","X","X","X","X","X","X","X","X","X","X","X","X","X","X","X","X","X","X","X","X","X","X","X","X","X","X","X","X","X","X","X","X","X","X","X","X","X","X","X","X","X","X","X","X","X","X","X","X","X","X","X","X","X","X","X","X","X","X","X","X","X","X","X","X","X","X","X","X","X","X","X","X","X","X","X","X","X","X","X","X","X","X","X","X","X","X","X","X"]
[270,6,"X","X","X","X","X","X","X","X","X","X","X","X","X","X","X","X","X","X","X","X","X","X","X","X","X","X","X","X","X","X","X","X","X","X","X","X","X","X","X","X","X","X","X","X","X","X","X","X","X","X","X","X","X","X","X","X","X","X","X","X","X","X","X","X","X","X","X","X","X","X","X","X","X","X","X","X","X","X","X","X","X","X","X","X","X","X","X","X","X","X","X","X","X","X","X","X","X","X","X","X","X","X","X","X","X","X","X","X","X","X","X","X","X","X","X","X","X","X","X","X","X","X","X","X","X","X","X","X","X","X","X","X","X"]
[271,7,"X","X","X","X","X","X","X","X","X","X","X","X","X","X","X","X","X","X","X","X","X","X","X","X","X","X","X","X","X","X","X","X","X","X","X","X","X","X","X","X","X","X","X","X","X","X","X","X","X","X","X","X","X","X","X","X","X","X","X","X","X","X","X","X","X","X","X","X","X","X","X","X","X","X","X","X","X","X","X","X","X","X","X","X","X","X","X","X","X","X","X","X","X","X","X","X","X","X","X","X","X","X","X","X","X","X","X","X","X","X","X","X","X","X","X","X","X","X","X","X","X","X","X","X","X","X","X","X","X","X","X","X","X"]
[272,8,"X","X","X","X","X","X","X","X","X","X","X","X","X","X","X","X","X","X","X","X","X","X","X","X","X","X","X","X","X","X","X","X","X","X","X","X","X","X","X","X","X","X","X","X","X","X","X","X","X","X","X","X","X","X","X","X","X","X","X","X","X","X","X","X","X","X","X","X","X","X","X","X","X","X","X","X","X","X","X","X","X","X","X","X","X","X","X","X","X","X","X","X","X","X","X","X","X","X","X","X","X","X","X","X","X","X","X","X","X","X","X","X","X","X","X","X","X","X","X","X","X","X","X","X","X","X","X","X","X","X","X","X","X"]
[273,9,"X","X","X","X","X","X","X","X","X","X","X","X","X","X","X","X","X","X","X","X","X","X","X","X","X","X","X","X","X","X","X","X","X","X","X","X","X","X","X","X","X","X","X","X","X","X","X","X","X","X","X","X","X","X","X","X","X","X","X","X","X","X","X","X","X","X","X","X","X","X","X","X","X","X","X","X","X","X","X","X","X","X","X","X","X","X","X","X","X","X","X","X","X","X","X","X","X","X","X","X","X","X","X","X","X","X","X","X","X","X","X","X","X","X","X","X","X","X","X","X","X","X","X","X","X","X","X","X","X","X","X","X","X"]
[274,10,"X","X","X","X","X","X","X","X","X","X","X","X","X","X","X","X","X","X","X","X","X","X","X","X","X","X","X","X","X","X","X","X","X","X","X","X","X","X","X","X","X","X","X","X","X","X","X","X","X","X","X","X","X","X","X","X","X","X","X","X","X","X","X","X","X","X","X","X","X","X","X","X","X","X","X","X","X","X","X","X","X","X","X","X","X","X","X","X","X","X","X","X","X","X","X","X","X","X","X","X","X","X","X","X","X","X","X","X","X","X","X","X","X","X","X","X","X","X","X","X","X","X","X","X","X","X","X","X","X","X","X","X","X"]
[275,11,"X","X","X","X","X","X","X","X","X","X","X","X","X","X","X","X","X","X","X","X","X","X","X","X","X","X","X","X","X","X","X","X","X","X","X","X","X","X","X","X","X","X","X","X","X","X","X","X","X","X","X","X","X","X","X","X","X","X","X","X","X","X","X","X","X","X","X","X","X","X","X","X","X","X","X","X","X","X","X","X","X","X","X","X","X","X","X","X","X","X","X","X","X","X","X","X","X","X","X","X","X","X","X","X","X","X","X","X","X","X","X","X","X","X","X","X","X","X","X","X","X","X","X","X","X","X","X","X","X","X","X","X","X"]
[276,12,"X","X","X","X","X","X","X","X","X","X","X","X","X","X","X","X","X","X","X","X","X","X","X","X","X","X","X","X","X","X","X","X","X","X","X","X","X","X","X","X","X","X","X","X","X","X","X","X","X","X","X","X","X","X","X","X","X","X","X","X","X","X","X","X","X","X","X","X","X","X","X","X","X","X","X","X","X","X","X","X","X","X","X","X","X","X","X","X","X","X","X","X","X","X","X","X","X","X","X","X","X","X","X","X","X","X","X","X","X","X","X","X","X","X","X","X","X","X","X","X","X","X","X","X","X","X","X","X","X","X","X","X","X"]
[277,1,"X","X","X","X","X","X","X","X","X","X","X","X","X","X","X","X","X","X","X","X","X","X","X","X","X","X","X","X","X","X","X","X","X","X","X","X","X","X","X","X","X","X","X","X","X","X","X","X","X","X","X","X","X","X","X","X","X","X","X","X","X","X","X","X","X","X","X","X","X","X","X","X","X","X","X","X","X","X","X","X","X","X","X","X","X","X","X","X","X","X","X","X","X","X","X","X","X","X","X","X","X","X","X","X","X","X","X","X","X","X","X","X","X","X","X","X","X","X","X","X","X","X","X","X","X","X","X","X","X","X","X","X","X"]
[278,2,"X","X","X","X","X","X","X","X","X","X","X","X","X","X","X","X","X","X","X","X","X","X","X","X","X","X","X","X","X","X","X","X","X","X","X","X","X","X","X","X","X","X","X","X","X","X","X","X","X","X","X","X","X","X","X","X","X","X","X","X","X","X","X","X","X","X","X","X","X","X","X","X","X","X","X","X","X","X","X","X","X","X","X","X","X","X","X","X","X","X","X","X","X","X","X","X","X","X","X","X","X","X","X","X","X","X","X","X","X","X","X","X","X","X","X","X","X","X","X","X","X","X","X","X","X","X","X","X","X","X","X","X","X"]
[279,3,"X","X","X","X","X","X","X","X","X","X","X","X","X","X","X","X","X","X","X","X","X","X","X","X","X","X","X","X","X","X","X","X","X","X","X","X","X","X","X","X","X","X","X","X","X","X","X","X","X","X","X","X","X","X","X","X","X","X","X","X","X","X","X","X","X","X","X","X","X","X","X","X","X","X","X","X","X","X","X","X","X","X","X","X","X","X","X","X","X","X","X","X","X","X","X","X","X","X","X","X","X","X","X","X","X","X","X","X","X","X","X","X","X","X","X","X","X","X","X","X","X","X","X","X","X","X","X","X","X","X","X","X","X"]
[280,4,"X","X","X","X","X","X","X","X","X","X","X","X","X","X","X","X","X","X","X","X","X","X","X","X","X","X","X","X","X","X","X","X","X","X","X","X","X","X","X","X","X","X","X","X","X","X","X","X","X","X","X","X","X","X","X","X","X","X","X","X","X","X","X","X","X","X","X","X","X","X","X","X","X","X","X","X","X","X","X","X","X","X","X","X","X","X","X","X","X","X","X","X","X","X","X","X","X","X","X","X","X","X","X","X","X","X","X","X","X","X","X","X","X","X","X","X","X","X","X","X","X","X","X","X","X","X","X","X","X","X","X","X","X"]
[281,5,"X","X","X","X","X","X","X","X","X","X","X","X","X","X","X","X","X","X","X","X","X","X","X","X","X","X","X","X","X","X","X","X","X","X","X","X","X","X","X","X","X","X","X","X","X","X","X","X","X","X","X","X","X","X","X","X","X","X","X","X","X","X","X","X","X","X","X","X","X","X","X","X","X","X","X","X","X","X","X","X","X","X","X","X","X","X","X","X","X","X","X","X","X","X","X","X","X","X","X","X","X","X","X","X","X","X","X","X","X","X","X","X","X","X","X","X","X","X","X","X","X","X","X","X","X","X","X","X","X","X","X","X","X"]
[282,6,"X","X","X","X","X","X","X","X","X","X","X","X","X","X","X","X","X","X","X","X","X","X","X","X","X","X","X","X","X","X","X","X","X","X","X","X","X","X","X","X","X","X","X","X","X","X","X","X","X","X","X","X","X","X","X","X","X","X","X","X","X","X","X","X","X","X","X","X","X","X","X","X","X","X","X","X","X","X","X","X","X","X","X","X","X","X","X","X","X","X","X","X","X","X","X","X","X","X","X","X","X","X","X","X","X","X","X","X","X","X","X","X","X","X","X","X","X","X","X","X","X","X","X","X","X","X","X","X","X","X","X","X","X"]
[283,7,"X","X","X","X","X","X","X","X","X","X","X","X","X","X","X","X","X","X","X","X","X","X","X","X","X","X","X","X","X","X","X","X","X","X","X","X","X","X","X","X","X","X","X","X","X","X","X","X","X","X","X","X","X","X","X","X","X","X","X","X","X","X","X","X","X","X","X","X","X","X","X","X","X","X","X","X","X","X","X","X","X","X","X","X","X","X","X","X","X","X","X","X","X","X","X","X","X","X","X","X","X","X","X","X","X","X","X","X","X","X","X","X","X","X","X","X","X","X","X","X","X","X","X","X","X","X","X","X","X","X","X","X","X"]
[284,8,"X","X","X","X","X","X","X","X","X","X","X","X","X","X","X","X","X","X","X","X","X","X","X","X","X","X","X","X","X","X","X","X","X","X","X","X","X","X","X","X","X","X","X","X","X","X","X","X","X","X","X","X","X","X","X","X","X","X","X","X","X","X","X","X","X","X","X","X","X","X","X","X","X","X","X","X","X","X","X","X","X","X","X","X","X","X","X","X","X","X","X","X","X","X","X","X","X","X","X","X","X","X","X","X","X","X","X","X","X","X","X","X","X","X","X","X","X","X","X","X","X","X","X","X","X","X","X","X","X","X","X","X","X"]
[285,9,"X","X","X","X","X","X","X","X","X","X","X","X","X","X","X","X","X","X","X","X","X","X","X","X","X","X","X","X","X","X","X","X","X","X","X","X","X","X","X","X","X","X","X","X","X","X","X","X","X","X","X","X","X","X","X","X","X","X","X","X","X","X","X","X","X","X","X","X","X","X","X","X","X","X","X","X","X","X","X","X","X","X","X","X","X","X","X","X","X","X","X","X","X","X","X","X","X","X","X","X","X","X","X","X","X","X","X","X","X","X","X","X","X","X","X","X","X","X","X","X","X","X","X","X","X","X","X","X","X","X","X","X","X"]
[286,10,"X","X","X","X","X","X","X","X","X","X","X","X","X","X","X","X","X","X","X","X","X","X","X","X","X","X","X","X","X","X","X","X","X","X","X","X","X","X","X","X","X","X","X","X","X","X","X","X","X","X","X","X","X","X","X","X","X","X","X","X","X","X","X","X","X","X","X","X","X","X","X","X","X","X","X","X","X","X","X","X","X","X","X","X","X","X","X","X","X","X","X","X","X","X","X","X","X","X","X","X","X","X","X","X","X","X","X","X","X","X","X","X","X","X","X","X","X","X","X","X","X","X","X","X","X","X","X","X","X","X","X","X","X"]
[287,11,"X","X","X","X","X","X","X","X","X","X","X","X","X","X","X","X","X","X","X","X","X","X","X","X","X","X","X","X","X","X","X","X","X","X","X","X","X","X","X","X","X","X","X","X","X","X","X","X","X","X","X","X","X","X","X","X","X","X","X","X","X","X","X","X","X","X","X","X","X","X","X","X","X","X","X","X","X","X","X","X","X","X","X","X","X","X","X","X","X","X","X","X","X","X","X","X","X","X","X","X","X","X","X","X","X","X","X","X","X","X","X","X","X","X","X","X","X","X","X","X","X","X","X","X","X","X","X","X","X","X","X","X","X"]
[288,12,"X","X","X","X","X","X","X","X","X","X","X","X","X","X","X","X","X","X","X","X","X","X","X","X","X","X","X","X","X","X","X","X","X","X","X","X","X","X","X","X","X","X","X","X","X","X","X","X","X","X","X","X","X","X","X","X","X","X","X","X","X","X","X","X","X","X","X","X","X","X","X","X","X","X","X","X","X","X","X","X","X","X","X","X","X","X","X","X","X","X","X","X","X","X","X","X","X","X","X","X","X","X","X","X","X","X","X","X","X","X","X","X","X","X","X","X","X","X","X","X","X","X","X","X","X","X","X","X","X","X","X","X","X"]
[289,1,"X","X","X","X","X","X","X","X","X","X","X","X","X","X","X","X","X","X","X","X","X","X","X","X","X","X","X","X","X","X","X","X","X","X","X","X","X","X","X","X","X","X","X","X","X","X","X","X","X","X","X","X","X","X","X","X","X","X","X","X","X","X","X","X","X","X","X","X","X","X","X","X","X","X","X","X","X","X","X","X","X","X","X","X","X","X","X","X","X","X","X","X","X","X","X","X","X","X","X","X","X","X","X","X","X","X","X","X","X","X","X","X","X","X","X","X","X","X","X","X","X","X","X","X","X","X","X","X","X","X","X","X","X"]
[290,2,"X","X","X","X","X","X","X","X","X","X","X","X","X","X","X","X","X","X","X","X","X","X","X","X","X","X","X","X","X","X","X","X","X","X","X","X","X","X","X","X","X","X","X","X","X","X","X","X","X","X","X","X","X","X","X","X","X","X","X","X","X","X","X","X","X","X","X","X","X","X","X","X","X","X","X","X","X","X","X","X","X","X","X","X","X","X","X","X","X","X","X","X","X","X","X","X","X","X","X","X","X","X","X","X","X","X","X","X","X","X","X","X","X","X","X","X","X","X","X","X","X","X","X","X","X","X","X","X","X","X","X","X","X"]
[291,3,"X","X","X","X","X","X","X","X","X","X","X","X","X","X","X","X","X","X","X","X","X","X","X","X","X","X","X","X","X","X","X","X","X","X","X","X","X","X","X","X","X","X","X","X","X","X","X","X","X","X","X","X","X","X","X","X","X","X","X","X","X","X","X","X","X","X","X","X","X","X","X","X","X","X","X","X","X","X","X","X","X","X","X","X","X","X","X","X","X","X","X","X","X","X","X","X","X","X","X","X","X","X","X","X","X","X","X","X","X","X","X","X","X","X","X","X","X","X","X","X","X","X","X","X","X","X","X","X","X","X","X","X","X"]
[292,4,"X","X","X","X","X","X","X","X","X","X","X","X","X","X","X","X","X","X","X","X","X","X","X","X","X","X","X","X","X","X","X","X","X","X","X","X","X","X","X","X","X","X","X","X","X","X","X","X","X","X","X","X","X","X","X","X","X","X","X","X","X","X","X","X","X","X","X","X","X","X","X","X","X","X","X","X","X","X","X","X","X","X","X","X","X","X","X","X","X","X","X","X","X","X","X","X","X","X","X","X","X","X","X","X","X","X","X","X","X","X","X","X","X","X","X","X","X","X","X","X","X","X","X","X","X","X","X","X","X","X","X","X","X"]
[293,5,"X","X","X","X","X","X","X","X","X","X","X","X","X","X","X","X","X","X","X","X","X","X","X","X","X","X","X","X","X","X","X","X","X","X","X","X","X","X","X","X","X","X","X","X","X","X","X","X","X","X","X","X","X","X","X","X","X","X","X","X","X","X","X","X","X","X","X","X","X","X","X","X","X","X","X","X","X","X","X","X","X","X","X","X","X","X","X","X","X","X","X","X","X","X","X","X","X","X","X","X","X","X","X","X","X","X","X","X","X","X","X","X","X","X","X","X","X","X","X","X","X","X","X","X","X","X","X","X","X","X","X","X","X"]
[294,6,"X","X","X","X","X","X","X","X","X","X","X","X","X","X","X","X","X","X","X","X","X","X","X","X","X","X","X","X","X","X","X","X","X","X","X","X","X","X","X","X","X","X","X","X","X","X","X","X","X","X","X","X","X","X","X","X","X","X","X","X","X","X","X","X","X","X","X","X","X","X","X","X","X","X","X","X","X","X","X","X","X","X","X","X","X","X","X","X","X","X","X","X","X","X","X","X","X","X","X","X","X","X","X","X","X","X","X","X","X","X","X","X","X","X","X","X","X","X","X","X","X","X","X","X","X","X","X","X","X","X","X","X","X"]
[295,7,"X","X","X","X","X","X","X","X","X","X","X","X","X","X","X","X","X","X","X","X","X","X","X","X","X","X","X","X","X","X","X","X","X","X","X","X","X","X","X","X","X","X","X","X","X","X","X","X","X","X","X","X","X","X","X","X","X","X","X","X","X","X","X","X","X","X","X","X","X","X","X","X","X","X","X","X","X","X","X","X","X","X","X","X","X","X","X","X","X","X","X","X","X","X","X","X","X","X","X","X","X","X","X","X","X","X","X","X","X","X","X","X","X","X","X","X","X","X","X","X","X","X","X","X","X","X","X","X","X","X","X","X","X"]
[296,8,"X","X","X","X","X","X","X","X","X","X","X","X","X","X","X","X","X","X","X","X","X","X","X","X","X","X","X","X","X","X","X","X","X","X","X","X","X","X","X","X","X","X","X","X","X","X","X","X","X","X","X","X","X","X","X","X","X","X","X","X","X","X","X","X","X","X","X","X","X","X","X","X","X","X","X","X","X","X","X","X","X","X","X","X","X","X","X","X","X","X","X","X","X","X","X","X","X","X","X","X","X","X","X","X","X","X","X","X","X","X","X","X","X","X","X","X","X","X","X","X","X","X","X","X","X","X","X","X","X","X","X","X","X"]
[297,9,"X","X","X","X","X","X","X","X","X","X","X","X","X","X","X","X","X","X","X","X","X","X","X","X","X","X","X","X","X","X","X","X","X","X","X","X","X","X","X","X","X","X","X","X","X","X","X","X","X","X","X","X","X","X","X","X","X","X","X","X","X","X","X","X","X","X","X","X","X","X","X","X","X","X","X","X","X","X","X","X","X","X","X","X","X","X","X","X","X","X","X","X","X","X","X","X","X","X","X","X","X","X","X","X","X","X","X","X","X","X","X","X","X","X","X","X","X","X","X","X","X","X","X","X","X","X","X","X","X","X","X","X","X"]
[298,10,"X","X","X","X","X","X","X","X","X","X","X","X","X","X","X","X","X","X","X","X","X","X","X","X","X","X","X","X","X","X","X","X","X","X","X","X","X","X","X","X","X","X","X","X","X","X","X","X","X","X","X","X","X","X","X","X","X","X","X","X","X","X","X","X","X","X","X","X","X","X","X","X","X","X","X","X","X","X","X","X","X","X","X","X","X","X","X","X","X","X","X","X","X","X","X","X","X","X","X","X","X","X","X","X","X","X","X","X","X","X","X","X","X","X","X","X","X","X","X","X","X","X","X","X","X","X","X","X","X","X","X","X","X"]
[299,11,"X","X","X","X","X","X","X","X","X","X","X","X","X","X","X","X","X","X","X","X","X","X","X","X","X","X","X","X","X","X","X","X","X","X","X","X","X","X","X","X","X","X","X","X","X","X","X","X","X","X","X","X","X","X","X","X","X","X","X","X","X","X","X","X","X","X","X","X","X","X","X","X","X","X","X","X","X","X","X","X","X","X","X","X","X","X","X","X","X","X","X","X","X","X","X","X","X","X","X","X","X","X","X","X","X","X","X","X","X","X","X","X","X","X","X","X","X","X","X","X","X","X","X","X","X","X","X","X","X","X","X","X","X"]
[300,12,"X","X","X","X","X","X","X","X","X","X","X","X","X","X","X","X","X","X","X","X","X","X","X","X","X","X","X","X","X","X","X","X","X","X","X","X","X","X","X","X","X","X","X","X","X","X","X","X","X","X","X","X","X","X","X","X","X","X","X","X","X","X","X","X","X","X","X","X","X","X","X","X","X","X","X","X","X","X","X","X","X","X","X","X","X","X","X","X","X","X","X","X","X","X","X","X","X","X","X","X","X","X","X","X","X","X","X","X","X","X","X","X","X","X","X","X","X","X","X","X","X","X","X","X","X","X","X","X","X","X","X","X","X"]
[1082.166054,1082.16606,1082.166062,"herdlife"]
[580.91322600000001,580.91322700000001,580.913228,"eaa_cyr"]
[1.9925280000000001,1.9925280000000001,1.9925280000000001,"eaa_cwt"]
[580.91322600000001,580.91322700000001,580.913228,"cash_cyr"]
[29154.586598999998,29154.586598000002,29154.586604,"milkyield_cyr"]
[100,100,100,"milkyield_cwt"]
[5247.8255879999997,5247.8255879999997,5247.825589,"milksales_cyr"]
[18,18,18,"milksales_cwt"]
[2783.3679969999998,2783.3679969999998,2783.3679969999998,"feedcost_cyr"]
[9.5469299999999997,9.5469299999999997,9.5469299999999997,"feedcost_cwt"]
[539.36269500000003,539.36269300000004,539.36269200000004,"heifercost_cyr"]
[1.8500099999999999,1.8500099999999999,1.8500099999999999,"heifercost_cwt"]
[248.54252600000001,248.54252399999999,248.54252399999999,"cowsales_cyr"]
[0.85249900000000001,0.85249900000000001,0.85249900000000001,"cowsales_cwt"]
[212.62593100000001,212.62593100000001,212.62593100000001,"calfsales_cyr"]
[0.72930499999999998,0.72930499999999998,0.72930499999999998,"calfsales_cwt"]
[290.82017000000002,290.82016900000002,290.82016800000002,"livestockcost_cyr"]
[0.99751100000000004,0.99751100000000004,0.99751100000000004,"livestockcost_cwt"]
[13.432834,13.432834,13.432834,"clvinterval"]
[134.174024,134.174024,134.174024,"daystoconc"]
[0.33710200000000001,0.33710200000000001,0.33710200000000001,"cullrateall"]
[0.20804800000000001,0.20804800000000001,0.20804800000000001,"cullratevol"]
[0.129054,0.129054,0.129054,"cullrateinv"]
[401.36624999999998,401.36624999999998,401.36624999999998,"laborcost_cyr"]
[1.3766830000000001,1.3766830000000001,1.3766830000000001,"laborcost_cwt"]
[80.409976999999998,80.409976999999998,80.409976999999998,"vetcost_cyr"]
[0.275806,0.275806,0.275806,"vetcost_cwt"]
[46.773899,46.773899,46.773899,"breedingsupplycost_cyr"]
[0.16043399999999999,0.16043399999999999,0.16043399999999999,"breedingsupplycost_cwt"]
[0,0,0,"loss_cyr"]
[0,0,0,"loss_cwt"]
[364.8,364.8,364.8,"othercost_cyr"]
[1.251261,1.251261,1.251261,"othercost_cwt"]
[0.202768,0.202768,0.202768,"pregnancyrate0"]
[0.16531599999999999,0.202768,0.202768,"pregnancyrate1"]
[109.674606,109.674606,109.674606,"daysopen"]
[182.4,182.4,182.4,"fixedcost_labor_cyr"]
[0.62563100000000005,0.62563100000000005,0.62563100000000005,"fixedcost_labor_cwt"]
[729.6,729.6,729.6,"fixedcost_other_cyr"]
[2.5025219999999999,2.5025219999999999,2.5025219999999999,"fixedcost_other_cwt"]
[0,0,0,"preglaborcost"]
[54.249268000000001,54.249268000000001,54.249268000000001,"pregsupplycost"]
[46.773899,46.773899,46.773899,"breedingcost_cyr"]
[0.16043399999999999,0.16043399999999999,0.16043399999999999,"breedingcost_cwt"]
[193.056208,193.05623,193.05623,"pv_open"]
[23.224708,23.224713999999999,23.224713999999999,"inseminationvalue"]
[150.45953299999999,150.45953299999999,150.45953299999999,"opendays"]
[8.8042999999999996E-2,8.8042999999999996E-2,8.8042999999999996E-2,"abortrisk"]
[513.42671199999995,513.42674799999998,513.42674899999997,"pv_preg"]
[912,912,912,"feedcostdry_cyr"]
[3045.0367249999999,3045.0367249999999,3045.0367259999998,"feedcostlac_cyr"]
[1594.0538489999999,1594.053903,1594.0539040000001,"cowvalue"]
[223.234309,223.234309,223.234309,"dim"]
[82.375184000000004,82.375184000000004,82.375184000000004,"daysfs"]
[737.29244600000004,737.29244600000004,737.29244600000004,"cullprice","y"]
[72.470380000000006,72.470380000000006,72.470380000000006,"replopen_mlk"]
[6.0854100000000004,6.0854100000000004,6.0854100000000004,"replopen_cur"]
[3.1767059999999998,3.1767059999999998,3.1767059999999998,"replopen_rev"]
[4.4852359999999996,4.4852359999999996,4.4852359999999996,"replopen_iof"]
[-21.204045000000001,-21.204056999999999,-21.204056999999999,"replopen_rpo"]
[221.571012,221.571012,221.571012,"replopen_dim"]
[72.359088999999997,72.359088999999997,72.359088999999997,"dvwp"]
[208.436294,208.436295,208.436295,"dlbm"]
[1.1243700000000001,1.1243700000000001,1.1243700000000001,"daysopen_cost"]
[0.33997699999999997,0.33997699999999997,0.33997699999999997,"dayspreg_cost"]

{"sheet":"resa","index":15,"n_rows":369,"n_cols":140,"rows_kept":369,"cut":false,"hidden":true,"merged":[]}
[1,2,3,4,5,6,7,8,9,10,11,12,13,14,15,16,17,18,19,20,21,22,23,24,25,26,27,28,29,30,31,32,33,34,35,36,37,38,39,40,41,42,43,44,45,46,47,48,49,50,51,52,53,54,55,56,57,58,59,60,61,62,63,64,65,66,67,68,69,70,71,72,73,74,75,76,77,78,79,80,81,82,83,84,85,86,87,88,89,90,91,92,93,94,95,96,97,98,99,100,101,102,103,104,105,106,107,108,109,110,111,112,113,114,115,116,117,118,119,120,121,122,123,124,125,126,127,128,129,130,131,132,133,134,135,136,137,138,139,140]
["final.bio",1]
["2012-06-28","01:57:06","PM"]
["t","sea","operating_cash","total_cash","sumcash","milkyield","discount","calves_born","heifers_purchased","heifers_raised","heifers_sold","heiferpool","keep","pind","repl","open","preg","milking","present","milksales","cwt","feedcost","cullprice","calfsales","cowsales","heiferpurchasecost","calvinginterval_clvlact","calvinginterval_clvsea","daystoconception_clvlact","daystoconception_clvsea","feedcost_wet_mim","repl_clv","smy_curr","smy_ave","pind_clv","dayslbm_curr","delayed","serv","serv_keep","lactation1","lactation2","mkv_enter","open_dim","preg_dim","%open","%preg","calved","fixedcost","saldo","milkyield_mcow_d","feedcost_lact","insval_mim","rpo","inv","vol","insval_sea","daysfirstservice_curr","daystoconception_curr","hz_open_repl","hz_open_pind","hz_preg_repl","hz_preg_pind","replopen_mlk[mim]","replopen_mlk[t]","daysvwp_curr","dim","totrevenue","totcost","replopen_dim[mim]","replopen_dim[t]","replopen_cur[mim]","replopen_cur[t]","replopen_rev[mim]","replopen_rev[t]","replopen_iof[mim]","replopen_iof[t]","replopen_rpo[mim]","replopen_rpo[t]","daysopencost_dim","dmi_mcow_d","dmi_mim","dayspregcost_mim","lactationcurve","milkingcows_mim","cows_lact","hz_cull_mim","pctcull_mim","breedingsupplycost","pv_curr","pv_lact","pv_mim","pv_mpreg","pv_t_open","pv_t_preg","labortime","laborcost","calvinginterval","daystoconc","pv_curr_lact","opportunitycost","cowvalue","pind_rpo_curr","pind_rpo_lact","pind_rpo_mim","pind_rpo_mpreg","daysvwp_clvlact","daysvwp_clvsea","dvwp","daysfs_clvlact","daysfs_clvsea","dfs","dayslbm_clvlact","dayslbm_clvsea","dlbm","present_dim","breedings1","dryoffyield","breedings","eligible_keep_mim","eligible_serv_mim","eligible_bred_mim","eligible_preg_mim","keep_rev0","mim","rpo","iofc","rev","milkyld","pregval","feedefficiency","feedcost","varcost","pol","bio_pmilk","bio_pheifer"]
[1,1,134.82344699999999,48.409435999999999,48.409435999999999,79.919370999999998,1,8.8594000000000006E-2,2.8091999999999999E-2,0,0,2.8091999999999999E-2,"X",1.0754E-2,1.7337000000000002E-2,0.41221799999999997,0.58778200000000003,0.87732600000000005,1,437.31879900000001,24.295489,231.94733299999999,737.29244600000004,17.718827999999998,20.711877000000001,44.946891000000001,13.998590999999999,13.432834,151.72496699999999,134.174024,6.9301579999999996,7.2473000000000001,69.740432999999996,104.23561599999999,5.7309549999999998,0,0.18470300000000001,0.202768,0.16531599999999999,0.33504499999999998,0.249775,1,8.8313000000000003E-2,0,1,0,8.8594000000000006E-2,76,-27.590564000000001,91.094297999999995,7.3231609999999998,0,804.162375,1.0754E-2,1.7337000000000002E-2,23.224710000000002,0,0,3.1749999999999999E-3,2.4237999999999999E-2,0,0,64.695383000000007,72.470380000000006,0,223.234309,475.749504,427.34006799999997,0,221.571012,1,6.0854100000000004,2.0808550000000001,3.1767059999999998,4.6630919999999998,4.4852359999999996,-57.238487999999997,-21.204042999999999,0,48.821072000000001,46.201054999999997,0,84.579108000000005,8.8313000000000003E-2,0.33504499999999998,2.7413E-2,8.6452000000000001E-2,3.8978250000000001,0,152.45612700000001,0,193.05622299999999,193.056217,513.42673100000002,200.68312499999999,33.447187,13.432834,134.17402300000001,0,124.415582,1594.053864,-77.626305000000002,797.74938299999997,1050.582958,915.75039200000003,89.973208999999997,72.359088999999997,72.359088999999997,100.41057000000001,82.375184000000004,82.375184000000004,257.29653000000002,"X",208.436294,8.8313000000000003E-2,5.4644999999999999E-2,60.992989000000001,0.19489100000000001,0,0,0,0,0,1,627.45000000000005,4.13,1.55,58.62,-99999999,1.62,5.42,9.01,1,0.18,1600]
[2,2,134.82344699999999,48.409435999999999,96.818871000000001,79.919370999999998,1,8.8594000000000006E-2,2.8091999999999999E-2,0,0,2.8091999999999999E-2,"X",1.0754E-2,1.7337000000000002E-2,0.41221799999999997,0.58778200000000003,0.87732600000000005,1,437.31879900000001,24.295489,231.94733299999999,737.29244600000004,17.718827999999998,20.711877000000001,44.946891000000001,13.454566,13.432834,135.30483100000001,134.174024,8.5756019999999999,7.2473000000000001,76.219787999999994,104.23561599999999,5.7309549999999998,0,0.18470300000000001,0.202768,0.16531599999999999,0.33504499999999998,0.249775,1,8.4292000000000006E-2,0,1,0,8.8594000000000006E-2,76,-27.590564000000001,91.094297999999995,7.3231609999999998,4.4643819999999996,804.16237100000001,1.0754E-2,1.7337000000000002E-2,23.224709000000001,0,0,2.1742000000000001E-2,1.5507E-2,0,0,60.238216000000001,72.470380000000006,0,223.234309,475.749504,427.34006799999997,30.4,221.571012,2.222912,6.0854100000000004,1.7633620000000001,3.1767059999999998,3.6877040000000001,4.4852359999999996,-61.748716000000002,-21.204042999999999,0.39535599999999999,48.821072000000001,57.170681000000002,-1.322298,103.767506,8.4292000000000006E-2,0.249775,3.7248000000000003E-2,0.11425100000000001,3.8978250000000001,0,204.904979,0,208.54521,193.05621400000001,513.42672600000003,200.68312499999999,33.447187,13.432834,134.174024,0,124.415583,1594.0538590000001,42.308579999999999,964.43441700000005,1075.8825549999999,916.77577099999996,70.747755999999995,72.359088999999997,72.359088999999997,80.743374000000003,82.375184000000004,82.375184000000004,231.11906300000001,"X",208.436294,8.4292000000000006E-2,5.4644999999999999E-2,60.992989000000001,0.19489100000000001,3.8362E-2,7.4506000000000003E-2,4.0978000000000001E-2,1.4004000000000001E-2,0,2,715.61,6,4.08,78.22,-99999999,1.66,7.08,10,1,0.18,1600]
[3,3,134.82344699999999,48.409435999999999,145.228307,79.919370999999998,1,8.8594000000000006E-2,2.8091999999999999E-2,0,0,2.8091999999999999E-2,"X",1.0754E-2,1.7337000000000002E-2,0.41221799999999997,0.58778200000000003,0.87732600000000005,1,437.31879900000001,24.295489,231.94733299999999,737.29244600000004,17.718827999999998,20.711877000000001,44.946891000000001,13.01309,13.432834,122.01970900000001,134.174024,9.0891559999999991,7.2473000000000001,80.183564000000004,104.23561599999999,5.7309549999999998,0,0.18470300000000001,0.202768,0.16531599999999999,0.33504499999999998,0.249775,1,6.8689E-2,1.4001E-2,0.830681,0.169319,8.8594000000000006E-2,76,-27.590564000000001,91.094297999999995,7.3231609999999998,18.500257000000001,804.16236700000002,1.0754E-2,1.7337000000000002E-2,23.224709000000001,0,0,3.8210000000000002E-3,1.0985999999999999E-2,2.13E-4,1.3247999999999999E-2,69.102087999999995,72.470380000000006,0,223.234309,475.749504,427.34006799999997,60.8,221.571012,2.8040370000000001,6.0854100000000004,3.0733380000000001,3.1767059999999998,4.5042590000000002,4.4852359999999996,-20.698561999999999,-21.204042999999999,0.86197299999999999,48.821072000000001,60.594372,3.9854000000000001E-2,107.85527,8.269E-2,0.172955,1.4579E-2,4.3053000000000001E-2,3.8978250000000001,0,239.81710200000001,90.519023000000004,261.28238099999999,193.05621199999999,513.42672200000004,200.68312499999999,33.447187,13.432834,134.174024,2.8912399999999998,124.415583,1594.0538550000001,110.831801,938.33749499999999,976.486671,802.41169600000001,60.961455000000001,72.359088999999997,72.359088999999997,70.632529000000005,82.375184000000004,82.375184000000004,202.44732099999999,"X",208.436294,8.269E-2,5.4644999999999999E-2,60.992989000000001,0.19489100000000001,8.5839999999999996E-3,8.3315E-2,4.5823000000000003E-2,1.7606E-2,0,3,715.23,6.63,5.2,85.46,32.08,1.65,7.76,10.19,2,0.18,1600]
[4,4,134.82344699999999,48.409435000000002,193.637742,79.919370999999998,1,8.8594000000000006E-2,2.8091999999999999E-2,0,0,2.8091999999999999E-2,"X",1.0754E-2,1.7337000000000002E-2,0.41221799999999997,0.58778200000000003,0.87732600000000005,1,437.31879900000001,24.295489,231.94733299999999,737.29244600000004,17.718827999999998,20.711877000000001,44.946891000000001,12.882642000000001,13.432834,118.07693500000001,134.174024,9.2005850000000002,7.2473000000000001,84.147120000000001,104.23561599999999,5.7309549999999998,96.413093000000003,0.18470300000000001,0.202768,0.16531599999999999,0.33504499999999998,0.249775,1,5.0230999999999998E-2,3.1372999999999998E-2,0.61554299999999995,0.38445699999999999,8.8594000000000006E-2,76,-27.590565000000002,91.094297999999995,7.3231609999999998,24.997888,804.16236300000003,1.0754E-2,1.7337000000000002E-2,23.224708,77.843554999999995,86.243274999999997,1.8710000000000001E-3,9.1750000000000009E-3,1.526E-3,9.7730000000000004E-3,71.136852000000005,72.470380000000006,72.720128000000003,223.234309,475.749504,427.34006799999997,91.2,221.571012,2.7187229999999998,6.0854100000000004,3.392236,3.1767059999999998,4.5928940000000003,4.4852359999999996,-12.003657,-21.204044,1.1413329999999999,48.821072000000001,61.337232999999998,0.43742900000000001,106.958033,8.1603999999999996E-2,0.11154799999999999,1.1143E-2,3.2426999999999997E-2,3.8978250000000001,65.146569999999997,225.13780199999999,151.50418300000001,331.091409,193.05620999999999,513.42671800000005,200.68312499999999,33.447187,13.432834,134.174024,5.6617819999999996,124.415583,1594.053852,171.70225199999999,847.60104200000001,825.12093500000003,723.94558900000004,60.818083999999999,72.359088999999997,72.359088999999997,70.205220999999995,82.375184000000004,82.375184000000004,176.34111899999999,"X",208.436294,8.1603999999999996E-2,5.4644999999999999E-2,60.992989000000001,0.19489100000000001,6.13E-3,6.1237E-2,3.3680000000000002E-2,1.2903E-2,0,4,653.75,6.79,5.59,88,118.67,1.64,8.0500000000000007,10.25,2,0.18,1600]
[5,5,134.82344699999999,48.409435000000002,242.047178,79.919370999999998,1,8.8594000000000006E-2,2.8091999999999999E-2,0,0,2.8091999999999999E-2,"X",1.0754E-2,1.7337000000000002E-2,0.41221799999999997,0.58778200000000003,0.87732600000000005,1,437.31879900000001,24.295489,231.94733299999999,737.29244600000004,17.718827999999998,20.711877000000001,44.946891000000001,12.862762,13.432834,117.56139,134.174024,9.1347780000000007,7.2473000000000001,88.110496999999995,104.23561599999999,5.7309549999999998,128.30001100000001,0.18470300000000001,0.202768,0.16531599999999999,0.33504499999999998,0.249775,1,3.6735999999999998E-2,4.3441E-2,0.45818700000000001,0.54181299999999999,8.8594000000000006E-2,76,-27.590565000000002,91.094297999999995,7.3231609999999998,31.300775000000002,804.16236000000004,1.0754E-2,1.7337000000000002E-2,23.224708,71.970515000000006,95.004344000000003,1.6286999999999999E-2,8.6060000000000008E-3,1.1540000000000001E-3,8.7480000000000006E-3,74.075605999999993,72.470380000000006,63.306524000000003,223.234309,475.749504,427.34006799999997,121.6,221.571012,3.2810800000000002,6.0854100000000004,3.6567940000000001,3.1767059999999998,4.8574520000000003,4.4852359999999996,-3.0724800000000001,-21.204044,1.441122,48.821072000000001,60.898522,0.87549299999999997,103.874145,8.0176999999999998E-2,6.5712999999999994E-2,1.6827999999999999E-2,4.8423000000000001E-2,3.8978250000000001,111.232766,210.70065099999999,191.78072499999999,403.56836399999997,193.056209,513.42671399999995,200.68312499999999,33.447187,13.432834,134.174024,0,124.415584,1594.0538489999999,280.36017299999997,783.69328599999994,652.05405199999996,670.39000399999998,61.086219,72.359088999999997,72.359088999999997,70.328267999999994,82.375184000000004,82.375184000000004,180.06404699999999,"X",208.436294,8.0176999999999998E-2,5.4644999999999999E-2,60.992989000000001,0.19489100000000001,5.7720000000000002E-3,4.3555999999999997E-2,2.3956000000000002E-2,9.1210000000000006E-3,0,5,564.52,6.71,5.5,88.03,164.9,1.62,8.14,10.34,2,0.18,1600]
[6,6,134.82344699999999,48.409435000000002,290.456613,79.919370999999998,1,8.8594000000000006E-2,2.8091999999999999E-2,0,0,2.8091999999999999E-2,"X",1.0754E-2,1.7337000000000002E-2,0.41221799999999997,0.58778200000000003,0.87732600000000005,1,437.31879900000001,24.295489,231.94733299999999,737.29244600000004,17.718827999999998,20.711877000000001,44.946891000000001,12.760626,13.432834,114.344836,134.174024,8.9642379999999999,7.2473000000000001,92.073740000000001,104.23561599999999,5.7309549999999998,168.29896600000001,0.18470300000000001,0.202768,0.16531599999999999,0.33504499999999998,0.249775,1,2.7924999999999998E-2,5.1201999999999998E-2,0.35291600000000001,0.64708399999999999,8.8594000000000006E-2,76,-27.590565000000002,91.094297999999995,7.3231609999999998,35.076318000000001,804.16235700000004,1.0754E-2,1.7337000000000002E-2,23.224708,73.061379000000002,108.206794,1.0567999999999999E-2,8.7810000000000006E-3,9.6699999999999998E-4,8.4899999999999993E-3,75.250928000000002,72.470380000000006,63.351809000000003,223.234309,475.749504,427.34006799999997,152,221.571012,2.2640280000000002,6.0854100000000004,3.5897480000000002,3.1767059999999998,4.7904049999999998,4.4852359999999996,-8.3935809999999993,-21.204045000000001,1.640495,48.821072000000001,59.761583999999999,1.643486,99.395486000000005,7.9128000000000004E-2,3.5475E-2,1.2970000000000001E-2,3.6693999999999997E-2,3.8978250000000001,144.42082199999999,196.450828,241.09872899999999,475.47211199999998,193.056207,513.42670999999996,200.68312499999999,33.447187,13.432834,134.174024,0,124.41558499999999,1594.053846,396.74113999999997,737.48482300000001,476.53505000000001,639.89676599999996,60.901564,72.359088999999997,72.359088999999997,70.001317,82.375184000000004,82.375184000000004,164.690517,"X",208.436294,7.9128000000000004E-2,5.4644999999999999E-2,60.992989000000001,0.19489100000000001,7.4510000000000002E-3,3.0088E-2,1.6548E-2,6.221E-3,0,6,464.1,6.46,5.26,86.56,211.92,1.6,8.1199999999999992,10.32,2,0.18,1600]
[7,7,134.82344699999999,48.409435000000002,338.86604899999998,79.919370999999998,1,8.8594000000000006E-2,2.8091999999999999E-2,0,0,2.8091999999999999E-2,"X",1.0754E-2,1.7337000000000002E-2,0.41221799999999997,0.58778200000000003,0.87732600000000005,1,437.31879900000001,24.295489,231.94733299999999,737.29244600000004,17.718827999999998,20.711877000000001,44.946891000000001,12.713886,13.432834,112.94952000000001,134.174024,8.7245659999999994,7.2473000000000001,96.036893000000006,104.23561599999999,5.7309549999999998,209.06401099999999,0.18470300000000001,0.202768,0.16531599999999999,0.33504499999999998,0.249775,1,2.0785999999999999E-2,5.5721E-2,0.27168999999999999,0.72831000000000001,8.8594000000000006E-2,76,-27.590565000000002,91.094297999999995,7.3231609999999998,35.542150999999997,804.16235500000005,1.0754E-2,1.7337000000000002E-2,23.224708,80.248171999999997,124.665306,7.6198000000000002E-2,8.5500000000000003E-3,3.9899999999999996E-3,8.378E-3,75.441957000000002,72.470380000000006,69.819695999999993,223.234309,475.749504,427.34006799999997,182.4,221.571012,3.6590989999999999,6.0854100000000004,3.5947930000000001,3.1767059999999998,4.7954509999999999,4.4852359999999996,-9.2764100000000003,-21.204045000000001,1.690736,48.821072000000001,58.163770999999997,2.0079210000000001,93.883878999999993,7.6507000000000006E-2,1.7328E-2,3.3128999999999999E-2,9.2511999999999997E-2,3.8978250000000001,165.22347500000001,184.07743600000001,288.10626999999999,560.01435000000004,193.056206,513.42670799999996,200.68312499999999,33.447187,13.432834,134.174024,7.8502099999999997,124.41558499999999,1594.053844,529.65625,696.81938600000001,339.01819799999998,646.13118899999995,61.250506000000001,72.359088999999997,72.359088999999997,70.035792000000001,82.375184000000004,82.375184000000004,164.20187100000001,"X",208.436295,7.6507000000000006E-2,5.4644999999999999E-2,60.992989000000001,0.19489100000000001,6.3140000000000002E-3,2.1663999999999999E-2,1.1915E-2,4.385E-3,0,7,357.81,6.11,4.9000000000000004,84.14,261.66000000000003,1.57,8.0399999999999991,10.24,2,0.18,1600]
[8,8,134.82344699999999,48.409435000000002,387.27548400000001,79.919370999999998,1,8.8594000000000006E-2,2.8091999999999999E-2,0,0,2.8091999999999999E-2,"X",1.0754E-2,1.7337000000000002E-2,0.41221799999999997,0.58778200000000003,0.87732600000000005,1,437.31879900000001,24.295489,231.94733299999999,737.29244600000004,17.718827999999998,20.711877000000001,44.946891000000001,12.636621999999999,13.432834,110.62204699999999,134.174024,8.4139820000000007,7.2473000000000001,100,104.23561599999999,5.7309549999999998,244.336803,0.18470300000000001,0.202768,0.16531599999999999,0.33504499999999998,0.249775,1,1.4697999999999999E-2,5.8577999999999998E-2,0.20058699999999999,0.79941300000000004,8.8594000000000006E-2,76,-27.590565000000002,91.094297999999995,7.3231609999999998,37.741244999999999,804.16235400000005,1.0754E-2,1.7337000000000002E-2,23.224708,80.825497999999996,130.22208699999999,0.14166999999999999,7.8689999999999993E-3,2.4399999999999999E-3,8.3210000000000003E-3,76.650998999999999,72.470380000000006,70.582860999999994,223.234309,475.749504,427.34006799999997,212.8,221.571012,4.643116,6.0854100000000004,3.6604830000000002,3.1767059999999998,4.8611409999999999,4.4852359999999996,-9.488137,-21.204046000000002,1.7976890000000001,48.821072000000001,56.093215999999998,2.5369839999999999,87.151646999999997,7.3275999999999994E-2,7.4190000000000002E-3,4.2095E-2,0.113652,3.8978250000000001,180.87559099999999,184.30883,320.48287699999997,661.25616000000002,193.05620500000001,513.42670499999997,200.68312499999999,33.447187,13.432834,134.174024,0,124.415586,1594.0538429999999,662.62169400000005,684.43445399999996,255.610885,693.13138600000002,60.942734000000002,72.359088999999997,72.359088999999997,69.543476999999996,82.375184000000004,82.375184000000004,149.59930199999999,"X",208.436295,7.3275999999999994E-2,5.4644999999999999E-2,60.992989000000001,0.19489100000000001,4.7699999999999999E-3,1.5044999999999999E-2,8.2749999999999994E-3,2.9840000000000001E-3,0,8,251.56,5.69,4.49,81.13,307.52,1.54,7.92,10.119999999999999,2,0.18,1600]
[9,9,134.82344699999999,48.409435000000002,435.68491899999998,79.919370999999998,1,8.8594000000000006E-2,2.8091999999999999E-2,0,0,2.8091999999999999E-2,"X",1.0754E-2,1.7337000000000002E-2,0.41221799999999997,0.58778200000000003,0.87732600000000005,1,437.31879900000001,24.295489,231.94733299999999,737.29244600000004,17.718827999999998,20.711877000000001,44.946891000000001,12.668785,13.432834,111.60778999999999,134.174024,8.0660550000000004,7.2473000000000001,103.96310699999999,104.23561599999999,5.7309549999999998,276.25416999999999,0.18470300000000001,0.202768,0.16531599999999999,0.33504499999999998,0.249775,1,8.8870000000000008E-3,6.0301E-2,0.128443,0.87155700000000003,8.8594000000000006E-2,76,-27.590565000000002,91.094297999999995,7.3231609999999998,46.681527000000003,804.16235300000005,1.0754E-2,1.7337000000000002E-2,23.224708,80.510975000000002,134.787205,0.27722200000000002,6.3800000000000003E-3,9.5299999999999996E-4,8.2799999999999992E-3,76.460626000000005,72.470380000000006,70.101898000000006,223.234309,475.749504,427.34006799999997,243.2,221.571012,6.4069229999999999,6.0854100000000004,3.6369980000000002,3.1767059999999998,4.837656,4.4852359999999996,-11.290979999999999,-21.204046999999999,2.1689069999999999,48.821072000000001,53.773702,2.998802,79.654016999999996,6.9186999999999999E-2,2.9480000000000001E-3,5.5663999999999998E-2,0.14396300000000001,3.8978250000000001,193.61048299999999,187.022548,363.02382599999999,779.69504800000004,193.05620400000001,513.42670399999997,200.68312499999999,33.447187,13.432834,134.174024,0,124.415587,1594.053842,807.671741,688.59436600000004,222.28949600000001,778.80132900000001,60.935324000000001,72.359088999999997,72.359088999999997,69.517887999999999,82.375184000000004,82.375184000000004,152.10378299999999,"X",208.436295,6.9186999999999999E-2,5.4644999999999999E-2,60.992989000000001,0.19489100000000001,2.166E-3,9.8329999999999997E-3,5.4079999999999996E-3,1.9070000000000001E-3,0,9,155.81,5.23,4.03,77.75,325.07,1.5,7.76,9.9700000000000006,2,0.18,1600]
[10,10,134.82344699999999,48.409435999999999,484.09435500000001,79.919370999999998,1,8.8594000000000006E-2,2.8091999999999999E-2,0,0,2.8091999999999999E-2,"X",1.0754E-2,1.7337000000000002E-2,0.41221799999999997,0.58778200000000003,0.87732600000000005,1,437.31879900000001,24.295489,231.94733299999999,737.29244600000004,17.718827999999998,20.711877000000001,44.946891000000001,12.694527000000001,13.432834,112.39551899999999,134.174024,7.7766270000000004,7.2473000000000001,107.92626,104.23561599999999,5.7309549999999998,306.31625300000002,0.18470300000000001,0.202768,0.16531599999999999,0.33504499999999998,0.249775,1,5.3350000000000003E-3,6.1150999999999997E-2,8.0249000000000001E-2,0.91975099999999999,8.8594000000000006E-2,76,-27.590564000000001,91.094297999999995,7.3231609999999998,57.011418999999997,804.16235300000005,1.0754E-2,1.7337000000000002E-2,23.224708,80.848315999999997,138.70581300000001,0.28246300000000002,5.5640000000000004E-3,3.6000000000000002E-4,8.1659999999999996E-3,76.830427999999998,72.470380000000006,70.565691000000001,223.234309,475.749504,427.34006799999997,273.60000000000002,221.571012,8.2587329999999994,6.0854100000000004,3.6438380000000001,3.1767059999999998,4.8444960000000004,4.4852359999999996,-11.003358,-21.204048,2.59111,48.821072000000001,51.844183000000001,4.0730380000000004,60.752868999999997,6.6487000000000004E-2,1.1670000000000001E-3,3.8817999999999998E-2,9.4806000000000001E-2,3.8978250000000001,202.05775199999999,189.44810799999999,399.07670300000001,1058.080463,193.05620400000001,513.42670299999997,200.68312499999999,33.447187,13.432834,134.174024,199.58165299999999,124.415588,1594.053842,953.22740099999999,687.690833,203.42889500000001,1040.7607829999999,60.932834,72.359088999999997,72.359088999999997,69.478879000000006,82.375184000000004,82.375184000000004,153.70395099999999,"X",208.436295,6.6487000000000004E-2,5.4644999999999999E-2,60.992989000000001,0.19489100000000001,6.4300000000000002E-4,6.5799999999999999E-3,3.6189999999999998E-3,1.238E-3,0,10,75.510000000000005,4.75,3.55,74.16,329.37,1.46,7.6,9.8000000000000007,2,0.18,1600]
[11,11,134.82344699999999,48.409435999999999,532.50379099999998,79.919370999999998,1,8.8594000000000006E-2,2.8091999999999999E-2,0,0,2.8091999999999999E-2,"X",1.0754E-2,1.7337000000000002E-2,0.41221799999999997,0.58778200000000003,0.87732600000000005,1,437.31879900000001,24.295489,231.94733299999999,737.29244600000004,17.718827999999998,20.711877000000001,44.946891000000001,12.718133999999999,13.432834,113.117414,134.174024,7.5597200000000004,7.2473000000000001,111.889503,104.23561599999999,5.7309549999999998,338.87272200000001,0.18470300000000001,0.202768,0.16531599999999999,0.33504499999999998,0.249775,1,3.032E-3,6.1496000000000002E-2,4.6990999999999998E-2,0.953009,8.8594000000000006E-2,76,-27.590564000000001,91.094297999999995,7.3231609999999998,65.751768999999996,804.16235500000005,1.0754E-2,1.7337000000000002E-2,23.224708,87.583701000000005,148.52625499999999,0.318189,4.6709999999999998E-3,4.1E-5,8.1099999999999992E-3,73.358517000000006,72.470380000000006,77.314456000000007,223.234309,475.749504,427.34006799999997,304,221.571012,9.1671080000000007,6.0854100000000004,3.2353420000000002,3.1767059999999998,4.4359999999999999,4.4852359999999996,-21.165890999999998,-21.204049000000001,2.9621620000000002,48.821072000000001,50.398133999999999,4.3705369999999997,40.661918999999997,6.4528000000000002E-2,4.57E-4,2.9374999999999998E-2,6.8958000000000005E-2,3.8978250000000001,208.13915,192.06151800000001,461.05515600000001,513.42673600000001,193.05620500000001,513.42670299999997,200.68312499999999,33.447187,13.432834,134.174024,409.25341100000003,124.415589,1594.0538429999999,1108.322858,685.55708300000003,190.78749099999999,"X",60.931562999999997,72.359088999999997,72.359088999999997,69.435823999999997,82.375184000000004,82.375184000000004,155.03341800000001,"X",208.436295,6.4528000000000002E-2,5.4644999999999999E-2,60.992989000000001,0.19489100000000001,8.5000000000000006E-5,4.0309999999999999E-3,2.2169999999999998E-3,7.3099999999999999E-4,0,11,18.73,4.26,3.06,70.459999999999994,313.05,1.42,7.42,9.6199999999999992,2,0.18,1600]
[12,12,134.82344699999999,48.409435999999999,580.91322600000001,79.919370999999998,1,8.8594000000000006E-2,2.8091999999999999E-2,0,0,2.8091999999999999E-2,"X",1.0754E-2,1.7337000000000002E-2,0.41221799999999997,0.58778200000000003,0.87732600000000005,1,437.31879900000001,24.295489,231.94733299999999,737.29244600000004,17.718827999999998,20.711877000000001,44.946891000000001,0,13.432834,113.819202,134.174024,7.3462209999999999,7.2473000000000001,115.85288,104.23561599999999,5.7309549999999998,360.53882700000003,0.18470300000000001,0.202768,0.16531599999999999,0.33504499999999998,0.249775,1,1.627E-3,4.9924999999999997E-2,3.1556000000000001E-2,0.96844399999999997,8.8594000000000006E-2,76,-27.590564000000001,91.094297999999995,7.3231609999999998,76.021761999999995,804.16235700000004,1.0754E-2,1.7337000000000002E-2,23.224708,92.538184999999999,155.41662500000001,0.36294100000000001,3.9280000000000001E-3,3.6999999999999998E-5,7.7790000000000003E-3,70.035590999999997,72.470380000000006,82.132615000000001,223.234309,475.749504,427.34006799999997,334.4,221.571012,9.9436920000000004,6.0854100000000004,2.8205360000000002,3.1767059999999998,4.0211940000000004,4.4852359999999996,-24.644539999999999,-21.204049999999999,3.4228109999999998,48.821072000000001,48.974808000000003,4.6865949999999996,32.166679000000002,5.1551E-2,1.6899999999999999E-4,2.5285999999999999E-2,4.7238000000000002E-2,3.8978250000000001,231.96455900000001,195.57081600000001,524.15841,"X",193.05620500000001,513.42670399999997,200.68312499999999,33.447187,13.432834,134.174024,685.30655400000001,124.41558999999999,1594.053846,1271.809336,679.86957299999995,183.97448399999999,"X",60.930717999999999,72.359088999999997,72.359088999999997,69.391354000000007,82.375184000000004,82.375184000000004,156.26737700000001,"X",208.436295,5.1551E-2,5.4644999999999999E-2,60.992989000000001,0.19489100000000001,0,2.2139999999999998E-3,1.2179999999999999E-3,3.8699999999999997E-4,0,12,-21.81,3.77,2.57,66.75,239.07,1.38,7.24,9.44,0,0.18,1600]
[13,1,134.82344699999999,48.409435999999999,629.32266200000004,79.919370999999998,1,8.8594000000000006E-2,2.8091999999999999E-2,0,0,2.8091999999999999E-2,"X",1.0754E-2,1.7337000000000002E-2,0.41221799999999997,0.58778200000000003,0.87732600000000005,1,437.31879900000001,24.295489,231.94733299999999,737.29244600000004,17.718827999999998,20.711877000000001,44.946891000000001,"X","X","X","X",7.1367019999999997,"X",119.816436,104.23561599999999,"X",386.01124299999998,0.18470300000000001,0.202768,0.16531599999999999,0.33504499999999998,0.249775,1,8.9099999999999997E-4,3.4914000000000001E-2,2.4879999999999999E-2,0.97511999999999999,8.8594000000000006E-2,76,-27.590564000000001,91.094297999999995,7.3231609999999998,82.100983999999997,804.16236000000004,1.0754E-2,1.7337000000000002E-2,23.224708,93.916653999999994,155.93596700000001,0.36956899999999998,3.8319999999999999E-3,3.8999999999999999E-5,7.8980000000000005E-3,66.049887999999996,72.470380000000006,83.969312000000002,223.234309,475.749504,427.34006799999997,364.8,221.571012,10.245407999999999,6.0854100000000004,2.3320949999999998,3.1767059999999998,3.532753,4.4852359999999996,-28.235593000000001,-21.204049999999999,3.7076389999999999,48.821072000000001,47.578015000000001,4.9502300000000004,28.773123999999999,3.5804999999999997E-2,"X",2.2151000000000001E-2,2.8646000000000001E-2,3.8978250000000001,229.596915,"X",588.237078,"X",193.056207,513.42670499999997,200.68312499999999,33.447187,13.432834,134.174024,197.430499,124.41559100000001,1594.0538489999999,1453.999791,"X",153.03878900000001,"X","X","X",72.359088999999997,"X","X",82.375184000000004,"X","X",208.436295,3.5804999999999997E-2,5.4644999999999999E-2,60.992989000000001,0.19489100000000001,0,1.2160000000000001E-3,6.69E-4,2.02E-4,0,13,-59.32,3.29,2.09,63.06,149.43,1.34,7.06,9.26,0,0.18,1600]
[14,2,134.82344699999999,48.409435999999999,677.73209699999995,79.919370999999998,1,8.8594000000000006E-2,2.8091999999999999E-2,0,0,2.8091999999999999E-2,"X",1.0754E-2,1.7337000000000002E-2,0.41221799999999997,0.58778200000000003,0.87732600000000005,1,437.31879900000001,24.295489,231.94733299999999,737.29244600000004,17.718827999999998,20.711877000000001,44.946891000000001,"X","X","X","X",6.9349420000000004,"X",123.78021200000001,104.23561599999999,"X",409.01548600000001,0.18470300000000001,0.202768,0.16531599999999999,0.33504499999999998,0.249775,1,4.6200000000000001E-4,2.3781E-2,1.9075999999999999E-2,0.98092400000000002,8.8594000000000006E-2,76,-27.590564000000001,91.094297999999995,7.3231609999999998,87.901430000000005,804.16236500000002,1.0754E-2,1.7337000000000002E-2,23.224709000000001,93.057462000000001,152.94006300000001,0.42368299999999998,3.4420000000000002E-3,3.8000000000000002E-5,8.1919999999999996E-3,63.378616999999998,72.470380000000006,83.489690999999993,223.234309,475.749504,427.34006799999997,395.2,221.571012,10.99319,6.0854100000000004,1.9931369999999999,3.1767059999999998,3.1937950000000002,4.4852359999999996,-29.065066999999999,-21.204051,3.9837790000000002,48.821072000000001,46.232950000000002,5.1987310000000004,25.963194999999999,2.4243000000000001E-2,"X",2.1904E-2,1.9168999999999999E-2,3.8978250000000001,232.526309,"X",663.10451399999999,"X",193.056209,513.42670899999996,200.68312499999999,33.447187,13.432834,134.174024,386.84391900000003,124.415593,1594.053854,1706.451182,"X",123.875416,"X","X","X",72.359088999999997,"X","X",82.375184000000004,"X","X",208.436295,2.4243000000000001E-2,5.4644999999999999E-2,60.992989000000001,0.19489100000000001,0,6.3400000000000001E-4,3.48E-4,9.7999999999999997E-5,0,14,-74.069999999999993,2.81,1.61,59.45,62.47,1.29,6.89,9.09,0,0.18,1600]
[15,3,134.82344699999999,48.409435999999999,726.14153299999998,79.919370999999998,1,8.8594000000000006E-2,2.8091999999999999E-2,0,0,2.8091999999999999E-2,"X",1.0754E-2,1.7337000000000002E-2,0.41221799999999997,0.58778200000000003,0.87732600000000005,1,437.31879900000001,24.295489,231.94733299999999,737.29244600000004,17.718827999999998,20.711877000000001,44.946891000000001,"X","X","X","X",6.7528610000000002,"X",130.259567,104.23561599999999,"X",430.743762,0.18470300000000001,0.202768,0.16531599999999999,0.33504499999999998,0.249775,1,3.1300000000000002E-4,1.5893999999999998E-2,1.9296000000000001E-2,0.98070400000000002,8.8594000000000006E-2,76,-27.590564000000001,91.094297999999995,7.3231609999999998,85.318415999999999,804.16237100000001,1.0754E-2,1.7337000000000002E-2,23.224709000000001,108.170391,178.21647100000001,0.28021400000000002,4.2040000000000003E-3,3.6000000000000001E-5,8.5609999999999992E-3,59.203831000000001,72.470380000000006,97.299584999999993,223.234309,475.749504,427.34006799999997,425.6,221.571012,12.115755,6.0854100000000004,1.382269,3.1767059999999998,2.5829270000000002,4.4852359999999996,-57.507497999999998,-21.204052999999998,3.8752819999999999,48.821072000000001,45.019069999999999,0,23.278354,1.6206999999999999E-2,"X",1.5935999999999999E-2,9.2630000000000004E-3,3.8978250000000001,292.851336,"X",685.85580900000002,"X",193.05621099999999,513.42671299999995,200.68312499999999,33.447187,13.432834,134.174024,621.30641700000001,124.415594,1594.05386,1873.4418350000001,"X",63.077309,"X","X","X",72.359088999999997,"X","X",82.375184000000004,"X","X",208.436295,1.6206999999999999E-2,5.4644999999999999E-2,60.992989000000001,0.19489100000000001,0,4.2900000000000002E-4,2.3599999999999999E-4,6.3999999999999997E-5,0,15,-88.34,2.36,1.1599999999999999,55.94,0,1.25,6.71,8.91,0,0.18,1600]
[16,4,134.82344699999999,48.409435999999999,774.55096800000001,79.919370999999998,1,8.8594000000000006E-2,2.8091999999999999E-2,0,0,2.8091999999999999E-2,"X",1.0754E-2,1.7337000000000002E-2,0.41221799999999997,0.58778200000000003,0.87732600000000005,1,437.31879900000001,24.295489,231.94733299999999,737.29244600000004,17.718827999999998,20.711877000000001,44.946891000000001,"X","X","X","X",6.5671119999999998,"X","X",104.23561599999999,"X","X",0.18470300000000001,0.202768,0.16531599999999999,0.33504499999999998,0.249775,1,0,1.0489E-2,0,1,8.8594000000000006E-2,76,-27.590564000000001,91.094297999999995,7.3231609999999998,0,804.16237799999999,1.0754E-2,1.7337000000000002E-2,23.224710000000002,"X","X",1,0,3.1999999999999999E-5,8.9339999999999992E-3,60.281689,72.470380000000006,"X",223.234309,475.749504,427.34006799999997,456,221.571012,12.637365000000001,6.0854100000000004,1.648163,3.1767059999999998,2.848821,4.4852359999999996,-74.056939,-21.204053999999999,0,48.821072000000001,43.780746999999998,0,19.614045999999998,1.0489E-2,"X",3.5621E-2,1.3669000000000001E-2,3.8978250000000001,"X","X",0,"X",193.05621400000001,513.42671800000005,200.68312499999999,33.447187,13.432834,134.174024,216.88807499999999,124.41559599999999,1594.0538670000001,"X","X",0,"X","X","X",72.359088999999997,"X","X",82.375184000000004,"X","X",208.436295,1.0489E-2,5.4644999999999999E-2,60.992989000000001,0.19489100000000001,0,0,0,0,0,16,-102.05,1.92,0.71,52.56,0,1.2,6.54,8.75,0,0.18,1600]
[17,5,134.82344699999999,48.409435999999999,822.96040400000004,79.919370999999998,1,8.8594000000000006E-2,2.8091999999999999E-2,0,0,2.8091999999999999E-2,"X",1.0754E-2,1.7337000000000002E-2,0.41221799999999997,0.58778200000000003,0.87732600000000005,1,437.31879900000001,24.295489,231.94733299999999,737.29244600000004,17.718827999999998,20.711877000000001,44.946891000000001,"X","X","X","X",6.4076880000000003,"X","X",104.23561599999999,"X","X",0.18470300000000001,0.202768,0.16531599999999999,0.33504499999999998,0.249775,1,0,6.6499999999999997E-3,0,1,8.8594000000000006E-2,76,-27.590564000000001,91.094297999999995,7.3231609999999998,0,804.16238699999997,1.0754E-2,1.7337000000000002E-2,23.224710999999999,"X","X",1,0,2.6999999999999999E-5,9.1380000000000003E-3,52.485337000000001,72.470380000000006,"X",223.234309,475.749504,427.34006799999997,486.4,221.571012,11.559428,6.0854100000000004,0.60047899999999998,3.1767059999999998,1.801137,4.4852359999999996,-106.561834,-21.204055,0,48.821072000000001,42.717920999999997,0,17.033073999999999,6.6499999999999997E-3,"X",1.2765E-2,3.0330000000000001E-3,3.8978250000000001,"X","X",0,"X",193.056218,513.42672500000003,200.68312499999999,33.447187,13.432834,134.174024,367.97029700000002,124.41559700000001,1594.0538759999999,"X","X",0,"X","X","X",72.359088999999997,"X","X",82.375184000000004,"X","X",208.436295,6.6499999999999997E-3,5.4644999999999999E-2,60.992989000000001,0.19489100000000001,0,0,0,0,0,17,-115.17,1.49,0.28999999999999998,49.3,-99999999,1.1599999999999999,6.38,8.58,0,0.18,1600]
[18,6,134.82344699999999,48.409435999999999,871.36983899999996,79.919370999999998,1,8.8594000000000006E-2,2.8091999999999999E-2,0,0,2.8091999999999999E-2,"X",1.0754E-2,1.7337000000000002E-2,0.41221799999999997,0.58778200000000003,0.87732600000000005,1,437.31879900000001,24.295489,231.94733299999999,737.29244600000004,17.718827999999998,20.711877000000001,44.946891000000001,"X","X","X","X",6.2727830000000004,"X","X",104.23561599999999,"X","X",0.18470300000000001,0.202768,0.16531599999999999,0.33504499999999998,0.249775,1,0,4.0390000000000001E-3,0,1,8.8594000000000006E-2,76,-27.590564000000001,91.094297999999995,7.3231609999999998,0,804.16239800000005,1.0754E-2,1.7337000000000002E-2,23.224712,"X","X",1,0,2.1999999999999999E-5,9.2029999999999994E-3,49.889481000000004,72.470380000000006,"X",223.234309,475.749504,427.34006799999997,516.79999999999995,221.571012,11.947997000000001,6.0854100000000004,0.27558700000000003,3.1767059999999998,1.476245,4.4852359999999996,-116.52341,-21.204056000000001,0,48.821072000000001,41.818553999999999,0,14.389624,4.0390000000000001E-3,"X",1.2572E-2,1.8140000000000001E-3,3.8978250000000001,"X","X",0,"X",193.05622199999999,513.42673400000001,200.68312499999999,33.447187,13.432834,134.174024,516.32801099999995,124.415599,1594.053887,"X","X",0,"X","X","X",72.359088999999997,"X","X",82.375184000000004,"X","X",208.436295,4.0390000000000001E-3,5.4644999999999999E-2,60.992989000000001,0.19489100000000001,0,0,0,0,0,18,-127.67,1.0900000000000001,-0.11,46.2,-99999999,1.1100000000000001,6.23,8.43,0,0.18,1600]
[19,7,134.82344699999999,48.409435999999999,919.77927499999998,79.919370999999998,1,8.8594000000000006E-2,2.8091999999999999E-2,0,0,2.8091999999999999E-2,"X",1.0754E-2,1.7337000000000002E-2,0.41221799999999997,0.58778200000000003,0.87732600000000005,1,437.31879900000001,24.295489,231.94733299999999,737.29244600000004,17.718827999999998,20.711877000000001,44.946891000000001,"X","X","X","X",6.1523009999999996,"X","X",104.23561599999999,"X","X",0.18470300000000001,0.202768,0.16531599999999999,0.33504499999999998,0.249775,1,0,2.3709999999999998E-3,0,1,8.8594000000000006E-2,76,-27.590564000000001,91.094297999999995,7.3231609999999998,0,804.16241000000002,1.0754E-2,1.7337000000000002E-2,23.224713999999999,"X","X",1,0,1.5999999999999999E-5,9.0930000000000004E-3,46.881726,72.470380000000006,"X",223.234309,475.749504,427.34006799999997,547.20000000000005,221.571012,12.119680000000001,6.0854100000000004,-0.10707999999999999,3.1767059999999998,1.0935779999999999,4.4852359999999996,-128.25698,-21.204056999999999,0,48.821072000000001,41.015337000000002,0,11.761911,2.3709999999999998E-3,"X",1.1816999999999999E-2,1E-3,3.8978250000000001,"X","X",0,"X",193.056228,513.42674399999999,200.68312499999999,33.447187,13.432834,134.174024,316.19283899999999,124.415601,1594.053899,"X","X",0,"X","X","X",72.359088999999997,"X","X",82.375184000000004,"X","X",208.436295,2.3709999999999998E-3,5.4644999999999999E-2,60.992989000000001,0.19489100000000001,0,0,0,0,0,19,-139.54,0.7,-0.5,43.24,-99999999,1.07,6.08,8.2799999999999994,0,0.18,1600]
[20,8,134.82344699999999,48.409435999999999,968.18871100000001,79.919370999999998,1,8.8594000000000006E-2,2.8091999999999999E-2,0,0,2.8091999999999999E-2,"X",1.0754E-2,1.7337000000000002E-2,0.41221799999999997,0.58778200000000003,0.87732600000000005,1,437.31879900000001,24.295489,231.94733299999999,737.29244600000004,17.718827999999998,20.711877000000001,44.946891000000001,"X","X","X","X",6.0260579999999999,"X","X",104.23561599999999,"X","X",0.18470300000000001,0.202768,0.16531599999999999,0.33504499999999998,0.249775,1,0,1.2899999999999999E-3,0,1,8.8594000000000006E-2,76,-27.590564000000001,91.094297999999995,7.3231609999999998,0,804.16242399999999,1.0754E-2,1.7337000000000002E-2,23.224715,"X","X",1,0,1.2999999999999999E-5,9.044E-3,43.985194999999997,72.470380000000006,"X",223.234309,475.749504,427.34006799999997,577.6,221.571012,12.279019999999999,6.0854100000000004,-0.47674499999999997,3.1767059999999998,0.72391300000000003,4.4852359999999996,-139.599761,-21.204059000000001,0,48.821072000000001,40.173718999999998,0,9.8462250000000004,1.2899999999999999E-3,"X",1.1219E-2,5.1599999999999997E-4,3.8978250000000001,"X","X",0,"X",193.05623399999999,513.42675499999996,200.68312499999999,33.447187,13.432834,134.174024,684.01419899999996,124.415603,1594.053913,"X","X",0,"X","X","X",72.359088999999997,"X","X",82.375184000000004,"X","X",208.436295,1.2899999999999999E-3,5.4644999999999999E-2,60.992989000000001,0.19489100000000001,0,0,0,0,0,20,-150.79,0.34,-0.86,40.43,-99999999,1.02,5.94,8.14,0,0.18,1600]
[21,9,134.82344699999999,48.409435999999999,1016.598146,79.919370999999998,1,8.8594000000000006E-2,2.8091999999999999E-2,0,0,2.8091999999999999E-2,"X",1.0754E-2,1.7337000000000002E-2,0.41221799999999997,0.58778200000000003,0.87732600000000005,1,437.31879900000001,24.295489,231.94733299999999,737.29244600000004,17.718827999999998,20.711877000000001,44.946891000000001,"X","X","X","X",5.8985320000000003,"X","X",104.23561599999999,"X","X",0.18470300000000001,0.202768,0.16531599999999999,0.33504499999999998,0.249775,1,0,6.5300000000000004E-4,0,1,8.8594000000000006E-2,76,-27.590564000000001,91.094297999999995,7.3231609999999998,0,804.16243999999995,1.0754E-2,1.7337000000000002E-2,23.224716999999998,"X","X",1,0,1.4E-5,9.1389999999999996E-3,41.198034,72.470380000000006,"X",223.234309,475.749504,427.34006799999997,608,221.571012,12.459847,6.0854100000000004,-0.83436999999999995,3.1767059999999998,0.366288,4.4852359999999996,-150.613651,-21.204059999999998,0,48.821072000000001,39.323549999999997,0,8.1160899999999998,6.5300000000000004E-4,"X",1.0754E-2,2.5000000000000001E-4,3.8978250000000001,"X","X",0,"X",193.056241,513.42676900000004,200.68312499999999,33.447187,13.432834,134.174024,1217.3145139999999,124.415605,1594.0539289999999,"X","X",0,"X","X","X",72.359088999999997,"X","X",82.375184000000004,"X","X",208.436295,6.5300000000000004E-4,5.4644999999999999E-2,60.992989000000001,0.19489100000000001,0,0,0,0,0,21,-161.47,-0.01,-1.21,37.76,-99999999,0.98,5.8,8,0,0.18,1600]
[22,10,134.82344699999999,48.409435999999999,1065.007582,79.919370999999998,1,8.8594000000000006E-2,2.8091999999999999E-2,0,0,2.8091999999999999E-2,"X",1.0754E-2,1.7337000000000002E-2,0.41221799999999997,0.58778200000000003,0.87732600000000005,1,437.31879900000001,24.295489,231.94733299999999,737.29244600000004,17.718827999999998,20.711877000000001,44.946891000000001,"X","X","X","X",5.7588759999999999,"X","X",104.23561599999999,"X","X",0.18470300000000001,0.202768,0.16531599999999999,0.33504499999999998,0.249775,1,0,3.1599999999999998E-4,0,1,8.8594000000000006E-2,76,-27.590564000000001,91.094297999999995,7.3231609999999998,0,804.16245800000002,1.0754E-2,1.7337000000000002E-2,23.224719,"X","X",1,0,0,9.9740000000000002E-3,38.856209,72.470380000000006,"X",223.234309,475.749504,427.34006799999997,638.4,221.571012,12.684151,6.0854100000000004,-1.1304510000000001,3.1767059999999998,7.0207000000000006E-2,4.4852359999999996,-159.81804600000001,-21.204060999999999,0,48.821072000000001,38.392505999999997,0,6.0857609999999998,3.1599999999999998E-4,"X",1.1318E-2,1.2799999999999999E-4,3.8978250000000001,"X","X",0,"X",193.05624900000001,513.426784,200.68312499999999,33.447187,13.432834,134.174024,283.25089000000003,124.41560699999999,1594.0539470000001,"X","X",0,"X","X","X",72.359088999999997,"X","X",82.375184000000004,"X","X",208.436295,3.1599999999999998E-4,5.4644999999999999E-2,60.992989000000001,0.19489100000000001,0,0,0,0,0,22,-171.63,-0.33,-1.53,35.25,-99999999,0.93,5.68,7.88,0,0.18,1600]
[23,11,134.82344699999999,48.409435999999999,1113.4170180000001,79.919370999999998,1,8.8594000000000006E-2,2.8091999999999999E-2,0,0,2.8091999999999999E-2,"X",1.0754E-2,1.7337000000000002E-2,0.41221799999999997,0.58778200000000003,0.87732600000000005,1,437.31879900000001,24.295489,231.94733299999999,737.29244600000004,17.718827999999998,20.711877000000001,44.946891000000001,"X","X","X","X",0,"X","X",104.23561599999999,"X","X",0.18470300000000001,0.202768,0.16531599999999999,0.33504499999999998,0.249775,1,0,1.4100000000000001E-4,0,1,8.8594000000000006E-2,76,-27.590564000000001,91.094297999999995,7.3231609999999998,0,804.16247799999996,1.0754E-2,1.7337000000000002E-2,23.224720999999999,"X","X",1,0,0,1.0591E-2,36.550564000000001,72.470380000000006,"X",223.234309,475.749504,427.34006799999997,668.8,221.571012,12.928201,6.0854100000000004,-1.4246909999999999,3.1767059999999998,-0.22403300000000001,4.4852359999999996,-168.95553200000001,-21.204063000000001,0,48.821072000000001,0,0,0,1.4100000000000001E-4,"X",1.1580999999999999E-2,5.8E-5,3.8978250000000001,"X","X",0,"X",193.05625800000001,513.42680199999995,200.68312499999999,33.447187,13.432834,134.174024,637.43849299999999,124.415609,1594.0539670000001,"X","X",0,"X","X","X",72.359088999999997,"X","X",82.375184000000004,"X","X",208.436295,1.4100000000000001E-4,5.4644999999999999E-2,60.992989000000001,0.19489100000000001,0,0,0,0,0,23,-181.21,-0.64,-1.84,32.880000000000003,-99999999,0.89,5.56,7.76,0,0.18,1600]
[24,12,134.82344699999999,48.409435999999999,1161.8264529999999,79.919370999999998,1,8.8594000000000006E-2,2.8091999999999999E-2,0,0,2.8091999999999999E-2,"X",1.0754E-2,1.7337000000000002E-2,0.41221799999999997,0.58778200000000003,0.87732600000000005,1,437.31879900000001,24.295489,231.94733299999999,737.29244600000004,17.718827999999998,20.711877000000001,44.946891000000001,"X","X","X","X",0,"X","X",104.23561599999999,"X","X",0.18470300000000001,0.202768,0.16531599999999999,0.33504499999999998,0.249775,1,0,5.5000000000000002E-5,0,1,8.8594000000000006E-2,76,-27.590564000000001,91.094297999999995,7.3231609999999998,0,804.16250000000002,1.0754E-2,1.7337000000000002E-2,23.224723000000001,"X","X",1,0,0,1.1305000000000001E-2,0,72.470380000000006,"X",223.234309,475.749504,427.34006799999997,0,221.571012,0,6.0854100000000004,0,3.1767059999999998,0,4.4852359999999996,0,-21.204063999999999,0,48.821072000000001,0,0,0,5.5000000000000002E-5,"X",1.2293999999999999E-2,2.4000000000000001E-5,3.8978250000000001,"X","X",0,"X",193.05626799999999,513.42682100000002,200.68312499999999,33.447187,13.432834,134.174024,1131.758683,124.415611,1594.053989,"X","X",0,"X","X","X",72.359088999999997,"X","X",82.375184000000004,"X","X",208.436295,5.5000000000000002E-5,5.4644999999999999E-2,60.992989000000001,0.19489100000000001,0,0,0,0,0,24,-190.8,-0.93,-2.13,30.64,-99999999,0.84,5.44,7.64,0,0.18,1600]
[25,1,134.82344699999999,48.409435999999999,1210.235889,79.919370999999998,1,8.8594000000000006E-2,2.8091999999999999E-2,0,0,2.8091999999999999E-2,"X",1.0754E-2,1.7337000000000002E-2,0.41221799999999997,0.58778200000000003,0.87732600000000005,1,437.31879900000001,24.295489,231.94733299999999,737.29244600000004,17.718827999999998,20.711877000000001,44.946891000000001,"X","X","X","X","X","X","X",104.23561599999999,"X","X",0.18470300000000001,0.202768,0.16531599999999999,0.33504499999999998,0.249775,1,"X","X","X","X",8.8594000000000006E-2,76,-27.590564000000001,91.094297999999995,7.3231609999999998,"X",804.16236100000003,1.0754E-2,1.7337000000000002E-2,23.224708,"X","X","X","X","X","X","X",72.470380000000006,"X",223.234309,475.749504,427.34006799999997,"X",221.571012,"X",6.0854100000000004,"X",3.1767059999999998,"X",4.4852359999999996,"X",-21.204049999999999,"X",48.821072000000001,"X","X","X","X","X","X","X",3.8978250000000001,"X","X","X","X",193.056207,513.42670599999997,200.68312499999999,33.447187,13.432834,134.174024,262.60765099999998,124.41559100000001,1594.05385,"X","X","X","X","X","X",72.359088999999997,"X","X",82.375184000000004,"X","X",208.436295,"X",5.4644999999999999E-2,60.992989000000001,0.19489100000000001,"X","X","X","X",0,1,967.45,7.78,5.2,88.96,-99999999,1.84,7.23,10.82,1,"X","X"]
[26,2,134.82344699999999,48.409435999999999,1258.645325,79.919370999999998,1,8.8594000000000006E-2,2.8091999999999999E-2,0,0,2.8091999999999999E-2,"X",1.0754E-2,1.7337000000000002E-2,0.41221799999999997,0.58778200000000003,0.87732600000000005,1,437.31879900000001,24.295489,231.94733299999999,737.29244600000004,17.718827999999998,20.711877000000001,44.946891000000001,"X","X","X","X","X","X","X",104.23561599999999,"X","X",0.18470300000000001,0.202768,0.16531599999999999,0.33504499999999998,0.249775,1,"X","X","X","X",8.8594000000000006E-2,76,-27.590564000000001,91.094297999999995,7.3231609999999998,"X",804.16236600000002,1.0754E-2,1.7337000000000002E-2,23.224709000000001,"X","X","X","X","X","X","X",72.470380000000006,"X",223.234309,475.749504,427.34006799999997,"X",221.571012,"X",6.0854100000000004,"X",3.1767059999999998,"X",4.4852359999999996,"X",-21.204052000000001,"X",48.821072000000001,"X","X","X","X","X","X","X",3.8978250000000001,"X","X","X","X",193.056209,513.42670899999996,200.68312499999999,33.447187,13.432834,134.174024,559.04678000000001,124.415593,1594.0538550000001,"X","X","X","X","X","X",72.359088999999997,"X","X",82.375184000000004,"X","X",208.436295,"X",5.4644999999999999E-2,60.992989000000001,0.19489100000000001,"X","X","X","X",0,2,971.11,9.33,7.41,106.17,-99999999,1.81,8.7799999999999994,11.7,2,"X","X"]
[27,3,134.82344699999999,48.409435999999999,1307.05476,79.919370999999998,1,8.8594000000000006E-2,2.8091999999999999E-2,0,0,2.8091999999999999E-2,"X",1.0754E-2,1.7337000000000002E-2,0.41221799999999997,0.58778200000000003,0.87732600000000005,1,437.31879900000001,24.295489,231.94733299999999,737.29244600000004,17.718827999999998,20.711877000000001,44.946891000000001,"X","X","X","X","X","X","X",104.23561599999999,"X","X",0.18470300000000001,0.202768,0.16531599999999999,0.33504499999999998,0.249775,1,"X","X","X","X",8.8594000000000006E-2,76,-27.590564000000001,91.094297999999995,7.3231609999999998,"X",804.162372,1.0754E-2,1.7337000000000002E-2,23.224710000000002,"X","X","X","X","X","X","X",72.470380000000006,"X",223.234309,475.749504,427.34006799999997,"X",221.571012,"X",6.0854100000000004,"X",3.1767059999999998,"X",4.4852359999999996,"X",-21.204052999999998,"X",48.821072000000001,"X","X","X","X","X","X","X",3.8978250000000001,"X","X","X","X",193.05621099999999,513.42671299999995,200.68312499999999,33.447187,13.432834,134.174024,955.04385200000002,124.415594,1594.0538610000001,"X","X","X","X","X","X",72.359088999999997,"X","X",82.375184000000004,"X","X",208.436295,"X",5.4644999999999999E-2,60.992989000000001,0.19489100000000001,"X","X","X","X",0,3,873.27,9.4,7.97,109.06,91.6,1.77,9.23,11.66,2,"X","X"]
[28,4,134.82344699999999,48.409435999999999,1355.4641959999999,79.919370999999998,1,8.8594000000000006E-2,2.8091999999999999E-2,0,0,2.8091999999999999E-2,"X",1.0754E-2,1.7337000000000002E-2,0.41221799999999997,0.58778200000000003,0.87732600000000005,1,437.31879900000001,24.295489,231.94733299999999,737.29244600000004,17.718827999999998,20.711877000000001,44.946891000000001,"X","X","X","X","X","X","X",104.23561599999999,"X","X",0.18470300000000001,0.202768,0.16531599999999999,0.33504499999999998,0.249775,1,"X","X","X","X",8.8594000000000006E-2,76,-27.590564000000001,91.094297999999995,7.3231609999999998,"X",804.16237899999999,1.0754E-2,1.7337000000000002E-2,23.224710000000002,"X","X","X","X","X","X","X",72.470380000000006,"X",223.234309,475.749504,427.34006799999997,"X",221.571012,"X",6.0854100000000004,"X",3.1767059999999998,"X",4.4852359999999996,"X",-21.204053999999999,"X",48.821072000000001,"X","X","X","X","X","X","X",3.8978250000000001,"X","X","X","X",193.05621400000001,513.42671900000005,200.68312499999999,33.447187,13.432834,134.174024,"X",124.41559599999999,1594.053868,"X","X","X","X","X","X",72.359088999999997,"X","X",82.375184000000004,"X","X",208.436295,"X",5.4644999999999999E-2,60.992989000000001,0.19489100000000001,"X","X","X","X",0,4,718.5,9,7.8,107.16,182.57,1.73,9.2899999999999991,11.49,2,"X","X"]
[29,5,134.82344699999999,48.409435999999999,1403.873632,79.919370999999998,1,8.8594000000000006E-2,2.8091999999999999E-2,0,0,2.8091999999999999E-2,"X",1.0754E-2,1.7337000000000002E-2,0.41221799999999997,0.58778200000000003,0.87732600000000005,1,437.31879900000001,24.295489,231.94733299999999,737.29244600000004,17.718827999999998,20.711877000000001,44.946891000000001,"X","X","X","X","X","X","X",104.23561599999999,"X","X",0.18470300000000001,0.202768,0.16531599999999999,0.33504499999999998,0.249775,1,"X","X","X","X",8.8594000000000006E-2,76,-27.590564000000001,91.094297999999995,7.3231609999999998,"X",804.16238799999996,1.0754E-2,1.7337000000000002E-2,23.224710999999999,"X","X","X","X","X","X","X",72.470380000000006,"X",223.234309,475.749504,427.34006799999997,"X",221.571012,"X",6.0854100000000004,"X",3.1767059999999998,"X",4.4852359999999996,"X",-21.204055,"X",48.821072000000001,"X","X","X","X","X","X","X",3.8978250000000001,"X","X","X","X",193.056218,513.42672600000003,200.68312499999999,33.447187,13.432834,134.174024,"X",124.41559700000001,1594.0538770000001,"X","X","X","X","X","X",72.359088999999997,"X","X",82.375184000000004,"X","X",208.436295,"X",5.4644999999999999E-2,60.992989000000001,0.19489100000000001,"X","X","X","X",0,5,551.21,8.3800000000000008,7.18,103.04,228.84,1.69,9.17,11.37,2,"X","X"]
[30,6,134.82344699999999,48.409435999999999,1452.2830670000001,79.919370999999998,1,8.8594000000000006E-2,2.8091999999999999E-2,0,0,2.8091999999999999E-2,"X",1.0754E-2,1.7337000000000002E-2,0.41221799999999997,0.58778200000000003,0.87732600000000005,1,437.31879900000001,24.295489,231.94733299999999,737.29244600000004,17.718827999999998,20.711877000000001,44.946891000000001,"X","X","X","X","X","X","X",104.23561599999999,"X","X",0.18470300000000001,0.202768,0.16531599999999999,0.33504499999999998,0.249775,1,"X","X","X","X",8.8594000000000006E-2,76,-27.590564000000001,91.094297999999995,7.3231609999999998,"X",804.16239800000005,1.0754E-2,1.7337000000000002E-2,23.224712,"X","X","X","X","X","X","X",72.470380000000006,"X",223.234309,475.749504,427.34006799999997,"X",221.571012,"X",6.0854100000000004,"X",3.1767059999999998,"X",4.4852359999999996,"X",-21.204056000000001,"X",48.821072000000001,"X","X","X","X","X","X","X",3.8978250000000001,4.7569999999999999E-3,535.643866,0,"X",193.05622299999999,513.42673400000001,200.68312499999999,33.447187,13.432834,134.174024,"X",124.415599,1594.053887,"X","X","X","X","X","X",72.359088999999997,"X","X",82.375184000000004,"X","X",208.436295,"X",5.4644999999999999E-2,60.992989000000001,0.19489100000000001,"X","X","X","X",0,6,391.32,7.64,6.44,97.8,267.05,1.64,8.9600000000000009,11.16,2,"X","X"]
[31,7,134.82344699999999,48.409435999999999,1500.692503,79.919370999999998,1,8.8594000000000006E-2,2.8091999999999999E-2,0,0,2.8091999999999999E-2,"X",1.0754E-2,1.7337000000000002E-2,0.41221799999999997,0.58778200000000003,0.87732600000000005,1,437.31879900000001,24.295489,231.94733299999999,737.29244600000004,17.718827999999998,20.711877000000001,44.946891000000001,"X","X","X","X","X","X","X",104.23561599999999,"X","X",0.18470300000000001,0.202768,0.16531599999999999,0.33504499999999998,0.249775,1,"X","X","X","X",8.8594000000000006E-2,76,-27.590564000000001,91.094297999999995,7.3231609999999998,"X",804.16241000000002,1.0754E-2,1.7337000000000002E-2,23.224713999999999,"X","X","X","X","X","X","X",72.470380000000006,"X",223.234309,475.749504,427.34006799999997,"X",221.571012,"X",6.0854100000000004,"X",3.1767059999999998,"X",4.4852359999999996,"X",-21.204056999999999,"X",48.821072000000001,"X","X","X","X","X","X","X",3.8978250000000001,2.6397050000000002,561.63764700000002,0,"X",193.056228,513.42674399999999,200.68312499999999,33.447187,13.432834,134.174024,"X",124.415601,1594.0539000000001,"X","X","X","X","X","X",72.359088999999997,"X","X",82.375184000000004,"X","X",208.436295,"X",5.4644999999999999E-2,60.992989000000001,0.19489100000000001,"X","X","X","X",0,7,246.7,6.86,5.66,92.03,296.69,1.59,8.6999999999999993,10.9,2,"X","X"]
[32,8,134.82344699999999,48.409435999999999,1549.1019389999999,79.919370999999998,1,8.8594000000000006E-2,2.8091999999999999E-2,0,0,2.8091999999999999E-2,"X",1.0754E-2,1.7337000000000002E-2,0.41221799999999997,0.58778200000000003,0.87732600000000005,1,437.31879900000001,24.295489,231.94733299999999,737.29244600000004,17.718827999999998,20.711877000000001,44.946891000000001,"X","X","X","X","X","X","X",104.23561599999999,"X","X",0.18470300000000001,0.202768,0.16531599999999999,0.33504499999999998,0.249775,1,"X","X","X","X",8.8594000000000006E-2,76,-27.590564000000001,91.094297999999995,7.3231609999999998,"X",804.16242399999999,1.0754E-2,1.7337000000000002E-2,23.224715,"X","X","X","X","X","X","X",72.470380000000006,"X",223.234309,475.749504,427.34006799999997,"X",221.571012,"X",6.0854100000000004,"X",3.1767059999999998,"X",4.4852359999999996,"X",-21.204059000000001,"X",48.821072000000001,"X","X","X","X","X","X","X",3.8978250000000001,33.794663999999997,509.77657799999997,130.89614800000001,"X",193.05623399999999,513.42675599999995,200.68312499999999,33.447187,13.432834,134.174024,"X",124.415603,1594.0539140000001,"X","X","X","X","X","X",72.359088999999997,"X","X",82.375184000000004,"X","X",208.436295,"X",5.4644999999999999E-2,60.992989000000001,0.19489100000000001,"X","X","X","X",0,8,125.67,6.07,4.87,86.08,308.16000000000003,1.53,8.43,10.63,2,"X","X"]
[33,9,134.82344699999999,48.409435999999999,1597.5113739999999,79.919370999999998,1,8.8594000000000006E-2,2.8091999999999999E-2,0,0,2.8091999999999999E-2,"X",1.0754E-2,1.7337000000000002E-2,0.41221799999999997,0.58778200000000003,0.87732600000000005,1,437.31879900000001,24.295489,231.94733299999999,737.29244600000004,17.718827999999998,20.711877000000001,44.946891000000001,"X","X","X","X","X","X","X",104.23561599999999,"X","X",0.18470300000000001,0.202768,0.16531599999999999,0.33504499999999998,0.249775,1,"X","X","X","X",8.8594000000000006E-2,76,-27.590564000000001,91.094297999999995,7.3231609999999998,"X",804.16243999999995,1.0754E-2,1.7337000000000002E-2,23.224716999999998,"X","X","X","X","X","X","X",72.470380000000006,"X",223.234309,475.749504,427.34006799999997,"X",221.571012,"X",6.0854100000000004,"X",3.1767059999999998,"X",4.4852359999999996,"X",-21.204059999999998,"X",48.821072000000001,"X","X","X","X","X","X","X",3.8978250000000001,139.89768599999999,461.271998,160.47156100000001,"X",193.056241,513.42676900000004,200.68312499999999,33.447187,13.432834,134.174024,"X",124.415605,1594.0539289999999,"X","X","X","X","X","X",72.359088999999997,"X","X",82.375184000000004,"X","X",208.436295,"X",5.4644999999999999E-2,60.992989000000001,0.19489100000000001,"X","X","X","X",0,9,40.5,5.28,4.08,80.14,274.64,1.48,8.14,10.34,2,"X","X"]
[34,10,134.82344699999999,48.409435999999999,1645.9208100000001,79.919370999999998,1,8.8594000000000006E-2,2.8091999999999999E-2,0,0,2.8091999999999999E-2,"X",1.0754E-2,1.7337000000000002E-2,0.41221799999999997,0.58778200000000003,0.87732600000000005,1,437.31879900000001,24.295489,231.94733299999999,737.29244600000004,17.718827999999998,20.711877000000001,44.946891000000001,"X","X","X","X","X","X","X",104.23561599999999,"X","X",0.18470300000000001,0.202768,0.16531599999999999,0.33504499999999998,0.249775,1,"X","X","X","X",8.8594000000000006E-2,76,-27.590564000000001,91.094297999999995,7.3231609999999998,"X",804.16245800000002,1.0754E-2,1.7337000000000002E-2,23.224719,"X","X","X","X","X","X","X",72.470380000000006,"X",223.234309,475.749504,427.34006799999997,"X",221.571012,"X",6.0854100000000004,"X",3.1767059999999998,"X",4.4852359999999996,"X",-21.204060999999999,"X",48.821072000000001,"X","X","X","X","X","X","X",3.8978250000000001,232.99445900000001,422.829317,200.20438899999999,"X",193.05624900000001,513.426785,200.68312499999999,33.447187,13.432834,134.174024,"X",124.41560699999999,1594.0539470000001,"X","X","X","X","X","X",72.359088999999997,"X","X",82.375184000000004,"X","X",208.436295,"X",5.4644999999999999E-2,60.992989000000001,0.19489100000000001,"X","X","X","X",0,10,-11.3,4.5199999999999996,3.32,74.349999999999994,203.9,1.42,7.86,10.06,0,"X","X"]
[35,11,134.82344699999999,48.409435999999999,1694.330246,79.919370999999998,1,8.8594000000000006E-2,2.8091999999999999E-2,0,0,2.8091999999999999E-2,"X",1.0754E-2,1.7337000000000002E-2,0.41221799999999997,0.58778200000000003,0.87732600000000005,1,437.31879900000001,24.295489,231.94733299999999,737.29244600000004,17.718827999999998,20.711877000000001,44.946891000000001,"X","X","X","X","X","X","X",104.23561599999999,"X","X",0.18470300000000001,0.202768,0.16531599999999999,0.33504499999999998,0.249775,1,"X","X","X","X",8.8594000000000006E-2,76,-27.590564000000001,91.094297999999995,7.3231609999999998,"X",804.16247799999996,1.0754E-2,1.7337000000000002E-2,23.224720999999999,"X","X","X","X","X","X","X",72.470380000000006,"X",223.234309,475.749504,427.34006799999997,"X",221.571012,"X",6.0854100000000004,"X",3.1767059999999998,"X",4.4852359999999996,"X",-21.204063000000001,"X",48.821072000000001,"X","X","X","X","X","X","X",3.8978250000000001,316.72284999999999,384.63373100000001,250.58199500000001,"X",193.05625800000001,513.42680199999995,200.68312499999999,33.447187,13.432834,134.174024,"X",124.415609,1594.0539670000001,"X","X","X","X","X","X",72.359088999999997,"X","X",82.375184000000004,"X","X",208.436295,"X",5.4644999999999999E-2,60.992989000000001,0.19489100000000001,"X","X","X","X",0,11,-44.1,3.79,2.59,68.78,101.07,1.36,7.59,9.7899999999999991,0,"X","X"]
[36,12,134.82344699999999,48.409435999999999,1742.7396819999999,79.919370999999998,1,8.8594000000000006E-2,2.8091999999999999E-2,0,0,2.8091999999999999E-2,"X",1.0754E-2,1.7337000000000002E-2,0.41221799999999997,0.58778200000000003,0.87732600000000005,1,437.31879900000001,24.295489,231.94733299999999,737.29244600000004,17.718827999999998,20.711877000000001,44.946891000000001,"X","X","X","X","X","X","X",104.23561599999999,"X","X",0.18470300000000001,0.202768,0.16531599999999999,0.33504499999999998,0.249775,1,"X","X","X","X",8.8594000000000006E-2,76,-27.590564000000001,91.094297999999995,7.3231609999999998,"X",804.16250000000002,1.0754E-2,1.7337000000000002E-2,23.224723000000001,"X","X","X","X","X","X","X",72.470380000000006,"X",223.234309,475.749504,427.34006799999997,"X",221.571012,"X",6.0854100000000004,"X",3.1767059999999998,"X",4.4852359999999996,"X",-21.204063999999999,"X",48.821072000000001,"X","X","X","X","X","X","X",3.8978250000000001,395.30856399999999,356.22830699999997,310.875314,"X",193.05626899999999,513.42682100000002,200.68312499999999,33.447187,13.432834,134.174024,"X",124.415611,1594.053989,"X","X","X","X","X","X",72.359088999999997,"X","X",82.375184000000004,"X","X",208.436295,"X",5.4644999999999999E-2,60.992989000000001,0.19489100000000001,"X","X","X","X",0,12,-65.72,3.1,1.9,63.49,0,1.3,7.32,9.52,0,"X","X"]
[37,1,"X","X","X","X","X","X","X","X","X","X","X","X","X","X","X","X","X","X","X","X","X","X","X","X","X","X","X","X","X","X","X","X","X","X","X","X","X","X","X","X","X","X","X","X","X","X","X","X","X","X","X","X","X","X","X","X","X","X","X","X","X","X","X","X","X","X","X","X","X","X","X","X","X","X","X","X","X","X","X","X","X","X","X","X","X","X",461.37123400000002,353.27662299999997,374.69876799999997,"X","X","X","X","X","X","X","X","X","X","X","X","X","X","X","X","X","X","X","X","X","X","X","X","X","X","X","X","X","X","X","X",13,-85.98,2.46,1.25,58.48,0,1.24,7.07,9.27,0,"X","X"]
[38,2,"X","X","X","X","X","X","X","X","X","X","X","X","X","X","X","X","X","X","X","X","X","X","X","X","X","X","X","X","X","X","X","X","X","X","X","X","X","X","X","X","X","X","X","X","X","X","X","X","X","X","X","X","X","X","X","X","X","X","X","X","X","X","X","X","X","X","X","X","X","X","X","X","X","X","X","X","X","X","X","X","X","X","X","X","X","X",518.31631200000004,354.53278599999999,445.35572300000001,"X","X","X","X","X","X","X","X","X","X","X","X","X","X","X","X","X","X","X","X","X","X","X","X","X","X","X","X","X","X","X","X",14,-104.89,1.85,0.65,53.78,0,1.18,6.83,9.0299999999999994,0,"X","X"]
[39,3,"X","X","X","X","X","X","X","X","X","X","X","X","X","X","X","X","X","X","X","X","X","X","X","X","X","X","X","X","X","X","X","X","X","X","X","X","X","X","X","X","X","X","X","X","X","X","X","X","X","X","X","X","X","X","X","X","X","X","X","X","X","X","X","X","X","X","X","X","X","X","X","X","X","X","X","X","X","X","X","X","X","X","X","X","X","X",566.44161799999995,354.592985,526.40416700000003,"X","X","X","X","X","X","X","X","X","X","X","X","X","X","X","X","X","X","X","X","X","X","X","X","X","X","X","X","X","X","X","X",15,-122.49,1.28,0.08,49.39,0,1.1200000000000001,6.61,8.81,0,"X","X"]
[40,4,"X","X","X","X","X","X","X","X","X","X","X","X","X","X","X","X","X","X","X","X","X","X","X","X","X","X","X","X","X","X","X","X","X","X","X","X","X","X","X","X","X","X","X","X","X","X","X","X","X","X","X","X","X","X","X","X","X","X","X","X","X","X","X","X","X","X","X","X","X","X","X","X","X","X","X","X","X","X","X","X","X","X","X","X","X","X",621.01475900000003,354.79273699999999,653.12951799999996,"X","X","X","X","X","X","X","X","X","X","X","X","X","X","X","X","X","X","X","X","X","X","X","X","X","X","X","X","X","X","X","X",16,-138.81,0.75,-0.45,45.31,0,1.06,6.4,8.6,0,"X","X"]
[41,5,"X","X","X","X","X","X","X","X","X","X","X","X","X","X","X","X","X","X","X","X","X","X","X","X","X","X","X","X","X","X","X","X","X","X","X","X","X","X","X","X","X","X","X","X","X","X","X","X","X","X","X","X","X","X","X","X","X","X","X","X","X","X","X","X","X","X","X","X","X","X","X","X","X","X","X","X","X","X","X","X","X","X","X","X","X","X",677.46814300000005,310.07435700000002,758.94495900000004,"X","X","X","X","X","X","X","X","X","X","X","X","X","X","X","X","X","X","X","X","X","X","X","X","X","X","X","X","X","X","X","X",17,-153.9,0.26,-0.94,41.52,-99999999,1,6.21,8.41,0,"X","X"]
[42,6,"X","X","X","X","X","X","X","X","X","X","X","X","X","X","X","X","X","X","X","X","X","X","X","X","X","X","X","X","X","X","X","X","X","X","X","X","X","X","X","X","X","X","X","X","X","X","X","X","X","X","X","X","X","X","X","X","X","X","X","X","X","X","X","X","X","X","X","X","X","X","X","X","X","X","X","X","X","X","X","X","X","X","X","X","X","X",716.13247000000001,0,835.84615699999995,"X","X","X","X","X","X","X","X","X","X","X","X","X","X","X","X","X","X","X","X","X","X","X","X","X","X","X","X","X","X","X","X",18,-167.82,-0.19,-1.39,38,-99999999,0.95,6.03,8.23,0,"X","X"]
[43,7,"X","X","X","X","X","X","X","X","X","X","X","X","X","X","X","X","X","X","X","X","X","X","X","X","X","X","X","X","X","X","X","X","X","X","X","X","X","X","X","X","X","X","X","X","X","X","X","X","X","X","X","X","X","X","X","X","X","X","X","X","X","X","X","X","X","X","X","X","X","X","X","X","X","X","X","X","X","X","X","X","X","X","X","X","X","X",750.05675499999995,"X",910.602665,"X","X","X","X","X","X","X","X","X","X","X","X","X","X","X","X","X","X","X","X","X","X","X","X","X","X","X","X","X","X","X","X",19,-180.65,-0.61,-1.81,34.76,-99999999,0.89,5.86,8.06,0,"X","X"]
[44,8,"X","X","X","X","X","X","X","X","X","X","X","X","X","X","X","X","X","X","X","X","X","X","X","X","X","X","X","X","X","X","X","X","X","X","X","X","X","X","X","X","X","X","X","X","X","X","X","X","X","X","X","X","X","X","X","X","X","X","X","X","X","X","X","X","X","X","X","X","X","X","X","X","X","X","X","X","X","X","X","X","X","X","X","X","X","X",867.72242600000004,"X",981.662601,"X","X","X","X","X","X","X","X","X","X","X","X","X","X","X","X","X","X","X","X","X","X","X","X","X","X","X","X","X","X","X","X",20,-192.46,-0.99,-2.19,31.77,-99999999,0.83,5.71,7.91,0,"X","X"]
[45,9,"X","X","X","X","X","X","X","X","X","X","X","X","X","X","X","X","X","X","X","X","X","X","X","X","X","X","X","X","X","X","X","X","X","X","X","X","X","X","X","X","X","X","X","X","X","X","X","X","X","X","X","X","X","X","X","X","X","X","X","X","X","X","X","X","X","X","X","X","X","X","X","X","X","X","X","X","X","X","X","X","X","X","X","X","X","X",0,"X",1056.5447409999999,"X","X","X","X","X","X","X","X","X","X","X","X","X","X","X","X","X","X","X","X","X","X","X","X","X","X","X","X","X","X","X","X",21,-203.38,-1.35,-2.5499999999999998,29.02,-99999999,0.78,5.57,7.77,0,"X","X"]
[46,10,"X","X","X","X","X","X","X","X","X","X","X","X","X","X","X","X","X","X","X","X","X","X","X","X","X","X","X","X","X","X","X","X","X","X","X","X","X","X","X","X","X","X","X","X","X","X","X","X","X","X","X","X","X","X","X","X","X","X","X","X","X","X","X","X","X","X","X","X","X","X","X","X","X","X","X","X","X","X","X","X","X","X","X","X","X","X","X","X",1138.7880740000001,"X","X","X","X","X","X","X","X","X","X","X","X","X","X","X","X","X","X","X","X","X","X","X","X","X","X","X","X","X","X","X","X",22,-213.54,-1.67,-2.87,26.49,-99999999,0.73,5.44,7.64,0,"X","X"]
[47,11,"X","X","X","X","X","X","X","X","X","X","X","X","X","X","X","X","X","X","X","X","X","X","X","X","X","X","X","X","X","X","X","X","X","X","X","X","X","X","X","X","X","X","X","X","X","X","X","X","X","X","X","X","X","X","X","X","X","X","X","X","X","X","X","X","X","X","X","X","X","X","X","X","X","X","X","X","X","X","X","X","X","X","X","X","X","X","X","X",1233.414344,"X","X","X","X","X","X","X","X","X","X","X","X","X","X","X","X","X","X","X","X","X","X","X","X","X","X","X","X","X","X","X","X",23,-222.86,-1.97,-3.17,24.17,-99999999,0.68,5.32,7.52,0,"X","X"]
[48,12,"X","X","X","X","X","X","X","X","X","X","X","X","X","X","X","X","X","X","X","X","X","X","X","X","X","X","X","X","X","X","X","X","X","X","X","X","X","X","X","X","X","X","X","X","X","X","X","X","X","X","X","X","X","X","X","X","X","X","X","X","X","X","X","X","X","X","X","X","X","X","X","X","X","X","X","X","X","X","X","X","X","X","X","X","X","X","X","X",1335.1175109999999,"X","X","X","X","X","X","X","X","X","X","X","X","X","X","X","X","X","X","X","X","X","X","X","X","X","X","X","X","X","X","X","X",24,-231.53,-2.2400000000000002,-3.44,22.04,-99999999,0.63,5.21,7.41,0,"X","X"]
[49,1,"X","X","X","X","X","X","X","X","X","X","X","X","X","X","X","X","X","X","X","X","X","X","X","X","X","X","X","X","X","X","X","X","X","X","X","X","X","X","X","X","X","X","X","X","X","X","X","X","X","X","X","X","X","X","X","X","X","X","X","X","X","X","X","X","X","X","X","X","X","X","X","X","X","X","X","X","X","X","X","X","X","X","X","X","X","X","X","X",1444.281669,"X","X","X","X","X","X","X","X","X","X","X","X","X","X","X","X","X","X","X","X","X","X","X","X","X","X","X","X","X","X","X","X",1,1008.49,8.6,6.02,95.35,-99999999,1.89,7.56,11.15,1,"X","X"]
[50,2,"X","X","X","X","X","X","X","X","X","X","X","X","X","X","X","X","X","X","X","X","X","X","X","X","X","X","X","X","X","X","X","X","X","X","X","X","X","X","X","X","X","X","X","X","X","X","X","X","X","X","X","X","X","X","X","X","X","X","X","X","X","X","X","X","X","X","X","X","X","X","X","X","X","X","X","X","X","X","X","X","X","X","X","X","X","X","X","X",1562.900183,"X","X","X","X","X","X","X","X","X","X","X","X","X","X","X","X","X","X","X","X","X","X","X","X","X","X","X","X","X","X","X","X",2,997.13,10.18,8.26,112.82,-99999999,1.86,9.1199999999999992,12.05,2,"X","X"]
[51,3,"X","X","X","X","X","X","X","X","X","X","X","X","X","X","X","X","X","X","X","X","X","X","X","X","X","X","X","X","X","X","X","X","X","X","X","X","X","X","X","X","X","X","X","X","X","X","X","X","X","X","X","X","X","X","X","X","X","X","X","X","X","X","X","X","X","X","X","X","X","X","X","X","X","X","X","X","X","X","X","X","X","X","X","X","X","X","X","X",1680.075945,"X","X","X","X","X","X","X","X","X","X","X","X","X","X","X","X","X","X","X","X","X","X","X","X","X","X","X","X","X","X","X","X",3,852.94,10.199999999999999,8.76,115.25,195.42,1.81,9.5500000000000007,11.98,2,"X","X"]
[52,4,"X","X","X","X","X","X","X","X","X","X","X","X","X","X","X","X","X","X","X","X","X","X","X","X","X","X","X","X","X","X","X","X","X","X","X","X","X","X","X","X","X","X","X","X","X","X","X","X","X","X","X","X","X","X","X","X","X","X","X","X","X","X","X","X","X","X","X","X","X","X","X","X","X","X","X","X","X","X","X","X","X","X","X","X","X","X","X","X",1796.755257,"X","X","X","X","X","X","X","X","X","X","X","X","X","X","X","X","X","X","X","X","X","X","X","X","X","X","X","X","X","X","X","X",4,664.47,9.7100000000000009,8.51,112.71,232.09,1.77,9.58,11.78,2,"X","X"]
[53,5,"X","X","X","X","X","X","X","X","X","X","X","X","X","X","X","X","X","X","X","X","X","X","X","X","X","X","X","X","X","X","X","X","X","X","X","X","X","X","X","X","X","X","X","X","X","X","X","X","X","X","X","X","X","X","X","X","X","X","X","X","X","X","X","X","X","X","X","X","X","X","X","X","X","X","X","X","X","X","X","X","X","X","X","X","X","X","X","X",1914.7165910000001,"X","X","X","X","X","X","X","X","X","X","X","X","X","X","X","X","X","X","X","X","X","X","X","X","X","X","X","X","X","X","X","X",5,471.67,9,7.8,107.9,253.99,1.72,9.42,11.62,2,"X","X"]
[54,6,"X","X","X","X","X","X","X","X","X","X","X","X","X","X","X","X","X","X","X","X","X","X","X","X","X","X","X","X","X","X","X","X","X","X","X","X","X","X","X","X","X","X","X","X","X","X","X","X","X","X","X","X","X","X","X","X","X","X","X","X","X","X","X","X","X","X","X","X","X","X","X","X","X","X","X","X","X","X","X","X","X","X","X","X","X","X","X","X",0,"X","X","X","X","X","X","X","X","X","X","X","X","X","X","X","X","X","X","X","X","X","X","X","X","X","X","X","X","X","X","X","X",6,297.89999999999998,8.18,6.98,102,257.18,1.67,9.18,11.38,2,"X","X"]
[55,7,"X","X","X","X","X","X","X","X","X","X","X","X","X","X","X","X","X","X","X","X","X","X","X","X","X","X","X","X","X","X","X","X","X","X","X","X","X","X","X","X","X","X","X","X","X","X","X","X","X","X","X","X","X","X","X","X","X","X","X","X","X","X","X","X","X","X","X","X","X","X","X","X","X","X","X","X","X","X","X","X","X","X","X","X","X","X","X","X","X","X","X","X","X","X","X","X","X","X","X","X","X","X","X","X","X","X","X","X","X","X","X","X","X","X","X","X","X","X","X","X","X",7,155.41999999999999,7.32,6.12,95.62,235.24,1.61,8.89,11.09,2,"X","X"]
[56,8,"X","X","X","X","X","X","X","X","X","X","X","X","X","X","X","X","X","X","X","X","X","X","X","X","X","X","X","X","X","X","X","X","X","X","X","X","X","X","X","X","X","X","X","X","X","X","X","X","X","X","X","X","X","X","X","X","X","X","X","X","X","X","X","X","X","X","X","X","X","X","X","X","X","X","X","X","X","X","X","X","X","X","X","X","X","X","X","X","X","X","X","X","X","X","X","X","X","X","X","X","X","X","X","X","X","X","X","X","X","X","X","X","X","X","X","X","X","X","X","X","X",8,56.22,6.45,5.25,89.1,178.11,1.56,8.58,10.78,2,"X","X"]
[57,9,"X","X","X","X","X","X","X","X","X","X","X","X","X","X","X","X","X","X","X","X","X","X","X","X","X","X","X","X","X","X","X","X","X","X","X","X","X","X","X","X","X","X","X","X","X","X","X","X","X","X","X","X","X","X","X","X","X","X","X","X","X","X","X","X","X","X","X","X","X","X","X","X","X","X","X","X","X","X","X","X","X","X","X","X","X","X","X","X","X","X","X","X","X","X","X","X","X","X","X","X","X","X","X","X","X","X","X","X","X","X","X","X","X","X","X","X","X","X","X","X","X",9,12.25,5.6,4.4000000000000004,82.65,75.34,1.5,8.27,10.47,1,"X","X"]
[58,10,"X","X","X","X","X","X","X","X","X","X","X","X","X","X","X","X","X","X","X","X","X","X","X","X","X","X","X","X","X","X","X","X","X","X","X","X","X","X","X","X","X","X","X","X","X","X","X","X","X","X","X","X","X","X","X","X","X","X","X","X","X","X","X","X","X","X","X","X","X","X","X","X","X","X","X","X","X","X","X","X","X","X","X","X","X","X","X","X","X","X","X","X","X","X","X","X","X","X","X","X","X","X","X","X","X","X","X","X","X","X","X","X","X","X","X","X","X","X","X","X","X",10,-13.67,4.79,3.58,76.400000000000006,0,1.44,7.97,10.17,0,"X","X"]
[59,11,"X","X","X","X","X","X","X","X","X","X","X","X","X","X","X","X","X","X","X","X","X","X","X","X","X","X","X","X","X","X","X","X","X","X","X","X","X","X","X","X","X","X","X","X","X","X","X","X","X","X","X","X","X","X","X","X","X","X","X","X","X","X","X","X","X","X","X","X","X","X","X","X","X","X","X","X","X","X","X","X","X","X","X","X","X","X","X","X","X","X","X","X","X","X","X","X","X","X","X","X","X","X","X","X","X","X","X","X","X","X","X","X","X","X","X","X","X","X","X","X","X",11,-38.19,4.01,2.81,70.430000000000007,0,1.38,7.67,9.8699999999999992,0,"X","X"]
[60,12,"X","X","X","X","X","X","X","X","X","X","X","X","X","X","X","X","X","X","X","X","X","X","X","X","X","X","X","X","X","X","X","X","X","X","X","X","X","X","X","X","X","X","X","X","X","X","X","X","X","X","X","X","X","X","X","X","X","X","X","X","X","X","X","X","X","X","X","X","X","X","X","X","X","X","X","X","X","X","X","X","X","X","X","X","X","X","X","X","X","X","X","X","X","X","X","X","X","X","X","X","X","X","X","X","X","X","X","X","X","X","X","X","X","X","X","X","X","X","X","X","X",12,-61.19,3.27,2.0699999999999998,64.78,0,1.31,7.39,9.59,0,"X","X"]
[61,1,"X","X","X","X","X","X","X","X","X","X","X","X","X","X","X","X","X","X","X","X","X","X","X","X","X","X","X","X","X","X","X","X","X","X","X","X","X","X","X","X","X","X","X","X","X","X","X","X","X","X","X","X","X","X","X","X","X","X","X","X","X","X","X","X","X","X","X","X","X","X","X","X","X","X","X","X","X","X","X","X","X","X","X","X","X","X","X","X","X","X","X","X","X","X","X","X","X","X","X","X","X","X","X","X","X","X","X","X","X","X","X","X","X","X","X","X","X","X","X","X","X",13,-82.67,2.58,1.38,59.47,0,1.25,7.12,9.32,0,"X","X"]
[62,2,"X","X","X","X","X","X","X","X","X","X","X","X","X","X","X","X","X","X","X","X","X","X","X","X","X","X","X","X","X","X","X","X","X","X","X","X","X","X","X","X","X","X","X","X","X","X","X","X","X","X","X","X","X","X","X","X","X","X","X","X","X","X","X","X","X","X","X","X","X","X","X","X","X","X","X","X","X","X","X","X","X","X","X","X","X","X","X","X","X","X","X","X","X","X","X","X","X","X","X","X","X","X","X","X","X","X","X","X","X","X","X","X","X","X","X","X","X","X","X","X","X",14,-102.66,1.94,0.74,54.5,0,1.19,6.87,9.07,0,"X","X"]
[63,3,"X","X","X","X","X","X","X","X","X","X","X","X","X","X","X","X","X","X","X","X","X","X","X","X","X","X","X","X","X","X","X","X","X","X","X","X","X","X","X","X","X","X","X","X","X","X","X","X","X","X","X","X","X","X","X","X","X","X","X","X","X","X","X","X","X","X","X","X","X","X","X","X","X","X","X","X","X","X","X","X","X","X","X","X","X","X","X","X","X","X","X","X","X","X","X","X","X","X","X","X","X","X","X","X","X","X","X","X","X","X","X","X","X","X","X","X","X","X","X","X","X",15,-121.18,1.34,0.14000000000000001,49.89,0,1.1299999999999999,6.64,8.84,0,"X","X"]
[64,4,"X","X","X","X","X","X","X","X","X","X","X","X","X","X","X","X","X","X","X","X","X","X","X","X","X","X","X","X","X","X","X","X","X","X","X","X","X","X","X","X","X","X","X","X","X","X","X","X","X","X","X","X","X","X","X","X","X","X","X","X","X","X","X","X","X","X","X","X","X","X","X","X","X","X","X","X","X","X","X","X","X","X","X","X","X","X","X","X","X","X","X","X","X","X","X","X","X","X","X","X","X","X","X","X","X","X","X","X","X","X","X","X","X","X","X","X","X","X","X","X","X",16,-138.30000000000001,0.79,-0.41,45.6,0,1.07,6.42,8.6199999999999992,0,"X","X"]
[65,5,"X","X","X","X","X","X","X","X","X","X","X","X","X","X","X","X","X","X","X","X","X","X","X","X","X","X","X","X","X","X","X","X","X","X","X","X","X","X","X","X","X","X","X","X","X","X","X","X","X","X","X","X","X","X","X","X","X","X","X","X","X","X","X","X","X","X","X","X","X","X","X","X","X","X","X","X","X","X","X","X","X","X","X","X","X","X","X","X","X","X","X","X","X","X","X","X","X","X","X","X","X","X","X","X","X","X","X","X","X","X","X","X","X","X","X","X","X","X","X","X","X",17,-154.07,0.28000000000000003,-0.92,41.65,-99999999,1,6.22,8.42,0,"X","X"]
[66,6,"X","X","X","X","X","X","X","X","X","X","X","X","X","X","X","X","X","X","X","X","X","X","X","X","X","X","X","X","X","X","X","X","X","X","X","X","X","X","X","X","X","X","X","X","X","X","X","X","X","X","X","X","X","X","X","X","X","X","X","X","X","X","X","X","X","X","X","X","X","X","X","X","X","X","X","X","X","X","X","X","X","X","X","X","X","X","X","X","X","X","X","X","X","X","X","X","X","X","X","X","X","X","X","X","X","X","X","X","X","X","X","X","X","X","X","X","X","X","X","X","X",18,-168.57,-0.19,-1.39,38,-99999999,0.95,6.03,8.23,0,"X","X"]
[67,7,"X","X","X","X","X","X","X","X","X","X","X","X","X","X","X","X","X","X","X","X","X","X","X","X","X","X","X","X","X","X","X","X","X","X","X","X","X","X","X","X","X","X","X","X","X","X","X","X","X","X","X","X","X","X","X","X","X","X","X","X","X","X","X","X","X","X","X","X","X","X","X","X","X","X","X","X","X","X","X","X","X","X","X","X","X","X","X","X","X","X","X","X","X","X","X","X","X","X","X","X","X","X","X","X","X","X","X","X","X","X","X","X","X","X","X","X","X","X","X","X","X",19,-181.87,-0.62,-1.82,34.64,-99999999,0.89,5.86,8.06,0,"X","X"]
[68,8,"X","X","X","X","X","X","X","X","X","X","X","X","X","X","X","X","X","X","X","X","X","X","X","X","X","X","X","X","X","X","X","X","X","X","X","X","X","X","X","X","X","X","X","X","X","X","X","X","X","X","X","X","X","X","X","X","X","X","X","X","X","X","X","X","X","X","X","X","X","X","X","X","X","X","X","X","X","X","X","X","X","X","X","X","X","X","X","X","X","X","X","X","X","X","X","X","X","X","X","X","X","X","X","X","X","X","X","X","X","X","X","X","X","X","X","X","X","X","X","X","X",20,-194.08,-1.02,-2.2200000000000002,31.56,-99999999,0.83,5.7,7.9,0,"X","X"]
[69,9,"X","X","X","X","X","X","X","X","X","X","X","X","X","X","X","X","X","X","X","X","X","X","X","X","X","X","X","X","X","X","X","X","X","X","X","X","X","X","X","X","X","X","X","X","X","X","X","X","X","X","X","X","X","X","X","X","X","X","X","X","X","X","X","X","X","X","X","X","X","X","X","X","X","X","X","X","X","X","X","X","X","X","X","X","X","X","X","X","X","X","X","X","X","X","X","X","X","X","X","X","X","X","X","X","X","X","X","X","X","X","X","X","X","X","X","X","X","X","X","X","X",21,-205.34,-1.38,-2.58,28.73,-99999999,0.78,5.55,7.75,0,"X","X"]
[70,10,"X","X","X","X","X","X","X","X","X","X","X","X","X","X","X","X","X","X","X","X","X","X","X","X","X","X","X","X","X","X","X","X","X","X","X","X","X","X","X","X","X","X","X","X","X","X","X","X","X","X","X","X","X","X","X","X","X","X","X","X","X","X","X","X","X","X","X","X","X","X","X","X","X","X","X","X","X","X","X","X","X","X","X","X","X","X","X","X","X","X","X","X","X","X","X","X","X","X","X","X","X","X","X","X","X","X","X","X","X","X","X","X","X","X","X","X","X","X","X","X","X",22,-215.85,-1.72,-2.92,26.14,-99999999,0.72,5.42,7.62,0,"X","X"]
[71,11,"X","X","X","X","X","X","X","X","X","X","X","X","X","X","X","X","X","X","X","X","X","X","X","X","X","X","X","X","X","X","X","X","X","X","X","X","X","X","X","X","X","X","X","X","X","X","X","X","X","X","X","X","X","X","X","X","X","X","X","X","X","X","X","X","X","X","X","X","X","X","X","X","X","X","X","X","X","X","X","X","X","X","X","X","X","X","X","X","X","X","X","X","X","X","X","X","X","X","X","X","X","X","X","X","X","X","X","X","X","X","X","X","X","X","X","X","X","X","X","X","X",23,-225.48,-2.02,-3.22,23.77,-99999999,0.67,5.3,7.5,0,"X","X"]
[72,12,"X","X","X","X","X","X","X","X","X","X","X","X","X","X","X","X","X","X","X","X","X","X","X","X","X","X","X","X","X","X","X","X","X","X","X","X","X","X","X","X","X","X","X","X","X","X","X","X","X","X","X","X","X","X","X","X","X","X","X","X","X","X","X","X","X","X","X","X","X","X","X","X","X","X","X","X","X","X","X","X","X","X","X","X","X","X","X","X","X","X","X","X","X","X","X","X","X","X","X","X","X","X","X","X","X","X","X","X","X","X","X","X","X","X","X","X","X","X","X","X","X",24,-234.41,-2.2999999999999998,-3.5,21.6,-99999999,0.62,5.19,7.39,0,"X","X"]
[73,1,"X","X","X","X","X","X","X","X","X","X","X","X","X","X","X","X","X","X","X","X","X","X","X","X","X","X","X","X","X","X","X","X","X","X","X","X","X","X","X","X","X","X","X","X","X","X","X","X","X","X","X","X","X","X","X","X","X","X","X","X","X","X","X","X","X","X","X","X","X","X","X","X","X","X","X","X","X","X","X","X","X","X","X","X","X","X","X","X","X","X","X","X","X","X","X","X","X","X","X","X","X","X","X","X","X","X","X","X","X","X","X","X","X","X","X","X","X","X","X","X","X","X","X","X","X","X","X","X","X","X","X","X","X"]
[74,2,"X","X","X","X","X","X","X","X","X","X","X","X","X","X","X","X","X","X","X","X","X","X","X","X","X","X","X","X","X","X","X","X","X","X","X","X","X","X","X","X","X","X","X","X","X","X","X","X","X","X","X","X","X","X","X","X","X","X","X","X","X","X","X","X","X","X","X","X","X","X","X","X","X","X","X","X","X","X","X","X","X","X","X","X","X","X","X","X","X","X","X","X","X","X","X","X","X","X","X","X","X","X","X","X","X","X","X","X","X","X","X","X","X","X","X","X","X","X","X","X","X","X","X","X","X","X","X","X","X","X","X","X","X"]
[75,3,"X","X","X","X","X","X","X","X","X","X","X","X","X","X","X","X","X","X","X","X","X","X","X","X","X","X","X","X","X","X","X","X","X","X","X","X","X","X","X","X","X","X","X","X","X","X","X","X","X","X","X","X","X","X","X","X","X","X","X","X","X","X","X","X","X","X","X","X","X","X","X","X","X","X","X","X","X","X","X","X","X","X","X","X","X","X","X","X","X","X","X","X","X","X","X","X","X","X","X","X","X","X","X","X","X","X","X","X","X","X","X","X","X","X","X","X","X","X","X","X","X","X","X","X","X","X","X","X","X","X","X","X","X"]
[76,4,"X","X","X","X","X","X","X","X","X","X","X","X","X","X","X","X","X","X","X","X","X","X","X","X","X","X","X","X","X","X","X","X","X","X","X","X","X","X","X","X","X","X","X","X","X","X","X","X","X","X","X","X","X","X","X","X","X","X","X","X","X","X","X","X","X","X","X","X","X","X","X","X","X","X","X","X","X","X","X","X","X","X","X","X","X","X","X","X","X","X","X","X","X","X","X","X","X","X","X","X","X","X","X","X","X","X","X","X","X","X","X","X","X","X","X","X","X","X","X","X","X","X","X","X","X","X","X","X","X","X","X","X","X"]
[77,5,"X","X","X","X","X","X","X","X","X","X","X","X","X","X","X","X","X","X","X","X","X","X","X","X","X","X","X","X","X","X","X","X","X","X","X","X","X","X","X","X","X","X","X","X","X","X","X","X","X","X","X","X","X","X","X","X","X","X","X","X","X","X","X","X","X","X","X","X","X","X","X","X","X","X","X","X","X","X","X","X","X","X","X","X","X","X","X","X","X","X","X","X","X","X","X","X","X","X","X","X","X","X","X","X","X","X","X","X","X","X","X","X","X","X","X","X","X","X","X","X","X","X","X","X","X","X","X","X","X","X","X","X","X"]
[78,6,"X","X","X","X","X","X","X","X","X","X","X","X","X","X","X","X","X","X","X","X","X","X","X","X","X","X","X","X","X","X","X","X","X","X","X","X","X","X","X","X","X","X","X","X","X","X","X","X","X","X","X","X","X","X","X","X","X","X","X","X","X","X","X","X","X","X","X","X","X","X","X","X","X","X","X","X","X","X","X","X","X","X","X","X","X","X","X","X","X","X","X","X","X","X","X","X","X","X","X","X","X","X","X","X","X","X","X","X","X","X","X","X","X","X","X","X","X","X","X","X","X","X","X","X","X","X","X","X","X","X","X","X","X"]
[79,7,"X","X","X","X","X","X","X","X","X","X","X","X","X","X","X","X","X","X","X","X","X","X","X","X","X","X","X","X","X","X","X","X","X","X","X","X","X","X","X","X","X","X","X","X","X","X","X","X","X","X","X","X","X","X","X","X","X","X","X","X","X","X","X","X","X","X","X","X","X","X","X","X","X","X","X","X","X","X","X","X","X","X","X","X","X","X","X","X","X","X","X","X","X","X","X","X","X","X","X","X","X","X","X","X","X","X","X","X","X","X","X","X","X","X","X","X","X","X","X","X","X","X","X","X","X","X","X","X","X","X","X","X","X"]
[80,8,"X","X","X","X","X","X","X","X","X","X","X","X","X","X","X","X","X","X","X","X","X","X","X","X","X","X","X","X","X","X","X","X","X","X","X","X","X","X","X","X","X","X","X","X","X","X","X","X","X","X","X","X","X","X","X","X","X","X","X","X","X","X","X","X","X","X","X","X","X","X","X","X","X","X","X","X","X","X","X","X","X","X","X","X","X","X","X","X","X","X","X","X","X","X","X","X","X","X","X","X","X","X","X","X","X","X","X","X","X","X","X","X","X","X","X","X","X","X","X","X","X","X","X","X","X","X","X","X","X","X","X","X","X"]
[81,9,"X","X","X","X","X","X","X","X","X","X","X","X","X","X","X","X","X","X","X","X","X","X","X","X","X","X","X","X","X","X","X","X","X","X","X","X","X","X","X","X","X","X","X","X","X","X","X","X","X","X","X","X","X","X","X","X","X","X","X","X","X","X","X","X","X","X","X","X","X","X","X","X","X","X","X","X","X","X","X","X","X","X","X","X","X","X","X","X","X","X","X","X","X","X","X","X","X","X","X","X","X","X","X","X","X","X","X","X","X","X","X","X","X","X","X","X","X","X","X","X","X","X","X","X","X","X","X","X","X","X","X","X","X"]
[82,10,"X","X","X","X","X","X","X","X","X","X","X","X","X","X","X","X","X","X","X","X","X","X","X","X","X","X","X","X","X","X","X","X","X","X","X","X","X","X","X","X","X","X","X","X","X","X","X","X","X","X","X","X","X","X","X","X","X","X","X","X","X","X","X","X","X","X","X","X","X","X","X","X","X","X","X","X","X","X","X","X","X","X","X","X","X","X","X","X","X","X","X","X","X","X","X","X","X","X","X","X","X","X","X","X","X","X","X","X","X","X","X","X","X","X","X","X","X","X","X","X","X","X","X","X","X","X","X","X","X","X","X","X","X"]
[83,11,"X","X","X","X","X","X","X","X","X","X","X","X","X","X","X","X","X","X","X","X","X","X","X","X","X","X","X","X","X","X","X","X","X","X","X","X","X","X","X","X","X","X","X","X","X","X","X","X","X","X","X","X","X","X","X","X","X","X","X","X","X","X","X","X","X","X","X","X","X","X","X","X","X","X","X","X","X","X","X","X","X","X","X","X","X","X","X","X","X","X","X","X","X","X","X","X","X","X","X","X","X","X","X","X","X","X","X","X","X","X","X","X","X","X","X","X","X","X","X","X","X","X","X","X","X","X","X","X","X","X","X","X","X"]
[84,12,"X","X","X","X","X","X","X","X","X","X","X","X","X","X","X","X","X","X","X","X","X","X","X","X","X","X","X","X","X","X","X","X","X","X","X","X","X","X","X","X","X","X","X","X","X","X","X","X","X","X","X","X","X","X","X","X","X","X","X","X","X","X","X","X","X","X","X","X","X","X","X","X","X","X","X","X","X","X","X","X","X","X","X","X","X","X","X","X","X","X","X","X","X","X","X","X","X","X","X","X","X","X","X","X","X","X","X","X","X","X","X","X","X","X","X","X","X","X","X","X","X","X","X","X","X","X","X","X","X","X","X","X","X"]
[85,1,"X","X","X","X","X","X","X","X","X","X","X","X","X","X","X","X","X","X","X","X","X","X","X","X","X","X","X","X","X","X","X","X","X","X","X","X","X","X","X","X","X","X","X","X","X","X","X","X","X","X","X","X","X","X","X","X","X","X","X","X","X","X","X","X","X","X","X","X","X","X","X","X","X","X","X","X","X","X","X","X","X","X","X","X","X","X","X","X","X","X","X","X","X","X","X","X","X","X","X","X","X","X","X","X","X","X","X","X","X","X","X","X","X","X","X","X","X","X","X","X","X","X","X","X","X","X","X","X","X","X","X","X","X"]
[86,2,"X","X","X","X","X","X","X","X","X","X","X","X","X","X","X","X","X","X","X","X","X","X","X","X","X","X","X","X","X","X","X","X","X","X","X","X","X","X","X","X","X","X","X","X","X","X","X","X","X","X","X","X","X","X","X","X","X","X","X","X","X","X","X","X","X","X","X","X","X","X","X","X","X","X","X","X","X","X","X","X","X","X","X","X","X","X","X","X","X","X","X","X","X","X","X","X","X","X","X","X","X","X","X","X","X","X","X","X","X","X","X","X","X","X","X","X","X","X","X","X","X","X","X","X","X","X","X","X","X","X","X","X","X"]
[87,3,"X","X","X","X","X","X","X","X","X","X","X","X","X","X","X","X","X","X","X","X","X","X","X","X","X","X","X","X","X","X","X","X","X","X","X","X","X","X","X","X","X","X","X","X","X","X","X","X","X","X","X","X","X","X","X","X","X","X","X","X","X","X","X","X","X","X","X","X","X","X","X","X","X","X","X","X","X","X","X","X","X","X","X","X","X","X","X","X","X","X","X","X","X","X","X","X","X","X","X","X","X","X","X","X","X","X","X","X","X","X","X","X","X","X","X","X","X","X","X","X","X","X","X","X","X","X","X","X","X","X","X","X","X"]
[88,4,"X","X","X","X","X","X","X","X","X","X","X","X","X","X","X","X","X","X","X","X","X","X","X","X","X","X","X","X","X","X","X","X","X","X","X","X","X","X","X","X","X","X","X","X","X","X","X","X","X","X","X","X","X","X","X","X","X","X","X","X","X","X","X","X","X","X","X","X","X","X","X","X","X","X","X","X","X","X","X","X","X","X","X","X","X","X","X","X","X","X","X","X","X","X","X","X","X","X","X","X","X","X","X","X","X","X","X","X","X","X","X","X","X","X","X","X","X","X","X","X","X","X","X","X","X","X","X","X","X","X","X","X","X"]
[89,5,"X","X","X","X","X","X","X","X","X","X","X","X","X","X","X","X","X","X","X","X","X","X","X","X","X","X","X","X","X","X","X","X","X","X","X","X","X","X","X","X","X","X","X","X","X","X","X","X","X","X","X","X","X","X","X","X","X","X","X","X","X","X","X","X","X","X","X","X","X","X","X","X","X","X","X","X","X","X","X","X","X","X","X","X","X","X","X","X","X","X","X","X","X","X","X","X","X","X","X","X","X","X","X","X","X","X","X","X","X","X","X","X","X","X","X","X","X","X","X","X","X","X","X","X","X","X","X","X","X","X","X","X","X"]
[90,6,"X","X","X","X","X","X","X","X","X","X","X","X","X","X","X","X","X","X","X","X","X","X","X","X","X","X","X","X","X","X","X","X","X","X","X","X","X","X","X","X","X","X","X","X","X","X","X","X","X","X","X","X","X","X","X","X","X","X","X","X","X","X","X","X","X","X","X","X","X","X","X","X","X","X","X","X","X","X","X","X","X","X","X","X","X","X","X","X","X","X","X","X","X","X","X","X","X","X","X","X","X","X","X","X","X","X","X","X","X","X","X","X","X","X","X","X","X","X","X","X","X","X","X","X","X","X","X","X","X","X","X","X","X"]
[91,7,"X","X","X","X","X","X","X","X","X","X","X","X","X","X","X","X","X","X","X","X","X","X","X","X","X","X","X","X","X","X","X","X","X","X","X","X","X","X","X","X","X","X","X","X","X","X","X","X","X","X","X","X","X","X","X","X","X","X","X","X","X","X","X","X","X","X","X","X","X","X","X","X","X","X","X","X","X","X","X","X","X","X","X","X","X","X","X","X","X","X","X","X","X","X","X","X","X","X","X","X","X","X","X","X","X","X","X","X","X","X","X","X","X","X","X","X","X","X","X","X","X","X","X","X","X","X","X","X","X","X","X","X","X"]
[92,8,"X","X","X","X","X","X","X","X","X","X","X","X","X","X","X","X","X","X","X","X","X","X","X","X","X","X","X","X","X","X","X","X","X","X","X","X","X","X","X","X","X","X","X","X","X","X","X","X","X","X","X","X","X","X","X","X","X","X","X","X","X","X","X","X","X","X","X","X","X","X","X","X","X","X","X","X","X","X","X","X","X","X","X","X","X","X","X","X","X","X","X","X","X","X","X","X","X","X","X","X","X","X","X","X","X","X","X","X","X","X","X","X","X","X","X","X","X","X","X","X","X","X","X","X","X","X","X","X","X","X","X","X","X"]
[93,9,"X","X","X","X","X","X","X","X","X","X","X","X","X","X","X","X","X","X","X","X","X","X","X","X","X","X","X","X","X","X","X","X","X","X","X","X","X","X","X","X","X","X","X","X","X","X","X","X","X","X","X","X","X","X","X","X","X","X","X","X","X","X","X","X","X","X","X","X","X","X","X","X","X","X","X","X","X","X","X","X","X","X","X","X","X","X","X","X","X","X","X","X","X","X","X","X","X","X","X","X","X","X","X","X","X","X","X","X","X","X","X","X","X","X","X","X","X","X","X","X","X","X","X","X","X","X","X","X","X","X","X","X","X"]
[94,10,"X","X","X","X","X","X","X","X","X","X","X","X","X","X","X","X","X","X","X","X","X","X","X","X","X","X","X","X","X","X","X","X","X","X","X","X","X","X","X","X","X","X","X","X","X","X","X","X","X","X","X","X","X","X","X","X","X","X","X","X","X","X","X","X","X","X","X","X","X","X","X","X","X","X","X","X","X","X","X","X","X","X","X","X","X","X","X","X","X","X","X","X","X","X","X","X","X","X","X","X","X","X","X","X","X","X","X","X","X","X","X","X","X","X","X","X","X","X","X","X","X","X","X","X","X","X","X","X","X","X","X","X","X"]
[95,11,"X","X","X","X","X","X","X","X","X","X","X","X","X","X","X","X","X","X","X","X","X","X","X","X","X","X","X","X","X","X","X","X","X","X","X","X","X","X","X","X","X","X","X","X","X","X","X","X","X","X","X","X","X","X","X","X","X","X","X","X","X","X","X","X","X","X","X","X","X","X","X","X","X","X","X","X","X","X","X","X","X","X","X","X","X","X","X","X","X","X","X","X","X","X","X","X","X","X","X","X","X","X","X","X","X","X","X","X","X","X","X","X","X","X","X","X","X","X","X","X","X","X","X","X","X","X","X","X","X","X","X","X","X"]
[96,12,"X","X","X","X","X","X","X","X","X","X","X","X","X","X","X","X","X","X","X","X","X","X","X","X","X","X","X","X","X","X","X","X","X","X","X","X","X","X","X","X","X","X","X","X","X","X","X","X","X","X","X","X","X","X","X","X","X","X","X","X","X","X","X","X","X","X","X","X","X","X","X","X","X","X","X","X","X","X","X","X","X","X","X","X","X","X","X","X","X","X","X","X","X","X","X","X","X","X","X","X","X","X","X","X","X","X","X","X","X","X","X","X","X","X","X","X","X","X","X","X","X","X","X","X","X","X","X","X","X","X","X","X","X"]
[97,1,"X","X","X","X","X","X","X","X","X","X","X","X","X","X","X","X","X","X","X","X","X","X","X","X","X","X","X","X","X","X","X","X","X","X","X","X","X","X","X","X","X","X","X","X","X","X","X","X","X","X","X","X","X","X","X","X","X","X","X","X","X","X","X","X","X","X","X","X","X","X","X","X","X","X","X","X","X","X","X","X","X","X","X","X","X","X","X","X","X","X","X","X","X","X","X","X","X","X","X","X","X","X","X","X","X","X","X","X","X","X","X","X","X","X","X","X","X","X","X","X","X","X","X","X","X","X","X","X","X","X","X","X","X"]
[98,2,"X","X","X","X","X","X","X","X","X","X","X","X","X","X","X","X","X","X","X","X","X","X","X","X","X","X","X","X","X","X","X","X","X","X","X","X","X","X","X","X","X","X","X","X","X","X","X","X","X","X","X","X","X","X","X","X","X","X","X","X","X","X","X","X","X","X","X","X","X","X","X","X","X","X","X","X","X","X","X","X","X","X","X","X","X","X","X","X","X","X","X","X","X","X","X","X","X","X","X","X","X","X","X","X","X","X","X","X","X","X","X","X","X","X","X","X","X","X","X","X","X","X","X","X","X","X","X","X","X","X","X","X","X"]
[99,3,"X","X","X","X","X","X","X","X","X","X","X","X","X","X","X","X","X","X","X","X","X","X","X","X","X","X","X","X","X","X","X","X","X","X","X","X","X","X","X","X","X","X","X","X","X","X","X","X","X","X","X","X","X","X","X","X","X","X","X","X","X","X","X","X","X","X","X","X","X","X","X","X","X","X","X","X","X","X","X","X","X","X","X","X","X","X","X","X","X","X","X","X","X","X","X","X","X","X","X","X","X","X","X","X","X","X","X","X","X","X","X","X","X","X","X","X","X","X","X","X","X","X","X","X","X","X","X","X","X","X","X","X","X"]
[100,4,"X","X","X","X","X","X","X","X","X","X","X","X","X","X","X","X","X","X","X","X","X","X","X","X","X","X","X","X","X","X","X","X","X","X","X","X","X","X","X","X","X","X","X","X","X","X","X","X","X","X","X","X","X","X","X","X","X","X","X","X","X","X","X","X","X","X","X","X","X","X","X","X","X","X","X","X","X","X","X","X","X","X","X","X","X","X","X","X","X","X","X","X","X","X","X","X","X","X","X","X","X","X","X","X","X","X","X","X","X","X","X","X","X","X","X","X","X","X","X","X","X","X","X","X","X","X","X","X","X","X","X","X","X"]
[101,5,"X","X","X","X","X","X","X","X","X","X","X","X","X","X","X","X","X","X","X","X","X","X","X","X","X","X","X","X","X","X","X","X","X","X","X","X","X","X","X","X","X","X","X","X","X","X","X","X","X","X","X","X","X","X","X","X","X","X","X","X","X","X","X","X","X","X","X","X","X","X","X","X","X","X","X","X","X","X","X","X","X","X","X","X","X","X","X","X","X","X","X","X","X","X","X","X","X","X","X","X","X","X","X","X","X","X","X","X","X","X","X","X","X","X","X","X","X","X","X","X","X","X","X","X","X","X","X","X","X","X","X","X","X"]
[102,6,"X","X","X","X","X","X","X","X","X","X","X","X","X","X","X","X","X","X","X","X","X","X","X","X","X","X","X","X","X","X","X","X","X","X","X","X","X","X","X","X","X","X","X","X","X","X","X","X","X","X","X","X","X","X","X","X","X","X","X","X","X","X","X","X","X","X","X","X","X","X","X","X","X","X","X","X","X","X","X","X","X","X","X","X","X","X","X","X","X","X","X","X","X","X","X","X","X","X","X","X","X","X","X","X","X","X","X","X","X","X","X","X","X","X","X","X","X","X","X","X","X","X","X","X","X","X","X","X","X","X","X","X","X"]
[103,7,"X","X","X","X","X","X","X","X","X","X","X","X","X","X","X","X","X","X","X","X","X","X","X","X","X","X","X","X","X","X","X","X","X","X","X","X","X","X","X","X","X","X","X","X","X","X","X","X","X","X","X","X","X","X","X","X","X","X","X","X","X","X","X","X","X","X","X","X","X","X","X","X","X","X","X","X","X","X","X","X","X","X","X","X","X","X","X","X","X","X","X","X","X","X","X","X","X","X","X","X","X","X","X","X","X","X","X","X","X","X","X","X","X","X","X","X","X","X","X","X","X","X","X","X","X","X","X","X","X","X","X","X","X"]
[104,8,"X","X","X","X","X","X","X","X","X","X","X","X","X","X","X","X","X","X","X","X","X","X","X","X","X","X","X","X","X","X","X","X","X","X","X","X","X","X","X","X","X","X","X","X","X","X","X","X","X","X","X","X","X","X","X","X","X","X","X","X","X","X","X","X","X","X","X","X","X","X","X","X","X","X","X","X","X","X","X","X","X","X","X","X","X","X","X","X","X","X","X","X","X","X","X","X","X","X","X","X","X","X","X","X","X","X","X","X","X","X","X","X","X","X","X","X","X","X","X","X","X","X","X","X","X","X","X","X","X","X","X","X","X"]
[105,9,"X","X","X","X","X","X","X","X","X","X","X","X","X","X","X","X","X","X","X","X","X","X","X","X","X","X","X","X","X","X","X","X","X","X","X","X","X","X","X","X","X","X","X","X","X","X","X","X","X","X","X","X","X","X","X","X","X","X","X","X","X","X","X","X","X","X","X","X","X","X","X","X","X","X","X","X","X","X","X","X","X","X","X","X","X","X","X","X","X","X","X","X","X","X","X","X","X","X","X","X","X","X","X","X","X","X","X","X","X","X","X","X","X","X","X","X","X","X","X","X","X","X","X","X","X","X","X","X","X","X","X","X","X"]
[106,10,"X","X","X","X","X","X","X","X","X","X","X","X","X","X","X","X","X","X","X","X","X","X","X","X","X","X","X","X","X","X","X","X","X","X","X","X","X","X","X","X","X","X","X","X","X","X","X","X","X","X","X","X","X","X","X","X","X","X","X","X","X","X","X","X","X","X","X","X","X","X","X","X","X","X","X","X","X","X","X","X","X","X","X","X","X","X","X","X","X","X","X","X","X","X","X","X","X","X","X","X","X","X","X","X","X","X","X","X","X","X","X","X","X","X","X","X","X","X","X","X","X","X","X","X","X","X","X","X","X","X","X","X","X"]
[107,11,"X","X","X","X","X","X","X","X","X","X","X","X","X","X","X","X","X","X","X","X","X","X","X","X","X","X","X","X","X","X","X","X","X","X","X","X","X","X","X","X","X","X","X","X","X","X","X","X","X","X","X","X","X","X","X","X","X","X","X","X","X","X","X","X","X","X","X","X","X","X","X","X","X","X","X","X","X","X","X","X","X","X","X","X","X","X","X","X","X","X","X","X","X","X","X","X","X","X","X","X","X","X","X","X","X","X","X","X","X","X","X","X","X","X","X","X","X","X","X","X","X","X","X","X","X","X","X","X","X","X","X","X","X"]
[108,12,"X","X","X","X","X","X","X","X","X","X","X","X","X","X","X","X","X","X","X","X","X","X","X","X","X","X","X","X","X","X","X","X","X","X","X","X","X","X","X","X","X","X","X","X","X","X","X","X","X","X","X","X","X","X","X","X","X","X","X","X","X","X","X","X","X","X","X","X","X","X","X","X","X","X","X","X","X","X","X","X","X","X","X","X","X","X","X","X","X","X","X","X","X","X","X","X","X","X","X","X","X","X","X","X","X","X","X","X","X","X","X","X","X","X","X","X","X","X","X","X","X","X","X","X","X","X","X","X","X","X","X","X","X"]
[109,1,"X","X","X","X","X","X","X","X","X","X","X","X","X","X","X","X","X","X","X","X","X","X","X","X","X","X","X","X","X","X","X","X","X","X","X","X","X","X","X","X","X","X","X","X","X","X","X","X","X","X","X","X","X","X","X","X","X","X","X","X","X","X","X","X","X","X","X","X","X","X","X","X","X","X","X","X","X","X","X","X","X","X","X","X","X","X","X","X","X","X","X","X","X","X","X","X","X","X","X","X","X","X","X","X","X","X","X","X","X","X","X","X","X","X","X","X","X","X","X","X","X","X","X","X","X","X","X","X","X","X","X","X","X"]
[110,2,"X","X","X","X","X","X","X","X","X","X","X","X","X","X","X","X","X","X","X","X","X","X","X","X","X","X","X","X","X","X","X","X","X","X","X","X","X","X","X","X","X","X","X","X","X","X","X","X","X","X","X","X","X","X","X","X","X","X","X","X","X","X","X","X","X","X","X","X","X","X","X","X","X","X","X","X","X","X","X","X","X","X","X","X","X","X","X","X","X","X","X","X","X","X","X","X","X","X","X","X","X","X","X","X","X","X","X","X","X","X","X","X","X","X","X","X","X","X","X","X","X","X","X","X","X","X","X","X","X","X","X","X","X"]
[111,3,"X","X","X","X","X","X","X","X","X","X","X","X","X","X","X","X","X","X","X","X","X","X","X","X","X","X","X","X","X","X","X","X","X","X","X","X","X","X","X","X","X","X","X","X","X","X","X","X","X","X","X","X","X","X","X","X","X","X","X","X","X","X","X","X","X","X","X","X","X","X","X","X","X","X","X","X","X","X","X","X","X","X","X","X","X","X","X","X","X","X","X","X","X","X","X","X","X","X","X","X","X","X","X","X","X","X","X","X","X","X","X","X","X","X","X","X","X","X","X","X","X","X","X","X","X","X","X","X","X","X","X","X","X"]
[112,4,"X","X","X","X","X","X","X","X","X","X","X","X","X","X","X","X","X","X","X","X","X","X","X","X","X","X","X","X","X","X","X","X","X","X","X","X","X","X","X","X","X","X","X","X","X","X","X","X","X","X","X","X","X","X","X","X","X","X","X","X","X","X","X","X","X","X","X","X","X","X","X","X","X","X","X","X","X","X","X","X","X","X","X","X","X","X","X","X","X","X","X","X","X","X","X","X","X","X","X","X","X","X","X","X","X","X","X","X","X","X","X","X","X","X","X","X","X","X","X","X","X","X","X","X","X","X","X","X","X","X","X","X","X"]
[113,5,"X","X","X","X","X","X","X","X","X","X","X","X","X","X","X","X","X","X","X","X","X","X","X","X","X","X","X","X","X","X","X","X","X","X","X","X","X","X","X","X","X","X","X","X","X","X","X","X","X","X","X","X","X","X","X","X","X","X","X","X","X","X","X","X","X","X","X","X","X","X","X","X","X","X","X","X","X","X","X","X","X","X","X","X","X","X","X","X","X","X","X","X","X","X","X","X","X","X","X","X","X","X","X","X","X","X","X","X","X","X","X","X","X","X","X","X","X","X","X","X","X","X","X","X","X","X","X","X","X","X","X","X","X"]
[114,6,"X","X","X","X","X","X","X","X","X","X","X","X","X","X","X","X","X","X","X","X","X","X","X","X","X","X","X","X","X","X","X","X","X","X","X","X","X","X","X","X","X","X","X","X","X","X","X","X","X","X","X","X","X","X","X","X","X","X","X","X","X","X","X","X","X","X","X","X","X","X","X","X","X","X","X","X","X","X","X","X","X","X","X","X","X","X","X","X","X","X","X","X","X","X","X","X","X","X","X","X","X","X","X","X","X","X","X","X","X","X","X","X","X","X","X","X","X","X","X","X","X","X","X","X","X","X","X","X","X","X","X","X","X"]
[115,7,"X","X","X","X","X","X","X","X","X","X","X","X","X","X","X","X","X","X","X","X","X","X","X","X","X","X","X","X","X","X","X","X","X","X","X","X","X","X","X","X","X","X","X","X","X","X","X","X","X","X","X","X","X","X","X","X","X","X","X","X","X","X","X","X","X","X","X","X","X","X","X","X","X","X","X","X","X","X","X","X","X","X","X","X","X","X","X","X","X","X","X","X","X","X","X","X","X","X","X","X","X","X","X","X","X","X","X","X","X","X","X","X","X","X","X","X","X","X","X","X","X","X","X","X","X","X","X","X","X","X","X","X","X"]
[116,8,"X","X","X","X","X","X","X","X","X","X","X","X","X","X","X","X","X","X","X","X","X","X","X","X","X","X","X","X","X","X","X","X","X","X","X","X","X","X","X","X","X","X","X","X","X","X","X","X","X","X","X","X","X","X","X","X","X","X","X","X","X","X","X","X","X","X","X","X","X","X","X","X","X","X","X","X","X","X","X","X","X","X","X","X","X","X","X","X","X","X","X","X","X","X","X","X","X","X","X","X","X","X","X","X","X","X","X","X","X","X","X","X","X","X","X","X","X","X","X","X","X","X","X","X","X","X","X","X","X","X","X","X","X"]
[117,9,"X","X","X","X","X","X","X","X","X","X","X","X","X","X","X","X","X","X","X","X","X","X","X","X","X","X","X","X","X","X","X","X","X","X","X","X","X","X","X","X","X","X","X","X","X","X","X","X","X","X","X","X","X","X","X","X","X","X","X","X","X","X","X","X","X","X","X","X","X","X","X","X","X","X","X","X","X","X","X","X","X","X","X","X","X","X","X","X","X","X","X","X","X","X","X","X","X","X","X","X","X","X","X","X","X","X","X","X","X","X","X","X","X","X","X","X","X","X","X","X","X","X","X","X","X","X","X","X","X","X","X","X","X"]
[118,10,"X","X","X","X","X","X","X","X","X","X","X","X","X","X","X","X","X","X","X","X","X","X","X","X","X","X","X","X","X","X","X","X","X","X","X","X","X","X","X","X","X","X","X","X","X","X","X","X","X","X","X","X","X","X","X","X","X","X","X","X","X","X","X","X","X","X","X","X","X","X","X","X","X","X","X","X","X","X","X","X","X","X","X","X","X","X","X","X","X","X","X","X","X","X","X","X","X","X","X","X","X","X","X","X","X","X","X","X","X","X","X","X","X","X","X","X","X","X","X","X","X","X","X","X","X","X","X","X","X","X","X","X","X"]
[119,11,"X","X","X","X","X","X","X","X","X","X","X","X","X","X","X","X","X","X","X","X","X","X","X","X","X","X","X","X","X","X","X","X","X","X","X","X","X","X","X","X","X","X","X","X","X","X","X","X","X","X","X","X","X","X","X","X","X","X","X","X","X","X","X","X","X","X","X","X","X","X","X","X","X","X","X","X","X","X","X","X","X","X","X","X","X","X","X","X","X","X","X","X","X","X","X","X","X","X","X","X","X","X","X","X","X","X","X","X","X","X","X","X","X","X","X","X","X","X","X","X","X","X","X","X","X","X","X","X","X","X","X","X","X"]
[120,12,"X","X","X","X","X","X","X","X","X","X","X","X","X","X","X","X","X","X","X","X","X","X","X","X","X","X","X","X","X","X","X","X","X","X","X","X","X","X","X","X","X","X","X","X","X","X","X","X","X","X","X","X","X","X","X","X","X","X","X","X","X","X","X","X","X","X","X","X","X","X","X","X","X","X","X","X","X","X","X","X","X","X","X","X","X","X","X","X","X","X","X","X","X","X","X","X","X","X","X","X","X","X","X","X","X","X","X","X","X","X","X","X","X","X","X","X","X","X","X","X","X","X","X","X","X","X","X","X","X","X","X","X","X"]
[121,1,"X","X","X","X","X","X","X","X","X","X","X","X","X","X","X","X","X","X","X","X","X","X","X","X","X","X","X","X","X","X","X","X","X","X","X","X","X","X","X","X","X","X","X","X","X","X","X","X","X","X","X","X","X","X","X","X","X","X","X","X","X","X","X","X","X","X","X","X","X","X","X","X","X","X","X","X","X","X","X","X","X","X","X","X","X","X","X","X","X","X","X","X","X","X","X","X","X","X","X","X","X","X","X","X","X","X","X","X","X","X","X","X","X","X","X","X","X","X","X","X","X","X","X","X","X","X","X","X","X","X","X","X","X"]
[122,2,"X","X","X","X","X","X","X","X","X","X","X","X","X","X","X","X","X","X","X","X","X","X","X","X","X","X","X","X","X","X","X","X","X","X","X","X","X","X","X","X","X","X","X","X","X","X","X","X","X","X","X","X","X","X","X","X","X","X","X","X","X","X","X","X","X","X","X","X","X","X","X","X","X","X","X","X","X","X","X","X","X","X","X","X","X","X","X","X","X","X","X","X","X","X","X","X","X","X","X","X","X","X","X","X","X","X","X","X","X","X","X","X","X","X","X","X","X","X","X","X","X","X","X","X","X","X","X","X","X","X","X","X","X"]
[123,3,"X","X","X","X","X","X","X","X","X","X","X","X","X","X","X","X","X","X","X","X","X","X","X","X","X","X","X","X","X","X","X","X","X","X","X","X","X","X","X","X","X","X","X","X","X","X","X","X","X","X","X","X","X","X","X","X","X","X","X","X","X","X","X","X","X","X","X","X","X","X","X","X","X","X","X","X","X","X","X","X","X","X","X","X","X","X","X","X","X","X","X","X","X","X","X","X","X","X","X","X","X","X","X","X","X","X","X","X","X","X","X","X","X","X","X","X","X","X","X","X","X","X","X","X","X","X","X","X","X","X","X","X","X"]
[124,4,"X","X","X","X","X","X","X","X","X","X","X","X","X","X","X","X","X","X","X","X","X","X","X","X","X","X","X","X","X","X","X","X","X","X","X","X","X","X","X","X","X","X","X","X","X","X","X","X","X","X","X","X","X","X","X","X","X","X","X","X","X","X","X","X","X","X","X","X","X","X","X","X","X","X","X","X","X","X","X","X","X","X","X","X","X","X","X","X","X","X","X","X","X","X","X","X","X","X","X","X","X","X","X","X","X","X","X","X","X","X","X","X","X","X","X","X","X","X","X","X","X","X","X","X","X","X","X","X","X","X","X","X","X"]
[125,5,"X","X","X","X","X","X","X","X","X","X","X","X","X","X","X","X","X","X","X","X","X","X","X","X","X","X","X","X","X","X","X","X","X","X","X","X","X","X","X","X","X","X","X","X","X","X","X","X","X","X","X","X","X","X","X","X","X","X","X","X","X","X","X","X","X","X","X","X","X","X","X","X","X","X","X","X","X","X","X","X","X","X","X","X","X","X","X","X","X","X","X","X","X","X","X","X","X","X","X","X","X","X","X","X","X","X","X","X","X","X","X","X","X","X","X","X","X","X","X","X","X","X","X","X","X","X","X","X","X","X","X","X","X"]
[126,6,"X","X","X","X","X","X","X","X","X","X","X","X","X","X","X","X","X","X","X","X","X","X","X","X","X","X","X","X","X","X","X","X","X","X","X","X","X","X","X","X","X","X","X","X","X","X","X","X","X","X","X","X","X","X","X","X","X","X","X","X","X","X","X","X","X","X","X","X","X","X","X","X","X","X","X","X","X","X","X","X","X","X","X","X","X","X","X","X","X","X","X","X","X","X","X","X","X","X","X","X","X","X","X","X","X","X","X","X","X","X","X","X","X","X","X","X","X","X","X","X","X","X","X","X","X","X","X","X","X","X","X","X","X"]
[127,7,"X","X","X","X","X","X","X","X","X","X","X","X","X","X","X","X","X","X","X","X","X","X","X","X","X","X","X","X","X","X","X","X","X","X","X","X","X","X","X","X","X","X","X","X","X","X","X","X","X","X","X","X","X","X","X","X","X","X","X","X","X","X","X","X","X","X","X","X","X","X","X","X","X","X","X","X","X","X","X","X","X","X","X","X","X","X","X","X","X","X","X","X","X","X","X","X","X","X","X","X","X","X","X","X","X","X","X","X","X","X","X","X","X","X","X","X","X","X","X","X","X","X","X","X","X","X","X","X","X","X","X","X","X"]
[128,8,"X","X","X","X","X","X","X","X","X","X","X","X","X","X","X","X","X","X","X","X","X","X","X","X","X","X","X","X","X","X","X","X","X","X","X","X","X","X","X","X","X","X","X","X","X","X","X","X","X","X","X","X","X","X","X","X","X","X","X","X","X","X","X","X","X","X","X","X","X","X","X","X","X","X","X","X","X","X","X","X","X","X","X","X","X","X","X","X","X","X","X","X","X","X","X","X","X","X","X","X","X","X","X","X","X","X","X","X","X","X","X","X","X","X","X","X","X","X","X","X","X","X","X","X","X","X","X","X","X","X","X","X","X"]
[129,9,"X","X","X","X","X","X","X","X","X","X","X","X","X","X","X","X","X","X","X","X","X","X","X","X","X","X","X","X","X","X","X","X","X","X","X","X","X","X","X","X","X","X","X","X","X","X","X","X","X","X","X","X","X","X","X","X","X","X","X","X","X","X","X","X","X","X","X","X","X","X","X","X","X","X","X","X","X","X","X","X","X","X","X","X","X","X","X","X","X","X","X","X","X","X","X","X","X","X","X","X","X","X","X","X","X","X","X","X","X","X","X","X","X","X","X","X","X","X","X","X","X","X","X","X","X","X","X","X","X","X","X","X","X"]
[130,10,"X","X","X","X","X","X","X","X","X","X","X","X","X","X","X","X","X","X","X","X","X","X","X","X","X","X","X","X","X","X","X","X","X","X","X","X","X","X","X","X","X","X","X","X","X","X","X","X","X","X","X","X","X","X","X","X","X","X","X","X","X","X","X","X","X","X","X","X","X","X","X","X","X","X","X","X","X","X","X","X","X","X","X","X","X","X","X","X","X","X","X","X","X","X","X","X","X","X","X","X","X","X","X","X","X","X","X","X","X","X","X","X","X","X","X","X","X","X","X","X","X","X","X","X","X","X","X","X","X","X","X","X","X"]
[131,11,"X","X","X","X","X","X","X","X","X","X","X","X","X","X","X","X","X","X","X","X","X","X","X","X","X","X","X","X","X","X","X","X","X","X","X","X","X","X","X","X","X","X","X","X","X","X","X","X","X","X","X","X","X","X","X","X","X","X","X","X","X","X","X","X","X","X","X","X","X","X","X","X","X","X","X","X","X","X","X","X","X","X","X","X","X","X","X","X","X","X","X","X","X","X","X","X","X","X","X","X","X","X","X","X","X","X","X","X","X","X","X","X","X","X","X","X","X","X","X","X","X","X","X","X","X","X","X","X","X","X","X","X","X"]
[132,12,"X","X","X","X","X","X","X","X","X","X","X","X","X","X","X","X","X","X","X","X","X","X","X","X","X","X","X","X","X","X","X","X","X","X","X","X","X","X","X","X","X","X","X","X","X","X","X","X","X","X","X","X","X","X","X","X","X","X","X","X","X","X","X","X","X","X","X","X","X","X","X","X","X","X","X","X","X","X","X","X","X","X","X","X","X","X","X","X","X","X","X","X","X","X","X","X","X","X","X","X","X","X","X","X","X","X","X","X","X","X","X","X","X","X","X","X","X","X","X","X","X","X","X","X","X","X","X","X","X","X","X","X","X"]
[133,1,"X","X","X","X","X","X","X","X","X","X","X","X","X","X","X","X","X","X","X","X","X","X","X","X","X","X","X","X","X","X","X","X","X","X","X","X","X","X","X","X","X","X","X","X","X","X","X","X","X","X","X","X","X","X","X","X","X","X","X","X","X","X","X","X","X","X","X","X","X","X","X","X","X","X","X","X","X","X","X","X","X","X","X","X","X","X","X","X","X","X","X","X","X","X","X","X","X","X","X","X","X","X","X","X","X","X","X","X","X","X","X","X","X","X","X","X","X","X","X","X","X","X","X","X","X","X","X","X","X","X","X","X","X"]
[134,2,"X","X","X","X","X","X","X","X","X","X","X","X","X","X","X","X","X","X","X","X","X","X","X","X","X","X","X","X","X","X","X","X","X","X","X","X","X","X","X","X","X","X","X","X","X","X","X","X","X","X","X","X","X","X","X","X","X","X","X","X","X","X","X","X","X","X","X","X","X","X","X","X","X","X","X","X","X","X","X","X","X","X","X","X","X","X","X","X","X","X","X","X","X","X","X","X","X","X","X","X","X","X","X","X","X","X","X","X","X","X","X","X","X","X","X","X","X","X","X","X","X","X","X","X","X","X","X","X","X","X","X","X","X"]
[135,3,"X","X","X","X","X","X","X","X","X","X","X","X","X","X","X","X","X","X","X","X","X","X","X","X","X","X","X","X","X","X","X","X","X","X","X","X","X","X","X","X","X","X","X","X","X","X","X","X","X","X","X","X","X","X","X","X","X","X","X","X","X","X","X","X","X","X","X","X","X","X","X","X","X","X","X","X","X","X","X","X","X","X","X","X","X","X","X","X","X","X","X","X","X","X","X","X","X","X","X","X","X","X","X","X","X","X","X","X","X","X","X","X","X","X","X","X","X","X","X","X","X","X","X","X","X","X","X","X","X","X","X","X","X"]
[136,4,"X","X","X","X","X","X","X","X","X","X","X","X","X","X","X","X","X","X","X","X","X","X","X","X","X","X","X","X","X","X","X","X","X","X","X","X","X","X","X","X","X","X","X","X","X","X","X","X","X","X","X","X","X","X","X","X","X","X","X","X","X","X","X","X","X","X","X","X","X","X","X","X","X","X","X","X","X","X","X","X","X","X","X","X","X","X","X","X","X","X","X","X","X","X","X","X","X","X","X","X","X","X","X","X","X","X","X","X","X","X","X","X","X","X","X","X","X","X","X","X","X","X","X","X","X","X","X","X","X","X","X","X","X"]
[137,5,"X","X","X","X","X","X","X","X","X","X","X","X","X","X","X","X","X","X","X","X","X","X","X","X","X","X","X","X","X","X","X","X","X","X","X","X","X","X","X","X","X","X","X","X","X","X","X","X","X","X","X","X","X","X","X","X","X","X","X","X","X","X","X","X","X","X","X","X","X","X","X","X","X","X","X","X","X","X","X","X","X","X","X","X","X","X","X","X","X","X","X","X","X","X","X","X","X","X","X","X","X","X","X","X","X","X","X","X","X","X","X","X","X","X","X","X","X","X","X","X","X","X","X","X","X","X","X","X","X","X","X","X","X"]
[138,6,"X","X","X","X","X","X","X","X","X","X","X","X","X","X","X","X","X","X","X","X","X","X","X","X","X","X","X","X","X","X","X","X","X","X","X","X","X","X","X","X","X","X","X","X","X","X","X","X","X","X","X","X","X","X","X","X","X","X","X","X","X","X","X","X","X","X","X","X","X","X","X","X","X","X","X","X","X","X","X","X","X","X","X","X","X","X","X","X","X","X","X","X","X","X","X","X","X","X","X","X","X","X","X","X","X","X","X","X","X","X","X","X","X","X","X","X","X","X","X","X","X","X","X","X","X","X","X","X","X","X","X","X","X"]
[139,7,"X","X","X","X","X","X","X","X","X","X","X","X","X","X","X","X","X","X","X","X","X","X","X","X","X","X","X","X","X","X","X","X","X","X","X","X","X","X","X","X","X","X","X","X","X","X","X","X","X","X","X","X","X","X","X","X","X","X","X","X","X","X","X","X","X","X","X","X","X","X","X","X","X","X","X","X","X","X","X","X","X","X","X","X","X","X","X","X","X","X","X","X","X","X","X","X","X","X","X","X","X","X","X","X","X","X","X","X","X","X","X","X","X","X","X","X","X","X","X","X","X","X","X","X","X","X","X","X","X","X","X","X","X"]
[140,8,"X","X","X","X","X","X","X","X","X","X","X","X","X","X","X","X","X","X","X","X","X","X","X","X","X","X","X","X","X","X","X","X","X","X","X","X","X","X","X","X","X","X","X","X","X","X","X","X","X","X","X","X","X","X","X","X","X","X","X","X","X","X","X","X","X","X","X","X","X","X","X","X","X","X","X","X","X","X","X","X","X","X","X","X","X","X","X","X","X","X","X","X","X","X","X","X","X","X","X","X","X","X","X","X","X","X","X","X","X","X","X","X","X","X","X","X","X","X","X","X","X","X","X","X","X","X","X","X","X","X","X","X","X"]
[141,9,"X","X","X","X","X","X","X","X","X","X","X","X","X","X","X","X","X","X","X","X","X","X","X","X","X","X","X","X","X","X","X","X","X","X","X","X","X","X","X","X","X","X","X","X","X","X","X","X","X","X","X","X","X","X","X","X","X","X","X","X","X","X","X","X","X","X","X","X","X","X","X","X","X","X","X","X","X","X","X","X","X","X","X","X","X","X","X","X","X","X","X","X","X","X","X","X","X","X","X","X","X","X","X","X","X","X","X","X","X","X","X","X","X","X","X","X","X","X","X","X","X","X","X","X","X","X","X","X","X","X","X","X","X"]
[142,10,"X","X","X","X","X","X","X","X","X","X","X","X","X","X","X","X","X","X","X","X","X","X","X","X","X","X","X","X","X","X","X","X","X","X","X","X","X","X","X","X","X","X","X","X","X","X","X","X","X","X","X","X","X","X","X","X","X","X","X","X","X","X","X","X","X","X","X","X","X","X","X","X","X","X","X","X","X","X","X","X","X","X","X","X","X","X","X","X","X","X","X","X","X","X","X","X","X","X","X","X","X","X","X","X","X","X","X","X","X","X","X","X","X","X","X","X","X","X","X","X","X","X","X","X","X","X","X","X","X","X","X","X","X"]
[143,11,"X","X","X","X","X","X","X","X","X","X","X","X","X","X","X","X","X","X","X","X","X","X","X","X","X","X","X","X","X","X","X","X","X","X","X","X","X","X","X","X","X","X","X","X","X","X","X","X","X","X","X","X","X","X","X","X","X","X","X","X","X","X","X","X","X","X","X","X","X","X","X","X","X","X","X","X","X","X","X","X","X","X","X","X","X","X","X","X","X","X","X","X","X","X","X","X","X","X","X","X","X","X","X","X","X","X","X","X","X","X","X","X","X","X","X","X","X","X","X","X","X","X","X","X","X","X","X","X","X","X","X","X","X"]
[144,12,"X","X","X","X","X","X","X","X","X","X","X","X","X","X","X","X","X","X","X","X","X","X","X","X","X","X","X","X","X","X","X","X","X","X","X","X","X","X","X","X","X","X","X","X","X","X","X","X","X","X","X","X","X","X","X","X","X","X","X","X","X","X","X","X","X","X","X","X","X","X","X","X","X","X","X","X","X","X","X","X","X","X","X","X","X","X","X","X","X","X","X","X","X","X","X","X","X","X","X","X","X","X","X","X","X","X","X","X","X","X","X","X","X","X","X","X","X","X","X","X","X","X","X","X","X","X","X","X","X","X","X","X","X"]
[145,1,"X","X","X","X","X","X","X","X","X","X","X","X","X","X","X","X","X","X","X","X","X","X","X","X","X","X","X","X","X","X","X","X","X","X","X","X","X","X","X","X","X","X","X","X","X","X","X","X","X","X","X","X","X","X","X","X","X","X","X","X","X","X","X","X","X","X","X","X","X","X","X","X","X","X","X","X","X","X","X","X","X","X","X","X","X","X","X","X","X","X","X","X","X","X","X","X","X","X","X","X","X","X","X","X","X","X","X","X","X","X","X","X","X","X","X","X","X","X","X","X","X","X","X","X","X","X","X","X","X","X","X","X","X"]
[146,2,"X","X","X","X","X","X","X","X","X","X","X","X","X","X","X","X","X","X","X","X","X","X","X","X","X","X","X","X","X","X","X","X","X","X","X","X","X","X","X","X","X","X","X","X","X","X","X","X","X","X","X","X","X","X","X","X","X","X","X","X","X","X","X","X","X","X","X","X","X","X","X","X","X","X","X","X","X","X","X","X","X","X","X","X","X","X","X","X","X","X","X","X","X","X","X","X","X","X","X","X","X","X","X","X","X","X","X","X","X","X","X","X","X","X","X","X","X","X","X","X","X","X","X","X","X","X","X","X","X","X","X","X","X"]
[147,3,"X","X","X","X","X","X","X","X","X","X","X","X","X","X","X","X","X","X","X","X","X","X","X","X","X","X","X","X","X","X","X","X","X","X","X","X","X","X","X","X","X","X","X","X","X","X","X","X","X","X","X","X","X","X","X","X","X","X","X","X","X","X","X","X","X","X","X","X","X","X","X","X","X","X","X","X","X","X","X","X","X","X","X","X","X","X","X","X","X","X","X","X","X","X","X","X","X","X","X","X","X","X","X","X","X","X","X","X","X","X","X","X","X","X","X","X","X","X","X","X","X","X","X","X","X","X","X","X","X","X","X","X","X"]
[148,4,"X","X","X","X","X","X","X","X","X","X","X","X","X","X","X","X","X","X","X","X","X","X","X","X","X","X","X","X","X","X","X","X","X","X","X","X","X","X","X","X","X","X","X","X","X","X","X","X","X","X","X","X","X","X","X","X","X","X","X","X","X","X","X","X","X","X","X","X","X","X","X","X","X","X","X","X","X","X","X","X","X","X","X","X","X","X","X","X","X","X","X","X","X","X","X","X","X","X","X","X","X","X","X","X","X","X","X","X","X","X","X","X","X","X","X","X","X","X","X","X","X","X","X","X","X","X","X","X","X","X","X","X","X"]
[149,5,"X","X","X","X","X","X","X","X","X","X","X","X","X","X","X","X","X","X","X","X","X","X","X","X","X","X","X","X","X","X","X","X","X","X","X","X","X","X","X","X","X","X","X","X","X","X","X","X","X","X","X","X","X","X","X","X","X","X","X","X","X","X","X","X","X","X","X","X","X","X","X","X","X","X","X","X","X","X","X","X","X","X","X","X","X","X","X","X","X","X","X","X","X","X","X","X","X","X","X","X","X","X","X","X","X","X","X","X","X","X","X","X","X","X","X","X","X","X","X","X","X","X","X","X","X","X","X","X","X","X","X","X","X"]
[150,6,"X","X","X","X","X","X","X","X","X","X","X","X","X","X","X","X","X","X","X","X","X","X","X","X","X","X","X","X","X","X","X","X","X","X","X","X","X","X","X","X","X","X","X","X","X","X","X","X","X","X","X","X","X","X","X","X","X","X","X","X","X","X","X","X","X","X","X","X","X","X","X","X","X","X","X","X","X","X","X","X","X","X","X","X","X","X","X","X","X","X","X","X","X","X","X","X","X","X","X","X","X","X","X","X","X","X","X","X","X","X","X","X","X","X","X","X","X","X","X","X","X","X","X","X","X","X","X","X","X","X","X","X","X"]
[151,7,"X","X","X","X","X","X","X","X","X","X","X","X","X","X","X","X","X","X","X","X","X","X","X","X","X","X","X","X","X","X","X","X","X","X","X","X","X","X","X","X","X","X","X","X","X","X","X","X","X","X","X","X","X","X","X","X","X","X","X","X","X","X","X","X","X","X","X","X","X","X","X","X","X","X","X","X","X","X","X","X","X","X","X","X","X","X","X","X","X","X","X","X","X","X","X","X","X","X","X","X","X","X","X","X","X","X","X","X","X","X","X","X","X","X","X","X","X","X","X","X","X","X","X","X","X","X","X","X","X","X","X","X","X"]
[152,8,"X","X","X","X","X","X","X","X","X","X","X","X","X","X","X","X","X","X","X","X","X","X","X","X","X","X","X","X","X","X","X","X","X","X","X","X","X","X","X","X","X","X","X","X","X","X","X","X","X","X","X","X","X","X","X","X","X","X","X","X","X","X","X","X","X","X","X","X","X","X","X","X","X","X","X","X","X","X","X","X","X","X","X","X","X","X","X","X","X","X","X","X","X","X","X","X","X","X","X","X","X","X","X","X","X","X","X","X","X","X","X","X","X","X","X","X","X","X","X","X","X","X","X","X","X","X","X","X","X","X","X","X","X"]
[153,9,"X","X","X","X","X","X","X","X","X","X","X","X","X","X","X","X","X","X","X","X","X","X","X","X","X","X","X","X","X","X","X","X","X","X","X","X","X","X","X","X","X","X","X","X","X","X","X","X","X","X","X","X","X","X","X","X","X","X","X","X","X","X","X","X","X","X","X","X","X","X","X","X","X","X","X","X","X","X","X","X","X","X","X","X","X","X","X","X","X","X","X","X","X","X","X","X","X","X","X","X","X","X","X","X","X","X","X","X","X","X","X","X","X","X","X","X","X","X","X","X","X","X","X","X","X","X","X","X","X","X","X","X","X"]
[154,10,"X","X","X","X","X","X","X","X","X","X","X","X","X","X","X","X","X","X","X","X","X","X","X","X","X","X","X","X","X","X","X","X","X","X","X","X","X","X","X","X","X","X","X","X","X","X","X","X","X","X","X","X","X","X","X","X","X","X","X","X","X","X","X","X","X","X","X","X","X","X","X","X","X","X","X","X","X","X","X","X","X","X","X","X","X","X","X","X","X","X","X","X","X","X","X","X","X","X","X","X","X","X","X","X","X","X","X","X","X","X","X","X","X","X","X","X","X","X","X","X","X","X","X","X","X","X","X","X","X","X","X","X","X"]
[155,11,"X","X","X","X","X","X","X","X","X","X","X","X","X","X","X","X","X","X","X","X","X","X","X","X","X","X","X","X","X","X","X","X","X","X","X","X","X","X","X","X","X","X","X","X","X","X","X","X","X","X","X","X","X","X","X","X","X","X","X","X","X","X","X","X","X","X","X","X","X","X","X","X","X","X","X","X","X","X","X","X","X","X","X","X","X","X","X","X","X","X","X","X","X","X","X","X","X","X","X","X","X","X","X","X","X","X","X","X","X","X","X","X","X","X","X","X","X","X","X","X","X","X","X","X","X","X","X","X","X","X","X","X","X"]
[156,12,"X","X","X","X","X","X","X","X","X","X","X","X","X","X","X","X","X","X","X","X","X","X","X","X","X","X","X","X","X","X","X","X","X","X","X","X","X","X","X","X","X","X","X","X","X","X","X","X","X","X","X","X","X","X","X","X","X","X","X","X","X","X","X","X","X","X","X","X","X","X","X","X","X","X","X","X","X","X","X","X","X","X","X","X","X","X","X","X","X","X","X","X","X","X","X","X","X","X","X","X","X","X","X","X","X","X","X","X","X","X","X","X","X","X","X","X","X","X","X","X","X","X","X","X","X","X","X","X","X","X","X","X","X"]
[157,1,"X","X","X","X","X","X","X","X","X","X","X","X","X","X","X","X","X","X","X","X","X","X","X","X","X","X","X","X","X","X","X","X","X","X","X","X","X","X","X","X","X","X","X","X","X","X","X","X","X","X","X","X","X","X","X","X","X","X","X","X","X","X","X","X","X","X","X","X","X","X","X","X","X","X","X","X","X","X","X","X","X","X","X","X","X","X","X","X","X","X","X","X","X","X","X","X","X","X","X","X","X","X","X","X","X","X","X","X","X","X","X","X","X","X","X","X","X","X","X","X","X","X","X","X","X","X","X","X","X","X","X","X","X"]
[158,2,"X","X","X","X","X","X","X","X","X","X","X","X","X","X","X","X","X","X","X","X","X","X","X","X","X","X","X","X","X","X","X","X","X","X","X","X","X","X","X","X","X","X","X","X","X","X","X","X","X","X","X","X","X","X","X","X","X","X","X","X","X","X","X","X","X","X","X","X","X","X","X","X","X","X","X","X","X","X","X","X","X","X","X","X","X","X","X","X","X","X","X","X","X","X","X","X","X","X","X","X","X","X","X","X","X","X","X","X","X","X","X","X","X","X","X","X","X","X","X","X","X","X","X","X","X","X","X","X","X","X","X","X","X"]
[159,3,"X","X","X","X","X","X","X","X","X","X","X","X","X","X","X","X","X","X","X","X","X","X","X","X","X","X","X","X","X","X","X","X","X","X","X","X","X","X","X","X","X","X","X","X","X","X","X","X","X","X","X","X","X","X","X","X","X","X","X","X","X","X","X","X","X","X","X","X","X","X","X","X","X","X","X","X","X","X","X","X","X","X","X","X","X","X","X","X","X","X","X","X","X","X","X","X","X","X","X","X","X","X","X","X","X","X","X","X","X","X","X","X","X","X","X","X","X","X","X","X","X","X","X","X","X","X","X","X","X","X","X","X","X"]
[160,4,"X","X","X","X","X","X","X","X","X","X","X","X","X","X","X","X","X","X","X","X","X","X","X","X","X","X","X","X","X","X","X","X","X","X","X","X","X","X","X","X","X","X","X","X","X","X","X","X","X","X","X","X","X","X","X","X","X","X","X","X","X","X","X","X","X","X","X","X","X","X","X","X","X","X","X","X","X","X","X","X","X","X","X","X","X","X","X","X","X","X","X","X","X","X","X","X","X","X","X","X","X","X","X","X","X","X","X","X","X","X","X","X","X","X","X","X","X","X","X","X","X","X","X","X","X","X","X","X","X","X","X","X","X"]
[161,5,"X","X","X","X","X","X","X","X","X","X","X","X","X","X","X","X","X","X","X","X","X","X","X","X","X","X","X","X","X","X","X","X","X","X","X","X","X","X","X","X","X","X","X","X","X","X","X","X","X","X","X","X","X","X","X","X","X","X","X","X","X","X","X","X","X","X","X","X","X","X","X","X","X","X","X","X","X","X","X","X","X","X","X","X","X","X","X","X","X","X","X","X","X","X","X","X","X","X","X","X","X","X","X","X","X","X","X","X","X","X","X","X","X","X","X","X","X","X","X","X","X","X","X","X","X","X","X","X","X","X","X","X","X"]
[162,6,"X","X","X","X","X","X","X","X","X","X","X","X","X","X","X","X","X","X","X","X","X","X","X","X","X","X","X","X","X","X","X","X","X","X","X","X","X","X","X","X","X","X","X","X","X","X","X","X","X","X","X","X","X","X","X","X","X","X","X","X","X","X","X","X","X","X","X","X","X","X","X","X","X","X","X","X","X","X","X","X","X","X","X","X","X","X","X","X","X","X","X","X","X","X","X","X","X","X","X","X","X","X","X","X","X","X","X","X","X","X","X","X","X","X","X","X","X","X","X","X","X","X","X","X","X","X","X","X","X","X","X","X","X"]
[163,7,"X","X","X","X","X","X","X","X","X","X","X","X","X","X","X","X","X","X","X","X","X","X","X","X","X","X","X","X","X","X","X","X","X","X","X","X","X","X","X","X","X","X","X","X","X","X","X","X","X","X","X","X","X","X","X","X","X","X","X","X","X","X","X","X","X","X","X","X","X","X","X","X","X","X","X","X","X","X","X","X","X","X","X","X","X","X","X","X","X","X","X","X","X","X","X","X","X","X","X","X","X","X","X","X","X","X","X","X","X","X","X","X","X","X","X","X","X","X","X","X","X","X","X","X","X","X","X","X","X","X","X","X","X"]
[164,8,"X","X","X","X","X","X","X","X","X","X","X","X","X","X","X","X","X","X","X","X","X","X","X","X","X","X","X","X","X","X","X","X","X","X","X","X","X","X","X","X","X","X","X","X","X","X","X","X","X","X","X","X","X","X","X","X","X","X","X","X","X","X","X","X","X","X","X","X","X","X","X","X","X","X","X","X","X","X","X","X","X","X","X","X","X","X","X","X","X","X","X","X","X","X","X","X","X","X","X","X","X","X","X","X","X","X","X","X","X","X","X","X","X","X","X","X","X","X","X","X","X","X","X","X","X","X","X","X","X","X","X","X","X"]
[165,9,"X","X","X","X","X","X","X","X","X","X","X","X","X","X","X","X","X","X","X","X","X","X","X","X","X","X","X","X","X","X","X","X","X","X","X","X","X","X","X","X","X","X","X","X","X","X","X","X","X","X","X","X","X","X","X","X","X","X","X","X","X","X","X","X","X","X","X","X","X","X","X","X","X","X","X","X","X","X","X","X","X","X","X","X","X","X","X","X","X","X","X","X","X","X","X","X","X","X","X","X","X","X","X","X","X","X","X","X","X","X","X","X","X","X","X","X","X","X","X","X","X","X","X","X","X","X","X","X","X","X","X","X","X"]
[166,10,"X","X","X","X","X","X","X","X","X","X","X","X","X","X","X","X","X","X","X","X","X","X","X","X","X","X","X","X","X","X","X","X","X","X","X","X","X","X","X","X","X","X","X","X","X","X","X","X","X","X","X","X","X","X","X","X","X","X","X","X","X","X","X","X","X","X","X","X","X","X","X","X","X","X","X","X","X","X","X","X","X","X","X","X","X","X","X","X","X","X","X","X","X","X","X","X","X","X","X","X","X","X","X","X","X","X","X","X","X","X","X","X","X","X","X","X","X","X","X","X","X","X","X","X","X","X","X","X","X","X","X","X","X"]
[167,11,"X","X","X","X","X","X","X","X","X","X","X","X","X","X","X","X","X","X","X","X","X","X","X","X","X","X","X","X","X","X","X","X","X","X","X","X","X","X","X","X","X","X","X","X","X","X","X","X","X","X","X","X","X","X","X","X","X","X","X","X","X","X","X","X","X","X","X","X","X","X","X","X","X","X","X","X","X","X","X","X","X","X","X","X","X","X","X","X","X","X","X","X","X","X","X","X","X","X","X","X","X","X","X","X","X","X","X","X","X","X","X","X","X","X","X","X","X","X","X","X","X","X","X","X","X","X","X","X","X","X","X","X","X"]
[168,12,"X","X","X","X","X","X","X","X","X","X","X","X","X","X","X","X","X","X","X","X","X","X","X","X","X","X","X","X","X","X","X","X","X","X","X","X","X","X","X","X","X","X","X","X","X","X","X","X","X","X","X","X","X","X","X","X","X","X","X","X","X","X","X","X","X","X","X","X","X","X","X","X","X","X","X","X","X","X","X","X","X","X","X","X","X","X","X","X","X","X","X","X","X","X","X","X","X","X","X","X","X","X","X","X","X","X","X","X","X","X","X","X","X","X","X","X","X","X","X","X","X","X","X","X","X","X","X","X","X","X","X","X","X"]
[169,1,"X","X","X","X","X","X","X","X","X","X","X","X","X","X","X","X","X","X","X","X","X","X","X","X","X","X","X","X","X","X","X","X","X","X","X","X","X","X","X","X","X","X","X","X","X","X","X","X","X","X","X","X","X","X","X","X","X","X","X","X","X","X","X","X","X","X","X","X","X","X","X","X","X","X","X","X","X","X","X","X","X","X","X","X","X","X","X","X","X","X","X","X","X","X","X","X","X","X","X","X","X","X","X","X","X","X","X","X","X","X","X","X","X","X","X","X","X","X","X","X","X","X","X","X","X","X","X","X","X","X","X","X","X"]
[170,2,"X","X","X","X","X","X","X","X","X","X","X","X","X","X","X","X","X","X","X","X","X","X","X","X","X","X","X","X","X","X","X","X","X","X","X","X","X","X","X","X","X","X","X","X","X","X","X","X","X","X","X","X","X","X","X","X","X","X","X","X","X","X","X","X","X","X","X","X","X","X","X","X","X","X","X","X","X","X","X","X","X","X","X","X","X","X","X","X","X","X","X","X","X","X","X","X","X","X","X","X","X","X","X","X","X","X","X","X","X","X","X","X","X","X","X","X","X","X","X","X","X","X","X","X","X","X","X","X","X","X","X","X","X"]
[171,3,"X","X","X","X","X","X","X","X","X","X","X","X","X","X","X","X","X","X","X","X","X","X","X","X","X","X","X","X","X","X","X","X","X","X","X","X","X","X","X","X","X","X","X","X","X","X","X","X","X","X","X","X","X","X","X","X","X","X","X","X","X","X","X","X","X","X","X","X","X","X","X","X","X","X","X","X","X","X","X","X","X","X","X","X","X","X","X","X","X","X","X","X","X","X","X","X","X","X","X","X","X","X","X","X","X","X","X","X","X","X","X","X","X","X","X","X","X","X","X","X","X","X","X","X","X","X","X","X","X","X","X","X","X"]
[172,4,"X","X","X","X","X","X","X","X","X","X","X","X","X","X","X","X","X","X","X","X","X","X","X","X","X","X","X","X","X","X","X","X","X","X","X","X","X","X","X","X","X","X","X","X","X","X","X","X","X","X","X","X","X","X","X","X","X","X","X","X","X","X","X","X","X","X","X","X","X","X","X","X","X","X","X","X","X","X","X","X","X","X","X","X","X","X","X","X","X","X","X","X","X","X","X","X","X","X","X","X","X","X","X","X","X","X","X","X","X","X","X","X","X","X","X","X","X","X","X","X","X","X","X","X","X","X","X","X","X","X","X","X","X"]
[173,5,"X","X","X","X","X","X","X","X","X","X","X","X","X","X","X","X","X","X","X","X","X","X","X","X","X","X","X","X","X","X","X","X","X","X","X","X","X","X","X","X","X","X","X","X","X","X","X","X","X","X","X","X","X","X","X","X","X","X","X","X","X","X","X","X","X","X","X","X","X","X","X","X","X","X","X","X","X","X","X","X","X","X","X","X","X","X","X","X","X","X","X","X","X","X","X","X","X","X","X","X","X","X","X","X","X","X","X","X","X","X","X","X","X","X","X","X","X","X","X","X","X","X","X","X","X","X","X","X","X","X","X","X","X"]
[174,6,"X","X","X","X","X","X","X","X","X","X","X","X","X","X","X","X","X","X","X","X","X","X","X","X","X","X","X","X","X","X","X","X","X","X","X","X","X","X","X","X","X","X","X","X","X","X","X","X","X","X","X","X","X","X","X","X","X","X","X","X","X","X","X","X","X","X","X","X","X","X","X","X","X","X","X","X","X","X","X","X","X","X","X","X","X","X","X","X","X","X","X","X","X","X","X","X","X","X","X","X","X","X","X","X","X","X","X","X","X","X","X","X","X","X","X","X","X","X","X","X","X","X","X","X","X","X","X","X","X","X","X","X","X"]
[175,7,"X","X","X","X","X","X","X","X","X","X","X","X","X","X","X","X","X","X","X","X","X","X","X","X","X","X","X","X","X","X","X","X","X","X","X","X","X","X","X","X","X","X","X","X","X","X","X","X","X","X","X","X","X","X","X","X","X","X","X","X","X","X","X","X","X","X","X","X","X","X","X","X","X","X","X","X","X","X","X","X","X","X","X","X","X","X","X","X","X","X","X","X","X","X","X","X","X","X","X","X","X","X","X","X","X","X","X","X","X","X","X","X","X","X","X","X","X","X","X","X","X","X","X","X","X","X","X","X","X","X","X","X","X"]
[176,8,"X","X","X","X","X","X","X","X","X","X","X","X","X","X","X","X","X","X","X","X","X","X","X","X","X","X","X","X","X","X","X","X","X","X","X","X","X","X","X","X","X","X","X","X","X","X","X","X","X","X","X","X","X","X","X","X","X","X","X","X","X","X","X","X","X","X","X","X","X","X","X","X","X","X","X","X","X","X","X","X","X","X","X","X","X","X","X","X","X","X","X","X","X","X","X","X","X","X","X","X","X","X","X","X","X","X","X","X","X","X","X","X","X","X","X","X","X","X","X","X","X","X","X","X","X","X","X","X","X","X","X","X","X"]
[177,9,"X","X","X","X","X","X","X","X","X","X","X","X","X","X","X","X","X","X","X","X","X","X","X","X","X","X","X","X","X","X","X","X","X","X","X","X","X","X","X","X","X","X","X","X","X","X","X","X","X","X","X","X","X","X","X","X","X","X","X","X","X","X","X","X","X","X","X","X","X","X","X","X","X","X","X","X","X","X","X","X","X","X","X","X","X","X","X","X","X","X","X","X","X","X","X","X","X","X","X","X","X","X","X","X","X","X","X","X","X","X","X","X","X","X","X","X","X","X","X","X","X","X","X","X","X","X","X","X","X","X","X","X","X"]
[178,10,"X","X","X","X","X","X","X","X","X","X","X","X","X","X","X","X","X","X","X","X","X","X","X","X","X","X","X","X","X","X","X","X","X","X","X","X","X","X","X","X","X","X","X","X","X","X","X","X","X","X","X","X","X","X","X","X","X","X","X","X","X","X","X","X","X","X","X","X","X","X","X","X","X","X","X","X","X","X","X","X","X","X","X","X","X","X","X","X","X","X","X","X","X","X","X","X","X","X","X","X","X","X","X","X","X","X","X","X","X","X","X","X","X","X","X","X","X","X","X","X","X","X","X","X","X","X","X","X","X","X","X","X","X"]
[179,11,"X","X","X","X","X","X","X","X","X","X","X","X","X","X","X","X","X","X","X","X","X","X","X","X","X","X","X","X","X","X","X","X","X","X","X","X","X","X","X","X","X","X","X","X","X","X","X","X","X","X","X","X","X","X","X","X","X","X","X","X","X","X","X","X","X","X","X","X","X","X","X","X","X","X","X","X","X","X","X","X","X","X","X","X","X","X","X","X","X","X","X","X","X","X","X","X","X","X","X","X","X","X","X","X","X","X","X","X","X","X","X","X","X","X","X","X","X","X","X","X","X","X","X","X","X","X","X","X","X","X","X","X","X"]
[180,12,"X","X","X","X","X","X","X","X","X","X","X","X","X","X","X","X","X","X","X","X","X","X","X","X","X","X","X","X","X","X","X","X","X","X","X","X","X","X","X","X","X","X","X","X","X","X","X","X","X","X","X","X","X","X","X","X","X","X","X","X","X","X","X","X","X","X","X","X","X","X","X","X","X","X","X","X","X","X","X","X","X","X","X","X","X","X","X","X","X","X","X","X","X","X","X","X","X","X","X","X","X","X","X","X","X","X","X","X","X","X","X","X","X","X","X","X","X","X","X","X","X","X","X","X","X","X","X","X","X","X","X","X","X"]
[181,1,"X","X","X","X","X","X","X","X","X","X","X","X","X","X","X","X","X","X","X","X","X","X","X","X","X","X","X","X","X","X","X","X","X","X","X","X","X","X","X","X","X","X","X","X","X","X","X","X","X","X","X","X","X","X","X","X","X","X","X","X","X","X","X","X","X","X","X","X","X","X","X","X","X","X","X","X","X","X","X","X","X","X","X","X","X","X","X","X","X","X","X","X","X","X","X","X","X","X","X","X","X","X","X","X","X","X","X","X","X","X","X","X","X","X","X","X","X","X","X","X","X","X","X","X","X","X","X","X","X","X","X","X","X"]
[182,2,"X","X","X","X","X","X","X","X","X","X","X","X","X","X","X","X","X","X","X","X","X","X","X","X","X","X","X","X","X","X","X","X","X","X","X","X","X","X","X","X","X","X","X","X","X","X","X","X","X","X","X","X","X","X","X","X","X","X","X","X","X","X","X","X","X","X","X","X","X","X","X","X","X","X","X","X","X","X","X","X","X","X","X","X","X","X","X","X","X","X","X","X","X","X","X","X","X","X","X","X","X","X","X","X","X","X","X","X","X","X","X","X","X","X","X","X","X","X","X","X","X","X","X","X","X","X","X","X","X","X","X","X","X"]
[183,3,"X","X","X","X","X","X","X","X","X","X","X","X","X","X","X","X","X","X","X","X","X","X","X","X","X","X","X","X","X","X","X","X","X","X","X","X","X","X","X","X","X","X","X","X","X","X","X","X","X","X","X","X","X","X","X","X","X","X","X","X","X","X","X","X","X","X","X","X","X","X","X","X","X","X","X","X","X","X","X","X","X","X","X","X","X","X","X","X","X","X","X","X","X","X","X","X","X","X","X","X","X","X","X","X","X","X","X","X","X","X","X","X","X","X","X","X","X","X","X","X","X","X","X","X","X","X","X","X","X","X","X","X","X"]
[184,4,"X","X","X","X","X","X","X","X","X","X","X","X","X","X","X","X","X","X","X","X","X","X","X","X","X","X","X","X","X","X","X","X","X","X","X","X","X","X","X","X","X","X","X","X","X","X","X","X","X","X","X","X","X","X","X","X","X","X","X","X","X","X","X","X","X","X","X","X","X","X","X","X","X","X","X","X","X","X","X","X","X","X","X","X","X","X","X","X","X","X","X","X","X","X","X","X","X","X","X","X","X","X","X","X","X","X","X","X","X","X","X","X","X","X","X","X","X","X","X","X","X","X","X","X","X","X","X","X","X","X","X","X","X"]
[185,5,"X","X","X","X","X","X","X","X","X","X","X","X","X","X","X","X","X","X","X","X","X","X","X","X","X","X","X","X","X","X","X","X","X","X","X","X","X","X","X","X","X","X","X","X","X","X","X","X","X","X","X","X","X","X","X","X","X","X","X","X","X","X","X","X","X","X","X","X","X","X","X","X","X","X","X","X","X","X","X","X","X","X","X","X","X","X","X","X","X","X","X","X","X","X","X","X","X","X","X","X","X","X","X","X","X","X","X","X","X","X","X","X","X","X","X","X","X","X","X","X","X","X","X","X","X","X","X","X","X","X","X","X","X"]
[186,6,"X","X","X","X","X","X","X","X","X","X","X","X","X","X","X","X","X","X","X","X","X","X","X","X","X","X","X","X","X","X","X","X","X","X","X","X","X","X","X","X","X","X","X","X","X","X","X","X","X","X","X","X","X","X","X","X","X","X","X","X","X","X","X","X","X","X","X","X","X","X","X","X","X","X","X","X","X","X","X","X","X","X","X","X","X","X","X","X","X","X","X","X","X","X","X","X","X","X","X","X","X","X","X","X","X","X","X","X","X","X","X","X","X","X","X","X","X","X","X","X","X","X","X","X","X","X","X","X","X","X","X","X","X"]
[187,7,"X","X","X","X","X","X","X","X","X","X","X","X","X","X","X","X","X","X","X","X","X","X","X","X","X","X","X","X","X","X","X","X","X","X","X","X","X","X","X","X","X","X","X","X","X","X","X","X","X","X","X","X","X","X","X","X","X","X","X","X","X","X","X","X","X","X","X","X","X","X","X","X","X","X","X","X","X","X","X","X","X","X","X","X","X","X","X","X","X","X","X","X","X","X","X","X","X","X","X","X","X","X","X","X","X","X","X","X","X","X","X","X","X","X","X","X","X","X","X","X","X","X","X","X","X","X","X","X","X","X","X","X","X"]
[188,8,"X","X","X","X","X","X","X","X","X","X","X","X","X","X","X","X","X","X","X","X","X","X","X","X","X","X","X","X","X","X","X","X","X","X","X","X","X","X","X","X","X","X","X","X","X","X","X","X","X","X","X","X","X","X","X","X","X","X","X","X","X","X","X","X","X","X","X","X","X","X","X","X","X","X","X","X","X","X","X","X","X","X","X","X","X","X","X","X","X","X","X","X","X","X","X","X","X","X","X","X","X","X","X","X","X","X","X","X","X","X","X","X","X","X","X","X","X","X","X","X","X","X","X","X","X","X","X","X","X","X","X","X","X"]
[189,9,"X","X","X","X","X","X","X","X","X","X","X","X","X","X","X","X","X","X","X","X","X","X","X","X","X","X","X","X","X","X","X","X","X","X","X","X","X","X","X","X","X","X","X","X","X","X","X","X","X","X","X","X","X","X","X","X","X","X","X","X","X","X","X","X","X","X","X","X","X","X","X","X","X","X","X","X","X","X","X","X","X","X","X","X","X","X","X","X","X","X","X","X","X","X","X","X","X","X","X","X","X","X","X","X","X","X","X","X","X","X","X","X","X","X","X","X","X","X","X","X","X","X","X","X","X","X","X","X","X","X","X","X","X"]
[190,10,"X","X","X","X","X","X","X","X","X","X","X","X","X","X","X","X","X","X","X","X","X","X","X","X","X","X","X","X","X","X","X","X","X","X","X","X","X","X","X","X","X","X","X","X","X","X","X","X","X","X","X","X","X","X","X","X","X","X","X","X","X","X","X","X","X","X","X","X","X","X","X","X","X","X","X","X","X","X","X","X","X","X","X","X","X","X","X","X","X","X","X","X","X","X","X","X","X","X","X","X","X","X","X","X","X","X","X","X","X","X","X","X","X","X","X","X","X","X","X","X","X","X","X","X","X","X","X","X","X","X","X","X","X"]
[191,11,"X","X","X","X","X","X","X","X","X","X","X","X","X","X","X","X","X","X","X","X","X","X","X","X","X","X","X","X","X","X","X","X","X","X","X","X","X","X","X","X","X","X","X","X","X","X","X","X","X","X","X","X","X","X","X","X","X","X","X","X","X","X","X","X","X","X","X","X","X","X","X","X","X","X","X","X","X","X","X","X","X","X","X","X","X","X","X","X","X","X","X","X","X","X","X","X","X","X","X","X","X","X","X","X","X","X","X","X","X","X","X","X","X","X","X","X","X","X","X","X","X","X","X","X","X","X","X","X","X","X","X","X","X"]
[192,12,"X","X","X","X","X","X","X","X","X","X","X","X","X","X","X","X","X","X","X","X","X","X","X","X","X","X","X","X","X","X","X","X","X","X","X","X","X","X","X","X","X","X","X","X","X","X","X","X","X","X","X","X","X","X","X","X","X","X","X","X","X","X","X","X","X","X","X","X","X","X","X","X","X","X","X","X","X","X","X","X","X","X","X","X","X","X","X","X","X","X","X","X","X","X","X","X","X","X","X","X","X","X","X","X","X","X","X","X","X","X","X","X","X","X","X","X","X","X","X","X","X","X","X","X","X","X","X","X","X","X","X","X","X"]
[193,1,"X","X","X","X","X","X","X","X","X","X","X","X","X","X","X","X","X","X","X","X","X","X","X","X","X","X","X","X","X","X","X","X","X","X","X","X","X","X","X","X","X","X","X","X","X","X","X","X","X","X","X","X","X","X","X","X","X","X","X","X","X","X","X","X","X","X","X","X","X","X","X","X","X","X","X","X","X","X","X","X","X","X","X","X","X","X","X","X","X","X","X","X","X","X","X","X","X","X","X","X","X","X","X","X","X","X","X","X","X","X","X","X","X","X","X","X","X","X","X","X","X","X","X","X","X","X","X","X","X","X","X","X","X"]
[194,2,"X","X","X","X","X","X","X","X","X","X","X","X","X","X","X","X","X","X","X","X","X","X","X","X","X","X","X","X","X","X","X","X","X","X","X","X","X","X","X","X","X","X","X","X","X","X","X","X","X","X","X","X","X","X","X","X","X","X","X","X","X","X","X","X","X","X","X","X","X","X","X","X","X","X","X","X","X","X","X","X","X","X","X","X","X","X","X","X","X","X","X","X","X","X","X","X","X","X","X","X","X","X","X","X","X","X","X","X","X","X","X","X","X","X","X","X","X","X","X","X","X","X","X","X","X","X","X","X","X","X","X","X","X"]
[195,3,"X","X","X","X","X","X","X","X","X","X","X","X","X","X","X","X","X","X","X","X","X","X","X","X","X","X","X","X","X","X","X","X","X","X","X","X","X","X","X","X","X","X","X","X","X","X","X","X","X","X","X","X","X","X","X","X","X","X","X","X","X","X","X","X","X","X","X","X","X","X","X","X","X","X","X","X","X","X","X","X","X","X","X","X","X","X","X","X","X","X","X","X","X","X","X","X","X","X","X","X","X","X","X","X","X","X","X","X","X","X","X","X","X","X","X","X","X","X","X","X","X","X","X","X","X","X","X","X","X","X","X","X","X"]
[196,4,"X","X","X","X","X","X","X","X","X","X","X","X","X","X","X","X","X","X","X","X","X","X","X","X","X","X","X","X","X","X","X","X","X","X","X","X","X","X","X","X","X","X","X","X","X","X","X","X","X","X","X","X","X","X","X","X","X","X","X","X","X","X","X","X","X","X","X","X","X","X","X","X","X","X","X","X","X","X","X","X","X","X","X","X","X","X","X","X","X","X","X","X","X","X","X","X","X","X","X","X","X","X","X","X","X","X","X","X","X","X","X","X","X","X","X","X","X","X","X","X","X","X","X","X","X","X","X","X","X","X","X","X","X"]
[197,5,"X","X","X","X","X","X","X","X","X","X","X","X","X","X","X","X","X","X","X","X","X","X","X","X","X","X","X","X","X","X","X","X","X","X","X","X","X","X","X","X","X","X","X","X","X","X","X","X","X","X","X","X","X","X","X","X","X","X","X","X","X","X","X","X","X","X","X","X","X","X","X","X","X","X","X","X","X","X","X","X","X","X","X","X","X","X","X","X","X","X","X","X","X","X","X","X","X","X","X","X","X","X","X","X","X","X","X","X","X","X","X","X","X","X","X","X","X","X","X","X","X","X","X","X","X","X","X","X","X","X","X","X","X"]
[198,6,"X","X","X","X","X","X","X","X","X","X","X","X","X","X","X","X","X","X","X","X","X","X","X","X","X","X","X","X","X","X","X","X","X","X","X","X","X","X","X","X","X","X","X","X","X","X","X","X","X","X","X","X","X","X","X","X","X","X","X","X","X","X","X","X","X","X","X","X","X","X","X","X","X","X","X","X","X","X","X","X","X","X","X","X","X","X","X","X","X","X","X","X","X","X","X","X","X","X","X","X","X","X","X","X","X","X","X","X","X","X","X","X","X","X","X","X","X","X","X","X","X","X","X","X","X","X","X","X","X","X","X","X","X"]
[199,7,"X","X","X","X","X","X","X","X","X","X","X","X","X","X","X","X","X","X","X","X","X","X","X","X","X","X","X","X","X","X","X","X","X","X","X","X","X","X","X","X","X","X","X","X","X","X","X","X","X","X","X","X","X","X","X","X","X","X","X","X","X","X","X","X","X","X","X","X","X","X","X","X","X","X","X","X","X","X","X","X","X","X","X","X","X","X","X","X","X","X","X","X","X","X","X","X","X","X","X","X","X","X","X","X","X","X","X","X","X","X","X","X","X","X","X","X","X","X","X","X","X","X","X","X","X","X","X","X","X","X","X","X","X"]
[200,8,"X","X","X","X","X","X","X","X","X","X","X","X","X","X","X","X","X","X","X","X","X","X","X","X","X","X","X","X","X","X","X","X","X","X","X","X","X","X","X","X","X","X","X","X","X","X","X","X","X","X","X","X","X","X","X","X","X","X","X","X","X","X","X","X","X","X","X","X","X","X","X","X","X","X","X","X","X","X","X","X","X","X","X","X","X","X","X","X","X","X","X","X","X","X","X","X","X","X","X","X","X","X","X","X","X","X","X","X","X","X","X","X","X","X","X","X","X","X","X","X","X","X","X","X","X","X","X","X","X","X","X","X","X"]
[201,9,"X","X","X","X","X","X","X","X","X","X","X","X","X","X","X","X","X","X","X","X","X","X","X","X","X","X","X","X","X","X","X","X","X","X","X","X","X","X","X","X","X","X","X","X","X","X","X","X","X","X","X","X","X","X","X","X","X","X","X","X","X","X","X","X","X","X","X","X","X","X","X","X","X","X","X","X","X","X","X","X","X","X","X","X","X","X","X","X","X","X","X","X","X","X","X","X","X","X","X","X","X","X","X","X","X","X","X","X","X","X","X","X","X","X","X","X","X","X","X","X","X","X","X","X","X","X","X","X","X","X","X","X","X"]
[202,10,"X","X","X","X","X","X","X","X","X","X","X","X","X","X","X","X","X","X","X","X","X","X","X","X","X","X","X","X","X","X","X","X","X","X","X","X","X","X","X","X","X","X","X","X","X","X","X","X","X","X","X","X","X","X","X","X","X","X","X","X","X","X","X","X","X","X","X","X","X","X","X","X","X","X","X","X","X","X","X","X","X","X","X","X","X","X","X","X","X","X","X","X","X","X","X","X","X","X","X","X","X","X","X","X","X","X","X","X","X","X","X","X","X","X","X","X","X","X","X","X","X","X","X","X","X","X","X","X","X","X","X","X","X"]
[203,11,"X","X","X","X","X","X","X","X","X","X","X","X","X","X","X","X","X","X","X","X","X","X","X","X","X","X","X","X","X","X","X","X","X","X","X","X","X","X","X","X","X","X","X","X","X","X","X","X","X","X","X","X","X","X","X","X","X","X","X","X","X","X","X","X","X","X","X","X","X","X","X","X","X","X","X","X","X","X","X","X","X","X","X","X","X","X","X","X","X","X","X","X","X","X","X","X","X","X","X","X","X","X","X","X","X","X","X","X","X","X","X","X","X","X","X","X","X","X","X","X","X","X","X","X","X","X","X","X","X","X","X","X","X"]
[204,12,"X","X","X","X","X","X","X","X","X","X","X","X","X","X","X","X","X","X","X","X","X","X","X","X","X","X","X","X","X","X","X","X","X","X","X","X","X","X","X","X","X","X","X","X","X","X","X","X","X","X","X","X","X","X","X","X","X","X","X","X","X","X","X","X","X","X","X","X","X","X","X","X","X","X","X","X","X","X","X","X","X","X","X","X","X","X","X","X","X","X","X","X","X","X","X","X","X","X","X","X","X","X","X","X","X","X","X","X","X","X","X","X","X","X","X","X","X","X","X","X","X","X","X","X","X","X","X","X","X","X","X","X","X"]
[205,1,"X","X","X","X","X","X","X","X","X","X","X","X","X","X","X","X","X","X","X","X","X","X","X","X","X","X","X","X","X","X","X","X","X","X","X","X","X","X","X","X","X","X","X","X","X","X","X","X","X","X","X","X","X","X","X","X","X","X","X","X","X","X","X","X","X","X","X","X","X","X","X","X","X","X","X","X","X","X","X","X","X","X","X","X","X","X","X","X","X","X","X","X","X","X","X","X","X","X","X","X","X","X","X","X","X","X","X","X","X","X","X","X","X","X","X","X","X","X","X","X","X","X","X","X","X","X","X","X","X","X","X","X","X"]
[206,2,"X","X","X","X","X","X","X","X","X","X","X","X","X","X","X","X","X","X","X","X","X","X","X","X","X","X","X","X","X","X","X","X","X","X","X","X","X","X","X","X","X","X","X","X","X","X","X","X","X","X","X","X","X","X","X","X","X","X","X","X","X","X","X","X","X","X","X","X","X","X","X","X","X","X","X","X","X","X","X","X","X","X","X","X","X","X","X","X","X","X","X","X","X","X","X","X","X","X","X","X","X","X","X","X","X","X","X","X","X","X","X","X","X","X","X","X","X","X","X","X","X","X","X","X","X","X","X","X","X","X","X","X","X"]
[207,3,"X","X","X","X","X","X","X","X","X","X","X","X","X","X","X","X","X","X","X","X","X","X","X","X","X","X","X","X","X","X","X","X","X","X","X","X","X","X","X","X","X","X","X","X","X","X","X","X","X","X","X","X","X","X","X","X","X","X","X","X","X","X","X","X","X","X","X","X","X","X","X","X","X","X","X","X","X","X","X","X","X","X","X","X","X","X","X","X","X","X","X","X","X","X","X","X","X","X","X","X","X","X","X","X","X","X","X","X","X","X","X","X","X","X","X","X","X","X","X","X","X","X","X","X","X","X","X","X","X","X","X","X","X"]
[208,4,"X","X","X","X","X","X","X","X","X","X","X","X","X","X","X","X","X","X","X","X","X","X","X","X","X","X","X","X","X","X","X","X","X","X","X","X","X","X","X","X","X","X","X","X","X","X","X","X","X","X","X","X","X","X","X","X","X","X","X","X","X","X","X","X","X","X","X","X","X","X","X","X","X","X","X","X","X","X","X","X","X","X","X","X","X","X","X","X","X","X","X","X","X","X","X","X","X","X","X","X","X","X","X","X","X","X","X","X","X","X","X","X","X","X","X","X","X","X","X","X","X","X","X","X","X","X","X","X","X","X","X","X","X"]
[209,5,"X","X","X","X","X","X","X","X","X","X","X","X","X","X","X","X","X","X","X","X","X","X","X","X","X","X","X","X","X","X","X","X","X","X","X","X","X","X","X","X","X","X","X","X","X","X","X","X","X","X","X","X","X","X","X","X","X","X","X","X","X","X","X","X","X","X","X","X","X","X","X","X","X","X","X","X","X","X","X","X","X","X","X","X","X","X","X","X","X","X","X","X","X","X","X","X","X","X","X","X","X","X","X","X","X","X","X","X","X","X","X","X","X","X","X","X","X","X","X","X","X","X","X","X","X","X","X","X","X","X","X","X","X"]
[210,6,"X","X","X","X","X","X","X","X","X","X","X","X","X","X","X","X","X","X","X","X","X","X","X","X","X","X","X","X","X","X","X","X","X","X","X","X","X","X","X","X","X","X","X","X","X","X","X","X","X","X","X","X","X","X","X","X","X","X","X","X","X","X","X","X","X","X","X","X","X","X","X","X","X","X","X","X","X","X","X","X","X","X","X","X","X","X","X","X","X","X","X","X","X","X","X","X","X","X","X","X","X","X","X","X","X","X","X","X","X","X","X","X","X","X","X","X","X","X","X","X","X","X","X","X","X","X","X","X","X","X","X","X","X"]
[211,7,"X","X","X","X","X","X","X","X","X","X","X","X","X","X","X","X","X","X","X","X","X","X","X","X","X","X","X","X","X","X","X","X","X","X","X","X","X","X","X","X","X","X","X","X","X","X","X","X","X","X","X","X","X","X","X","X","X","X","X","X","X","X","X","X","X","X","X","X","X","X","X","X","X","X","X","X","X","X","X","X","X","X","X","X","X","X","X","X","X","X","X","X","X","X","X","X","X","X","X","X","X","X","X","X","X","X","X","X","X","X","X","X","X","X","X","X","X","X","X","X","X","X","X","X","X","X","X","X","X","X","X","X","X"]
[212,8,"X","X","X","X","X","X","X","X","X","X","X","X","X","X","X","X","X","X","X","X","X","X","X","X","X","X","X","X","X","X","X","X","X","X","X","X","X","X","X","X","X","X","X","X","X","X","X","X","X","X","X","X","X","X","X","X","X","X","X","X","X","X","X","X","X","X","X","X","X","X","X","X","X","X","X","X","X","X","X","X","X","X","X","X","X","X","X","X","X","X","X","X","X","X","X","X","X","X","X","X","X","X","X","X","X","X","X","X","X","X","X","X","X","X","X","X","X","X","X","X","X","X","X","X","X","X","X","X","X","X","X","X","X"]
[213,9,"X","X","X","X","X","X","X","X","X","X","X","X","X","X","X","X","X","X","X","X","X","X","X","X","X","X","X","X","X","X","X","X","X","X","X","X","X","X","X","X","X","X","X","X","X","X","X","X","X","X","X","X","X","X","X","X","X","X","X","X","X","X","X","X","X","X","X","X","X","X","X","X","X","X","X","X","X","X","X","X","X","X","X","X","X","X","X","X","X","X","X","X","X","X","X","X","X","X","X","X","X","X","X","X","X","X","X","X","X","X","X","X","X","X","X","X","X","X","X","X","X","X","X","X","X","X","X","X","X","X","X","X","X"]
[214,10,"X","X","X","X","X","X","X","X","X","X","X","X","X","X","X","X","X","X","X","X","X","X","X","X","X","X","X","X","X","X","X","X","X","X","X","X","X","X","X","X","X","X","X","X","X","X","X","X","X","X","X","X","X","X","X","X","X","X","X","X","X","X","X","X","X","X","X","X","X","X","X","X","X","X","X","X","X","X","X","X","X","X","X","X","X","X","X","X","X","X","X","X","X","X","X","X","X","X","X","X","X","X","X","X","X","X","X","X","X","X","X","X","X","X","X","X","X","X","X","X","X","X","X","X","X","X","X","X","X","X","X","X","X"]
[215,11,"X","X","X","X","X","X","X","X","X","X","X","X","X","X","X","X","X","X","X","X","X","X","X","X","X","X","X","X","X","X","X","X","X","X","X","X","X","X","X","X","X","X","X","X","X","X","X","X","X","X","X","X","X","X","X","X","X","X","X","X","X","X","X","X","X","X","X","X","X","X","X","X","X","X","X","X","X","X","X","X","X","X","X","X","X","X","X","X","X","X","X","X","X","X","X","X","X","X","X","X","X","X","X","X","X","X","X","X","X","X","X","X","X","X","X","X","X","X","X","X","X","X","X","X","X","X","X","X","X","X","X","X","X"]
[216,12,"X","X","X","X","X","X","X","X","X","X","X","X","X","X","X","X","X","X","X","X","X","X","X","X","X","X","X","X","X","X","X","X","X","X","X","X","X","X","X","X","X","X","X","X","X","X","X","X","X","X","X","X","X","X","X","X","X","X","X","X","X","X","X","X","X","X","X","X","X","X","X","X","X","X","X","X","X","X","X","X","X","X","X","X","X","X","X","X","X","X","X","X","X","X","X","X","X","X","X","X","X","X","X","X","X","X","X","X","X","X","X","X","X","X","X","X","X","X","X","X","X","X","X","X","X","X","X","X","X","X","X","X","X"]
[217,1,"X","X","X","X","X","X","X","X","X","X","X","X","X","X","X","X","X","X","X","X","X","X","X","X","X","X","X","X","X","X","X","X","X","X","X","X","X","X","X","X","X","X","X","X","X","X","X","X","X","X","X","X","X","X","X","X","X","X","X","X","X","X","X","X","X","X","X","X","X","X","X","X","X","X","X","X","X","X","X","X","X","X","X","X","X","X","X","X","X","X","X","X","X","X","X","X","X","X","X","X","X","X","X","X","X","X","X","X","X","X","X","X","X","X","X","X","X","X","X","X","X","X","X","X","X","X","X","X","X","X","X","X","X"]
[218,2,"X","X","X","X","X","X","X","X","X","X","X","X","X","X","X","X","X","X","X","X","X","X","X","X","X","X","X","X","X","X","X","X","X","X","X","X","X","X","X","X","X","X","X","X","X","X","X","X","X","X","X","X","X","X","X","X","X","X","X","X","X","X","X","X","X","X","X","X","X","X","X","X","X","X","X","X","X","X","X","X","X","X","X","X","X","X","X","X","X","X","X","X","X","X","X","X","X","X","X","X","X","X","X","X","X","X","X","X","X","X","X","X","X","X","X","X","X","X","X","X","X","X","X","X","X","X","X","X","X","X","X","X","X"]
[219,3,"X","X","X","X","X","X","X","X","X","X","X","X","X","X","X","X","X","X","X","X","X","X","X","X","X","X","X","X","X","X","X","X","X","X","X","X","X","X","X","X","X","X","X","X","X","X","X","X","X","X","X","X","X","X","X","X","X","X","X","X","X","X","X","X","X","X","X","X","X","X","X","X","X","X","X","X","X","X","X","X","X","X","X","X","X","X","X","X","X","X","X","X","X","X","X","X","X","X","X","X","X","X","X","X","X","X","X","X","X","X","X","X","X","X","X","X","X","X","X","X","X","X","X","X","X","X","X","X","X","X","X","X","X"]
[220,4,"X","X","X","X","X","X","X","X","X","X","X","X","X","X","X","X","X","X","X","X","X","X","X","X","X","X","X","X","X","X","X","X","X","X","X","X","X","X","X","X","X","X","X","X","X","X","X","X","X","X","X","X","X","X","X","X","X","X","X","X","X","X","X","X","X","X","X","X","X","X","X","X","X","X","X","X","X","X","X","X","X","X","X","X","X","X","X","X","X","X","X","X","X","X","X","X","X","X","X","X","X","X","X","X","X","X","X","X","X","X","X","X","X","X","X","X","X","X","X","X","X","X","X","X","X","X","X","X","X","X","X","X","X"]
[221,5,"X","X","X","X","X","X","X","X","X","X","X","X","X","X","X","X","X","X","X","X","X","X","X","X","X","X","X","X","X","X","X","X","X","X","X","X","X","X","X","X","X","X","X","X","X","X","X","X","X","X","X","X","X","X","X","X","X","X","X","X","X","X","X","X","X","X","X","X","X","X","X","X","X","X","X","X","X","X","X","X","X","X","X","X","X","X","X","X","X","X","X","X","X","X","X","X","X","X","X","X","X","X","X","X","X","X","X","X","X","X","X","X","X","X","X","X","X","X","X","X","X","X","X","X","X","X","X","X","X","X","X","X","X"]
[222,6,"X","X","X","X","X","X","X","X","X","X","X","X","X","X","X","X","X","X","X","X","X","X","X","X","X","X","X","X","X","X","X","X","X","X","X","X","X","X","X","X","X","X","X","X","X","X","X","X","X","X","X","X","X","X","X","X","X","X","X","X","X","X","X","X","X","X","X","X","X","X","X","X","X","X","X","X","X","X","X","X","X","X","X","X","X","X","X","X","X","X","X","X","X","X","X","X","X","X","X","X","X","X","X","X","X","X","X","X","X","X","X","X","X","X","X","X","X","X","X","X","X","X","X","X","X","X","X","X","X","X","X","X","X"]
[223,7,"X","X","X","X","X","X","X","X","X","X","X","X","X","X","X","X","X","X","X","X","X","X","X","X","X","X","X","X","X","X","X","X","X","X","X","X","X","X","X","X","X","X","X","X","X","X","X","X","X","X","X","X","X","X","X","X","X","X","X","X","X","X","X","X","X","X","X","X","X","X","X","X","X","X","X","X","X","X","X","X","X","X","X","X","X","X","X","X","X","X","X","X","X","X","X","X","X","X","X","X","X","X","X","X","X","X","X","X","X","X","X","X","X","X","X","X","X","X","X","X","X","X","X","X","X","X","X","X","X","X","X","X","X"]
[224,8,"X","X","X","X","X","X","X","X","X","X","X","X","X","X","X","X","X","X","X","X","X","X","X","X","X","X","X","X","X","X","X","X","X","X","X","X","X","X","X","X","X","X","X","X","X","X","X","X","X","X","X","X","X","X","X","X","X","X","X","X","X","X","X","X","X","X","X","X","X","X","X","X","X","X","X","X","X","X","X","X","X","X","X","X","X","X","X","X","X","X","X","X","X","X","X","X","X","X","X","X","X","X","X","X","X","X","X","X","X","X","X","X","X","X","X","X","X","X","X","X","X","X","X","X","X","X","X","X","X","X","X","X","X"]
[225,9,"X","X","X","X","X","X","X","X","X","X","X","X","X","X","X","X","X","X","X","X","X","X","X","X","X","X","X","X","X","X","X","X","X","X","X","X","X","X","X","X","X","X","X","X","X","X","X","X","X","X","X","X","X","X","X","X","X","X","X","X","X","X","X","X","X","X","X","X","X","X","X","X","X","X","X","X","X","X","X","X","X","X","X","X","X","X","X","X","X","X","X","X","X","X","X","X","X","X","X","X","X","X","X","X","X","X","X","X","X","X","X","X","X","X","X","X","X","X","X","X","X","X","X","X","X","X","X","X","X","X","X","X","X"]
[226,10,"X","X","X","X","X","X","X","X","X","X","X","X","X","X","X","X","X","X","X","X","X","X","X","X","X","X","X","X","X","X","X","X","X","X","X","X","X","X","X","X","X","X","X","X","X","X","X","X","X","X","X","X","X","X","X","X","X","X","X","X","X","X","X","X","X","X","X","X","X","X","X","X","X","X","X","X","X","X","X","X","X","X","X","X","X","X","X","X","X","X","X","X","X","X","X","X","X","X","X","X","X","X","X","X","X","X","X","X","X","X","X","X","X","X","X","X","X","X","X","X","X","X","X","X","X","X","X","X","X","X","X","X","X"]
[227,11,"X","X","X","X","X","X","X","X","X","X","X","X","X","X","X","X","X","X","X","X","X","X","X","X","X","X","X","X","X","X","X","X","X","X","X","X","X","X","X","X","X","X","X","X","X","X","X","X","X","X","X","X","X","X","X","X","X","X","X","X","X","X","X","X","X","X","X","X","X","X","X","X","X","X","X","X","X","X","X","X","X","X","X","X","X","X","X","X","X","X","X","X","X","X","X","X","X","X","X","X","X","X","X","X","X","X","X","X","X","X","X","X","X","X","X","X","X","X","X","X","X","X","X","X","X","X","X","X","X","X","X","X","X"]
[228,12,"X","X","X","X","X","X","X","X","X","X","X","X","X","X","X","X","X","X","X","X","X","X","X","X","X","X","X","X","X","X","X","X","X","X","X","X","X","X","X","X","X","X","X","X","X","X","X","X","X","X","X","X","X","X","X","X","X","X","X","X","X","X","X","X","X","X","X","X","X","X","X","X","X","X","X","X","X","X","X","X","X","X","X","X","X","X","X","X","X","X","X","X","X","X","X","X","X","X","X","X","X","X","X","X","X","X","X","X","X","X","X","X","X","X","X","X","X","X","X","X","X","X","X","X","X","X","X","X","X","X","X","X","X"]
[229,1,"X","X","X","X","X","X","X","X","X","X","X","X","X","X","X","X","X","X","X","X","X","X","X","X","X","X","X","X","X","X","X","X","X","X","X","X","X","X","X","X","X","X","X","X","X","X","X","X","X","X","X","X","X","X","X","X","X","X","X","X","X","X","X","X","X","X","X","X","X","X","X","X","X","X","X","X","X","X","X","X","X","X","X","X","X","X","X","X","X","X","X","X","X","X","X","X","X","X","X","X","X","X","X","X","X","X","X","X","X","X","X","X","X","X","X","X","X","X","X","X","X","X","X","X","X","X","X","X","X","X","X","X","X"]
[230,2,"X","X","X","X","X","X","X","X","X","X","X","X","X","X","X","X","X","X","X","X","X","X","X","X","X","X","X","X","X","X","X","X","X","X","X","X","X","X","X","X","X","X","X","X","X","X","X","X","X","X","X","X","X","X","X","X","X","X","X","X","X","X","X","X","X","X","X","X","X","X","X","X","X","X","X","X","X","X","X","X","X","X","X","X","X","X","X","X","X","X","X","X","X","X","X","X","X","X","X","X","X","X","X","X","X","X","X","X","X","X","X","X","X","X","X","X","X","X","X","X","X","X","X","X","X","X","X","X","X","X","X","X","X"]
[231,3,"X","X","X","X","X","X","X","X","X","X","X","X","X","X","X","X","X","X","X","X","X","X","X","X","X","X","X","X","X","X","X","X","X","X","X","X","X","X","X","X","X","X","X","X","X","X","X","X","X","X","X","X","X","X","X","X","X","X","X","X","X","X","X","X","X","X","X","X","X","X","X","X","X","X","X","X","X","X","X","X","X","X","X","X","X","X","X","X","X","X","X","X","X","X","X","X","X","X","X","X","X","X","X","X","X","X","X","X","X","X","X","X","X","X","X","X","X","X","X","X","X","X","X","X","X","X","X","X","X","X","X","X","X"]
[232,4,"X","X","X","X","X","X","X","X","X","X","X","X","X","X","X","X","X","X","X","X","X","X","X","X","X","X","X","X","X","X","X","X","X","X","X","X","X","X","X","X","X","X","X","X","X","X","X","X","X","X","X","X","X","X","X","X","X","X","X","X","X","X","X","X","X","X","X","X","X","X","X","X","X","X","X","X","X","X","X","X","X","X","X","X","X","X","X","X","X","X","X","X","X","X","X","X","X","X","X","X","X","X","X","X","X","X","X","X","X","X","X","X","X","X","X","X","X","X","X","X","X","X","X","X","X","X","X","X","X","X","X","X","X"]
[233,5,"X","X","X","X","X","X","X","X","X","X","X","X","X","X","X","X","X","X","X","X","X","X","X","X","X","X","X","X","X","X","X","X","X","X","X","X","X","X","X","X","X","X","X","X","X","X","X","X","X","X","X","X","X","X","X","X","X","X","X","X","X","X","X","X","X","X","X","X","X","X","X","X","X","X","X","X","X","X","X","X","X","X","X","X","X","X","X","X","X","X","X","X","X","X","X","X","X","X","X","X","X","X","X","X","X","X","X","X","X","X","X","X","X","X","X","X","X","X","X","X","X","X","X","X","X","X","X","X","X","X","X","X","X"]
[234,6,"X","X","X","X","X","X","X","X","X","X","X","X","X","X","X","X","X","X","X","X","X","X","X","X","X","X","X","X","X","X","X","X","X","X","X","X","X","X","X","X","X","X","X","X","X","X","X","X","X","X","X","X","X","X","X","X","X","X","X","X","X","X","X","X","X","X","X","X","X","X","X","X","X","X","X","X","X","X","X","X","X","X","X","X","X","X","X","X","X","X","X","X","X","X","X","X","X","X","X","X","X","X","X","X","X","X","X","X","X","X","X","X","X","X","X","X","X","X","X","X","X","X","X","X","X","X","X","X","X","X","X","X","X"]
[235,7,"X","X","X","X","X","X","X","X","X","X","X","X","X","X","X","X","X","X","X","X","X","X","X","X","X","X","X","X","X","X","X","X","X","X","X","X","X","X","X","X","X","X","X","X","X","X","X","X","X","X","X","X","X","X","X","X","X","X","X","X","X","X","X","X","X","X","X","X","X","X","X","X","X","X","X","X","X","X","X","X","X","X","X","X","X","X","X","X","X","X","X","X","X","X","X","X","X","X","X","X","X","X","X","X","X","X","X","X","X","X","X","X","X","X","X","X","X","X","X","X","X","X","X","X","X","X","X","X","X","X","X","X","X"]
[236,8,"X","X","X","X","X","X","X","X","X","X","X","X","X","X","X","X","X","X","X","X","X","X","X","X","X","X","X","X","X","X","X","X","X","X","X","X","X","X","X","X","X","X","X","X","X","X","X","X","X","X","X","X","X","X","X","X","X","X","X","X","X","X","X","X","X","X","X","X","X","X","X","X","X","X","X","X","X","X","X","X","X","X","X","X","X","X","X","X","X","X","X","X","X","X","X","X","X","X","X","X","X","X","X","X","X","X","X","X","X","X","X","X","X","X","X","X","X","X","X","X","X","X","X","X","X","X","X","X","X","X","X","X","X"]
[237,9,"X","X","X","X","X","X","X","X","X","X","X","X","X","X","X","X","X","X","X","X","X","X","X","X","X","X","X","X","X","X","X","X","X","X","X","X","X","X","X","X","X","X","X","X","X","X","X","X","X","X","X","X","X","X","X","X","X","X","X","X","X","X","X","X","X","X","X","X","X","X","X","X","X","X","X","X","X","X","X","X","X","X","X","X","X","X","X","X","X","X","X","X","X","X","X","X","X","X","X","X","X","X","X","X","X","X","X","X","X","X","X","X","X","X","X","X","X","X","X","X","X","X","X","X","X","X","X","X","X","X","X","X","X"]
[238,10,"X","X","X","X","X","X","X","X","X","X","X","X","X","X","X","X","X","X","X","X","X","X","X","X","X","X","X","X","X","X","X","X","X","X","X","X","X","X","X","X","X","X","X","X","X","X","X","X","X","X","X","X","X","X","X","X","X","X","X","X","X","X","X","X","X","X","X","X","X","X","X","X","X","X","X","X","X","X","X","X","X","X","X","X","X","X","X","X","X","X","X","X","X","X","X","X","X","X","X","X","X","X","X","X","X","X","X","X","X","X","X","X","X","X","X","X","X","X","X","X","X","X","X","X","X","X","X","X","X","X","X","X","X"]
[239,11,"X","X","X","X","X","X","X","X","X","X","X","X","X","X","X","X","X","X","X","X","X","X","X","X","X","X","X","X","X","X","X","X","X","X","X","X","X","X","X","X","X","X","X","X","X","X","X","X","X","X","X","X","X","X","X","X","X","X","X","X","X","X","X","X","X","X","X","X","X","X","X","X","X","X","X","X","X","X","X","X","X","X","X","X","X","X","X","X","X","X","X","X","X","X","X","X","X","X","X","X","X","X","X","X","X","X","X","X","X","X","X","X","X","X","X","X","X","X","X","X","X","X","X","X","X","X","X","X","X","X","X","X","X"]
[240,12,"X","X","X","X","X","X","X","X","X","X","X","X","X","X","X","X","X","X","X","X","X","X","X","X","X","X","X","X","X","X","X","X","X","X","X","X","X","X","X","X","X","X","X","X","X","X","X","X","X","X","X","X","X","X","X","X","X","X","X","X","X","X","X","X","X","X","X","X","X","X","X","X","X","X","X","X","X","X","X","X","X","X","X","X","X","X","X","X","X","X","X","X","X","X","X","X","X","X","X","X","X","X","X","X","X","X","X","X","X","X","X","X","X","X","X","X","X","X","X","X","X","X","X","X","X","X","X","X","X","X","X","X","X"]
[241,1,"X","X","X","X","X","X","X","X","X","X","X","X","X","X","X","X","X","X","X","X","X","X","X","X","X","X","X","X","X","X","X","X","X","X","X","X","X","X","X","X","X","X","X","X","X","X","X","X","X","X","X","X","X","X","X","X","X","X","X","X","X","X","X","X","X","X","X","X","X","X","X","X","X","X","X","X","X","X","X","X","X","X","X","X","X","X","X","X","X","X","X","X","X","X","X","X","X","X","X","X","X","X","X","X","X","X","X","X","X","X","X","X","X","X","X","X","X","X","X","X","X","X","X","X","X","X","X","X","X","X","X","X","X"]
[242,2,"X","X","X","X","X","X","X","X","X","X","X","X","X","X","X","X","X","X","X","X","X","X","X","X","X","X","X","X","X","X","X","X","X","X","X","X","X","X","X","X","X","X","X","X","X","X","X","X","X","X","X","X","X","X","X","X","X","X","X","X","X","X","X","X","X","X","X","X","X","X","X","X","X","X","X","X","X","X","X","X","X","X","X","X","X","X","X","X","X","X","X","X","X","X","X","X","X","X","X","X","X","X","X","X","X","X","X","X","X","X","X","X","X","X","X","X","X","X","X","X","X","X","X","X","X","X","X","X","X","X","X","X","X"]
[243,3,"X","X","X","X","X","X","X","X","X","X","X","X","X","X","X","X","X","X","X","X","X","X","X","X","X","X","X","X","X","X","X","X","X","X","X","X","X","X","X","X","X","X","X","X","X","X","X","X","X","X","X","X","X","X","X","X","X","X","X","X","X","X","X","X","X","X","X","X","X","X","X","X","X","X","X","X","X","X","X","X","X","X","X","X","X","X","X","X","X","X","X","X","X","X","X","X","X","X","X","X","X","X","X","X","X","X","X","X","X","X","X","X","X","X","X","X","X","X","X","X","X","X","X","X","X","X","X","X","X","X","X","X","X"]
[244,4,"X","X","X","X","X","X","X","X","X","X","X","X","X","X","X","X","X","X","X","X","X","X","X","X","X","X","X","X","X","X","X","X","X","X","X","X","X","X","X","X","X","X","X","X","X","X","X","X","X","X","X","X","X","X","X","X","X","X","X","X","X","X","X","X","X","X","X","X","X","X","X","X","X","X","X","X","X","X","X","X","X","X","X","X","X","X","X","X","X","X","X","X","X","X","X","X","X","X","X","X","X","X","X","X","X","X","X","X","X","X","X","X","X","X","X","X","X","X","X","X","X","X","X","X","X","X","X","X","X","X","X","X","X"]
[245,5,"X","X","X","X","X","X","X","X","X","X","X","X","X","X","X","X","X","X","X","X","X","X","X","X","X","X","X","X","X","X","X","X","X","X","X","X","X","X","X","X","X","X","X","X","X","X","X","X","X","X","X","X","X","X","X","X","X","X","X","X","X","X","X","X","X","X","X","X","X","X","X","X","X","X","X","X","X","X","X","X","X","X","X","X","X","X","X","X","X","X","X","X","X","X","X","X","X","X","X","X","X","X","X","X","X","X","X","X","X","X","X","X","X","X","X","X","X","X","X","X","X","X","X","X","X","X","X","X","X","X","X","X","X"]
[246,6,"X","X","X","X","X","X","X","X","X","X","X","X","X","X","X","X","X","X","X","X","X","X","X","X","X","X","X","X","X","X","X","X","X","X","X","X","X","X","X","X","X","X","X","X","X","X","X","X","X","X","X","X","X","X","X","X","X","X","X","X","X","X","X","X","X","X","X","X","X","X","X","X","X","X","X","X","X","X","X","X","X","X","X","X","X","X","X","X","X","X","X","X","X","X","X","X","X","X","X","X","X","X","X","X","X","X","X","X","X","X","X","X","X","X","X","X","X","X","X","X","X","X","X","X","X","X","X","X","X","X","X","X","X"]
[247,7,"X","X","X","X","X","X","X","X","X","X","X","X","X","X","X","X","X","X","X","X","X","X","X","X","X","X","X","X","X","X","X","X","X","X","X","X","X","X","X","X","X","X","X","X","X","X","X","X","X","X","X","X","X","X","X","X","X","X","X","X","X","X","X","X","X","X","X","X","X","X","X","X","X","X","X","X","X","X","X","X","X","X","X","X","X","X","X","X","X","X","X","X","X","X","X","X","X","X","X","X","X","X","X","X","X","X","X","X","X","X","X","X","X","X","X","X","X","X","X","X","X","X","X","X","X","X","X","X","X","X","X","X","X"]
[248,8,"X","X","X","X","X","X","X","X","X","X","X","X","X","X","X","X","X","X","X","X","X","X","X","X","X","X","X","X","X","X","X","X","X","X","X","X","X","X","X","X","X","X","X","X","X","X","X","X","X","X","X","X","X","X","X","X","X","X","X","X","X","X","X","X","X","X","X","X","X","X","X","X","X","X","X","X","X","X","X","X","X","X","X","X","X","X","X","X","X","X","X","X","X","X","X","X","X","X","X","X","X","X","X","X","X","X","X","X","X","X","X","X","X","X","X","X","X","X","X","X","X","X","X","X","X","X","X","X","X","X","X","X","X"]
[249,9,"X","X","X","X","X","X","X","X","X","X","X","X","X","X","X","X","X","X","X","X","X","X","X","X","X","X","X","X","X","X","X","X","X","X","X","X","X","X","X","X","X","X","X","X","X","X","X","X","X","X","X","X","X","X","X","X","X","X","X","X","X","X","X","X","X","X","X","X","X","X","X","X","X","X","X","X","X","X","X","X","X","X","X","X","X","X","X","X","X","X","X","X","X","X","X","X","X","X","X","X","X","X","X","X","X","X","X","X","X","X","X","X","X","X","X","X","X","X","X","X","X","X","X","X","X","X","X","X","X","X","X","X","X"]
[250,10,"X","X","X","X","X","X","X","X","X","X","X","X","X","X","X","X","X","X","X","X","X","X","X","X","X","X","X","X","X","X","X","X","X","X","X","X","X","X","X","X","X","X","X","X","X","X","X","X","X","X","X","X","X","X","X","X","X","X","X","X","X","X","X","X","X","X","X","X","X","X","X","X","X","X","X","X","X","X","X","X","X","X","X","X","X","X","X","X","X","X","X","X","X","X","X","X","X","X","X","X","X","X","X","X","X","X","X","X","X","X","X","X","X","X","X","X","X","X","X","X","X","X","X","X","X","X","X","X","X","X","X","X","X"]
[251,11,"X","X","X","X","X","X","X","X","X","X","X","X","X","X","X","X","X","X","X","X","X","X","X","X","X","X","X","X","X","X","X","X","X","X","X","X","X","X","X","X","X","X","X","X","X","X","X","X","X","X","X","X","X","X","X","X","X","X","X","X","X","X","X","X","X","X","X","X","X","X","X","X","X","X","X","X","X","X","X","X","X","X","X","X","X","X","X","X","X","X","X","X","X","X","X","X","X","X","X","X","X","X","X","X","X","X","X","X","X","X","X","X","X","X","X","X","X","X","X","X","X","X","X","X","X","X","X","X","X","X","X","X","X"]
[252,12,"X","X","X","X","X","X","X","X","X","X","X","X","X","X","X","X","X","X","X","X","X","X","X","X","X","X","X","X","X","X","X","X","X","X","X","X","X","X","X","X","X","X","X","X","X","X","X","X","X","X","X","X","X","X","X","X","X","X","X","X","X","X","X","X","X","X","X","X","X","X","X","X","X","X","X","X","X","X","X","X","X","X","X","X","X","X","X","X","X","X","X","X","X","X","X","X","X","X","X","X","X","X","X","X","X","X","X","X","X","X","X","X","X","X","X","X","X","X","X","X","X","X","X","X","X","X","X","X","X","X","X","X","X"]
[253,1,"X","X","X","X","X","X","X","X","X","X","X","X","X","X","X","X","X","X","X","X","X","X","X","X","X","X","X","X","X","X","X","X","X","X","X","X","X","X","X","X","X","X","X","X","X","X","X","X","X","X","X","X","X","X","X","X","X","X","X","X","X","X","X","X","X","X","X","X","X","X","X","X","X","X","X","X","X","X","X","X","X","X","X","X","X","X","X","X","X","X","X","X","X","X","X","X","X","X","X","X","X","X","X","X","X","X","X","X","X","X","X","X","X","X","X","X","X","X","X","X","X","X","X","X","X","X","X","X","X","X","X","X","X"]
[254,2,"X","X","X","X","X","X","X","X","X","X","X","X","X","X","X","X","X","X","X","X","X","X","X","X","X","X","X","X","X","X","X","X","X","X","X","X","X","X","X","X","X","X","X","X","X","X","X","X","X","X","X","X","X","X","X","X","X","X","X","X","X","X","X","X","X","X","X","X","X","X","X","X","X","X","X","X","X","X","X","X","X","X","X","X","X","X","X","X","X","X","X","X","X","X","X","X","X","X","X","X","X","X","X","X","X","X","X","X","X","X","X","X","X","X","X","X","X","X","X","X","X","X","X","X","X","X","X","X","X","X","X","X","X"]
[255,3,"X","X","X","X","X","X","X","X","X","X","X","X","X","X","X","X","X","X","X","X","X","X","X","X","X","X","X","X","X","X","X","X","X","X","X","X","X","X","X","X","X","X","X","X","X","X","X","X","X","X","X","X","X","X","X","X","X","X","X","X","X","X","X","X","X","X","X","X","X","X","X","X","X","X","X","X","X","X","X","X","X","X","X","X","X","X","X","X","X","X","X","X","X","X","X","X","X","X","X","X","X","X","X","X","X","X","X","X","X","X","X","X","X","X","X","X","X","X","X","X","X","X","X","X","X","X","X","X","X","X","X","X","X"]
[256,4,"X","X","X","X","X","X","X","X","X","X","X","X","X","X","X","X","X","X","X","X","X","X","X","X","X","X","X","X","X","X","X","X","X","X","X","X","X","X","X","X","X","X","X","X","X","X","X","X","X","X","X","X","X","X","X","X","X","X","X","X","X","X","X","X","X","X","X","X","X","X","X","X","X","X","X","X","X","X","X","X","X","X","X","X","X","X","X","X","X","X","X","X","X","X","X","X","X","X","X","X","X","X","X","X","X","X","X","X","X","X","X","X","X","X","X","X","X","X","X","X","X","X","X","X","X","X","X","X","X","X","X","X","X"]
[257,5,"X","X","X","X","X","X","X","X","X","X","X","X","X","X","X","X","X","X","X","X","X","X","X","X","X","X","X","X","X","X","X","X","X","X","X","X","X","X","X","X","X","X","X","X","X","X","X","X","X","X","X","X","X","X","X","X","X","X","X","X","X","X","X","X","X","X","X","X","X","X","X","X","X","X","X","X","X","X","X","X","X","X","X","X","X","X","X","X","X","X","X","X","X","X","X","X","X","X","X","X","X","X","X","X","X","X","X","X","X","X","X","X","X","X","X","X","X","X","X","X","X","X","X","X","X","X","X","X","X","X","X","X","X"]
[258,6,"X","X","X","X","X","X","X","X","X","X","X","X","X","X","X","X","X","X","X","X","X","X","X","X","X","X","X","X","X","X","X","X","X","X","X","X","X","X","X","X","X","X","X","X","X","X","X","X","X","X","X","X","X","X","X","X","X","X","X","X","X","X","X","X","X","X","X","X","X","X","X","X","X","X","X","X","X","X","X","X","X","X","X","X","X","X","X","X","X","X","X","X","X","X","X","X","X","X","X","X","X","X","X","X","X","X","X","X","X","X","X","X","X","X","X","X","X","X","X","X","X","X","X","X","X","X","X","X","X","X","X","X","X"]
[259,7,"X","X","X","X","X","X","X","X","X","X","X","X","X","X","X","X","X","X","X","X","X","X","X","X","X","X","X","X","X","X","X","X","X","X","X","X","X","X","X","X","X","X","X","X","X","X","X","X","X","X","X","X","X","X","X","X","X","X","X","X","X","X","X","X","X","X","X","X","X","X","X","X","X","X","X","X","X","X","X","X","X","X","X","X","X","X","X","X","X","X","X","X","X","X","X","X","X","X","X","X","X","X","X","X","X","X","X","X","X","X","X","X","X","X","X","X","X","X","X","X","X","X","X","X","X","X","X","X","X","X","X","X","X"]
[260,8,"X","X","X","X","X","X","X","X","X","X","X","X","X","X","X","X","X","X","X","X","X","X","X","X","X","X","X","X","X","X","X","X","X","X","X","X","X","X","X","X","X","X","X","X","X","X","X","X","X","X","X","X","X","X","X","X","X","X","X","X","X","X","X","X","X","X","X","X","X","X","X","X","X","X","X","X","X","X","X","X","X","X","X","X","X","X","X","X","X","X","X","X","X","X","X","X","X","X","X","X","X","X","X","X","X","X","X","X","X","X","X","X","X","X","X","X","X","X","X","X","X","X","X","X","X","X","X","X","X","X","X","X","X"]
[261,9,"X","X","X","X","X","X","X","X","X","X","X","X","X","X","X","X","X","X","X","X","X","X","X","X","X","X","X","X","X","X","X","X","X","X","X","X","X","X","X","X","X","X","X","X","X","X","X","X","X","X","X","X","X","X","X","X","X","X","X","X","X","X","X","X","X","X","X","X","X","X","X","X","X","X","X","X","X","X","X","X","X","X","X","X","X","X","X","X","X","X","X","X","X","X","X","X","X","X","X","X","X","X","X","X","X","X","X","X","X","X","X","X","X","X","X","X","X","X","X","X","X","X","X","X","X","X","X","X","X","X","X","X","X"]
[262,10,"X","X","X","X","X","X","X","X","X","X","X","X","X","X","X","X","X","X","X","X","X","X","X","X","X","X","X","X","X","X","X","X","X","X","X","X","X","X","X","X","X","X","X","X","X","X","X","X","X","X","X","X","X","X","X","X","X","X","X","X","X","X","X","X","X","X","X","X","X","X","X","X","X","X","X","X","X","X","X","X","X","X","X","X","X","X","X","X","X","X","X","X","X","X","X","X","X","X","X","X","X","X","X","X","X","X","X","X","X","X","X","X","X","X","X","X","X","X","X","X","X","X","X","X","X","X","X","X","X","X","X","X","X"]
[263,11,"X","X","X","X","X","X","X","X","X","X","X","X","X","X","X","X","X","X","X","X","X","X","X","X","X","X","X","X","X","X","X","X","X","X","X","X","X","X","X","X","X","X","X","X","X","X","X","X","X","X","X","X","X","X","X","X","X","X","X","X","X","X","X","X","X","X","X","X","X","X","X","X","X","X","X","X","X","X","X","X","X","X","X","X","X","X","X","X","X","X","X","X","X","X","X","X","X","X","X","X","X","X","X","X","X","X","X","X","X","X","X","X","X","X","X","X","X","X","X","X","X","X","X","X","X","X","X","X","X","X","X","X","X"]
[264,12,"X","X","X","X","X","X","X","X","X","X","X","X","X","X","X","X","X","X","X","X","X","X","X","X","X","X","X","X","X","X","X","X","X","X","X","X","X","X","X","X","X","X","X","X","X","X","X","X","X","X","X","X","X","X","X","X","X","X","X","X","X","X","X","X","X","X","X","X","X","X","X","X","X","X","X","X","X","X","X","X","X","X","X","X","X","X","X","X","X","X","X","X","X","X","X","X","X","X","X","X","X","X","X","X","X","X","X","X","X","X","X","X","X","X","X","X","X","X","X","X","X","X","X","X","X","X","X","X","X","X","X","X","X"]
[265,1,"X","X","X","X","X","X","X","X","X","X","X","X","X","X","X","X","X","X","X","X","X","X","X","X","X","X","X","X","X","X","X","X","X","X","X","X","X","X","X","X","X","X","X","X","X","X","X","X","X","X","X","X","X","X","X","X","X","X","X","X","X","X","X","X","X","X","X","X","X","X","X","X","X","X","X","X","X","X","X","X","X","X","X","X","X","X","X","X","X","X","X","X","X","X","X","X","X","X","X","X","X","X","X","X","X","X","X","X","X","X","X","X","X","X","X","X","X","X","X","X","X","X","X","X","X","X","X","X","X","X","X","X","X"]
[266,2,"X","X","X","X","X","X","X","X","X","X","X","X","X","X","X","X","X","X","X","X","X","X","X","X","X","X","X","X","X","X","X","X","X","X","X","X","X","X","X","X","X","X","X","X","X","X","X","X","X","X","X","X","X","X","X","X","X","X","X","X","X","X","X","X","X","X","X","X","X","X","X","X","X","X","X","X","X","X","X","X","X","X","X","X","X","X","X","X","X","X","X","X","X","X","X","X","X","X","X","X","X","X","X","X","X","X","X","X","X","X","X","X","X","X","X","X","X","X","X","X","X","X","X","X","X","X","X","X","X","X","X","X","X"]
[267,3,"X","X","X","X","X","X","X","X","X","X","X","X","X","X","X","X","X","X","X","X","X","X","X","X","X","X","X","X","X","X","X","X","X","X","X","X","X","X","X","X","X","X","X","X","X","X","X","X","X","X","X","X","X","X","X","X","X","X","X","X","X","X","X","X","X","X","X","X","X","X","X","X","X","X","X","X","X","X","X","X","X","X","X","X","X","X","X","X","X","X","X","X","X","X","X","X","X","X","X","X","X","X","X","X","X","X","X","X","X","X","X","X","X","X","X","X","X","X","X","X","X","X","X","X","X","X","X","X","X","X","X","X","X"]
[268,4,"X","X","X","X","X","X","X","X","X","X","X","X","X","X","X","X","X","X","X","X","X","X","X","X","X","X","X","X","X","X","X","X","X","X","X","X","X","X","X","X","X","X","X","X","X","X","X","X","X","X","X","X","X","X","X","X","X","X","X","X","X","X","X","X","X","X","X","X","X","X","X","X","X","X","X","X","X","X","X","X","X","X","X","X","X","X","X","X","X","X","X","X","X","X","X","X","X","X","X","X","X","X","X","X","X","X","X","X","X","X","X","X","X","X","X","X","X","X","X","X","X","X","X","X","X","X","X","X","X","X","X","X","X"]
[269,5,"X","X","X","X","X","X","X","X","X","X","X","X","X","X","X","X","X","X","X","X","X","X","X","X","X","X","X","X","X","X","X","X","X","X","X","X","X","X","X","X","X","X","X","X","X","X","X","X","X","X","X","X","X","X","X","X","X","X","X","X","X","X","X","X","X","X","X","X","X","X","X","X","X","X","X","X","X","X","X","X","X","X","X","X","X","X","X","X","X","X","X","X","X","X","X","X","X","X","X","X","X","X","X","X","X","X","X","X","X","X","X","X","X","X","X","X","X","X","X","X","X","X","X","X","X","X","X","X","X","X","X","X","X"]
[270,6,"X","X","X","X","X","X","X","X","X","X","X","X","X","X","X","X","X","X","X","X","X","X","X","X","X","X","X","X","X","X","X","X","X","X","X","X","X","X","X","X","X","X","X","X","X","X","X","X","X","X","X","X","X","X","X","X","X","X","X","X","X","X","X","X","X","X","X","X","X","X","X","X","X","X","X","X","X","X","X","X","X","X","X","X","X","X","X","X","X","X","X","X","X","X","X","X","X","X","X","X","X","X","X","X","X","X","X","X","X","X","X","X","X","X","X","X","X","X","X","X","X","X","X","X","X","X","X","X","X","X","X","X","X"]
[271,7,"X","X","X","X","X","X","X","X","X","X","X","X","X","X","X","X","X","X","X","X","X","X","X","X","X","X","X","X","X","X","X","X","X","X","X","X","X","X","X","X","X","X","X","X","X","X","X","X","X","X","X","X","X","X","X","X","X","X","X","X","X","X","X","X","X","X","X","X","X","X","X","X","X","X","X","X","X","X","X","X","X","X","X","X","X","X","X","X","X","X","X","X","X","X","X","X","X","X","X","X","X","X","X","X","X","X","X","X","X","X","X","X","X","X","X","X","X","X","X","X","X","X","X","X","X","X","X","X","X","X","X","X","X"]
[272,8,"X","X","X","X","X","X","X","X","X","X","X","X","X","X","X","X","X","X","X","X","X","X","X","X","X","X","X","X","X","X","X","X","X","X","X","X","X","X","X","X","X","X","X","X","X","X","X","X","X","X","X","X","X","X","X","X","X","X","X","X","X","X","X","X","X","X","X","X","X","X","X","X","X","X","X","X","X","X","X","X","X","X","X","X","X","X","X","X","X","X","X","X","X","X","X","X","X","X","X","X","X","X","X","X","X","X","X","X","X","X","X","X","X","X","X","X","X","X","X","X","X","X","X","X","X","X","X","X","X","X","X","X","X"]
[273,9,"X","X","X","X","X","X","X","X","X","X","X","X","X","X","X","X","X","X","X","X","X","X","X","X","X","X","X","X","X","X","X","X","X","X","X","X","X","X","X","X","X","X","X","X","X","X","X","X","X","X","X","X","X","X","X","X","X","X","X","X","X","X","X","X","X","X","X","X","X","X","X","X","X","X","X","X","X","X","X","X","X","X","X","X","X","X","X","X","X","X","X","X","X","X","X","X","X","X","X","X","X","X","X","X","X","X","X","X","X","X","X","X","X","X","X","X","X","X","X","X","X","X","X","X","X","X","X","X","X","X","X","X","X"]
[274,10,"X","X","X","X","X","X","X","X","X","X","X","X","X","X","X","X","X","X","X","X","X","X","X","X","X","X","X","X","X","X","X","X","X","X","X","X","X","X","X","X","X","X","X","X","X","X","X","X","X","X","X","X","X","X","X","X","X","X","X","X","X","X","X","X","X","X","X","X","X","X","X","X","X","X","X","X","X","X","X","X","X","X","X","X","X","X","X","X","X","X","X","X","X","X","X","X","X","X","X","X","X","X","X","X","X","X","X","X","X","X","X","X","X","X","X","X","X","X","X","X","X","X","X","X","X","X","X","X","X","X","X","X","X"]
[275,11,"X","X","X","X","X","X","X","X","X","X","X","X","X","X","X","X","X","X","X","X","X","X","X","X","X","X","X","X","X","X","X","X","X","X","X","X","X","X","X","X","X","X","X","X","X","X","X","X","X","X","X","X","X","X","X","X","X","X","X","X","X","X","X","X","X","X","X","X","X","X","X","X","X","X","X","X","X","X","X","X","X","X","X","X","X","X","X","X","X","X","X","X","X","X","X","X","X","X","X","X","X","X","X","X","X","X","X","X","X","X","X","X","X","X","X","X","X","X","X","X","X","X","X","X","X","X","X","X","X","X","X","X","X"]
[276,12,"X","X","X","X","X","X","X","X","X","X","X","X","X","X","X","X","X","X","X","X","X","X","X","X","X","X","X","X","X","X","X","X","X","X","X","X","X","X","X","X","X","X","X","X","X","X","X","X","X","X","X","X","X","X","X","X","X","X","X","X","X","X","X","X","X","X","X","X","X","X","X","X","X","X","X","X","X","X","X","X","X","X","X","X","X","X","X","X","X","X","X","X","X","X","X","X","X","X","X","X","X","X","X","X","X","X","X","X","X","X","X","X","X","X","X","X","X","X","X","X","X","X","X","X","X","X","X","X","X","X","X","X","X"]
[277,1,"X","X","X","X","X","X","X","X","X","X","X","X","X","X","X","X","X","X","X","X","X","X","X","X","X","X","X","X","X","X","X","X","X","X","X","X","X","X","X","X","X","X","X","X","X","X","X","X","X","X","X","X","X","X","X","X","X","X","X","X","X","X","X","X","X","X","X","X","X","X","X","X","X","X","X","X","X","X","X","X","X","X","X","X","X","X","X","X","X","X","X","X","X","X","X","X","X","X","X","X","X","X","X","X","X","X","X","X","X","X","X","X","X","X","X","X","X","X","X","X","X","X","X","X","X","X","X","X","X","X","X","X","X"]
[278,2,"X","X","X","X","X","X","X","X","X","X","X","X","X","X","X","X","X","X","X","X","X","X","X","X","X","X","X","X","X","X","X","X","X","X","X","X","X","X","X","X","X","X","X","X","X","X","X","X","X","X","X","X","X","X","X","X","X","X","X","X","X","X","X","X","X","X","X","X","X","X","X","X","X","X","X","X","X","X","X","X","X","X","X","X","X","X","X","X","X","X","X","X","X","X","X","X","X","X","X","X","X","X","X","X","X","X","X","X","X","X","X","X","X","X","X","X","X","X","X","X","X","X","X","X","X","X","X","X","X","X","X","X","X"]
[279,3,"X","X","X","X","X","X","X","X","X","X","X","X","X","X","X","X","X","X","X","X","X","X","X","X","X","X","X","X","X","X","X","X","X","X","X","X","X","X","X","X","X","X","X","X","X","X","X","X","X","X","X","X","X","X","X","X","X","X","X","X","X","X","X","X","X","X","X","X","X","X","X","X","X","X","X","X","X","X","X","X","X","X","X","X","X","X","X","X","X","X","X","X","X","X","X","X","X","X","X","X","X","X","X","X","X","X","X","X","X","X","X","X","X","X","X","X","X","X","X","X","X","X","X","X","X","X","X","X","X","X","X","X","X"]
[280,4,"X","X","X","X","X","X","X","X","X","X","X","X","X","X","X","X","X","X","X","X","X","X","X","X","X","X","X","X","X","X","X","X","X","X","X","X","X","X","X","X","X","X","X","X","X","X","X","X","X","X","X","X","X","X","X","X","X","X","X","X","X","X","X","X","X","X","X","X","X","X","X","X","X","X","X","X","X","X","X","X","X","X","X","X","X","X","X","X","X","X","X","X","X","X","X","X","X","X","X","X","X","X","X","X","X","X","X","X","X","X","X","X","X","X","X","X","X","X","X","X","X","X","X","X","X","X","X","X","X","X","X","X","X"]
[281,5,"X","X","X","X","X","X","X","X","X","X","X","X","X","X","X","X","X","X","X","X","X","X","X","X","X","X","X","X","X","X","X","X","X","X","X","X","X","X","X","X","X","X","X","X","X","X","X","X","X","X","X","X","X","X","X","X","X","X","X","X","X","X","X","X","X","X","X","X","X","X","X","X","X","X","X","X","X","X","X","X","X","X","X","X","X","X","X","X","X","X","X","X","X","X","X","X","X","X","X","X","X","X","X","X","X","X","X","X","X","X","X","X","X","X","X","X","X","X","X","X","X","X","X","X","X","X","X","X","X","X","X","X","X"]
[282,6,"X","X","X","X","X","X","X","X","X","X","X","X","X","X","X","X","X","X","X","X","X","X","X","X","X","X","X","X","X","X","X","X","X","X","X","X","X","X","X","X","X","X","X","X","X","X","X","X","X","X","X","X","X","X","X","X","X","X","X","X","X","X","X","X","X","X","X","X","X","X","X","X","X","X","X","X","X","X","X","X","X","X","X","X","X","X","X","X","X","X","X","X","X","X","X","X","X","X","X","X","X","X","X","X","X","X","X","X","X","X","X","X","X","X","X","X","X","X","X","X","X","X","X","X","X","X","X","X","X","X","X","X","X"]
[283,7,"X","X","X","X","X","X","X","X","X","X","X","X","X","X","X","X","X","X","X","X","X","X","X","X","X","X","X","X","X","X","X","X","X","X","X","X","X","X","X","X","X","X","X","X","X","X","X","X","X","X","X","X","X","X","X","X","X","X","X","X","X","X","X","X","X","X","X","X","X","X","X","X","X","X","X","X","X","X","X","X","X","X","X","X","X","X","X","X","X","X","X","X","X","X","X","X","X","X","X","X","X","X","X","X","X","X","X","X","X","X","X","X","X","X","X","X","X","X","X","X","X","X","X","X","X","X","X","X","X","X","X","X","X"]
[284,8,"X","X","X","X","X","X","X","X","X","X","X","X","X","X","X","X","X","X","X","X","X","X","X","X","X","X","X","X","X","X","X","X","X","X","X","X","X","X","X","X","X","X","X","X","X","X","X","X","X","X","X","X","X","X","X","X","X","X","X","X","X","X","X","X","X","X","X","X","X","X","X","X","X","X","X","X","X","X","X","X","X","X","X","X","X","X","X","X","X","X","X","X","X","X","X","X","X","X","X","X","X","X","X","X","X","X","X","X","X","X","X","X","X","X","X","X","X","X","X","X","X","X","X","X","X","X","X","X","X","X","X","X","X"]
[285,9,"X","X","X","X","X","X","X","X","X","X","X","X","X","X","X","X","X","X","X","X","X","X","X","X","X","X","X","X","X","X","X","X","X","X","X","X","X","X","X","X","X","X","X","X","X","X","X","X","X","X","X","X","X","X","X","X","X","X","X","X","X","X","X","X","X","X","X","X","X","X","X","X","X","X","X","X","X","X","X","X","X","X","X","X","X","X","X","X","X","X","X","X","X","X","X","X","X","X","X","X","X","X","X","X","X","X","X","X","X","X","X","X","X","X","X","X","X","X","X","X","X","X","X","X","X","X","X","X","X","X","X","X","X"]
[286,10,"X","X","X","X","X","X","X","X","X","X","X","X","X","X","X","X","X","X","X","X","X","X","X","X","X","X","X","X","X","X","X","X","X","X","X","X","X","X","X","X","X","X","X","X","X","X","X","X","X","X","X","X","X","X","X","X","X","X","X","X","X","X","X","X","X","X","X","X","X","X","X","X","X","X","X","X","X","X","X","X","X","X","X","X","X","X","X","X","X","X","X","X","X","X","X","X","X","X","X","X","X","X","X","X","X","X","X","X","X","X","X","X","X","X","X","X","X","X","X","X","X","X","X","X","X","X","X","X","X","X","X","X","X"]
[287,11,"X","X","X","X","X","X","X","X","X","X","X","X","X","X","X","X","X","X","X","X","X","X","X","X","X","X","X","X","X","X","X","X","X","X","X","X","X","X","X","X","X","X","X","X","X","X","X","X","X","X","X","X","X","X","X","X","X","X","X","X","X","X","X","X","X","X","X","X","X","X","X","X","X","X","X","X","X","X","X","X","X","X","X","X","X","X","X","X","X","X","X","X","X","X","X","X","X","X","X","X","X","X","X","X","X","X","X","X","X","X","X","X","X","X","X","X","X","X","X","X","X","X","X","X","X","X","X","X","X","X","X","X","X"]
[288,12,"X","X","X","X","X","X","X","X","X","X","X","X","X","X","X","X","X","X","X","X","X","X","X","X","X","X","X","X","X","X","X","X","X","X","X","X","X","X","X","X","X","X","X","X","X","X","X","X","X","X","X","X","X","X","X","X","X","X","X","X","X","X","X","X","X","X","X","X","X","X","X","X","X","X","X","X","X","X","X","X","X","X","X","X","X","X","X","X","X","X","X","X","X","X","X","X","X","X","X","X","X","X","X","X","X","X","X","X","X","X","X","X","X","X","X","X","X","X","X","X","X","X","X","X","X","X","X","X","X","X","X","X","X"]
[289,1,"X","X","X","X","X","X","X","X","X","X","X","X","X","X","X","X","X","X","X","X","X","X","X","X","X","X","X","X","X","X","X","X","X","X","X","X","X","X","X","X","X","X","X","X","X","X","X","X","X","X","X","X","X","X","X","X","X","X","X","X","X","X","X","X","X","X","X","X","X","X","X","X","X","X","X","X","X","X","X","X","X","X","X","X","X","X","X","X","X","X","X","X","X","X","X","X","X","X","X","X","X","X","X","X","X","X","X","X","X","X","X","X","X","X","X","X","X","X","X","X","X","X","X","X","X","X","X","X","X","X","X","X","X"]
[290,2,"X","X","X","X","X","X","X","X","X","X","X","X","X","X","X","X","X","X","X","X","X","X","X","X","X","X","X","X","X","X","X","X","X","X","X","X","X","X","X","X","X","X","X","X","X","X","X","X","X","X","X","X","X","X","X","X","X","X","X","X","X","X","X","X","X","X","X","X","X","X","X","X","X","X","X","X","X","X","X","X","X","X","X","X","X","X","X","X","X","X","X","X","X","X","X","X","X","X","X","X","X","X","X","X","X","X","X","X","X","X","X","X","X","X","X","X","X","X","X","X","X","X","X","X","X","X","X","X","X","X","X","X","X"]
[291,3,"X","X","X","X","X","X","X","X","X","X","X","X","X","X","X","X","X","X","X","X","X","X","X","X","X","X","X","X","X","X","X","X","X","X","X","X","X","X","X","X","X","X","X","X","X","X","X","X","X","X","X","X","X","X","X","X","X","X","X","X","X","X","X","X","X","X","X","X","X","X","X","X","X","X","X","X","X","X","X","X","X","X","X","X","X","X","X","X","X","X","X","X","X","X","X","X","X","X","X","X","X","X","X","X","X","X","X","X","X","X","X","X","X","X","X","X","X","X","X","X","X","X","X","X","X","X","X","X","X","X","X","X","X"]
[292,4,"X","X","X","X","X","X","X","X","X","X","X","X","X","X","X","X","X","X","X","X","X","X","X","X","X","X","X","X","X","X","X","X","X","X","X","X","X","X","X","X","X","X","X","X","X","X","X","X","X","X","X","X","X","X","X","X","X","X","X","X","X","X","X","X","X","X","X","X","X","X","X","X","X","X","X","X","X","X","X","X","X","X","X","X","X","X","X","X","X","X","X","X","X","X","X","X","X","X","X","X","X","X","X","X","X","X","X","X","X","X","X","X","X","X","X","X","X","X","X","X","X","X","X","X","X","X","X","X","X","X","X","X","X"]
[293,5,"X","X","X","X","X","X","X","X","X","X","X","X","X","X","X","X","X","X","X","X","X","X","X","X","X","X","X","X","X","X","X","X","X","X","X","X","X","X","X","X","X","X","X","X","X","X","X","X","X","X","X","X","X","X","X","X","X","X","X","X","X","X","X","X","X","X","X","X","X","X","X","X","X","X","X","X","X","X","X","X","X","X","X","X","X","X","X","X","X","X","X","X","X","X","X","X","X","X","X","X","X","X","X","X","X","X","X","X","X","X","X","X","X","X","X","X","X","X","X","X","X","X","X","X","X","X","X","X","X","X","X","X","X"]
[294,6,"X","X","X","X","X","X","X","X","X","X","X","X","X","X","X","X","X","X","X","X","X","X","X","X","X","X","X","X","X","X","X","X","X","X","X","X","X","X","X","X","X","X","X","X","X","X","X","X","X","X","X","X","X","X","X","X","X","X","X","X","X","X","X","X","X","X","X","X","X","X","X","X","X","X","X","X","X","X","X","X","X","X","X","X","X","X","X","X","X","X","X","X","X","X","X","X","X","X","X","X","X","X","X","X","X","X","X","X","X","X","X","X","X","X","X","X","X","X","X","X","X","X","X","X","X","X","X","X","X","X","X","X","X"]
[295,7,"X","X","X","X","X","X","X","X","X","X","X","X","X","X","X","X","X","X","X","X","X","X","X","X","X","X","X","X","X","X","X","X","X","X","X","X","X","X","X","X","X","X","X","X","X","X","X","X","X","X","X","X","X","X","X","X","X","X","X","X","X","X","X","X","X","X","X","X","X","X","X","X","X","X","X","X","X","X","X","X","X","X","X","X","X","X","X","X","X","X","X","X","X","X","X","X","X","X","X","X","X","X","X","X","X","X","X","X","X","X","X","X","X","X","X","X","X","X","X","X","X","X","X","X","X","X","X","X","X","X","X","X","X"]
[296,8,"X","X","X","X","X","X","X","X","X","X","X","X","X","X","X","X","X","X","X","X","X","X","X","X","X","X","X","X","X","X","X","X","X","X","X","X","X","X","X","X","X","X","X","X","X","X","X","X","X","X","X","X","X","X","X","X","X","X","X","X","X","X","X","X","X","X","X","X","X","X","X","X","X","X","X","X","X","X","X","X","X","X","X","X","X","X","X","X","X","X","X","X","X","X","X","X","X","X","X","X","X","X","X","X","X","X","X","X","X","X","X","X","X","X","X","X","X","X","X","X","X","X","X","X","X","X","X","X","X","X","X","X","X"]
[297,9,"X","X","X","X","X","X","X","X","X","X","X","X","X","X","X","X","X","X","X","X","X","X","X","X","X","X","X","X","X","X","X","X","X","X","X","X","X","X","X","X","X","X","X","X","X","X","X","X","X","X","X","X","X","X","X","X","X","X","X","X","X","X","X","X","X","X","X","X","X","X","X","X","X","X","X","X","X","X","X","X","X","X","X","X","X","X","X","X","X","X","X","X","X","X","X","X","X","X","X","X","X","X","X","X","X","X","X","X","X","X","X","X","X","X","X","X","X","X","X","X","X","X","X","X","X","X","X","X","X","X","X","X","X"]
[298,10,"X","X","X","X","X","X","X","X","X","X","X","X","X","X","X","X","X","X","X","X","X","X","X","X","X","X","X","X","X","X","X","X","X","X","X","X","X","X","X","X","X","X","X","X","X","X","X","X","X","X","X","X","X","X","X","X","X","X","X","X","X","X","X","X","X","X","X","X","X","X","X","X","X","X","X","X","X","X","X","X","X","X","X","X","X","X","X","X","X","X","X","X","X","X","X","X","X","X","X","X","X","X","X","X","X","X","X","X","X","X","X","X","X","X","X","X","X","X","X","X","X","X","X","X","X","X","X","X","X","X","X","X","X"]
[299,11,"X","X","X","X","X","X","X","X","X","X","X","X","X","X","X","X","X","X","X","X","X","X","X","X","X","X","X","X","X","X","X","X","X","X","X","X","X","X","X","X","X","X","X","X","X","X","X","X","X","X","X","X","X","X","X","X","X","X","X","X","X","X","X","X","X","X","X","X","X","X","X","X","X","X","X","X","X","X","X","X","X","X","X","X","X","X","X","X","X","X","X","X","X","X","X","X","X","X","X","X","X","X","X","X","X","X","X","X","X","X","X","X","X","X","X","X","X","X","X","X","X","X","X","X","X","X","X","X","X","X","X","X","X"]
[300,12,"X","X","X","X","X","X","X","X","X","X","X","X","X","X","X","X","X","X","X","X","X","X","X","X","X","X","X","X","X","X","X","X","X","X","X","X","X","X","X","X","X","X","X","X","X","X","X","X","X","X","X","X","X","X","X","X","X","X","X","X","X","X","X","X","X","X","X","X","X","X","X","X","X","X","X","X","X","X","X","X","X","X","X","X","X","X","X","X","X","X","X","X","X","X","X","X","X","X","X","X","X","X","X","X","X","X","X","X","X","X","X","X","X","X","X","X","X","X","X","X","X","X","X","X","X","X","X","X","X","X","X","X","X"]
[1082.166054,1082.16606,1082.166062,"herdlife"]
[580.91322600000001,580.91322700000001,580.913228,"eaa_cyr"]
[1.9925280000000001,1.9925280000000001,1.9925280000000001,"eaa_cwt"]
[580.91322600000001,580.91322700000001,580.913228,"cash_cyr"]
[29154.586598999998,29154.586598000002,29154.586604,"milkyield_cyr"]
[100,100,100,"milkyield_cwt"]
[5247.8255879999997,5247.8255879999997,5247.825589,"milksales_cyr"]
[18,18,18,"milksales_cwt"]
[2783.3679969999998,2783.3679969999998,2783.3679969999998,"feedcost_cyr"]
[9.5469299999999997,9.5469299999999997,9.5469299999999997,"feedcost_cwt"]
[539.36269500000003,539.36269300000004,539.36269200000004,"heifercost_cyr"]
[1.8500099999999999,1.8500099999999999,1.8500099999999999,"heifercost_cwt"]
[248.54252600000001,248.54252399999999,248.54252399999999,"cowsales_cyr"]
[0.85249900000000001,0.85249900000000001,0.85249900000000001,"cowsales_cwt"]
[212.62593100000001,212.62593100000001,212.62593100000001,"calfsales_cyr"]
[0.72930499999999998,0.72930499999999998,0.72930499999999998,"calfsales_cwt"]
[290.82017000000002,290.82016900000002,290.82016800000002,"livestockcost_cyr"]
[0.99751100000000004,0.99751100000000004,0.99751100000000004,"livestockcost_cwt"]
[13.432834,13.432834,13.432834,"clvinterval"]
[134.174024,134.174024,134.174024,"daystoconc"]
[0.33710200000000001,0.33710200000000001,0.33710200000000001,"cullrateall"]
[0.20804800000000001,0.20804800000000001,0.20804800000000001,"cullratevol"]
[0.129054,0.129054,0.129054,"cullrateinv"]
[401.36624999999998,401.36624999999998,401.36624999999998,"laborcost_cyr"]
[1.3766830000000001,1.3766830000000001,1.3766830000000001,"laborcost_cwt"]
[80.409976999999998,80.409976999999998,80.409976999999998,"vetcost_cyr"]
[0.275806,0.275806,0.275806,"vetcost_cwt"]
[46.773899,46.773899,46.773899,"breedingsupplycost_cyr"]
[0.16043399999999999,0.16043399999999999,0.16043399999999999,"breedingsupplycost_cwt"]
[0,0,0,"loss_cyr"]
[0,0,0,"loss_cwt"]
[364.8,364.8,364.8,"othercost_cyr"]
[1.251261,1.251261,1.251261,"othercost_cwt"]
[0.202768,0.202768,0.202768,"pregnancyrate0"]
[0.16531599999999999,0.202768,0.202768,"pregnancyrate1"]
[109.674606,109.674606,109.674606,"daysopen"]
[182.4,182.4,182.4,"fixedcost_labor_cyr"]
[0.62563100000000005,0.62563100000000005,0.62563100000000005,"fixedcost_labor_cwt"]
[729.6,729.6,729.6,"fixedcost_other_cyr"]
[2.5025219999999999,2.5025219999999999,2.5025219999999999,"fixedcost_other_cwt"]
[0,0,0,"preglaborcost"]
[54.249268000000001,54.249268000000001,54.249268000000001,"pregsupplycost"]
[46.773899,46.773899,46.773899,"breedingcost_cyr"]
[0.16043399999999999,0.16043399999999999,0.16043399999999999,"breedingcost_cwt"]
[193.056208,193.05623,193.05623,"pv_open"]
[23.224708,23.224713999999999,23.224713999999999,"inseminationvalue"]
[150.45953299999999,150.45953299999999,150.45953299999999,"opendays"]
[8.8042999999999996E-2,8.8042999999999996E-2,8.8042999999999996E-2,"abortrisk"]
[513.42671199999995,513.42674799999998,513.42674899999997,"pv_preg"]
[912,912,912,"feedcostdry_cyr"]
[3045.0367249999999,3045.0367249999999,3045.0367259999998,"feedcostlac_cyr"]
[1594.0538489999999,1594.053903,1594.0539040000001,"cowvalue"]
[223.234309,223.234309,223.234309,"dim"]
[82.375184000000004,82.375184000000004,82.375184000000004,"daysfs"]
[737.29244600000004,737.29244600000004,737.29244600000004,"cullprice","y"]
[72.470380000000006,72.470380000000006,72.470380000000006,"replopen_mlk"]
[6.0854100000000004,6.0854100000000004,6.0854100000000004,"replopen_cur"]
[3.1767059999999998,3.1767059999999998,3.1767059999999998,"replopen_rev"]
[4.4852359999999996,4.4852359999999996,4.4852359999999996,"replopen_iof"]
[-21.204045000000001,-21.204056999999999,-21.204056999999999,"replopen_rpo"]
[221.571012,221.571012,221.571012,"replopen_dim"]
[72.359088999999997,72.359088999999997,72.359088999999997,"dvwp"]
[208.436294,208.436295,208.436295,"dlbm"]
[1.1243700000000001,1.1243700000000001,1.1243700000000001,"daysopen_cost"]
[0.33997699999999997,0.33997699999999997,0.33997699999999997,"dayspreg_cost"]

{"sheet":"resb","index":16,"n_rows":369,"n_cols":140,"rows_kept":369,"cut":false,"hidden":true,"merged":[]}
[1,2,3,4,5,6,7,8,9,10,11,12,13,14,15,16,17,18,19,20,21,22,23,24,25,26,27,28,29,30,31,32,33,34,35,36,37,38,39,40,41,42,43,44,45,46,47,48,49,50,51,52,53,54,55,56,57,58,59,60,61,62,63,64,65,66,67,68,69,70,71,72,73,74,75,76,77,78,79,80,81,82,83,84,85,86,87,88,89,90,91,92,93,94,95,96,97,98,99,100,101,102,103,104,105,106,107,108,109,110,111,112,113,114,115,116,117,118,119,120,121,122,123,124,125,126,127,128,129,130,131,132,133,134,135,136,137,138,139,140]
["final.bio",1]
["2012-06-28","07:06:16","AM"]
["t","sea","operating_cash","total_cash","sumcash","milkyield","discount","calves_born","heifers_purchased","heifers_raised","heifers_sold","heiferpool","keep","pind","repl","open","preg","milking","present","milksales","cwt","feedcost","cullprice","calfsales","cowsales","heiferpurchasecost","calvinginterval_clvlact","calvinginterval_clvsea","daystoconception_clvlact","daystoconception_clvsea","feedcost_wet_mim","repl_clv","smy_curr","smy_ave","pind_clv","dayslbm_curr","delayed","serv","serv_keep","lactation1","lactation2","mkv_enter","open_dim","preg_dim","%open","%preg","calved","fixedcost","saldo","milkyield_mcow_d","feedcost_lact","insval_mim","rpo","inv","vol","insval_sea","daysfirstservice_curr","daystoconception_curr","hz_open_repl","hz_open_pind","hz_preg_repl","hz_preg_pind","replopen_mlk[mim]","replopen_mlk[t]","daysvwp_curr","dim","totrevenue","totcost","replopen_dim[mim]","replopen_dim[t]","replopen_cur[mim]","replopen_cur[t]","replopen_rev[mim]","replopen_rev[t]","replopen_iof[mim]","replopen_iof[t]","replopen_rpo[mim]","replopen_rpo[t]","daysopencost_dim","dmi_mcow_d","dmi_mim","dayspregcost_mim","lactationcurve","milkingcows_mim","cows_lact","hz_cull_mim","pctcull_mim","breedingsupplycost","pv_curr","pv_lact","pv_mim","pv_mpreg","pv_t_open","pv_t_preg","labortime","laborcost","calvinginterval","daystoconc","pv_curr_lact","opportunitycost","cowvalue","pind_rpo_curr","pind_rpo_lact","pind_rpo_mim","pind_rpo_mpreg","daysvwp_clvlact","daysvwp_clvsea","dvwp","daysfs_clvlact","daysfs_clvsea","dfs","dayslbm_clvlact","dayslbm_clvsea","dlbm","present_dim","breedings1","dryoffyield","breedings","eligible_keep_mim","eligible_serv_mim","eligible_bred_mim","eligible_preg_mim","keep_rev0","mim","rpo","iofc","rev","milkyld","pregval","feedefficiency","feedcost","varcost","pol","bio_pmilk","bio_pheifer"]
[1,1,134.82344699999999,48.409435999999999,48.409435999999999,79.919370999999998,1,8.8594000000000006E-2,2.8091999999999999E-2,0,0,2.8091999999999999E-2,"X",1.0754E-2,1.7337000000000002E-2,0.41221799999999997,0.58778200000000003,0.87732600000000005,1,437.31879900000001,24.295489,231.94733299999999,737.29244500000004,17.718827999999998,20.711877000000001,44.946891000000001,13.998590999999999,13.432834,151.72496699999999,134.174024,6.9301579999999996,7.2473000000000001,69.740432999999996,104.23561599999999,5.7309549999999998,0,0.18470300000000001,0.202768,0.16531599999999999,0.33504499999999998,0.249775,1,8.8313000000000003E-2,0,1,0,8.8594000000000006E-2,76,-27.590564000000001,91.094297999999995,7.3231609999999998,0,804.16246999999998,1.0754E-2,1.7337000000000002E-2,23.224719,0,0,3.1749999999999999E-3,2.4237999999999999E-2,0,0,64.695383000000007,72.470380000000006,0,223.234309,475.749504,427.34006799999997,0,221.571012,1,6.0854100000000004,2.0808550000000001,3.1767059999999998,4.6630919999999998,4.4852359999999996,-57.238450999999998,-21.204044,0,48.821072000000001,46.201054999999997,0,84.579108000000005,8.8313000000000003E-2,0.33504499999999998,2.7413E-2,8.6452000000000001E-2,3.8978250000000001,0,152.456129,0,193.05626000000001,193.05626000000001,513.42681900000002,200.68312499999999,33.447187,13.432834,134.174024,0,124.415587,1594.0539590000001,-77.626290999999995,797.74936100000002,1050.583079,915.75049300000001,89.973208999999997,72.359088999999997,72.359088999999997,100.41057000000001,82.375184000000004,82.375184000000004,257.29652900000002,"X",208.436295,8.8313000000000003E-2,5.4644999999999999E-2,60.992989000000001,0.19489100000000001,0,0,0,0,0,1,627.45000000000005,4.13,1.55,58.62,-99999999,1.62,5.42,9.01,1,0.18,1600]
[2,2,134.82344699999999,48.409435999999999,96.818871999999999,79.919370999999998,1,8.8594000000000006E-2,2.8091999999999999E-2,0,0,2.8091999999999999E-2,"X",1.0754E-2,1.7337000000000002E-2,0.41221799999999997,0.58778200000000003,0.87732600000000005,1,437.31879900000001,24.295489,231.94733299999999,737.29244500000004,17.718827999999998,20.711877000000001,44.946891000000001,13.454566,13.432834,135.30483100000001,134.174024,8.5756019999999999,7.2473000000000001,76.219787999999994,104.23561599999999,5.7309549999999998,0,0.18470300000000001,0.202768,0.16531599999999999,0.33504499999999998,0.249775,1,8.4292000000000006E-2,0,1,0,8.8594000000000006E-2,76,-27.590564000000001,91.094297999999995,7.3231609999999998,4.464391,804.16246999999998,1.0754E-2,1.7337000000000002E-2,23.224719,0,0,2.1742000000000001E-2,1.5507E-2,0,0,60.238216000000001,72.470380000000006,0,223.234309,475.749504,427.34006799999997,30.4,221.571012,2.222912,6.0854100000000004,1.7633620000000001,3.1767059999999998,3.6877040000000001,4.4852359999999996,-61.748699999999999,-21.204044,0.39535599999999999,48.821072000000001,57.170681000000002,-1.322298,103.767506,8.4292000000000006E-2,0.249775,3.7248000000000003E-2,0.11425100000000001,3.8978250000000001,0,204.90501900000001,0,208.54525000000001,193.05626000000001,513.42681900000002,200.68312499999999,33.447187,13.432834,134.174024,0,124.415587,1594.0539590000001,42.308622,964.43443600000001,1075.8826779999999,916.77591299999995,70.747755999999995,72.359088999999997,72.359088999999997,80.743374000000003,82.375184000000004,82.375184000000004,231.11906300000001,"X",208.436295,8.4292000000000006E-2,5.4644999999999999E-2,60.992989000000001,0.19489100000000001,3.8362E-2,7.4506000000000003E-2,4.0978000000000001E-2,1.4004000000000001E-2,0,2,715.61,6,4.08,78.22,-99999999,1.66,7.08,10,1,0.18,1600]
[3,3,134.82344699999999,48.409435999999999,145.228307,79.919370999999998,1,8.8594000000000006E-2,2.8091999999999999E-2,0,0,2.8091999999999999E-2,"X",1.0754E-2,1.7337000000000002E-2,0.41221799999999997,0.58778200000000003,0.87732600000000005,1,437.31879900000001,24.295489,231.94733299999999,737.29244500000004,17.718827999999998,20.711877000000001,44.946891000000001,13.01309,13.432834,122.01970900000001,134.174024,9.0891559999999991,7.2473000000000001,80.183564000000004,104.23561599999999,5.7309549999999998,0,0.18470300000000001,0.202768,0.16531599999999999,0.33504499999999998,0.249775,1,6.8689E-2,1.4001E-2,0.830681,0.169319,8.8594000000000006E-2,76,-27.590564000000001,91.094297999999995,7.3231609999999998,18.500264999999999,804.16246999999998,1.0754E-2,1.7337000000000002E-2,23.224719,0,0,3.8210000000000002E-3,1.0985999999999999E-2,2.13E-4,1.3247999999999999E-2,69.102087999999995,72.470380000000006,0,223.234309,475.749504,427.34006799999997,60.8,221.571012,2.8040370000000001,6.0854100000000004,3.0733380000000001,3.1767059999999998,4.5042590000000002,4.4852359999999996,-20.698547000000001,-21.204044,0.86197299999999999,48.821072000000001,60.594372,3.9854000000000001E-2,107.85527,8.269E-2,0.172955,1.4579E-2,4.3053000000000001E-2,3.8978250000000001,0,239.817151,90.519069999999999,261.28243400000002,193.05626000000001,513.42681900000002,200.68312499999999,33.447187,13.432834,134.174024,2.8913310000000001,124.415587,1594.0539590000001,110.831858,938.33761600000003,976.48677299999997,802.41183599999999,60.961455000000001,72.359088999999997,72.359088999999997,70.632529000000005,82.375184000000004,82.375184000000004,202.44732200000001,"X",208.436295,8.269E-2,5.4644999999999999E-2,60.992989000000001,0.19489100000000001,8.5839999999999996E-3,8.3315E-2,4.5823000000000003E-2,1.7606E-2,0,3,715.23,6.63,5.2,85.46,32.08,1.65,7.76,10.19,2,0.18,1600]
[4,4,134.82344699999999,48.409435999999999,193.637743,79.919370999999998,1,8.8594000000000006E-2,2.8091999999999999E-2,0,0,2.8091999999999999E-2,"X",1.0754E-2,1.7337000000000002E-2,0.41221799999999997,0.58778200000000003,0.87732600000000005,1,437.31879900000001,24.295489,231.94733299999999,737.29244500000004,17.718827999999998,20.711877000000001,44.946891000000001,12.882642000000001,13.432834,118.07693500000001,134.174024,9.2005850000000002,7.2473000000000001,84.147120000000001,104.23561599999999,5.7309549999999998,96.413093000000003,0.18470300000000001,0.202768,0.16531599999999999,0.33504499999999998,0.249775,1,5.0230999999999998E-2,3.1372999999999998E-2,0.61554299999999995,0.38445699999999999,8.8594000000000006E-2,76,-27.590564000000001,91.094297999999995,7.3231609999999998,24.997896000000001,804.16246999999998,1.0754E-2,1.7337000000000002E-2,23.224719,77.843554999999995,86.243274999999997,1.8710000000000001E-3,9.1750000000000009E-3,1.526E-3,9.7730000000000004E-3,71.136852000000005,72.470380000000006,72.720128000000003,223.234309,475.749504,427.34006799999997,91.2,221.571012,2.7187229999999998,6.0854100000000004,3.392236,3.1767059999999998,4.5928940000000003,4.4852359999999996,-12.003648,-21.204044,1.1413329999999999,48.821072000000001,61.337232999999998,0.43742900000000001,106.958033,8.1603999999999996E-2,0.11154799999999999,1.1143E-2,3.2426999999999997E-2,3.8978250000000001,65.146623000000005,225.13787500000001,151.50422399999999,331.091477,193.05626000000001,513.42681900000002,200.68312499999999,33.447187,13.432834,134.174024,5.6617930000000003,124.415587,1594.0539590000001,171.70234400000001,847.60124199999996,825.12102000000004,723.94573200000002,60.818083999999999,72.359088999999997,72.359088999999997,70.205220999999995,82.375184000000004,82.375184000000004,176.34111899999999,"X",208.436295,8.1603999999999996E-2,5.4644999999999999E-2,60.992989000000001,0.19489100000000001,6.13E-3,6.1237E-2,3.3680000000000002E-2,1.2903E-2,0,4,653.75,6.79,5.59,88,118.67,1.64,8.0500000000000007,10.25,2,0.18,1600]
[5,5,134.82344699999999,48.409435999999999,242.047179,79.919370999999998,1,8.8594000000000006E-2,2.8091999999999999E-2,0,0,2.8091999999999999E-2,"X",1.0754E-2,1.7337000000000002E-2,0.41221799999999997,0.58778200000000003,0.87732600000000005,1,437.31879900000001,24.295489,231.94733299999999,737.29244500000004,17.718827999999998,20.711877000000001,44.946891000000001,12.862762,13.432834,117.56138900000001,134.174024,9.1347780000000007,7.2473000000000001,88.110496999999995,104.23561599999999,5.7309549999999998,128.30001100000001,0.18470300000000001,0.202768,0.16531599999999999,0.33504499999999998,0.249775,1,3.6735999999999998E-2,4.3441E-2,0.45818700000000001,0.54181299999999999,8.8594000000000006E-2,76,-27.590564000000001,91.094297999999995,7.3231609999999998,31.300782000000002,804.16246999999998,1.0754E-2,1.7337000000000002E-2,23.224719,71.970515000000006,95.004344000000003,1.6286999999999999E-2,8.6060000000000008E-3,1.1540000000000001E-3,8.7480000000000006E-3,74.075605999999993,72.470380000000006,63.306524000000003,223.234309,475.749504,427.34006799999997,121.6,221.571012,3.2810800000000002,6.0854100000000004,3.6567940000000001,3.1767059999999998,4.8574520000000003,4.4852359999999996,-3.07247,-21.204044,1.4411229999999999,48.821072000000001,60.898522,0.87549299999999997,103.874145,8.0176999999999998E-2,6.5712999999999994E-2,1.6827999999999999E-2,4.8423000000000001E-2,3.8978250000000001,111.23282399999999,210.70073600000001,191.780766,403.568445,193.05626000000001,513.42681900000002,200.68312499999999,33.447187,13.432834,134.174024,0,124.415587,1594.0539590000001,280.36029400000001,783.693533,652.05412000000001,670.39015099999995,61.086219,72.359088999999997,72.359088999999997,70.328267999999994,82.375184000000004,82.375184000000004,180.06404499999999,"X",208.436295,8.0176999999999998E-2,5.4644999999999999E-2,60.992989000000001,0.19489100000000001,5.7720000000000002E-3,4.3555999999999997E-2,2.3956000000000002E-2,9.1210000000000006E-3,0,5,564.52,6.71,5.5,88.03,164.9,1.62,8.14,10.34,2,0.18,1600]
[6,6,134.82344699999999,48.409435999999999,290.456615,79.919370999999998,1,8.8594000000000006E-2,2.8091999999999999E-2,0,0,2.8091999999999999E-2,"X",1.0754E-2,1.7337000000000002E-2,0.41221799999999997,0.58778200000000003,0.87732600000000005,1,437.31879900000001,24.295489,231.94733299999999,737.29244500000004,17.718827999999998,20.711877000000001,44.946891000000001,12.760626,13.432834,114.344835,134.174024,8.9642379999999999,7.2473000000000001,92.073740000000001,104.23561599999999,5.7309549999999998,168.29896600000001,0.18470300000000001,0.202768,0.16531599999999999,0.33504499999999998,0.249775,1,2.7924999999999998E-2,5.1201999999999998E-2,0.35291600000000001,0.64708399999999999,8.8594000000000006E-2,76,-27.590564000000001,91.094297999999995,7.3231609999999998,35.076324,804.16246999999998,1.0754E-2,1.7337000000000002E-2,23.224719,73.061379000000002,108.206794,1.0567999999999999E-2,8.7810000000000006E-3,9.6699999999999998E-4,8.4899999999999993E-3,75.250928000000002,72.470380000000006,63.351809000000003,223.234309,475.749504,427.34006799999997,152,221.571012,2.2640280000000002,6.0854100000000004,3.5897480000000002,3.1767059999999998,4.7904049999999998,4.4852359999999996,-8.3935720000000007,-21.204044,1.640495,48.821072000000001,59.761583999999999,1.6434869999999999,99.395486000000005,7.9128000000000004E-2,3.5475E-2,1.2970000000000001E-2,3.6693999999999997E-2,3.8978250000000001,144.420874,196.45091600000001,241.09876600000001,475.47220399999998,193.05626000000001,513.42681900000002,200.68312499999999,33.447187,13.432834,134.174024,0,124.415587,1594.0539590000001,396.74127600000003,737.48507500000005,476.53510199999999,639.89691600000003,60.901564,72.359088999999997,72.359088999999997,70.001317,82.375184000000004,82.375184000000004,164.690515,"X",208.436295,7.9128000000000004E-2,5.4644999999999999E-2,60.992989000000001,0.19489100000000001,7.4510000000000002E-3,3.0088E-2,1.6548E-2,6.221E-3,0,6,464.1,6.46,5.26,86.56,211.92,1.6,8.1199999999999992,10.32,2,0.18,1600]
[7,7,134.82344699999999,48.409435999999999,338.86604999999997,79.919370999999998,1,8.8594000000000006E-2,2.8091999999999999E-2,0,0,2.8091999999999999E-2,"X",1.0754E-2,1.7337000000000002E-2,0.41221799999999997,0.58778200000000003,0.87732600000000005,1,437.31879900000001,24.295489,231.94733299999999,737.29244600000004,17.718827999999998,20.711877000000001,44.946891000000001,12.713886,13.432834,112.94952000000001,134.174024,8.7245659999999994,7.2473000000000001,96.036893000000006,104.23561599999999,5.7309549999999998,209.06401099999999,0.18470300000000001,0.202768,0.16531599999999999,0.33504499999999998,0.249775,1,2.0785999999999999E-2,5.5721E-2,0.27168999999999999,0.72831000000000001,8.8594000000000006E-2,76,-27.590564000000001,91.094297999999995,7.3231609999999998,35.542155999999999,804.16246999999998,1.0754E-2,1.7337000000000002E-2,23.224719,80.248171999999997,124.665306,7.6198000000000002E-2,8.5500000000000003E-3,3.9899999999999996E-3,8.378E-3,75.441957000000002,72.470380000000006,69.819695999999993,223.234309,475.749504,427.34006799999997,182.4,221.571012,3.6590989999999999,6.0854100000000004,3.5947930000000001,3.1767059999999998,4.7954509999999999,4.4852359999999996,-9.2764009999999999,-21.204044,1.690736,48.821072000000001,58.163770999999997,2.0079210000000001,93.883878999999993,7.6507000000000006E-2,1.7328E-2,3.3128999999999999E-2,9.2511999999999997E-2,3.8978250000000001,165.22352000000001,184.07752199999999,288.10630600000002,560.01445000000001,193.05626000000001,513.42681900000002,200.68312499999999,33.447187,13.432834,134.174024,7.8502200000000002,124.415587,1594.0539590000001,529.65639399999998,696.81961200000001,339.018236,646.13133800000003,61.250506000000001,72.359088999999997,72.359088999999997,70.035792000000001,82.375184000000004,82.375184000000004,164.20187200000001,"X",208.436295,7.6507000000000006E-2,5.4644999999999999E-2,60.992989000000001,0.19489100000000001,6.3140000000000002E-3,2.1663999999999999E-2,1.1915E-2,4.385E-3,0,7,357.81,6.11,4.9000000000000004,84.14,261.66000000000003,1.57,8.0399999999999991,10.24,2,0.18,1600]
[8,8,134.82344699999999,48.409435999999999,387.275486,79.919370999999998,1,8.8594000000000006E-2,2.8091999999999999E-2,0,0,2.8091999999999999E-2,"X",1.0754E-2,1.7337000000000002E-2,0.41221799999999997,0.58778200000000003,0.87732600000000005,1,437.31879900000001,24.295489,231.94733299999999,737.29244600000004,17.718827999999998,20.711877000000001,44.946891000000001,12.636621999999999,13.432834,110.62205,134.174024,8.4139820000000007,7.2473000000000001,100,104.23561599999999,5.7309549999999998,244.336804,0.18470300000000001,0.202768,0.16531599999999999,0.33504499999999998,0.249775,1,1.4697999999999999E-2,5.8577999999999998E-2,0.20058699999999999,0.79941300000000004,8.8594000000000006E-2,76,-27.590564000000001,91.094297999999995,7.3231609999999998,37.741250000000001,804.16246999999998,1.0754E-2,1.7337000000000002E-2,23.224719,80.825497999999996,130.22208699999999,0.14166999999999999,7.8689999999999993E-3,2.4399999999999999E-3,8.3210000000000003E-3,76.650998999999999,72.470380000000006,70.582860999999994,223.234309,475.749504,427.34006799999997,212.8,221.571012,4.643116,6.0854100000000004,3.6604830000000002,3.1767059999999998,4.8611409999999999,4.4852359999999996,-9.4881279999999997,-21.204044,1.79769,48.821072000000001,56.093215999999998,2.536985,87.151646999999997,7.3275999999999994E-2,7.4190000000000002E-3,4.2095E-2,0.113652,3.8978250000000001,180.875631,184.308921,320.48290500000002,661.25626499999998,193.05626000000001,513.42681900000002,200.68312499999999,33.447187,13.432834,134.174024,0,124.415587,1594.0539590000001,662.62183800000003,684.43465200000003,255.61090999999999,693.13153599999998,60.942734000000002,72.359088999999997,72.359088999999997,69.543476999999996,82.375184000000004,82.375184000000004,149.59930700000001,"X",208.436295,7.3275999999999994E-2,5.4644999999999999E-2,60.992989000000001,0.19489100000000001,4.7699999999999999E-3,1.5044999999999999E-2,8.2749999999999994E-3,2.9840000000000001E-3,0,8,251.56,5.69,4.49,81.13,307.52,1.54,7.92,10.119999999999999,2,0.18,1600]
[9,9,134.82344699999999,48.409435999999999,435.68492199999997,79.919370999999998,1,8.8594000000000006E-2,2.8091999999999999E-2,0,0,2.8091999999999999E-2,"X",1.0754E-2,1.7337000000000002E-2,0.41221799999999997,0.58778200000000003,0.87732600000000005,1,437.31879900000001,24.295489,231.94733299999999,737.29244600000004,17.718827999999998,20.711877000000001,44.946891000000001,12.668785,13.432834,111.607795,134.174024,8.0660550000000004,7.2473000000000001,103.96310699999999,104.23561599999999,5.7309549999999998,276.25416999999999,0.18470300000000001,0.202768,0.16531599999999999,0.33504499999999998,0.249775,1,8.8870000000000008E-3,6.0301E-2,0.128443,0.87155700000000003,8.8594000000000006E-2,76,-27.590564000000001,91.094297999999995,7.3231609999999998,46.681528999999998,804.16246999999998,1.0754E-2,1.7337000000000002E-2,23.224719,80.510975000000002,134.787205,0.27722200000000002,6.3800000000000003E-3,9.5299999999999996E-4,8.2799999999999992E-3,76.460626000000005,72.470380000000006,70.101898000000006,223.234309,475.749504,427.34006799999997,243.2,221.571012,6.4069229999999999,6.0854100000000004,3.6369980000000002,3.1767059999999998,4.837656,4.4852359999999996,-11.290971000000001,-21.204044,2.1689069999999999,48.821072000000001,53.773702,2.9988030000000001,79.654016999999996,6.9186999999999999E-2,2.9480000000000001E-3,5.5663999999999998E-2,0.14396300000000001,3.8978250000000001,193.61052000000001,187.02264299999999,363.023842,779.695156,193.05626000000001,513.42681900000002,200.68312499999999,33.447187,13.432834,134.174024,0,124.415587,1594.0539590000001,807.67188099999998,688.59455500000001,222.28950900000001,778.80147799999997,60.935324000000001,72.359088999999997,72.359088999999997,69.517888999999997,82.375184000000004,82.375184000000004,152.103792,"X",208.436295,6.9186999999999999E-2,5.4644999999999999E-2,60.992989000000001,0.19489100000000001,2.166E-3,9.8329999999999997E-3,5.4079999999999996E-3,1.9070000000000001E-3,0,9,155.81,5.23,4.03,77.75,325.07,1.5,7.76,9.9700000000000006,2,0.18,1600]
[10,10,134.82344699999999,48.409435999999999,484.094358,79.919370999999998,1,8.8594000000000006E-2,2.8091999999999999E-2,0,0,2.8091999999999999E-2,"X",1.0754E-2,1.7337000000000002E-2,0.41221799999999997,0.58778200000000003,0.87732600000000005,1,437.31879900000001,24.295489,231.94733299999999,737.29244600000004,17.718827999999998,20.711877000000001,44.946891000000001,12.694527000000001,13.432834,112.395521,134.174024,7.7766270000000004,7.2473000000000001,107.92626,104.23561599999999,5.7309549999999998,306.31625300000002,0.18470300000000001,0.202768,0.16531599999999999,0.33504499999999998,0.249775,1,5.3350000000000003E-3,6.1150999999999997E-2,8.0249000000000001E-2,0.91975099999999999,8.8594000000000006E-2,76,-27.590564000000001,91.094297999999995,7.3231609999999998,57.011417999999999,804.16246999999998,1.0754E-2,1.7337000000000002E-2,23.224719,80.848315999999997,138.70581300000001,0.28246300000000002,5.5640000000000004E-3,3.6000000000000002E-4,8.1659999999999996E-3,76.830427999999998,72.470380000000006,70.565691000000001,223.234309,475.749504,427.34006799999997,273.60000000000002,221.571012,8.2587329999999994,6.0854100000000004,3.6438380000000001,3.1767059999999998,4.8444960000000004,4.4852359999999996,-11.003349,-21.204044,2.59111,48.821072000000001,51.844183000000001,4.0730380000000004,60.752868999999997,6.6487000000000004E-2,1.1670000000000001E-3,3.8817999999999998E-2,9.4806000000000001E-2,3.8978250000000001,202.057785,189.448204,399.07670100000001,1058.0805720000001,193.05626000000001,513.42681900000002,200.68312499999999,33.447187,13.432834,134.174024,199.58165199999999,124.415587,1594.0539590000001,953.227532,687.69103399999995,203.42889600000001,1040.7609299999999,60.932834,72.359088999999997,72.359088999999997,69.478879000000006,82.375184000000004,82.375184000000004,153.70395500000001,"X",208.436295,6.6487000000000004E-2,5.4644999999999999E-2,60.992989000000001,0.19489100000000001,6.4300000000000002E-4,6.5799999999999999E-3,3.6189999999999998E-3,1.238E-3,0,10,75.510000000000005,4.75,3.55,74.16,329.37,1.46,7.6,9.8000000000000007,2,0.18,1600]
[11,11,134.82344699999999,48.409435999999999,532.50379299999997,79.919370999999998,1,8.8594000000000006E-2,2.8091999999999999E-2,0,0,2.8091999999999999E-2,"X",1.0754E-2,1.7337000000000002E-2,0.41221799999999997,0.58778200000000003,0.87732600000000005,1,437.31879900000001,24.295489,231.94733299999999,737.29244600000004,17.718827999999998,20.711877000000001,44.946891000000001,12.718133,13.432834,113.117402,134.174024,7.5597200000000004,7.2473000000000001,111.889503,104.23561599999999,5.7309549999999998,338.87272200000001,0.18470300000000001,0.202768,0.16531599999999999,0.33504499999999998,0.249775,1,3.032E-3,6.1496000000000002E-2,4.6990999999999998E-2,0.953009,8.8594000000000006E-2,76,-27.590564000000001,91.094297999999995,7.3231609999999998,65.751761000000002,804.16246999999998,1.0754E-2,1.7337000000000002E-2,23.224719,87.583701000000005,148.52625499999999,0.318189,4.6709999999999998E-3,4.1E-5,8.1099999999999992E-3,73.358515999999995,72.470380000000006,77.314456000000007,223.234309,475.749504,427.34006799999997,304,221.571012,9.1671080000000007,6.0854100000000004,3.2353420000000002,3.1767059999999998,4.4359999999999999,4.4852359999999996,-21.165886,-21.204044,2.9621620000000002,48.821072000000001,50.398133999999999,4.3705369999999997,40.661918,6.4528000000000002E-2,4.57E-4,2.9374999999999998E-2,6.8958000000000005E-2,3.8978250000000001,208.13918100000001,192.06160299999999,461.05513300000001,513.42681900000002,193.05626000000001,513.42681900000002,200.68312499999999,33.447187,13.432834,134.174024,409.25341400000002,124.415587,1594.0539590000001,1108.322975,685.55736000000002,190.78747899999999,"X",60.931562999999997,72.359088999999997,72.359088999999997,69.435823999999997,82.375184000000004,82.375184000000004,155.03339500000001,"X",208.436295,6.4528000000000002E-2,5.4644999999999999E-2,60.992989000000001,0.19489100000000001,8.5000000000000006E-5,4.0309999999999999E-3,2.2169999999999998E-3,7.3099999999999999E-4,0,11,18.73,4.26,3.06,70.459999999999994,313.05,1.42,7.42,9.6199999999999992,2,0.18,1600]
[12,12,134.82344699999999,48.409435999999999,580.913229,79.919370999999998,1,8.8594000000000006E-2,2.8091999999999999E-2,0,0,2.8091999999999999E-2,"X",1.0754E-2,1.7337000000000002E-2,0.41221799999999997,0.58778200000000003,0.87732600000000005,1,437.31879900000001,24.295489,231.94733299999999,737.29244600000004,17.718827999999998,20.711877000000001,44.946891000000001,0,13.432834,113.819152,134.174024,7.3462209999999999,7.2473000000000001,115.85288,104.23561599999999,5.7309549999999998,360.53882700000003,0.18470300000000001,0.202768,0.16531599999999999,0.33504499999999998,0.249775,1,1.627E-3,4.9924999999999997E-2,3.1556000000000001E-2,0.96844399999999997,8.8594000000000006E-2,76,-27.590564000000001,91.094297999999995,7.3231609999999998,76.021749,804.16246999999998,1.0754E-2,1.7337000000000002E-2,23.224719,92.538184999999999,155.41662500000001,0.36294100000000001,3.9280000000000001E-3,3.6999999999999998E-5,7.7790000000000003E-3,70.035590999999997,72.470380000000006,82.132615000000001,223.234309,475.749504,427.34006799999997,334.4,221.571012,9.9436920000000004,6.0854100000000004,2.8205360000000002,3.1767059999999998,4.0211940000000004,4.4852359999999996,-24.644537,-21.204044,3.4228109999999998,48.821072000000001,48.974808000000003,4.6865959999999998,32.166679000000002,5.1551E-2,1.6899999999999999E-4,2.5285999999999999E-2,4.7238000000000002E-2,3.8978250000000001,231.96458799999999,195.57087000000001,524.15836000000002,"X",193.05626000000001,513.42681900000002,200.68312499999999,33.447187,13.432834,134.174024,685.306557,124.415587,1594.0539590000001,1271.8094390000001,679.87009599999999,183.974457,"X",60.930717999999999,72.359088999999997,72.359088999999997,69.391350000000003,82.375184000000004,82.375184000000004,156.26728199999999,"X",208.436295,5.1551E-2,5.4644999999999999E-2,60.992989000000001,0.19489100000000001,0,2.2139999999999998E-3,1.2179999999999999E-3,3.8699999999999997E-4,0,12,-21.81,3.77,2.57,66.75,239.07,1.38,7.24,9.44,0,0.18,1600]
[13,1,134.82344699999999,48.409435999999999,629.32266500000003,79.919370999999998,1,8.8594000000000006E-2,2.8091999999999999E-2,0,0,2.8091999999999999E-2,"X",1.0754E-2,1.7337000000000002E-2,0.41221799999999997,0.58778200000000003,0.87732600000000005,1,437.31879900000001,24.295489,231.94733299999999,737.29244600000004,17.718827999999998,20.711877000000001,44.946891000000001,"X","X","X","X",7.1367019999999997,"X",119.816436,104.23561599999999,"X",386.01124299999998,0.18470300000000001,0.202768,0.16531599999999999,0.33504499999999998,0.249775,1,8.9099999999999997E-4,3.4914000000000001E-2,2.4879999999999999E-2,0.97511999999999999,8.8594000000000006E-2,76,-27.590564000000001,91.094297999999995,7.3231609999999998,82.100966999999997,804.16246999999998,1.0754E-2,1.7337000000000002E-2,23.224719,93.916653999999994,155.93596700000001,0.36956899999999998,3.8319999999999999E-3,3.8999999999999999E-5,7.8980000000000005E-3,66.049887999999996,72.470380000000006,83.969311000000005,223.234309,475.749504,427.34006799999997,364.8,221.571012,10.245407999999999,6.0854100000000004,2.3320949999999998,3.1767059999999998,3.532753,4.4852359999999996,-28.235596999999999,-21.204044,3.7076389999999999,48.821072000000001,47.578015000000001,4.9502300000000004,28.773123999999999,3.5804999999999997E-2,"X",2.2151000000000001E-2,2.8646000000000001E-2,3.8978250000000001,229.59694200000001,"X",588.23700699999995,"X",193.05626000000001,513.42681900000002,200.68312499999999,33.447187,13.432834,134.174024,197.43053699999999,124.415587,1594.0539590000001,1453.999877,"X",153.03875600000001,"X","X","X",72.359088999999997,"X","X",82.375184000000004,"X","X",208.436295,3.5804999999999997E-2,5.4644999999999999E-2,60.992989000000001,0.19489100000000001,0,1.2160000000000001E-3,6.69E-4,2.02E-4,0,13,-59.32,3.29,2.09,63.06,149.43,1.34,7.06,9.26,0,0.18,1600]
[14,2,134.82344699999999,48.409435999999999,677.73210099999994,79.919370999999998,1,8.8594000000000006E-2,2.8091999999999999E-2,0,0,2.8091999999999999E-2,"X",1.0754E-2,1.7337000000000002E-2,0.41221799999999997,0.58778200000000003,0.87732600000000005,1,437.31879900000001,24.295489,231.94733299999999,737.29244600000004,17.718827999999998,20.711877000000001,44.946891000000001,"X","X","X","X",6.9349420000000004,"X",123.78021200000001,104.23561599999999,"X",409.01548600000001,0.18470300000000001,0.202768,0.16531599999999999,0.33504499999999998,0.249775,1,4.6200000000000001E-4,2.3781E-2,1.9075999999999999E-2,0.98092400000000002,8.8594000000000006E-2,76,-27.590564000000001,91.094297999999995,7.3231609999999998,87.901409000000001,804.16246999999998,1.0754E-2,1.7337000000000002E-2,23.224719,93.057462000000001,152.94006300000001,0.42368299999999998,3.4420000000000002E-3,3.8000000000000002E-5,8.1919999999999996E-3,63.378616999999998,72.470380000000006,83.489690999999993,223.234309,475.749504,427.34006799999997,395.2,221.571012,10.99319,6.0854100000000004,1.9931369999999999,3.1767059999999998,3.1937950000000002,4.4852359999999996,-29.065072000000001,-21.204044,3.983778,48.821072000000001,46.232950000000002,5.1987310000000004,25.963194999999999,2.4243000000000001E-2,"X",2.1904E-2,1.9168999999999999E-2,3.8978250000000001,232.52633800000001,"X",663.10441200000002,"X",193.05626000000001,513.42681900000002,200.68312499999999,33.447187,13.432834,134.174024,386.84399100000002,124.415587,1594.0539590000001,1706.451245,"X",123.875377,"X","X","X",72.359088999999997,"X","X",82.375184000000004,"X","X",208.436295,2.4243000000000001E-2,5.4644999999999999E-2,60.992989000000001,0.19489100000000001,0,6.3400000000000001E-4,3.48E-4,9.7999999999999997E-5,0,14,-74.069999999999993,2.81,1.61,59.45,62.47,1.29,6.89,9.09,0,0.18,1600]
[15,3,134.82344699999999,48.409435999999999,726.14153699999997,79.919370999999998,1,8.8594000000000006E-2,2.8091999999999999E-2,0,0,2.8091999999999999E-2,"X",1.0754E-2,1.7337000000000002E-2,0.41221799999999997,0.58778200000000003,0.87732600000000005,1,437.31879900000001,24.295489,231.94733299999999,737.29244600000004,17.718827999999998,20.711877000000001,44.946891000000001,"X","X","X","X",6.7528610000000002,"X",130.259567,104.23561599999999,"X",430.743762,0.18470300000000001,0.202768,0.16531599999999999,0.33504499999999998,0.249775,1,3.1300000000000002E-4,1.5893999999999998E-2,1.9296000000000001E-2,0.98070400000000002,8.8594000000000006E-2,76,-27.590564000000001,91.094297999999995,7.3231609999999998,85.318392000000003,804.16246999999998,1.0754E-2,1.7337000000000002E-2,23.224719,108.170391,178.21647100000001,0.28021400000000002,4.2040000000000003E-3,3.6000000000000001E-5,8.5609999999999992E-3,59.203831000000001,72.470380000000006,97.299584999999993,223.234309,475.749504,427.34006799999997,425.6,221.571012,12.115755,6.0854100000000004,1.382269,3.1767059999999998,2.5829270000000002,4.4852359999999996,-57.507500999999998,-21.204044,3.8752819999999999,48.821072000000001,45.019069999999999,0,23.278354,1.6206999999999999E-2,"X",1.5935999999999999E-2,9.2630000000000004E-3,3.8978250000000001,292.85135200000002,"X",685.85567900000001,"X",193.05626000000001,513.42681900000002,200.68312499999999,33.447187,13.432834,134.174024,621.30651599999999,124.415587,1594.0539590000001,1873.4418659999999,"X",63.077283999999999,"X","X","X",72.359088999999997,"X","X",82.375184000000004,"X","X",208.436295,1.6206999999999999E-2,5.4644999999999999E-2,60.992989000000001,0.19489100000000001,0,4.2900000000000002E-4,2.3599999999999999E-4,6.3999999999999997E-5,0,15,-88.34,2.36,1.1599999999999999,55.94,0,1.25,6.71,8.91,0,0.18,1600]
[16,4,134.82344699999999,48.409435999999999,774.550972,79.919370999999998,1,8.8594000000000006E-2,2.8091999999999999E-2,0,0,2.8091999999999999E-2,"X",1.0754E-2,1.7337000000000002E-2,0.41221799999999997,0.58778200000000003,0.87732600000000005,1,437.31879900000001,24.295489,231.94733299999999,737.29244600000004,17.718827999999998,20.711877000000001,44.946891000000001,"X","X","X","X",6.5671119999999998,"X","X",104.23561599999999,"X","X",0.18470300000000001,0.202768,0.16531599999999999,0.33504499999999998,0.249775,1,0,1.0489E-2,0,1,8.8594000000000006E-2,76,-27.590564000000001,91.094297999999995,7.3231609999999998,0,804.16246999999998,1.0754E-2,1.7337000000000002E-2,23.224719,"X","X",1,0,3.1999999999999999E-5,8.9339999999999992E-3,60.281689,72.470380000000006,"X",223.234309,475.749504,427.34006799999997,456,221.571012,12.637365000000001,6.0854100000000004,1.648163,3.1767059999999998,2.848821,4.4852359999999996,-74.056929999999994,-21.204044,0,48.821072000000001,43.780746999999998,0,19.614045999999998,1.0489E-2,"X",3.5621E-2,1.3669000000000001E-2,3.8978250000000001,"X","X",0,"X",193.05626000000001,513.42681900000002,200.68312499999999,33.447187,13.432834,134.174024,216.88812899999999,124.415587,1594.0539590000001,"X","X",0,"X","X","X",72.359088999999997,"X","X",82.375184000000004,"X","X",208.436295,1.0489E-2,5.4644999999999999E-2,60.992989000000001,0.19489100000000001,0,0,0,0,0,16,-102.05,1.92,0.71,52.56,0,1.2,6.54,8.75,0,0.18,1600]
[17,5,134.82344699999999,48.409435999999999,822.96040800000003,79.919370999999998,1,8.8594000000000006E-2,2.8091999999999999E-2,0,0,2.8091999999999999E-2,"X",1.0754E-2,1.7337000000000002E-2,0.41221799999999997,0.58778200000000003,0.87732600000000005,1,437.31879900000001,24.295489,231.94733299999999,737.29244600000004,17.718827999999998,20.711877000000001,44.946891000000001,"X","X","X","X",6.4076880000000003,"X","X",104.23561599999999,"X","X",0.18470300000000001,0.202768,0.16531599999999999,0.33504499999999998,0.249775,1,0,6.6499999999999997E-3,0,1,8.8594000000000006E-2,76,-27.590564000000001,91.094297999999995,7.3231609999999998,0,804.16246999999998,1.0754E-2,1.7337000000000002E-2,23.224719,"X","X",1,0,2.6999999999999999E-5,9.1380000000000003E-3,52.485337000000001,72.470380000000006,"X",223.234309,475.749504,427.34006799999997,486.4,221.571012,11.559428,6.0854100000000004,0.60047899999999998,3.1767059999999998,1.801137,4.4852359999999996,-106.561825,-21.204044,0,48.821072000000001,42.717920999999997,0,17.033073999999999,6.6499999999999997E-3,"X",1.2765E-2,3.0330000000000001E-3,3.8978250000000001,"X","X",0,"X",193.05626000000001,513.42681900000002,200.68312499999999,33.447187,13.432834,134.174024,367.97042199999999,124.415587,1594.053958,"X","X",0,"X","X","X",72.359088999999997,"X","X",82.375184000000004,"X","X",208.436295,6.6499999999999997E-3,5.4644999999999999E-2,60.992989000000001,0.19489100000000001,0,0,0,0,0,17,-115.17,1.49,0.28999999999999998,49.3,-99999999,1.1599999999999999,6.38,8.58,0,0.18,1600]
[18,6,134.82344699999999,48.409435999999999,871.36984399999994,79.919370999999998,1,8.8594000000000006E-2,2.8091999999999999E-2,0,0,2.8091999999999999E-2,"X",1.0754E-2,1.7337000000000002E-2,0.41221799999999997,0.58778200000000003,0.87732600000000005,1,437.31879900000001,24.295489,231.94733299999999,737.29244600000004,17.718827999999998,20.711877000000001,44.946891000000001,"X","X","X","X",6.2727830000000004,"X","X",104.23561599999999,"X","X",0.18470300000000001,0.202768,0.16531599999999999,0.33504499999999998,0.249775,1,0,4.0390000000000001E-3,0,1,8.8594000000000006E-2,76,-27.590564000000001,91.094297999999995,7.3231609999999998,0,804.16246999999998,1.0754E-2,1.7337000000000002E-2,23.224719,"X","X",1,0,2.1999999999999999E-5,9.2029999999999994E-3,49.889479999999999,72.470380000000006,"X",223.234309,475.749504,427.34006799999997,516.79999999999995,221.571012,11.947997000000001,6.0854100000000004,0.27558700000000003,3.1767059999999998,1.476245,4.4852359999999996,-116.523402,-21.204044,0,48.821072000000001,41.818553999999999,0,14.389624,4.0390000000000001E-3,"X",1.2572E-2,1.8140000000000001E-3,3.8978250000000001,"X","X",0,"X",193.05626000000001,513.42681900000002,200.68312499999999,33.447187,13.432834,134.174024,516.32820200000003,124.415587,1594.053958,"X","X",0,"X","X","X",72.359088999999997,"X","X",82.375184000000004,"X","X",208.436295,4.0390000000000001E-3,5.4644999999999999E-2,60.992989000000001,0.19489100000000001,0,0,0,0,0,18,-127.67,1.0900000000000001,-0.11,46.2,-99999999,1.1100000000000001,6.23,8.43,0,0.18,1600]
[19,7,134.82344699999999,48.409435999999999,919.77927999999997,79.919370999999998,1,8.8594000000000006E-2,2.8091999999999999E-2,0,0,2.8091999999999999E-2,"X",1.0754E-2,1.7337000000000002E-2,0.41221799999999997,0.58778200000000003,0.87732600000000005,1,437.31879900000001,24.295489,231.94733299999999,737.29244600000004,17.718827999999998,20.711877000000001,44.946891000000001,"X","X","X","X",6.1523009999999996,"X","X",104.23561599999999,"X","X",0.18470300000000001,0.202768,0.16531599999999999,0.33504499999999998,0.249775,1,0,2.3709999999999998E-3,0,1,8.8594000000000006E-2,76,-27.590564000000001,91.094297999999995,7.3231609999999998,0,804.16246999999998,1.0754E-2,1.7337000000000002E-2,23.224719,"X","X",1,0,1.5999999999999999E-5,9.0930000000000004E-3,46.881726,72.470380000000006,"X",223.234309,475.749504,427.34006799999997,547.20000000000005,221.571012,12.119680000000001,6.0854100000000004,-0.10707999999999999,3.1767059999999998,1.0935779999999999,4.4852359999999996,-128.25697199999999,-21.204044,0,48.821072000000001,41.015337000000002,0,11.761911,2.3709999999999998E-3,"X",1.1816999999999999E-2,1E-3,3.8978250000000001,"X","X",0,"X",193.05626000000001,513.42681900000002,200.68312499999999,33.447187,13.432834,134.174024,316.192792,124.415587,1594.053958,"X","X",0,"X","X","X",72.359088999999997,"X","X",82.375184000000004,"X","X",208.436295,2.3709999999999998E-3,5.4644999999999999E-2,60.992989000000001,0.19489100000000001,0,0,0,0,0,19,-139.54,0.7,-0.5,43.24,-99999999,1.07,6.08,8.2799999999999994,0,0.18,1600]
[20,8,134.82344699999999,48.409435999999999,968.188715,79.919370999999998,1,8.8594000000000006E-2,2.8091999999999999E-2,0,0,2.8091999999999999E-2,"X",1.0754E-2,1.7337000000000002E-2,0.41221799999999997,0.58778200000000003,0.87732600000000005,1,437.31879900000001,24.295489,231.94733299999999,737.29244600000004,17.718827999999998,20.711877000000001,44.946891000000001,"X","X","X","X",6.0260579999999999,"X","X",104.23561599999999,"X","X",0.18470300000000001,0.202768,0.16531599999999999,0.33504499999999998,0.249775,1,0,1.2899999999999999E-3,0,1,8.8594000000000006E-2,76,-27.590564000000001,91.094297999999995,7.3231609999999998,0,804.16246999999998,1.0754E-2,1.7337000000000002E-2,23.224719,"X","X",1,0,1.2999999999999999E-5,9.044E-3,43.985194999999997,72.470380000000006,"X",223.234309,475.749504,427.34006799999997,577.6,221.571012,12.279019999999999,6.0854100000000004,-0.47674499999999997,3.1767059999999998,0.72391300000000003,4.4852359999999996,-139.599752,-21.204044,0,48.821072000000001,40.173718999999998,0,9.8462250000000004,1.2899999999999999E-3,"X",1.1219E-2,5.1599999999999997E-4,3.8978250000000001,"X","X",0,"X",193.05626000000001,513.42681900000002,200.68312499999999,33.447187,13.432834,134.174024,684.01412800000003,124.415587,1594.053958,"X","X",0,"X","X","X",72.359088999999997,"X","X",82.375184000000004,"X","X",208.436295,1.2899999999999999E-3,5.4644999999999999E-2,60.992989000000001,0.19489100000000001,0,0,0,0,0,20,-150.79,0.34,-0.86,40.43,-99999999,1.02,5.94,8.14,0,0.18,1600]
[21,9,134.82344699999999,48.409435999999999,1016.598151,79.919370999999998,1,8.8594000000000006E-2,2.8091999999999999E-2,0,0,2.8091999999999999E-2,"X",1.0754E-2,1.7337000000000002E-2,0.41221799999999997,0.58778200000000003,0.87732600000000005,1,437.31879900000001,24.295489,231.94733299999999,737.29244600000004,17.718827999999998,20.711877000000001,44.946891000000001,"X","X","X","X",5.8985320000000003,"X","X",104.23561599999999,"X","X",0.18470300000000001,0.202768,0.16531599999999999,0.33504499999999998,0.249775,1,0,6.5300000000000004E-4,0,1,8.8594000000000006E-2,76,-27.590564000000001,91.094297999999995,7.3231609999999998,0,804.16246999999998,1.0754E-2,1.7337000000000002E-2,23.224719,"X","X",1,0,1.4E-5,9.1389999999999996E-3,41.198033000000002,72.470380000000006,"X",223.234309,475.749504,427.34006799999997,608,221.571012,12.459847,6.0854100000000004,-0.83436999999999995,3.1767059999999998,0.366288,4.4852359999999996,-150.613643,-21.204044,0,48.821072000000001,39.323549999999997,0,8.1160899999999998,6.5300000000000004E-4,"X",1.0754E-2,2.5000000000000001E-4,3.8978250000000001,"X","X",0,"X",193.05626000000001,513.42681900000002,200.68312499999999,33.447187,13.432834,134.174024,1217.3144199999999,124.415587,1594.053958,"X","X",0,"X","X","X",72.359088999999997,"X","X",82.375184000000004,"X","X",208.436295,6.5300000000000004E-4,5.4644999999999999E-2,60.992989000000001,0.19489100000000001,0,0,0,0,0,21,-161.47,-0.01,-1.21,37.76,-99999999,0.98,5.8,8,0,0.18,1600]
[22,10,134.82344699999999,48.409435999999999,1065.0075870000001,79.919370999999998,1,8.8594000000000006E-2,2.8091999999999999E-2,0,0,2.8091999999999999E-2,"X",1.0754E-2,1.7337000000000002E-2,0.41221799999999997,0.58778200000000003,0.87732600000000005,1,437.31879900000001,24.295489,231.94733299999999,737.29244600000004,17.718827999999998,20.711877000000001,44.946891000000001,"X","X","X","X",5.7588759999999999,"X","X",104.23561599999999,"X","X",0.18470300000000001,0.202768,0.16531599999999999,0.33504499999999998,0.249775,1,0,3.1599999999999998E-4,0,1,8.8594000000000006E-2,76,-27.590564000000001,91.094297999999995,7.3231609999999998,0,804.16246999999998,1.0754E-2,1.7337000000000002E-2,23.224719,"X","X",1,0,0,9.9740000000000002E-3,38.856209,72.470380000000006,"X",223.234309,475.749504,427.34006799999997,638.4,221.571012,12.684151,6.0854100000000004,-1.1304510000000001,3.1767059999999998,7.0207000000000006E-2,4.4852359999999996,-159.818038,-21.204044,0,48.821072000000001,38.392505999999997,0,6.0857609999999998,3.1599999999999998E-4,"X",1.1318E-2,1.2799999999999999E-4,3.8978250000000001,"X","X",0,"X",193.05626000000001,513.42681900000002,200.68312499999999,33.447187,13.432834,134.174024,283.250923,124.415587,1594.053958,"X","X",0,"X","X","X",72.359088999999997,"X","X",82.375184000000004,"X","X",208.436295,3.1599999999999998E-4,5.4644999999999999E-2,60.992989000000001,0.19489100000000001,0,0,0,0,0,22,-171.63,-0.33,-1.53,35.25,-99999999,0.93,5.68,7.88,0,0.18,1600]
[23,11,134.82344699999999,48.409435999999999,1113.4170220000001,79.919370999999998,1,8.8594000000000006E-2,2.8091999999999999E-2,0,0,2.8091999999999999E-2,"X",1.0754E-2,1.7337000000000002E-2,0.41221799999999997,0.58778200000000003,0.87732600000000005,1,437.31879900000001,24.295489,231.94733299999999,737.29244600000004,17.718827999999998,20.711877000000001,44.946891000000001,"X","X","X","X",0,"X","X",104.23561599999999,"X","X",0.18470300000000001,0.202768,0.16531599999999999,0.33504499999999998,0.249775,1,0,1.4100000000000001E-4,0,1,8.8594000000000006E-2,76,-27.590564000000001,91.094297999999995,7.3231609999999998,0,804.16246999999998,1.0754E-2,1.7337000000000002E-2,23.224719,"X","X",1,0,0,1.0591E-2,36.550564000000001,72.470380000000006,"X",223.234309,475.749504,427.34006799999997,668.8,221.571012,12.928201,6.0854100000000004,-1.4246909999999999,3.1767059999999998,-0.22403300000000001,4.4852359999999996,-168.955523,-21.204044,0,48.821072000000001,0,0,0,1.4100000000000001E-4,"X",1.1580999999999999E-2,5.8E-5,3.8978250000000001,"X","X",0,"X",193.05626000000001,513.42681900000002,200.68312499999999,33.447187,13.432834,134.174024,637.43855299999996,124.415587,1594.053958,"X","X",0,"X","X","X",72.359088999999997,"X","X",82.375184000000004,"X","X",208.436295,1.4100000000000001E-4,5.4644999999999999E-2,60.992989000000001,0.19489100000000001,0,0,0,0,0,23,-181.21,-0.64,-1.84,32.880000000000003,-99999999,0.89,5.56,7.76,0,0.18,1600]
[24,12,134.82344699999999,48.409435999999999,1161.826458,79.919370999999998,1,8.8594000000000006E-2,2.8091999999999999E-2,0,0,2.8091999999999999E-2,"X",1.0754E-2,1.7337000000000002E-2,0.41221799999999997,0.58778200000000003,0.87732600000000005,1,437.31879900000001,24.295489,231.94733299999999,737.29244600000004,17.718827999999998,20.711877000000001,44.946891000000001,"X","X","X","X",0,"X","X",104.23561599999999,"X","X",0.18470300000000001,0.202768,0.16531599999999999,0.33504499999999998,0.249775,1,0,5.5000000000000002E-5,0,1,8.8594000000000006E-2,76,-27.590564000000001,91.094297999999995,7.3231609999999998,0,804.16246999999998,1.0754E-2,1.7337000000000002E-2,23.224719,"X","X",1,0,0,1.1305000000000001E-2,0,72.470380000000006,"X",223.234309,475.749504,427.34006799999997,0,221.571012,0,6.0854100000000004,0,3.1767059999999998,0,4.4852359999999996,0,-21.204044,0,48.821072000000001,0,0,0,5.5000000000000002E-5,"X",1.2293999999999999E-2,2.4000000000000001E-5,3.8978250000000001,"X","X",0,"X",193.05626000000001,513.42681900000002,200.68312499999999,33.447187,13.432834,134.174024,1131.758746,124.415587,1594.053958,"X","X",0,"X","X","X",72.359088999999997,"X","X",82.375184000000004,"X","X",208.436295,5.5000000000000002E-5,5.4644999999999999E-2,60.992989000000001,0.19489100000000001,0,0,0,0,0,24,-190.8,-0.93,-2.13,30.64,-99999999,0.84,5.44,7.64,0,0.18,1600]
[25,1,134.82344699999999,48.409435999999999,1210.2358939999999,79.919370999999998,1,8.8594000000000006E-2,2.8091999999999999E-2,0,0,2.8091999999999999E-2,"X",1.0754E-2,1.7337000000000002E-2,0.41221799999999997,0.58778200000000003,0.87732600000000005,1,437.31879900000001,24.295489,231.94733299999999,737.29244600000004,17.718827999999998,20.711877000000001,44.946891000000001,"X","X","X","X","X","X","X",104.23561599999999,"X","X",0.18470300000000001,0.202768,0.16531599999999999,0.33504499999999998,0.249775,1,"X","X","X","X",8.8594000000000006E-2,76,-27.590564000000001,91.094297999999995,7.3231609999999998,"X",804.16246999999998,1.0754E-2,1.7337000000000002E-2,23.224719,"X","X","X","X","X","X","X",72.470380000000006,"X",223.234309,475.749504,427.34006799999997,"X",221.571012,"X",6.0854100000000004,"X",3.1767059999999998,"X",4.4852359999999996,"X",-21.204044,"X",48.821072000000001,"X","X","X","X","X","X","X",3.8978250000000001,"X","X","X","X",193.05626000000001,513.42681900000002,200.68312499999999,33.447187,13.432834,134.174024,262.60769199999999,124.415587,1594.053958,"X","X","X","X","X","X",72.359088999999997,"X","X",82.375184000000004,"X","X",208.436295,"X",5.4644999999999999E-2,60.992989000000001,0.19489100000000001,"X","X","X","X",0,1,967.45,7.78,5.2,88.96,-99999999,1.84,7.23,10.82,1,"X","X"]
[26,2,134.82344699999999,48.409435999999999,1258.6453300000001,79.919370999999998,1,8.8594000000000006E-2,2.8091999999999999E-2,0,0,2.8091999999999999E-2,"X",1.0754E-2,1.7337000000000002E-2,0.41221799999999997,0.58778200000000003,0.87732600000000005,1,437.31879900000001,24.295489,231.94733299999999,737.29244600000004,17.718827999999998,20.711877000000001,44.946891000000001,"X","X","X","X","X","X","X",104.23561599999999,"X","X",0.18470300000000001,0.202768,0.16531599999999999,0.33504499999999998,0.249775,1,"X","X","X","X",8.8594000000000006E-2,76,-27.590564000000001,91.094297999999995,7.3231609999999998,"X",804.16246999999998,1.0754E-2,1.7337000000000002E-2,23.224719,"X","X","X","X","X","X","X",72.470380000000006,"X",223.234309,475.749504,427.34006799999997,"X",221.571012,"X",6.0854100000000004,"X",3.1767059999999998,"X",4.4852359999999996,"X",-21.204044,"X",48.821072000000001,"X","X","X","X","X","X","X",3.8978250000000001,"X","X","X","X",193.05626000000001,513.42681900000002,200.68312499999999,33.447187,13.432834,134.174024,559.04686100000004,124.415587,1594.053958,"X","X","X","X","X","X",72.359088999999997,"X","X",82.375184000000004,"X","X",208.436295,"X",5.4644999999999999E-2,60.992989000000001,0.19489100000000001,"X","X","X","X",0,2,971.11,9.33,7.41,106.17,-99999999,1.81,8.7799999999999994,11.7,2,"X","X"]
[27,3,134.82344699999999,48.409435999999999,1307.0547650000001,79.919370999999998,1,8.8594000000000006E-2,2.8091999999999999E-2,0,0,2.8091999999999999E-2,"X",1.0754E-2,1.7337000000000002E-2,0.41221799999999997,0.58778200000000003,0.87732600000000005,1,437.31879900000001,24.295489,231.94733299999999,737.29244600000004,17.718827999999998,20.711877000000001,44.946891000000001,"X","X","X","X","X","X","X",104.23561599999999,"X","X",0.18470300000000001,0.202768,0.16531599999999999,0.33504499999999998,0.249775,1,"X","X","X","X",8.8594000000000006E-2,76,-27.590564000000001,91.094297999999995,7.3231609999999998,"X",804.16246999999998,1.0754E-2,1.7337000000000002E-2,23.224719,"X","X","X","X","X","X","X",72.470380000000006,"X",223.234309,475.749504,427.34006799999997,"X",221.571012,"X",6.0854100000000004,"X",3.1767059999999998,"X",4.4852359999999996,"X",-21.204044,"X",48.821072000000001,"X","X","X","X","X","X","X",3.8978250000000001,"X","X","X","X",193.05626000000001,513.42681900000002,200.68312499999999,33.447187,13.432834,134.174024,955.04396699999995,124.415587,1594.053958,"X","X","X","X","X","X",72.359088999999997,"X","X",82.375184000000004,"X","X",208.436295,"X",5.4644999999999999E-2,60.992989000000001,0.19489100000000001,"X","X","X","X",0,3,873.27,9.4,7.97,109.06,91.6,1.77,9.23,11.66,2,"X","X"]
[28,4,134.82344699999999,48.409435999999999,1355.464201,79.919370999999998,1,8.8594000000000006E-2,2.8091999999999999E-2,0,0,2.8091999999999999E-2,"X",1.0754E-2,1.7337000000000002E-2,0.41221799999999997,0.58778200000000003,0.87732600000000005,1,437.31879900000001,24.295489,231.94733299999999,737.29244600000004,17.718827999999998,20.711877000000001,44.946891000000001,"X","X","X","X","X","X","X",104.23561599999999,"X","X",0.18470300000000001,0.202768,0.16531599999999999,0.33504499999999998,0.249775,1,"X","X","X","X",8.8594000000000006E-2,76,-27.590564000000001,91.094297999999995,7.3231609999999998,"X",804.16246999999998,1.0754E-2,1.7337000000000002E-2,23.224719,"X","X","X","X","X","X","X",72.470380000000006,"X",223.234309,475.749504,427.34006799999997,"X",221.571012,"X",6.0854100000000004,"X",3.1767059999999998,"X",4.4852359999999996,"X",-21.204044,"X",48.821072000000001,"X","X","X","X","X","X","X",3.8978250000000001,"X","X","X","X",193.05626000000001,513.42681900000002,200.68312499999999,33.447187,13.432834,134.174024,"X",124.415587,1594.053958,"X","X","X","X","X","X",72.359088999999997,"X","X",82.375184000000004,"X","X",208.436295,"X",5.4644999999999999E-2,60.992989000000001,0.19489100000000001,"X","X","X","X",0,4,718.5,9,7.8,107.16,182.57,1.73,9.2899999999999991,11.49,2,"X","X"]
[29,5,134.82344699999999,48.409435999999999,1403.8736369999999,79.919370999999998,1,8.8594000000000006E-2,2.8091999999999999E-2,0,0,2.8091999999999999E-2,"X",1.0754E-2,1.7337000000000002E-2,0.41221799999999997,0.58778200000000003,0.87732600000000005,1,437.31879900000001,24.295489,231.94733299999999,737.29244600000004,17.718827999999998,20.711877000000001,44.946891000000001,"X","X","X","X","X","X","X",104.23561599999999,"X","X",0.18470300000000001,0.202768,0.16531599999999999,0.33504499999999998,0.249775,1,"X","X","X","X",8.8594000000000006E-2,76,-27.590564000000001,91.094297999999995,7.3231609999999998,"X",804.16246999999998,1.0754E-2,1.7337000000000002E-2,23.224719,"X","X","X","X","X","X","X",72.470380000000006,"X",223.234309,475.749504,427.34006799999997,"X",221.571012,"X",6.0854100000000004,"X",3.1767059999999998,"X",4.4852359999999996,"X",-21.204044,"X",48.821072000000001,"X","X","X","X","X","X","X",3.8978250000000001,"X","X","X","X",193.05626000000001,513.42681900000002,200.68312499999999,33.447187,13.432834,134.174024,"X",124.415587,1594.053958,"X","X","X","X","X","X",72.359088999999997,"X","X",82.375184000000004,"X","X",208.436295,"X",5.4644999999999999E-2,60.992989000000001,0.19489100000000001,"X","X","X","X",0,5,551.21,8.3800000000000008,7.18,103.04,228.84,1.69,9.17,11.37,2,"X","X"]
[30,6,134.82344699999999,48.409435999999999,1452.2830730000001,79.919370999999998,1,8.8594000000000006E-2,2.8091999999999999E-2,0,0,2.8091999999999999E-2,"X",1.0754E-2,1.7337000000000002E-2,0.41221799999999997,0.58778200000000003,0.87732600000000005,1,437.31879900000001,24.295489,231.94733299999999,737.29244600000004,17.718827999999998,20.711877000000001,44.946891000000001,"X","X","X","X","X","X","X",104.23561599999999,"X","X",0.18470300000000001,0.202768,0.16531599999999999,0.33504499999999998,0.249775,1,"X","X","X","X",8.8594000000000006E-2,76,-27.590564000000001,91.094297999999995,7.3231609999999998,"X",804.16246999999998,1.0754E-2,1.7337000000000002E-2,23.224719,"X","X","X","X","X","X","X",72.470380000000006,"X",223.234309,475.749504,427.34006799999997,"X",221.571012,"X",6.0854100000000004,"X",3.1767059999999998,"X",4.4852359999999996,"X",-21.204044,"X",48.821072000000001,"X","X","X","X","X","X","X",3.8978250000000001,4.7569999999999999E-3,535.643866,0,"X",193.05626000000001,513.42681900000002,200.68312499999999,33.447187,13.432834,134.174024,"X",124.415587,1594.053958,"X","X","X","X","X","X",72.359088999999997,"X","X",82.375184000000004,"X","X",208.436295,"X",5.4644999999999999E-2,60.992989000000001,0.19489100000000001,"X","X","X","X",0,6,391.32,7.64,6.44,97.8,267.05,1.64,8.9600000000000009,11.16,2,"X","X"]
[31,7,134.82344699999999,48.409435999999999,1500.6925080000001,79.919370999999998,1,8.8594000000000006E-2,2.8091999999999999E-2,0,0,2.8091999999999999E-2,"X",1.0754E-2,1.7337000000000002E-2,0.41221799999999997,0.58778200000000003,0.87732600000000005,1,437.31879900000001,24.295489,231.94733299999999,737.29244600000004,17.718827999999998,20.711877000000001,44.946891000000001,"X","X","X","X","X","X","X",104.23561599999999,"X","X",0.18470300000000001,0.202768,0.16531599999999999,0.33504499999999998,0.249775,1,"X","X","X","X",8.8594000000000006E-2,76,-27.590564000000001,91.094297999999995,7.3231609999999998,"X",804.16246999999998,1.0754E-2,1.7337000000000002E-2,23.224719,"X","X","X","X","X","X","X",72.470380000000006,"X",223.234309,475.749504,427.34006799999997,"X",221.571012,"X",6.0854100000000004,"X",3.1767059999999998,"X",4.4852359999999996,"X",-21.204044,"X",48.821072000000001,"X","X","X","X","X","X","X",3.8978250000000001,2.6397080000000002,561.63771999999994,0,"X",193.05626000000001,513.42681900000002,200.68312499999999,33.447187,13.432834,134.174024,"X",124.415587,1594.053958,"X","X","X","X","X","X",72.359088999999997,"X","X",82.375184000000004,"X","X",208.436295,"X",5.4644999999999999E-2,60.992989000000001,0.19489100000000001,"X","X","X","X",0,7,246.7,6.86,5.66,92.03,296.69,1.59,8.6999999999999993,10.9,2,"X","X"]
[32,8,134.82344699999999,48.409435999999999,1549.101944,79.919370999999998,1,8.8594000000000006E-2,2.8091999999999999E-2,0,0,2.8091999999999999E-2,"X",1.0754E-2,1.7337000000000002E-2,0.41221799999999997,0.58778200000000003,0.87732600000000005,1,437.31879900000001,24.295489,231.94733299999999,737.29244600000004,17.718827999999998,20.711877000000001,44.946891000000001,"X","X","X","X","X","X","X",104.23561599999999,"X","X",0.18470300000000001,0.202768,0.16531599999999999,0.33504499999999998,0.249775,1,"X","X","X","X",8.8594000000000006E-2,76,-27.590564000000001,91.094297999999995,7.3231609999999998,"X",804.16246999999998,1.0754E-2,1.7337000000000002E-2,23.224719,"X","X","X","X","X","X","X",72.470380000000006,"X",223.234309,475.749504,427.34006799999997,"X",221.571012,"X",6.0854100000000004,"X",3.1767059999999998,"X",4.4852359999999996,"X",-21.204044,"X",48.821072000000001,"X","X","X","X","X","X","X",3.8978250000000001,33.794707000000002,509.776703,130.89619999999999,"X",193.05626000000001,513.42681900000002,200.68312499999999,33.447187,13.432834,134.174024,"X",124.415587,1594.053958,"X","X","X","X","X","X",72.359088999999997,"X","X",82.375184000000004,"X","X",208.436295,"X",5.4644999999999999E-2,60.992989000000001,0.19489100000000001,"X","X","X","X",0,8,125.67,6.07,4.87,86.08,308.16000000000003,1.53,8.43,10.63,2,"X","X"]
[33,9,134.82344699999999,48.409435999999999,1597.5113799999999,79.919370999999998,1,8.8594000000000006E-2,2.8091999999999999E-2,0,0,2.8091999999999999E-2,"X",1.0754E-2,1.7337000000000002E-2,0.41221799999999997,0.58778200000000003,0.87732600000000005,1,437.31879900000001,24.295489,231.94733299999999,737.29244600000004,17.718827999999998,20.711877000000001,44.946891000000001,"X","X","X","X","X","X","X",104.23561599999999,"X","X",0.18470300000000001,0.202768,0.16531599999999999,0.33504499999999998,0.249775,1,"X","X","X","X",8.8594000000000006E-2,76,-27.590564000000001,91.094297999999995,7.3231609999999998,"X",804.16246999999998,1.0754E-2,1.7337000000000002E-2,23.224719,"X","X","X","X","X","X","X",72.470380000000006,"X",223.234309,475.749504,427.34006799999997,"X",221.571012,"X",6.0854100000000004,"X",3.1767059999999998,"X",4.4852359999999996,"X",-21.204044,"X",48.821072000000001,"X","X","X","X","X","X","X",3.8978250000000001,139.89780099999999,461.27217300000001,160.47161600000001,"X",193.05626000000001,513.42681900000002,200.68312499999999,33.447187,13.432834,134.174024,"X",124.415587,1594.053958,"X","X","X","X","X","X",72.359088999999997,"X","X",82.375184000000004,"X","X",208.436295,"X",5.4644999999999999E-2,60.992989000000001,0.19489100000000001,"X","X","X","X",0,9,40.5,5.28,4.08,80.14,274.64,1.48,8.14,10.34,2,"X","X"]
[34,10,134.82344699999999,48.409435999999999,1645.9208160000001,79.919370999999998,1,8.8594000000000006E-2,2.8091999999999999E-2,0,0,2.8091999999999999E-2,"X",1.0754E-2,1.7337000000000002E-2,0.41221799999999997,0.58778200000000003,0.87732600000000005,1,437.31879900000001,24.295489,231.94733299999999,737.29244600000004,17.718827999999998,20.711877000000001,44.946891000000001,"X","X","X","X","X","X","X",104.23561599999999,"X","X",0.18470300000000001,0.202768,0.16531599999999999,0.33504499999999998,0.249775,1,"X","X","X","X",8.8594000000000006E-2,76,-27.590564000000001,91.094297999999995,7.3231609999999998,"X",804.16246999999998,1.0754E-2,1.7337000000000002E-2,23.224719,"X","X","X","X","X","X","X",72.470380000000006,"X",223.234309,475.749504,427.34006799999997,"X",221.571012,"X",6.0854100000000004,"X",3.1767059999999998,"X",4.4852359999999996,"X",-21.204044,"X",48.821072000000001,"X","X","X","X","X","X","X",3.8978250000000001,232.99456799999999,422.82950599999998,200.204452,"X",193.05626000000001,513.42681900000002,200.68312499999999,33.447187,13.432834,134.174024,"X",124.415587,1594.053958,"X","X","X","X","X","X",72.359088999999997,"X","X",82.375184000000004,"X","X",208.436295,"X",5.4644999999999999E-2,60.992989000000001,0.19489100000000001,"X","X","X","X",0,10,-11.3,4.5199999999999996,3.32,74.349999999999994,203.9,1.42,7.86,10.06,0,"X","X"]
[35,11,134.82344699999999,48.409435999999999,1694.3302510000001,79.919370999999998,1,8.8594000000000006E-2,2.8091999999999999E-2,0,0,2.8091999999999999E-2,"X",1.0754E-2,1.7337000000000002E-2,0.41221799999999997,0.58778200000000003,0.87732600000000005,1,437.31879900000001,24.295489,231.94733299999999,737.29244600000004,17.718827999999998,20.711877000000001,44.946891000000001,"X","X","X","X","X","X","X",104.23561599999999,"X","X",0.18470300000000001,0.202768,0.16531599999999999,0.33504499999999998,0.249775,1,"X","X","X","X",8.8594000000000006E-2,76,-27.590564000000001,91.094297999999995,7.3231609999999998,"X",804.16246999999998,1.0754E-2,1.7337000000000002E-2,23.224719,"X","X","X","X","X","X","X",72.470380000000006,"X",223.234309,475.749504,427.34006799999997,"X",221.571012,"X",6.0854100000000004,"X",3.1767059999999998,"X",4.4852359999999996,"X",-21.204044,"X",48.821072000000001,"X","X","X","X","X","X","X",3.8978250000000001,316.72295200000002,384.63392099999999,250.58206799999999,"X",193.05626000000001,513.42681900000002,200.68312499999999,33.447187,13.432834,134.174024,"X",124.415587,1594.053958,"X","X","X","X","X","X",72.359088999999997,"X","X",82.375184000000004,"X","X",208.436295,"X",5.4644999999999999E-2,60.992989000000001,0.19489100000000001,"X","X","X","X",0,11,-44.1,3.79,2.59,68.78,101.07,1.36,7.59,9.7899999999999991,0,"X","X"]
[36,12,134.82344699999999,48.409435999999999,1742.739687,79.919370999999998,1,8.8594000000000006E-2,2.8091999999999999E-2,0,0,2.8091999999999999E-2,"X",1.0754E-2,1.7337000000000002E-2,0.41221799999999997,0.58778200000000003,0.87732600000000005,1,437.31879900000001,24.295489,231.94733299999999,737.29244600000004,17.718827999999998,20.711877000000001,44.946891000000001,"X","X","X","X","X","X","X",104.23561599999999,"X","X",0.18470300000000001,0.202768,0.16531599999999999,0.33504499999999998,0.249775,1,"X","X","X","X",8.8594000000000006E-2,76,-27.590564000000001,91.094297999999995,7.3231609999999998,"X",804.16246999999998,1.0754E-2,1.7337000000000002E-2,23.224719,"X","X","X","X","X","X","X",72.470380000000006,"X",223.234309,475.749504,427.34006799999997,"X",221.571012,"X",6.0854100000000004,"X",3.1767059999999998,"X",4.4852359999999996,"X",-21.204044,"X",48.821072000000001,"X","X","X","X","X","X","X",3.8978250000000001,395.30866099999997,356.228499,310.87539600000002,"X",193.05626000000001,513.42681900000002,200.68312499999999,33.447187,13.432834,134.174024,"X",124.415587,1594.053958,"X","X","X","X","X","X",72.359088999999997,"X","X",82.375184000000004,"X","X",208.436295,"X",5.4644999999999999E-2,60.992989000000001,0.19489100000000001,"X","X","X","X",0,12,-65.72,3.1,1.9,63.49,0,1.3,7.32,9.52,0,"X","X"]
[37,1,"X","X","X","X","X","X","X","X","X","X","X","X","X","X","X","X","X","X","X","X","X","X","X","X","X","X","X","X","X","X","X","X","X","X","X","X","X","X","X","X","X","X","X","X","X","X","X","X","X","X","X","X","X","X","X","X","X","X","X","X","X","X","X","X","X","X","X","X","X","X","X","X","X","X","X","X","X","X","X","X","X","X","X","X","X","X",461.37132400000002,353.27683300000001,374.69886100000002,"X","X","X","X","X","X","X","X","X","X","X","X","X","X","X","X","X","X","X","X","X","X","X","X","X","X","X","X","X","X","X","X",13,-85.98,2.46,1.25,58.48,0,1.24,7.07,9.27,0,"X","X"]
[38,2,"X","X","X","X","X","X","X","X","X","X","X","X","X","X","X","X","X","X","X","X","X","X","X","X","X","X","X","X","X","X","X","X","X","X","X","X","X","X","X","X","X","X","X","X","X","X","X","X","X","X","X","X","X","X","X","X","X","X","X","X","X","X","X","X","X","X","X","X","X","X","X","X","X","X","X","X","X","X","X","X","X","X","X","X","X","X",518.31639700000005,354.53300200000001,445.35582499999998,"X","X","X","X","X","X","X","X","X","X","X","X","X","X","X","X","X","X","X","X","X","X","X","X","X","X","X","X","X","X","X","X",14,-104.89,1.85,0.65,53.78,0,1.18,6.83,9.0299999999999994,0,"X","X"]
[39,3,"X","X","X","X","X","X","X","X","X","X","X","X","X","X","X","X","X","X","X","X","X","X","X","X","X","X","X","X","X","X","X","X","X","X","X","X","X","X","X","X","X","X","X","X","X","X","X","X","X","X","X","X","X","X","X","X","X","X","X","X","X","X","X","X","X","X","X","X","X","X","X","X","X","X","X","X","X","X","X","X","X","X","X","X","X","X",566.44169499999998,354.59317600000003,526.40427399999999,"X","X","X","X","X","X","X","X","X","X","X","X","X","X","X","X","X","X","X","X","X","X","X","X","X","X","X","X","X","X","X","X",15,-122.49,1.28,0.08,49.39,0,1.1200000000000001,6.61,8.81,0,"X","X"]
[40,4,"X","X","X","X","X","X","X","X","X","X","X","X","X","X","X","X","X","X","X","X","X","X","X","X","X","X","X","X","X","X","X","X","X","X","X","X","X","X","X","X","X","X","X","X","X","X","X","X","X","X","X","X","X","X","X","X","X","X","X","X","X","X","X","X","X","X","X","X","X","X","X","X","X","X","X","X","X","X","X","X","X","X","X","X","X","X",621.01482999999996,354.79282000000001,653.12962600000003,"X","X","X","X","X","X","X","X","X","X","X","X","X","X","X","X","X","X","X","X","X","X","X","X","X","X","X","X","X","X","X","X",16,-138.81,0.75,-0.45,45.31,0,1.06,6.4,8.6,0,"X","X"]
[41,5,"X","X","X","X","X","X","X","X","X","X","X","X","X","X","X","X","X","X","X","X","X","X","X","X","X","X","X","X","X","X","X","X","X","X","X","X","X","X","X","X","X","X","X","X","X","X","X","X","X","X","X","X","X","X","X","X","X","X","X","X","X","X","X","X","X","X","X","X","X","X","X","X","X","X","X","X","X","X","X","X","X","X","X","X","X","X",677.46820600000001,310.07435600000002,758.94505100000003,"X","X","X","X","X","X","X","X","X","X","X","X","X","X","X","X","X","X","X","X","X","X","X","X","X","X","X","X","X","X","X","X",17,-153.9,0.26,-0.94,41.52,-99999999,1,6.21,8.41,0,"X","X"]
[42,6,"X","X","X","X","X","X","X","X","X","X","X","X","X","X","X","X","X","X","X","X","X","X","X","X","X","X","X","X","X","X","X","X","X","X","X","X","X","X","X","X","X","X","X","X","X","X","X","X","X","X","X","X","X","X","X","X","X","X","X","X","X","X","X","X","X","X","X","X","X","X","X","X","X","X","X","X","X","X","X","X","X","X","X","X","X","X",716.13252699999998,0,835.84623599999998,"X","X","X","X","X","X","X","X","X","X","X","X","X","X","X","X","X","X","X","X","X","X","X","X","X","X","X","X","X","X","X","X",18,-167.82,-0.19,-1.39,38,-99999999,0.95,6.03,8.23,0,"X","X"]
[43,7,"X","X","X","X","X","X","X","X","X","X","X","X","X","X","X","X","X","X","X","X","X","X","X","X","X","X","X","X","X","X","X","X","X","X","X","X","X","X","X","X","X","X","X","X","X","X","X","X","X","X","X","X","X","X","X","X","X","X","X","X","X","X","X","X","X","X","X","X","X","X","X","X","X","X","X","X","X","X","X","X","X","X","X","X","X","X",750.05680700000005,"X",910.60272999999995,"X","X","X","X","X","X","X","X","X","X","X","X","X","X","X","X","X","X","X","X","X","X","X","X","X","X","X","X","X","X","X","X",19,-180.65,-0.61,-1.81,34.76,-99999999,0.89,5.86,8.06,0,"X","X"]
[44,8,"X","X","X","X","X","X","X","X","X","X","X","X","X","X","X","X","X","X","X","X","X","X","X","X","X","X","X","X","X","X","X","X","X","X","X","X","X","X","X","X","X","X","X","X","X","X","X","X","X","X","X","X","X","X","X","X","X","X","X","X","X","X","X","X","X","X","X","X","X","X","X","X","X","X","X","X","X","X","X","X","X","X","X","X","X","X",867.72246399999995,"X",981.66265299999998,"X","X","X","X","X","X","X","X","X","X","X","X","X","X","X","X","X","X","X","X","X","X","X","X","X","X","X","X","X","X","X","X",20,-192.46,-0.99,-2.19,31.77,-99999999,0.83,5.71,7.91,0,"X","X"]
[45,9,"X","X","X","X","X","X","X","X","X","X","X","X","X","X","X","X","X","X","X","X","X","X","X","X","X","X","X","X","X","X","X","X","X","X","X","X","X","X","X","X","X","X","X","X","X","X","X","X","X","X","X","X","X","X","X","X","X","X","X","X","X","X","X","X","X","X","X","X","X","X","X","X","X","X","X","X","X","X","X","X","X","X","X","X","X","X",0,"X",1056.5447790000001,"X","X","X","X","X","X","X","X","X","X","X","X","X","X","X","X","X","X","X","X","X","X","X","X","X","X","X","X","X","X","X","X",21,-203.38,-1.35,-2.5499999999999998,29.02,-99999999,0.78,5.57,7.77,0,"X","X"]
[46,10,"X","X","X","X","X","X","X","X","X","X","X","X","X","X","X","X","X","X","X","X","X","X","X","X","X","X","X","X","X","X","X","X","X","X","X","X","X","X","X","X","X","X","X","X","X","X","X","X","X","X","X","X","X","X","X","X","X","X","X","X","X","X","X","X","X","X","X","X","X","X","X","X","X","X","X","X","X","X","X","X","X","X","X","X","X","X","X","X",1138.788098,"X","X","X","X","X","X","X","X","X","X","X","X","X","X","X","X","X","X","X","X","X","X","X","X","X","X","X","X","X","X","X","X",22,-213.54,-1.67,-2.87,26.49,-99999999,0.73,5.44,7.64,0,"X","X"]
[47,11,"X","X","X","X","X","X","X","X","X","X","X","X","X","X","X","X","X","X","X","X","X","X","X","X","X","X","X","X","X","X","X","X","X","X","X","X","X","X","X","X","X","X","X","X","X","X","X","X","X","X","X","X","X","X","X","X","X","X","X","X","X","X","X","X","X","X","X","X","X","X","X","X","X","X","X","X","X","X","X","X","X","X","X","X","X","X","X","X",1233.4143509999999,"X","X","X","X","X","X","X","X","X","X","X","X","X","X","X","X","X","X","X","X","X","X","X","X","X","X","X","X","X","X","X","X",23,-222.86,-1.97,-3.17,24.17,-99999999,0.68,5.32,7.52,0,"X","X"]
[48,12,"X","X","X","X","X","X","X","X","X","X","X","X","X","X","X","X","X","X","X","X","X","X","X","X","X","X","X","X","X","X","X","X","X","X","X","X","X","X","X","X","X","X","X","X","X","X","X","X","X","X","X","X","X","X","X","X","X","X","X","X","X","X","X","X","X","X","X","X","X","X","X","X","X","X","X","X","X","X","X","X","X","X","X","X","X","X","X","X",1335.117499,"X","X","X","X","X","X","X","X","X","X","X","X","X","X","X","X","X","X","X","X","X","X","X","X","X","X","X","X","X","X","X","X",24,-231.53,-2.2400000000000002,-3.44,22.04,-99999999,0.63,5.21,7.41,0,"X","X"]
[49,1,"X","X","X","X","X","X","X","X","X","X","X","X","X","X","X","X","X","X","X","X","X","X","X","X","X","X","X","X","X","X","X","X","X","X","X","X","X","X","X","X","X","X","X","X","X","X","X","X","X","X","X","X","X","X","X","X","X","X","X","X","X","X","X","X","X","X","X","X","X","X","X","X","X","X","X","X","X","X","X","X","X","X","X","X","X","X","X","X",1444.281637,"X","X","X","X","X","X","X","X","X","X","X","X","X","X","X","X","X","X","X","X","X","X","X","X","X","X","X","X","X","X","X","X",1,1008.49,8.6,6.02,95.35,-99999999,1.89,7.56,11.15,1,"X","X"]
[50,2,"X","X","X","X","X","X","X","X","X","X","X","X","X","X","X","X","X","X","X","X","X","X","X","X","X","X","X","X","X","X","X","X","X","X","X","X","X","X","X","X","X","X","X","X","X","X","X","X","X","X","X","X","X","X","X","X","X","X","X","X","X","X","X","X","X","X","X","X","X","X","X","X","X","X","X","X","X","X","X","X","X","X","X","X","X","X","X","X",1562.900126,"X","X","X","X","X","X","X","X","X","X","X","X","X","X","X","X","X","X","X","X","X","X","X","X","X","X","X","X","X","X","X","X",2,997.13,10.18,8.26,112.82,-99999999,1.86,9.1199999999999992,12.05,2,"X","X"]
[51,3,"X","X","X","X","X","X","X","X","X","X","X","X","X","X","X","X","X","X","X","X","X","X","X","X","X","X","X","X","X","X","X","X","X","X","X","X","X","X","X","X","X","X","X","X","X","X","X","X","X","X","X","X","X","X","X","X","X","X","X","X","X","X","X","X","X","X","X","X","X","X","X","X","X","X","X","X","X","X","X","X","X","X","X","X","X","X","X","X",1680.0758679999999,"X","X","X","X","X","X","X","X","X","X","X","X","X","X","X","X","X","X","X","X","X","X","X","X","X","X","X","X","X","X","X","X",3,852.94,10.199999999999999,8.76,115.25,195.42,1.81,9.5500000000000007,11.98,2,"X","X"]
[52,4,"X","X","X","X","X","X","X","X","X","X","X","X","X","X","X","X","X","X","X","X","X","X","X","X","X","X","X","X","X","X","X","X","X","X","X","X","X","X","X","X","X","X","X","X","X","X","X","X","X","X","X","X","X","X","X","X","X","X","X","X","X","X","X","X","X","X","X","X","X","X","X","X","X","X","X","X","X","X","X","X","X","X","X","X","X","X","X","X",1796.755161,"X","X","X","X","X","X","X","X","X","X","X","X","X","X","X","X","X","X","X","X","X","X","X","X","X","X","X","X","X","X","X","X",4,664.47,9.7100000000000009,8.51,112.71,232.09,1.77,9.58,11.78,2,"X","X"]
[53,5,"X","X","X","X","X","X","X","X","X","X","X","X","X","X","X","X","X","X","X","X","X","X","X","X","X","X","X","X","X","X","X","X","X","X","X","X","X","X","X","X","X","X","X","X","X","X","X","X","X","X","X","X","X","X","X","X","X","X","X","X","X","X","X","X","X","X","X","X","X","X","X","X","X","X","X","X","X","X","X","X","X","X","X","X","X","X","X","X",1914.7164849999999,"X","X","X","X","X","X","X","X","X","X","X","X","X","X","X","X","X","X","X","X","X","X","X","X","X","X","X","X","X","X","X","X",5,471.67,9,7.8,107.9,253.99,1.72,9.42,11.62,2,"X","X"]
[54,6,"X","X","X","X","X","X","X","X","X","X","X","X","X","X","X","X","X","X","X","X","X","X","X","X","X","X","X","X","X","X","X","X","X","X","X","X","X","X","X","X","X","X","X","X","X","X","X","X","X","X","X","X","X","X","X","X","X","X","X","X","X","X","X","X","X","X","X","X","X","X","X","X","X","X","X","X","X","X","X","X","X","X","X","X","X","X","X","X",0,"X","X","X","X","X","X","X","X","X","X","X","X","X","X","X","X","X","X","X","X","X","X","X","X","X","X","X","X","X","X","X","X",6,297.89999999999998,8.18,6.98,102,257.18,1.67,9.18,11.38,2,"X","X"]
[55,7,"X","X","X","X","X","X","X","X","X","X","X","X","X","X","X","X","X","X","X","X","X","X","X","X","X","X","X","X","X","X","X","X","X","X","X","X","X","X","X","X","X","X","X","X","X","X","X","X","X","X","X","X","X","X","X","X","X","X","X","X","X","X","X","X","X","X","X","X","X","X","X","X","X","X","X","X","X","X","X","X","X","X","X","X","X","X","X","X","X","X","X","X","X","X","X","X","X","X","X","X","X","X","X","X","X","X","X","X","X","X","X","X","X","X","X","X","X","X","X","X","X",7,155.41999999999999,7.32,6.12,95.62,235.24,1.61,8.89,11.09,2,"X","X"]
[56,8,"X","X","X","X","X","X","X","X","X","X","X","X","X","X","X","X","X","X","X","X","X","X","X","X","X","X","X","X","X","X","X","X","X","X","X","X","X","X","X","X","X","X","X","X","X","X","X","X","X","X","X","X","X","X","X","X","X","X","X","X","X","X","X","X","X","X","X","X","X","X","X","X","X","X","X","X","X","X","X","X","X","X","X","X","X","X","X","X","X","X","X","X","X","X","X","X","X","X","X","X","X","X","X","X","X","X","X","X","X","X","X","X","X","X","X","X","X","X","X","X","X",8,56.22,6.45,5.25,89.1,178.11,1.56,8.58,10.78,2,"X","X"]
[57,9,"X","X","X","X","X","X","X","X","X","X","X","X","X","X","X","X","X","X","X","X","X","X","X","X","X","X","X","X","X","X","X","X","X","X","X","X","X","X","X","X","X","X","X","X","X","X","X","X","X","X","X","X","X","X","X","X","X","X","X","X","X","X","X","X","X","X","X","X","X","X","X","X","X","X","X","X","X","X","X","X","X","X","X","X","X","X","X","X","X","X","X","X","X","X","X","X","X","X","X","X","X","X","X","X","X","X","X","X","X","X","X","X","X","X","X","X","X","X","X","X","X",9,12.25,5.6,4.4000000000000004,82.65,75.34,1.5,8.27,10.47,1,"X","X"]
[58,10,"X","X","X","X","X","X","X","X","X","X","X","X","X","X","X","X","X","X","X","X","X","X","X","X","X","X","X","X","X","X","X","X","X","X","X","X","X","X","X","X","X","X","X","X","X","X","X","X","X","X","X","X","X","X","X","X","X","X","X","X","X","X","X","X","X","X","X","X","X","X","X","X","X","X","X","X","X","X","X","X","X","X","X","X","X","X","X","X","X","X","X","X","X","X","X","X","X","X","X","X","X","X","X","X","X","X","X","X","X","X","X","X","X","X","X","X","X","X","X","X","X",10,-13.67,4.79,3.58,76.400000000000006,0,1.44,7.97,10.17,0,"X","X"]
[59,11,"X","X","X","X","X","X","X","X","X","X","X","X","X","X","X","X","X","X","X","X","X","X","X","X","X","X","X","X","X","X","X","X","X","X","X","X","X","X","X","X","X","X","X","X","X","X","X","X","X","X","X","X","X","X","X","X","X","X","X","X","X","X","X","X","X","X","X","X","X","X","X","X","X","X","X","X","X","X","X","X","X","X","X","X","X","X","X","X","X","X","X","X","X","X","X","X","X","X","X","X","X","X","X","X","X","X","X","X","X","X","X","X","X","X","X","X","X","X","X","X","X",11,-38.19,4.01,2.81,70.430000000000007,0,1.38,7.67,9.8699999999999992,0,"X","X"]
[60,12,"X","X","X","X","X","X","X","X","X","X","X","X","X","X","X","X","X","X","X","X","X","X","X","X","X","X","X","X","X","X","X","X","X","X","X","X","X","X","X","X","X","X","X","X","X","X","X","X","X","X","X","X","X","X","X","X","X","X","X","X","X","X","X","X","X","X","X","X","X","X","X","X","X","X","X","X","X","X","X","X","X","X","X","X","X","X","X","X","X","X","X","X","X","X","X","X","X","X","X","X","X","X","X","X","X","X","X","X","X","X","X","X","X","X","X","X","X","X","X","X","X",12,-61.19,3.27,2.0699999999999998,64.78,0,1.31,7.39,9.59,0,"X","X"]
[61,1,"X","X","X","X","X","X","X","X","X","X","X","X","X","X","X","X","X","X","X","X","X","X","X","X","X","X","X","X","X","X","X","X","X","X","X","X","X","X","X","X","X","X","X","X","X","X","X","X","X","X","X","X","X","X","X","X","X","X","X","X","X","X","X","X","X","X","X","X","X","X","X","X","X","X","X","X","X","X","X","X","X","X","X","X","X","X","X","X","X","X","X","X","X","X","X","X","X","X","X","X","X","X","X","X","X","X","X","X","X","X","X","X","X","X","X","X","X","X","X","X","X",13,-82.67,2.58,1.38,59.47,0,1.25,7.12,9.32,0,"X","X"]
[62,2,"X","X","X","X","X","X","X","X","X","X","X","X","X","X","X","X","X","X","X","X","X","X","X","X","X","X","X","X","X","X","X","X","X","X","X","X","X","X","X","X","X","X","X","X","X","X","X","X","X","X","X","X","X","X","X","X","X","X","X","X","X","X","X","X","X","X","X","X","X","X","X","X","X","X","X","X","X","X","X","X","X","X","X","X","X","X","X","X","X","X","X","X","X","X","X","X","X","X","X","X","X","X","X","X","X","X","X","X","X","X","X","X","X","X","X","X","X","X","X","X","X",14,-102.66,1.94,0.74,54.5,0,1.19,6.87,9.07,0,"X","X"]
[63,3,"X","X","X","X","X","X","X","X","X","X","X","X","X","X","X","X","X","X","X","X","X","X","X","X","X","X","X","X","X","X","X","X","X","X","X","X","X","X","X","X","X","X","X","X","X","X","X","X","X","X","X","X","X","X","X","X","X","X","X","X","X","X","X","X","X","X","X","X","X","X","X","X","X","X","X","X","X","X","X","X","X","X","X","X","X","X","X","X","X","X","X","X","X","X","X","X","X","X","X","X","X","X","X","X","X","X","X","X","X","X","X","X","X","X","X","X","X","X","X","X","X",15,-121.18,1.34,0.14000000000000001,49.89,0,1.1299999999999999,6.64,8.84,0,"X","X"]
[64,4,"X","X","X","X","X","X","X","X","X","X","X","X","X","X","X","X","X","X","X","X","X","X","X","X","X","X","X","X","X","X","X","X","X","X","X","X","X","X","X","X","X","X","X","X","X","X","X","X","X","X","X","X","X","X","X","X","X","X","X","X","X","X","X","X","X","X","X","X","X","X","X","X","X","X","X","X","X","X","X","X","X","X","X","X","X","X","X","X","X","X","X","X","X","X","X","X","X","X","X","X","X","X","X","X","X","X","X","X","X","X","X","X","X","X","X","X","X","X","X","X","X",16,-138.30000000000001,0.79,-0.41,45.6,0,1.07,6.42,8.6199999999999992,0,"X","X"]
[65,5,"X","X","X","X","X","X","X","X","X","X","X","X","X","X","X","X","X","X","X","X","X","X","X","X","X","X","X","X","X","X","X","X","X","X","X","X","X","X","X","X","X","X","X","X","X","X","X","X","X","X","X","X","X","X","X","X","X","X","X","X","X","X","X","X","X","X","X","X","X","X","X","X","X","X","X","X","X","X","X","X","X","X","X","X","X","X","X","X","X","X","X","X","X","X","X","X","X","X","X","X","X","X","X","X","X","X","X","X","X","X","X","X","X","X","X","X","X","X","X","X","X",17,-154.07,0.28000000000000003,-0.92,41.65,-99999999,1,6.22,8.42,0,"X","X"]
[66,6,"X","X","X","X","X","X","X","X","X","X","X","X","X","X","X","X","X","X","X","X","X","X","X","X","X","X","X","X","X","X","X","X","X","X","X","X","X","X","X","X","X","X","X","X","X","X","X","X","X","X","X","X","X","X","X","X","X","X","X","X","X","X","X","X","X","X","X","X","X","X","X","X","X","X","X","X","X","X","X","X","X","X","X","X","X","X","X","X","X","X","X","X","X","X","X","X","X","X","X","X","X","X","X","X","X","X","X","X","X","X","X","X","X","X","X","X","X","X","X","X","X",18,-168.57,-0.19,-1.39,38,-99999999,0.95,6.03,8.23,0,"X","X"]
[67,7,"X","X","X","X","X","X","X","X","X","X","X","X","X","X","X","X","X","X","X","X","X","X","X","X","X","X","X","X","X","X","X","X","X","X","X","X","X","X","X","X","X","X","X","X","X","X","X","X","X","X","X","X","X","X","X","X","X","X","X","X","X","X","X","X","X","X","X","X","X","X","X","X","X","X","X","X","X","X","X","X","X","X","X","X","X","X","X","X","X","X","X","X","X","X","X","X","X","X","X","X","X","X","X","X","X","X","X","X","X","X","X","X","X","X","X","X","X","X","X","X","X",19,-181.87,-0.62,-1.82,34.64,-99999999,0.89,5.86,8.06,0,"X","X"]
[68,8,"X","X","X","X","X","X","X","X","X","X","X","X","X","X","X","X","X","X","X","X","X","X","X","X","X","X","X","X","X","X","X","X","X","X","X","X","X","X","X","X","X","X","X","X","X","X","X","X","X","X","X","X","X","X","X","X","X","X","X","X","X","X","X","X","X","X","X","X","X","X","X","X","X","X","X","X","X","X","X","X","X","X","X","X","X","X","X","X","X","X","X","X","X","X","X","X","X","X","X","X","X","X","X","X","X","X","X","X","X","X","X","X","X","X","X","X","X","X","X","X","X",20,-194.08,-1.02,-2.2200000000000002,31.56,-99999999,0.83,5.7,7.9,0,"X","X"]
[69,9,"X","X","X","X","X","X","X","X","X","X","X","X","X","X","X","X","X","X","X","X","X","X","X","X","X","X","X","X","X","X","X","X","X","X","X","X","X","X","X","X","X","X","X","X","X","X","X","X","X","X","X","X","X","X","X","X","X","X","X","X","X","X","X","X","X","X","X","X","X","X","X","X","X","X","X","X","X","X","X","X","X","X","X","X","X","X","X","X","X","X","X","X","X","X","X","X","X","X","X","X","X","X","X","X","X","X","X","X","X","X","X","X","X","X","X","X","X","X","X","X","X",21,-205.34,-1.38,-2.58,28.73,-99999999,0.78,5.55,7.75,0,"X","X"]
[70,10,"X","X","X","X","X","X","X","X","X","X","X","X","X","X","X","X","X","X","X","X","X","X","X","X","X","X","X","X","X","X","X","X","X","X","X","X","X","X","X","X","X","X","X","X","X","X","X","X","X","X","X","X","X","X","X","X","X","X","X","X","X","X","X","X","X","X","X","X","X","X","X","X","X","X","X","X","X","X","X","X","X","X","X","X","X","X","X","X","X","X","X","X","X","X","X","X","X","X","X","X","X","X","X","X","X","X","X","X","X","X","X","X","X","X","X","X","X","X","X","X","X",22,-215.85,-1.72,-2.92,26.14,-99999999,0.72,5.42,7.62,0,"X","X"]
[71,11,"X","X","X","X","X","X","X","X","X","X","X","X","X","X","X","X","X","X","X","X","X","X","X","X","X","X","X","X","X","X","X","X","X","X","X","X","X","X","X","X","X","X","X","X","X","X","X","X","X","X","X","X","X","X","X","X","X","X","X","X","X","X","X","X","X","X","X","X","X","X","X","X","X","X","X","X","X","X","X","X","X","X","X","X","X","X","X","X","X","X","X","X","X","X","X","X","X","X","X","X","X","X","X","X","X","X","X","X","X","X","X","X","X","X","X","X","X","X","X","X","X",23,-225.48,-2.02,-3.22,23.77,-99999999,0.67,5.3,7.5,0,"X","X"]
[72,12,"X","X","X","X","X","X","X","X","X","X","X","X","X","X","X","X","X","X","X","X","X","X","X","X","X","X","X","X","X","X","X","X","X","X","X","X","X","X","X","X","X","X","X","X","X","X","X","X","X","X","X","X","X","X","X","X","X","X","X","X","X","X","X","X","X","X","X","X","X","X","X","X","X","X","X","X","X","X","X","X","X","X","X","X","X","X","X","X","X","X","X","X","X","X","X","X","X","X","X","X","X","X","X","X","X","X","X","X","X","X","X","X","X","X","X","X","X","X","X","X","X",24,-234.41,-2.2999999999999998,-3.5,21.6,-99999999,0.62,5.19,7.39,0,"X","X"]
[73,1,"X","X","X","X","X","X","X","X","X","X","X","X","X","X","X","X","X","X","X","X","X","X","X","X","X","X","X","X","X","X","X","X","X","X","X","X","X","X","X","X","X","X","X","X","X","X","X","X","X","X","X","X","X","X","X","X","X","X","X","X","X","X","X","X","X","X","X","X","X","X","X","X","X","X","X","X","X","X","X","X","X","X","X","X","X","X","X","X","X","X","X","X","X","X","X","X","X","X","X","X","X","X","X","X","X","X","X","X","X","X","X","X","X","X","X","X","X","X","X","X","X","X","X","X","X","X","X","X","X","X","X","X","X"]
[74,2,"X","X","X","X","X","X","X","X","X","X","X","X","X","X","X","X","X","X","X","X","X","X","X","X","X","X","X","X","X","X","X","X","X","X","X","X","X","X","X","X","X","X","X","X","X","X","X","X","X","X","X","X","X","X","X","X","X","X","X","X","X","X","X","X","X","X","X","X","X","X","X","X","X","X","X","X","X","X","X","X","X","X","X","X","X","X","X","X","X","X","X","X","X","X","X","X","X","X","X","X","X","X","X","X","X","X","X","X","X","X","X","X","X","X","X","X","X","X","X","X","X","X","X","X","X","X","X","X","X","X","X","X","X"]
[75,3,"X","X","X","X","X","X","X","X","X","X","X","X","X","X","X","X","X","X","X","X","X","X","X","X","X","X","X","X","X","X","X","X","X","X","X","X","X","X","X","X","X","X","X","X","X","X","X","X","X","X","X","X","X","X","X","X","X","X","X","X","X","X","X","X","X","X","X","X","X","X","X","X","X","X","X","X","X","X","X","X","X","X","X","X","X","X","X","X","X","X","X","X","X","X","X","X","X","X","X","X","X","X","X","X","X","X","X","X","X","X","X","X","X","X","X","X","X","X","X","X","X","X","X","X","X","X","X","X","X","X","X","X","X"]
[76,4,"X","X","X","X","X","X","X","X","X","X","X","X","X","X","X","X","X","X","X","X","X","X","X","X","X","X","X","X","X","X","X","X","X","X","X","X","X","X","X","X","X","X","X","X","X","X","X","X","X","X","X","X","X","X","X","X","X","X","X","X","X","X","X","X","X","X","X","X","X","X","X","X","X","X","X","X","X","X","X","X","X","X","X","X","X","X","X","X","X","X","X","X","X","X","X","X","X","X","X","X","X","X","X","X","X","X","X","X","X","X","X","X","X","X","X","X","X","X","X","X","X","X","X","X","X","X","X","X","X","X","X","X","X"]
[77,5,"X","X","X","X","X","X","X","X","X","X","X","X","X","X","X","X","X","X","X","X","X","X","X","X","X","X","X","X","X","X","X","X","X","X","X","X","X","X","X","X","X","X","X","X","X","X","X","X","X","X","X","X","X","X","X","X","X","X","X","X","X","X","X","X","X","X","X","X","X","X","X","X","X","X","X","X","X","X","X","X","X","X","X","X","X","X","X","X","X","X","X","X","X","X","X","X","X","X","X","X","X","X","X","X","X","X","X","X","X","X","X","X","X","X","X","X","X","X","X","X","X","X","X","X","X","X","X","X","X","X","X","X","X"]
[78,6,"X","X","X","X","X","X","X","X","X","X","X","X","X","X","X","X","X","X","X","X","X","X","X","X","X","X","X","X","X","X","X","X","X","X","X","X","X","X","X","X","X","X","X","X","X","X","X","X","X","X","X","X","X","X","X","X","X","X","X","X","X","X","X","X","X","X","X","X","X","X","X","X","X","X","X","X","X","X","X","X","X","X","X","X","X","X","X","X","X","X","X","X","X","X","X","X","X","X","X","X","X","X","X","X","X","X","X","X","X","X","X","X","X","X","X","X","X","X","X","X","X","X","X","X","X","X","X","X","X","X","X","X","X"]
[79,7,"X","X","X","X","X","X","X","X","X","X","X","X","X","X","X","X","X","X","X","X","X","X","X","X","X","X","X","X","X","X","X","X","X","X","X","X","X","X","X","X","X","X","X","X","X","X","X","X","X","X","X","X","X","X","X","X","X","X","X","X","X","X","X","X","X","X","X","X","X","X","X","X","X","X","X","X","X","X","X","X","X","X","X","X","X","X","X","X","X","X","X","X","X","X","X","X","X","X","X","X","X","X","X","X","X","X","X","X","X","X","X","X","X","X","X","X","X","X","X","X","X","X","X","X","X","X","X","X","X","X","X","X","X"]
[80,8,"X","X","X","X","X","X","X","X","X","X","X","X","X","X","X","X","X","X","X","X","X","X","X","X","X","X","X","X","X","X","X","X","X","X","X","X","X","X","X","X","X","X","X","X","X","X","X","X","X","X","X","X","X","X","X","X","X","X","X","X","X","X","X","X","X","X","X","X","X","X","X","X","X","X","X","X","X","X","X","X","X","X","X","X","X","X","X","X","X","X","X","X","X","X","X","X","X","X","X","X","X","X","X","X","X","X","X","X","X","X","X","X","X","X","X","X","X","X","X","X","X","X","X","X","X","X","X","X","X","X","X","X","X"]
[81,9,"X","X","X","X","X","X","X","X","X","X","X","X","X","X","X","X","X","X","X","X","X","X","X","X","X","X","X","X","X","X","X","X","X","X","X","X","X","X","X","X","X","X","X","X","X","X","X","X","X","X","X","X","X","X","X","X","X","X","X","X","X","X","X","X","X","X","X","X","X","X","X","X","X","X","X","X","X","X","X","X","X","X","X","X","X","X","X","X","X","X","X","X","X","X","X","X","X","X","X","X","X","X","X","X","X","X","X","X","X","X","X","X","X","X","X","X","X","X","X","X","X","X","X","X","X","X","X","X","X","X","X","X","X"]
[82,10,"X","X","X","X","X","X","X","X","X","X","X","X","X","X","X","X","X","X","X","X","X","X","X","X","X","X","X","X","X","X","X","X","X","X","X","X","X","X","X","X","X","X","X","X","X","X","X","X","X","X","X","X","X","X","X","X","X","X","X","X","X","X","X","X","X","X","X","X","X","X","X","X","X","X","X","X","X","X","X","X","X","X","X","X","X","X","X","X","X","X","X","X","X","X","X","X","X","X","X","X","X","X","X","X","X","X","X","X","X","X","X","X","X","X","X","X","X","X","X","X","X","X","X","X","X","X","X","X","X","X","X","X","X"]
[83,11,"X","X","X","X","X","X","X","X","X","X","X","X","X","X","X","X","X","X","X","X","X","X","X","X","X","X","X","X","X","X","X","X","X","X","X","X","X","X","X","X","X","X","X","X","X","X","X","X","X","X","X","X","X","X","X","X","X","X","X","X","X","X","X","X","X","X","X","X","X","X","X","X","X","X","X","X","X","X","X","X","X","X","X","X","X","X","X","X","X","X","X","X","X","X","X","X","X","X","X","X","X","X","X","X","X","X","X","X","X","X","X","X","X","X","X","X","X","X","X","X","X","X","X","X","X","X","X","X","X","X","X","X","X"]
[84,12,"X","X","X","X","X","X","X","X","X","X","X","X","X","X","X","X","X","X","X","X","X","X","X","X","X","X","X","X","X","X","X","X","X","X","X","X","X","X","X","X","X","X","X","X","X","X","X","X","X","X","X","X","X","X","X","X","X","X","X","X","X","X","X","X","X","X","X","X","X","X","X","X","X","X","X","X","X","X","X","X","X","X","X","X","X","X","X","X","X","X","X","X","X","X","X","X","X","X","X","X","X","X","X","X","X","X","X","X","X","X","X","X","X","X","X","X","X","X","X","X","X","X","X","X","X","X","X","X","X","X","X","X","X"]
[85,1,"X","X","X","X","X","X","X","X","X","X","X","X","X","X","X","X","X","X","X","X","X","X","X","X","X","X","X","X","X","X","X","X","X","X","X","X","X","X","X","X","X","X","X","X","X","X","X","X","X","X","X","X","X","X","X","X","X","X","X","X","X","X","X","X","X","X","X","X","X","X","X","X","X","X","X","X","X","X","X","X","X","X","X","X","X","X","X","X","X","X","X","X","X","X","X","X","X","X","X","X","X","X","X","X","X","X","X","X","X","X","X","X","X","X","X","X","X","X","X","X","X","X","X","X","X","X","X","X","X","X","X","X","X"]
[86,2,"X","X","X","X","X","X","X","X","X","X","X","X","X","X","X","X","X","X","X","X","X","X","X","X","X","X","X","X","X","X","X","X","X","X","X","X","X","X","X","X","X","X","X","X","X","X","X","X","X","X","X","X","X","X","X","X","X","X","X","X","X","X","X","X","X","X","X","X","X","X","X","X","X","X","X","X","X","X","X","X","X","X","X","X","X","X","X","X","X","X","X","X","X","X","X","X","X","X","X","X","X","X","X","X","X","X","X","X","X","X","X","X","X","X","X","X","X","X","X","X","X","X","X","X","X","X","X","X","X","X","X","X","X"]
[87,3,"X","X","X","X","X","X","X","X","X","X","X","X","X","X","X","X","X","X","X","X","X","X","X","X","X","X","X","X","X","X","X","X","X","X","X","X","X","X","X","X","X","X","X","X","X","X","X","X","X","X","X","X","X","X","X","X","X","X","X","X","X","X","X","X","X","X","X","X","X","X","X","X","X","X","X","X","X","X","X","X","X","X","X","X","X","X","X","X","X","X","X","X","X","X","X","X","X","X","X","X","X","X","X","X","X","X","X","X","X","X","X","X","X","X","X","X","X","X","X","X","X","X","X","X","X","X","X","X","X","X","X","X","X"]
[88,4,"X","X","X","X","X","X","X","X","X","X","X","X","X","X","X","X","X","X","X","X","X","X","X","X","X","X","X","X","X","X","X","X","X","X","X","X","X","X","X","X","X","X","X","X","X","X","X","X","X","X","X","X","X","X","X","X","X","X","X","X","X","X","X","X","X","X","X","X","X","X","X","X","X","X","X","X","X","X","X","X","X","X","X","X","X","X","X","X","X","X","X","X","X","X","X","X","X","X","X","X","X","X","X","X","X","X","X","X","X","X","X","X","X","X","X","X","X","X","X","X","X","X","X","X","X","X","X","X","X","X","X","X","X"]
[89,5,"X","X","X","X","X","X","X","X","X","X","X","X","X","X","X","X","X","X","X","X","X","X","X","X","X","X","X","X","X","X","X","X","X","X","X","X","X","X","X","X","X","X","X","X","X","X","X","X","X","X","X","X","X","X","X","X","X","X","X","X","X","X","X","X","X","X","X","X","X","X","X","X","X","X","X","X","X","X","X","X","X","X","X","X","X","X","X","X","X","X","X","X","X","X","X","X","X","X","X","X","X","X","X","X","X","X","X","X","X","X","X","X","X","X","X","X","X","X","X","X","X","X","X","X","X","X","X","X","X","X","X","X","X"]
[90,6,"X","X","X","X","X","X","X","X","X","X","X","X","X","X","X","X","X","X","X","X","X","X","X","X","X","X","X","X","X","X","X","X","X","X","X","X","X","X","X","X","X","X","X","X","X","X","X","X","X","X","X","X","X","X","X","X","X","X","X","X","X","X","X","X","X","X","X","X","X","X","X","X","X","X","X","X","X","X","X","X","X","X","X","X","X","X","X","X","X","X","X","X","X","X","X","X","X","X","X","X","X","X","X","X","X","X","X","X","X","X","X","X","X","X","X","X","X","X","X","X","X","X","X","X","X","X","X","X","X","X","X","X","X"]
[91,7,"X","X","X","X","X","X","X","X","X","X","X","X","X","X","X","X","X","X","X","X","X","X","X","X","X","X","X","X","X","X","X","X","X","X","X","X","X","X","X","X","X","X","X","X","X","X","X","X","X","X","X","X","X","X","X","X","X","X","X","X","X","X","X","X","X","X","X","X","X","X","X","X","X","X","X","X","X","X","X","X","X","X","X","X","X","X","X","X","X","X","X","X","X","X","X","X","X","X","X","X","X","X","X","X","X","X","X","X","X","X","X","X","X","X","X","X","X","X","X","X","X","X","X","X","X","X","X","X","X","X","X","X","X"]
[92,8,"X","X","X","X","X","X","X","X","X","X","X","X","X","X","X","X","X","X","X","X","X","X","X","X","X","X","X","X","X","X","X","X","X","X","X","X","X","X","X","X","X","X","X","X","X","X","X","X","X","X","X","X","X","X","X","X","X","X","X","X","X","X","X","X","X","X","X","X","X","X","X","X","X","X","X","X","X","X","X","X","X","X","X","X","X","X","X","X","X","X","X","X","X","X","X","X","X","X","X","X","X","X","X","X","X","X","X","X","X","X","X","X","X","X","X","X","X","X","X","X","X","X","X","X","X","X","X","X","X","X","X","X","X"]
[93,9,"X","X","X","X","X","X","X","X","X","X","X","X","X","X","X","X","X","X","X","X","X","X","X","X","X","X","X","X","X","X","X","X","X","X","X","X","X","X","X","X","X","X","X","X","X","X","X","X","X","X","X","X","X","X","X","X","X","X","X","X","X","X","X","X","X","X","X","X","X","X","X","X","X","X","X","X","X","X","X","X","X","X","X","X","X","X","X","X","X","X","X","X","X","X","X","X","X","X","X","X","X","X","X","X","X","X","X","X","X","X","X","X","X","X","X","X","X","X","X","X","X","X","X","X","X","X","X","X","X","X","X","X","X"]
[94,10,"X","X","X","X","X","X","X","X","X","X","X","X","X","X","X","X","X","X","X","X","X","X","X","X","X","X","X","X","X","X","X","X","X","X","X","X","X","X","X","X","X","X","X","X","X","X","X","X","X","X","X","X","X","X","X","X","X","X","X","X","X","X","X","X","X","X","X","X","X","X","X","X","X","X","X","X","X","X","X","X","X","X","X","X","X","X","X","X","X","X","X","X","X","X","X","X","X","X","X","X","X","X","X","X","X","X","X","X","X","X","X","X","X","X","X","X","X","X","X","X","X","X","X","X","X","X","X","X","X","X","X","X","X"]
[95,11,"X","X","X","X","X","X","X","X","X","X","X","X","X","X","X","X","X","X","X","X","X","X","X","X","X","X","X","X","X","X","X","X","X","X","X","X","X","X","X","X","X","X","X","X","X","X","X","X","X","X","X","X","X","X","X","X","X","X","X","X","X","X","X","X","X","X","X","X","X","X","X","X","X","X","X","X","X","X","X","X","X","X","X","X","X","X","X","X","X","X","X","X","X","X","X","X","X","X","X","X","X","X","X","X","X","X","X","X","X","X","X","X","X","X","X","X","X","X","X","X","X","X","X","X","X","X","X","X","X","X","X","X","X"]
[96,12,"X","X","X","X","X","X","X","X","X","X","X","X","X","X","X","X","X","X","X","X","X","X","X","X","X","X","X","X","X","X","X","X","X","X","X","X","X","X","X","X","X","X","X","X","X","X","X","X","X","X","X","X","X","X","X","X","X","X","X","X","X","X","X","X","X","X","X","X","X","X","X","X","X","X","X","X","X","X","X","X","X","X","X","X","X","X","X","X","X","X","X","X","X","X","X","X","X","X","X","X","X","X","X","X","X","X","X","X","X","X","X","X","X","X","X","X","X","X","X","X","X","X","X","X","X","X","X","X","X","X","X","X","X"]
[97,1,"X","X","X","X","X","X","X","X","X","X","X","X","X","X","X","X","X","X","X","X","X","X","X","X","X","X","X","X","X","X","X","X","X","X","X","X","X","X","X","X","X","X","X","X","X","X","X","X","X","X","X","X","X","X","X","X","X","X","X","X","X","X","X","X","X","X","X","X","X","X","X","X","X","X","X","X","X","X","X","X","X","X","X","X","X","X","X","X","X","X","X","X","X","X","X","X","X","X","X","X","X","X","X","X","X","X","X","X","X","X","X","X","X","X","X","X","X","X","X","X","X","X","X","X","X","X","X","X","X","X","X","X","X"]
[98,2,"X","X","X","X","X","X","X","X","X","X","X","X","X","X","X","X","X","X","X","X","X","X","X","X","X","X","X","X","X","X","X","X","X","X","X","X","X","X","X","X","X","X","X","X","X","X","X","X","X","X","X","X","X","X","X","X","X","X","X","X","X","X","X","X","X","X","X","X","X","X","X","X","X","X","X","X","X","X","X","X","X","X","X","X","X","X","X","X","X","X","X","X","X","X","X","X","X","X","X","X","X","X","X","X","X","X","X","X","X","X","X","X","X","X","X","X","X","X","X","X","X","X","X","X","X","X","X","X","X","X","X","X","X"]
[99,3,"X","X","X","X","X","X","X","X","X","X","X","X","X","X","X","X","X","X","X","X","X","X","X","X","X","X","X","X","X","X","X","X","X","X","X","X","X","X","X","X","X","X","X","X","X","X","X","X","X","X","X","X","X","X","X","X","X","X","X","X","X","X","X","X","X","X","X","X","X","X","X","X","X","X","X","X","X","X","X","X","X","X","X","X","X","X","X","X","X","X","X","X","X","X","X","X","X","X","X","X","X","X","X","X","X","X","X","X","X","X","X","X","X","X","X","X","X","X","X","X","X","X","X","X","X","X","X","X","X","X","X","X","X"]
[100,4,"X","X","X","X","X","X","X","X","X","X","X","X","X","X","X","X","X","X","X","X","X","X","X","X","X","X","X","X","X","X","X","X","X","X","X","X","X","X","X","X","X","X","X","X","X","X","X","X","X","X","X","X","X","X","X","X","X","X","X","X","X","X","X","X","X","X","X","X","X","X","X","X","X","X","X","X","X","X","X","X","X","X","X","X","X","X","X","X","X","X","X","X","X","X","X","X","X","X","X","X","X","X","X","X","X","X","X","X","X","X","X","X","X","X","X","X","X","X","X","X","X","X","X","X","X","X","X","X","X","X","X","X","X"]
[101,5,"X","X","X","X","X","X","X","X","X","X","X","X","X","X","X","X","X","X","X","X","X","X","X","X","X","X","X","X","X","X","X","X","X","X","X","X","X","X","X","X","X","X","X","X","X","X","X","X","X","X","X","X","X","X","X","X","X","X","X","X","X","X","X","X","X","X","X","X","X","X","X","X","X","X","X","X","X","X","X","X","X","X","X","X","X","X","X","X","X","X","X","X","X","X","X","X","X","X","X","X","X","X","X","X","X","X","X","X","X","X","X","X","X","X","X","X","X","X","X","X","X","X","X","X","X","X","X","X","X","X","X","X","X"]
[102,6,"X","X","X","X","X","X","X","X","X","X","X","X","X","X","X","X","X","X","X","X","X","X","X","X","X","X","X","X","X","X","X","X","X","X","X","X","X","X","X","X","X","X","X","X","X","X","X","X","X","X","X","X","X","X","X","X","X","X","X","X","X","X","X","X","X","X","X","X","X","X","X","X","X","X","X","X","X","X","X","X","X","X","X","X","X","X","X","X","X","X","X","X","X","X","X","X","X","X","X","X","X","X","X","X","X","X","X","X","X","X","X","X","X","X","X","X","X","X","X","X","X","X","X","X","X","X","X","X","X","X","X","X","X"]
[103,7,"X","X","X","X","X","X","X","X","X","X","X","X","X","X","X","X","X","X","X","X","X","X","X","X","X","X","X","X","X","X","X","X","X","X","X","X","X","X","X","X","X","X","X","X","X","X","X","X","X","X","X","X","X","X","X","X","X","X","X","X","X","X","X","X","X","X","X","X","X","X","X","X","X","X","X","X","X","X","X","X","X","X","X","X","X","X","X","X","X","X","X","X","X","X","X","X","X","X","X","X","X","X","X","X","X","X","X","X","X","X","X","X","X","X","X","X","X","X","X","X","X","X","X","X","X","X","X","X","X","X","X","X","X"]
[104,8,"X","X","X","X","X","X","X","X","X","X","X","X","X","X","X","X","X","X","X","X","X","X","X","X","X","X","X","X","X","X","X","X","X","X","X","X","X","X","X","X","X","X","X","X","X","X","X","X","X","X","X","X","X","X","X","X","X","X","X","X","X","X","X","X","X","X","X","X","X","X","X","X","X","X","X","X","X","X","X","X","X","X","X","X","X","X","X","X","X","X","X","X","X","X","X","X","X","X","X","X","X","X","X","X","X","X","X","X","X","X","X","X","X","X","X","X","X","X","X","X","X","X","X","X","X","X","X","X","X","X","X","X","X"]
[105,9,"X","X","X","X","X","X","X","X","X","X","X","X","X","X","X","X","X","X","X","X","X","X","X","X","X","X","X","X","X","X","X","X","X","X","X","X","X","X","X","X","X","X","X","X","X","X","X","X","X","X","X","X","X","X","X","X","X","X","X","X","X","X","X","X","X","X","X","X","X","X","X","X","X","X","X","X","X","X","X","X","X","X","X","X","X","X","X","X","X","X","X","X","X","X","X","X","X","X","X","X","X","X","X","X","X","X","X","X","X","X","X","X","X","X","X","X","X","X","X","X","X","X","X","X","X","X","X","X","X","X","X","X","X"]
[106,10,"X","X","X","X","X","X","X","X","X","X","X","X","X","X","X","X","X","X","X","X","X","X","X","X","X","X","X","X","X","X","X","X","X","X","X","X","X","X","X","X","X","X","X","X","X","X","X","X","X","X","X","X","X","X","X","X","X","X","X","X","X","X","X","X","X","X","X","X","X","X","X","X","X","X","X","X","X","X","X","X","X","X","X","X","X","X","X","X","X","X","X","X","X","X","X","X","X","X","X","X","X","X","X","X","X","X","X","X","X","X","X","X","X","X","X","X","X","X","X","X","X","X","X","X","X","X","X","X","X","X","X","X","X"]
[107,11,"X","X","X","X","X","X","X","X","X","X","X","X","X","X","X","X","X","X","X","X","X","X","X","X","X","X","X","X","X","X","X","X","X","X","X","X","X","X","X","X","X","X","X","X","X","X","X","X","X","X","X","X","X","X","X","X","X","X","X","X","X","X","X","X","X","X","X","X","X","X","X","X","X","X","X","X","X","X","X","X","X","X","X","X","X","X","X","X","X","X","X","X","X","X","X","X","X","X","X","X","X","X","X","X","X","X","X","X","X","X","X","X","X","X","X","X","X","X","X","X","X","X","X","X","X","X","X","X","X","X","X","X","X"]
[108,12,"X","X","X","X","X","X","X","X","X","X","X","X","X","X","X","X","X","X","X","X","X","X","X","X","X","X","X","X","X","X","X","X","X","X","X","X","X","X","X","X","X","X","X","X","X","X","X","X","X","X","X","X","X","X","X","X","X","X","X","X","X","X","X","X","X","X","X","X","X","X","X","X","X","X","X","X","X","X","X","X","X","X","X","X","X","X","X","X","X","X","X","X","X","X","X","X","X","X","X","X","X","X","X","X","X","X","X","X","X","X","X","X","X","X","X","X","X","X","X","X","X","X","X","X","X","X","X","X","X","X","X","X","X"]
[109,1,"X","X","X","X","X","X","X","X","X","X","X","X","X","X","X","X","X","X","X","X","X","X","X","X","X","X","X","X","X","X","X","X","X","X","X","X","X","X","X","X","X","X","X","X","X","X","X","X","X","X","X","X","X","X","X","X","X","X","X","X","X","X","X","X","X","X","X","X","X","X","X","X","X","X","X","X","X","X","X","X","X","X","X","X","X","X","X","X","X","X","X","X","X","X","X","X","X","X","X","X","X","X","X","X","X","X","X","X","X","X","X","X","X","X","X","X","X","X","X","X","X","X","X","X","X","X","X","X","X","X","X","X","X"]
[110,2,"X","X","X","X","X","X","X","X","X","X","X","X","X","X","X","X","X","X","X","X","X","X","X","X","X","X","X","X","X","X","X","X","X","X","X","X","X","X","X","X","X","X","X","X","X","X","X","X","X","X","X","X","X","X","X","X","X","X","X","X","X","X","X","X","X","X","X","X","X","X","X","X","X","X","X","X","X","X","X","X","X","X","X","X","X","X","X","X","X","X","X","X","X","X","X","X","X","X","X","X","X","X","X","X","X","X","X","X","X","X","X","X","X","X","X","X","X","X","X","X","X","X","X","X","X","X","X","X","X","X","X","X","X"]
[111,3,"X","X","X","X","X","X","X","X","X","X","X","X","X","X","X","X","X","X","X","X","X","X","X","X","X","X","X","X","X","X","X","X","X","X","X","X","X","X","X","X","X","X","X","X","X","X","X","X","X","X","X","X","X","X","X","X","X","X","X","X","X","X","X","X","X","X","X","X","X","X","X","X","X","X","X","X","X","X","X","X","X","X","X","X","X","X","X","X","X","X","X","X","X","X","X","X","X","X","X","X","X","X","X","X","X","X","X","X","X","X","X","X","X","X","X","X","X","X","X","X","X","X","X","X","X","X","X","X","X","X","X","X","X"]
[112,4,"X","X","X","X","X","X","X","X","X","X","X","X","X","X","X","X","X","X","X","X","X","X","X","X","X","X","X","X","X","X","X","X","X","X","X","X","X","X","X","X","X","X","X","X","X","X","X","X","X","X","X","X","X","X","X","X","X","X","X","X","X","X","X","X","X","X","X","X","X","X","X","X","X","X","X","X","X","X","X","X","X","X","X","X","X","X","X","X","X","X","X","X","X","X","X","X","X","X","X","X","X","X","X","X","X","X","X","X","X","X","X","X","X","X","X","X","X","X","X","X","X","X","X","X","X","X","X","X","X","X","X","X","X"]
[113,5,"X","X","X","X","X","X","X","X","X","X","X","X","X","X","X","X","X","X","X","X","X","X","X","X","X","X","X","X","X","X","X","X","X","X","X","X","X","X","X","X","X","X","X","X","X","X","X","X","X","X","X","X","X","X","X","X","X","X","X","X","X","X","X","X","X","X","X","X","X","X","X","X","X","X","X","X","X","X","X","X","X","X","X","X","X","X","X","X","X","X","X","X","X","X","X","X","X","X","X","X","X","X","X","X","X","X","X","X","X","X","X","X","X","X","X","X","X","X","X","X","X","X","X","X","X","X","X","X","X","X","X","X","X"]
[114,6,"X","X","X","X","X","X","X","X","X","X","X","X","X","X","X","X","X","X","X","X","X","X","X","X","X","X","X","X","X","X","X","X","X","X","X","X","X","X","X","X","X","X","X","X","X","X","X","X","X","X","X","X","X","X","X","X","X","X","X","X","X","X","X","X","X","X","X","X","X","X","X","X","X","X","X","X","X","X","X","X","X","X","X","X","X","X","X","X","X","X","X","X","X","X","X","X","X","X","X","X","X","X","X","X","X","X","X","X","X","X","X","X","X","X","X","X","X","X","X","X","X","X","X","X","X","X","X","X","X","X","X","X","X"]
[115,7,"X","X","X","X","X","X","X","X","X","X","X","X","X","X","X","X","X","X","X","X","X","X","X","X","X","X","X","X","X","X","X","X","X","X","X","X","X","X","X","X","X","X","X","X","X","X","X","X","X","X","X","X","X","X","X","X","X","X","X","X","X","X","X","X","X","X","X","X","X","X","X","X","X","X","X","X","X","X","X","X","X","X","X","X","X","X","X","X","X","X","X","X","X","X","X","X","X","X","X","X","X","X","X","X","X","X","X","X","X","X","X","X","X","X","X","X","X","X","X","X","X","X","X","X","X","X","X","X","X","X","X","X","X"]
[116,8,"X","X","X","X","X","X","X","X","X","X","X","X","X","X","X","X","X","X","X","X","X","X","X","X","X","X","X","X","X","X","X","X","X","X","X","X","X","X","X","X","X","X","X","X","X","X","X","X","X","X","X","X","X","X","X","X","X","X","X","X","X","X","X","X","X","X","X","X","X","X","X","X","X","X","X","X","X","X","X","X","X","X","X","X","X","X","X","X","X","X","X","X","X","X","X","X","X","X","X","X","X","X","X","X","X","X","X","X","X","X","X","X","X","X","X","X","X","X","X","X","X","X","X","X","X","X","X","X","X","X","X","X","X"]
[117,9,"X","X","X","X","X","X","X","X","X","X","X","X","X","X","X","X","X","X","X","X","X","X","X","X","X","X","X","X","X","X","X","X","X","X","X","X","X","X","X","X","X","X","X","X","X","X","X","X","X","X","X","X","X","X","X","X","X","X","X","X","X","X","X","X","X","X","X","X","X","X","X","X","X","X","X","X","X","X","X","X","X","X","X","X","X","X","X","X","X","X","X","X","X","X","X","X","X","X","X","X","X","X","X","X","X","X","X","X","X","X","X","X","X","X","X","X","X","X","X","X","X","X","X","X","X","X","X","X","X","X","X","X","X"]
[118,10,"X","X","X","X","X","X","X","X","X","X","X","X","X","X","X","X","X","X","X","X","X","X","X","X","X","X","X","X","X","X","X","X","X","X","X","X","X","X","X","X","X","X","X","X","X","X","X","X","X","X","X","X","X","X","X","X","X","X","X","X","X","X","X","X","X","X","X","X","X","X","X","X","X","X","X","X","X","X","X","X","X","X","X","X","X","X","X","X","X","X","X","X","X","X","X","X","X","X","X","X","X","X","X","X","X","X","X","X","X","X","X","X","X","X","X","X","X","X","X","X","X","X","X","X","X","X","X","X","X","X","X","X","X"]
[119,11,"X","X","X","X","X","X","X","X","X","X","X","X","X","X","X","X","X","X","X","X","X","X","X","X","X","X","X","X","X","X","X","X","X","X","X","X","X","X","X","X","X","X","X","X","X","X","X","X","X","X","X","X","X","X","X","X","X","X","X","X","X","X","X","X","X","X","X","X","X","X","X","X","X","X","X","X","X","X","X","X","X","X","X","X","X","X","X","X","X","X","X","X","X","X","X","X","X","X","X","X","X","X","X","X","X","X","X","X","X","X","X","X","X","X","X","X","X","X","X","X","X","X","X","X","X","X","X","X","X","X","X","X","X"]
[120,12,"X","X","X","X","X","X","X","X","X","X","X","X","X","X","X","X","X","X","X","X","X","X","X","X","X","X","X","X","X","X","X","X","X","X","X","X","X","X","X","X","X","X","X","X","X","X","X","X","X","X","X","X","X","X","X","X","X","X","X","X","X","X","X","X","X","X","X","X","X","X","X","X","X","X","X","X","X","X","X","X","X","X","X","X","X","X","X","X","X","X","X","X","X","X","X","X","X","X","X","X","X","X","X","X","X","X","X","X","X","X","X","X","X","X","X","X","X","X","X","X","X","X","X","X","X","X","X","X","X","X","X","X","X"]
[121,1,"X","X","X","X","X","X","X","X","X","X","X","X","X","X","X","X","X","X","X","X","X","X","X","X","X","X","X","X","X","X","X","X","X","X","X","X","X","X","X","X","X","X","X","X","X","X","X","X","X","X","X","X","X","X","X","X","X","X","X","X","X","X","X","X","X","X","X","X","X","X","X","X","X","X","X","X","X","X","X","X","X","X","X","X","X","X","X","X","X","X","X","X","X","X","X","X","X","X","X","X","X","X","X","X","X","X","X","X","X","X","X","X","X","X","X","X","X","X","X","X","X","X","X","X","X","X","X","X","X","X","X","X","X"]
[122,2,"X","X","X","X","X","X","X","X","X","X","X","X","X","X","X","X","X","X","X","X","X","X","X","X","X","X","X","X","X","X","X","X","X","X","X","X","X","X","X","X","X","X","X","X","X","X","X","X","X","X","X","X","X","X","X","X","X","X","X","X","X","X","X","X","X","X","X","X","X","X","X","X","X","X","X","X","X","X","X","X","X","X","X","X","X","X","X","X","X","X","X","X","X","X","X","X","X","X","X","X","X","X","X","X","X","X","X","X","X","X","X","X","X","X","X","X","X","X","X","X","X","X","X","X","X","X","X","X","X","X","X","X","X"]
[123,3,"X","X","X","X","X","X","X","X","X","X","X","X","X","X","X","X","X","X","X","X","X","X","X","X","X","X","X","X","X","X","X","X","X","X","X","X","X","X","X","X","X","X","X","X","X","X","X","X","X","X","X","X","X","X","X","X","X","X","X","X","X","X","X","X","X","X","X","X","X","X","X","X","X","X","X","X","X","X","X","X","X","X","X","X","X","X","X","X","X","X","X","X","X","X","X","X","X","X","X","X","X","X","X","X","X","X","X","X","X","X","X","X","X","X","X","X","X","X","X","X","X","X","X","X","X","X","X","X","X","X","X","X","X"]
[124,4,"X","X","X","X","X","X","X","X","X","X","X","X","X","X","X","X","X","X","X","X","X","X","X","X","X","X","X","X","X","X","X","X","X","X","X","X","X","X","X","X","X","X","X","X","X","X","X","X","X","X","X","X","X","X","X","X","X","X","X","X","X","X","X","X","X","X","X","X","X","X","X","X","X","X","X","X","X","X","X","X","X","X","X","X","X","X","X","X","X","X","X","X","X","X","X","X","X","X","X","X","X","X","X","X","X","X","X","X","X","X","X","X","X","X","X","X","X","X","X","X","X","X","X","X","X","X","X","X","X","X","X","X","X"]
[125,5,"X","X","X","X","X","X","X","X","X","X","X","X","X","X","X","X","X","X","X","X","X","X","X","X","X","X","X","X","X","X","X","X","X","X","X","X","X","X","X","X","X","X","X","X","X","X","X","X","X","X","X","X","X","X","X","X","X","X","X","X","X","X","X","X","X","X","X","X","X","X","X","X","X","X","X","X","X","X","X","X","X","X","X","X","X","X","X","X","X","X","X","X","X","X","X","X","X","X","X","X","X","X","X","X","X","X","X","X","X","X","X","X","X","X","X","X","X","X","X","X","X","X","X","X","X","X","X","X","X","X","X","X","X"]
[126,6,"X","X","X","X","X","X","X","X","X","X","X","X","X","X","X","X","X","X","X","X","X","X","X","X","X","X","X","X","X","X","X","X","X","X","X","X","X","X","X","X","X","X","X","X","X","X","X","X","X","X","X","X","X","X","X","X","X","X","X","X","X","X","X","X","X","X","X","X","X","X","X","X","X","X","X","X","X","X","X","X","X","X","X","X","X","X","X","X","X","X","X","X","X","X","X","X","X","X","X","X","X","X","X","X","X","X","X","X","X","X","X","X","X","X","X","X","X","X","X","X","X","X","X","X","X","X","X","X","X","X","X","X","X"]
[127,7,"X","X","X","X","X","X","X","X","X","X","X","X","X","X","X","X","X","X","X","X","X","X","X","X","X","X","X","X","X","X","X","X","X","X","X","X","X","X","X","X","X","X","X","X","X","X","X","X","X","X","X","X","X","X","X","X","X","X","X","X","X","X","X","X","X","X","X","X","X","X","X","X","X","X","X","X","X","X","X","X","X","X","X","X","X","X","X","X","X","X","X","X","X","X","X","X","X","X","X","X","X","X","X","X","X","X","X","X","X","X","X","X","X","X","X","X","X","X","X","X","X","X","X","X","X","X","X","X","X","X","X","X","X"]
[128,8,"X","X","X","X","X","X","X","X","X","X","X","X","X","X","X","X","X","X","X","X","X","X","X","X","X","X","X","X","X","X","X","X","X","X","X","X","X","X","X","X","X","X","X","X","X","X","X","X","X","X","X","X","X","X","X","X","X","X","X","X","X","X","X","X","X","X","X","X","X","X","X","X","X","X","X","X","X","X","X","X","X","X","X","X","X","X","X","X","X","X","X","X","X","X","X","X","X","X","X","X","X","X","X","X","X","X","X","X","X","X","X","X","X","X","X","X","X","X","X","X","X","X","X","X","X","X","X","X","X","X","X","X","X"]
[129,9,"X","X","X","X","X","X","X","X","X","X","X","X","X","X","X","X","X","X","X","X","X","X","X","X","X","X","X","X","X","X","X","X","X","X","X","X","X","X","X","X","X","X","X","X","X","X","X","X","X","X","X","X","X","X","X","X","X","X","X","X","X","X","X","X","X","X","X","X","X","X","X","X","X","X","X","X","X","X","X","X","X","X","X","X","X","X","X","X","X","X","X","X","X","X","X","X","X","X","X","X","X","X","X","X","X","X","X","X","X","X","X","X","X","X","X","X","X","X","X","X","X","X","X","X","X","X","X","X","X","X","X","X","X"]
[130,10,"X","X","X","X","X","X","X","X","X","X","X","X","X","X","X","X","X","X","X","X","X","X","X","X","X","X","X","X","X","X","X","X","X","X","X","X","X","X","X","X","X","X","X","X","X","X","X","X","X","X","X","X","X","X","X","X","X","X","X","X","X","X","X","X","X","X","X","X","X","X","X","X","X","X","X","X","X","X","X","X","X","X","X","X","X","X","X","X","X","X","X","X","X","X","X","X","X","X","X","X","X","X","X","X","X","X","X","X","X","X","X","X","X","X","X","X","X","X","X","X","X","X","X","X","X","X","X","X","X","X","X","X","X"]
[131,11,"X","X","X","X","X","X","X","X","X","X","X","X","X","X","X","X","X","X","X","X","X","X","X","X","X","X","X","X","X","X","X","X","X","X","X","X","X","X","X","X","X","X","X","X","X","X","X","X","X","X","X","X","X","X","X","X","X","X","X","X","X","X","X","X","X","X","X","X","X","X","X","X","X","X","X","X","X","X","X","X","X","X","X","X","X","X","X","X","X","X","X","X","X","X","X","X","X","X","X","X","X","X","X","X","X","X","X","X","X","X","X","X","X","X","X","X","X","X","X","X","X","X","X","X","X","X","X","X","X","X","X","X","X"]
[132,12,"X","X","X","X","X","X","X","X","X","X","X","X","X","X","X","X","X","X","X","X","X","X","X","X","X","X","X","X","X","X","X","X","X","X","X","X","X","X","X","X","X","X","X","X","X","X","X","X","X","X","X","X","X","X","X","X","X","X","X","X","X","X","X","X","X","X","X","X","X","X","X","X","X","X","X","X","X","X","X","X","X","X","X","X","X","X","X","X","X","X","X","X","X","X","X","X","X","X","X","X","X","X","X","X","X","X","X","X","X","X","X","X","X","X","X","X","X","X","X","X","X","X","X","X","X","X","X","X","X","X","X","X","X"]
[133,1,"X","X","X","X","X","X","X","X","X","X","X","X","X","X","X","X","X","X","X","X","X","X","X","X","X","X","X","X","X","X","X","X","X","X","X","X","X","X","X","X","X","X","X","X","X","X","X","X","X","X","X","X","X","X","X","X","X","X","X","X","X","X","X","X","X","X","X","X","X","X","X","X","X","X","X","X","X","X","X","X","X","X","X","X","X","X","X","X","X","X","X","X","X","X","X","X","X","X","X","X","X","X","X","X","X","X","X","X","X","X","X","X","X","X","X","X","X","X","X","X","X","X","X","X","X","X","X","X","X","X","X","X","X"]
[134,2,"X","X","X","X","X","X","X","X","X","X","X","X","X","X","X","X","X","X","X","X","X","X","X","X","X","X","X","X","X","X","X","X","X","X","X","X","X","X","X","X","X","X","X","X","X","X","X","X","X","X","X","X","X","X","X","X","X","X","X","X","X","X","X","X","X","X","X","X","X","X","X","X","X","X","X","X","X","X","X","X","X","X","X","X","X","X","X","X","X","X","X","X","X","X","X","X","X","X","X","X","X","X","X","X","X","X","X","X","X","X","X","X","X","X","X","X","X","X","X","X","X","X","X","X","X","X","X","X","X","X","X","X","X"]
[135,3,"X","X","X","X","X","X","X","X","X","X","X","X","X","X","X","X","X","X","X","X","X","X","X","X","X","X","X","X","X","X","X","X","X","X","X","X","X","X","X","X","X","X","X","X","X","X","X","X","X","X","X","X","X","X","X","X","X","X","X","X","X","X","X","X","X","X","X","X","X","X","X","X","X","X","X","X","X","X","X","X","X","X","X","X","X","X","X","X","X","X","X","X","X","X","X","X","X","X","X","X","X","X","X","X","X","X","X","X","X","X","X","X","X","X","X","X","X","X","X","X","X","X","X","X","X","X","X","X","X","X","X","X","X"]
[136,4,"X","X","X","X","X","X","X","X","X","X","X","X","X","X","X","X","X","X","X","X","X","X","X","X","X","X","X","X","X","X","X","X","X","X","X","X","X","X","X","X","X","X","X","X","X","X","X","X","X","X","X","X","X","X","X","X","X","X","X","X","X","X","X","X","X","X","X","X","X","X","X","X","X","X","X","X","X","X","X","X","X","X","X","X","X","X","X","X","X","X","X","X","X","X","X","X","X","X","X","X","X","X","X","X","X","X","X","X","X","X","X","X","X","X","X","X","X","X","X","X","X","X","X","X","X","X","X","X","X","X","X","X","X"]
[137,5,"X","X","X","X","X","X","X","X","X","X","X","X","X","X","X","X","X","X","X","X","X","X","X","X","X","X","X","X","X","X","X","X","X","X","X","X","X","X","X","X","X","X","X","X","X","X","X","X","X","X","X","X","X","X","X","X","X","X","X","X","X","X","X","X","X","X","X","X","X","X","X","X","X","X","X","X","X","X","X","X","X","X","X","X","X","X","X","X","X","X","X","X","X","X","X","X","X","X","X","X","X","X","X","X","X","X","X","X","X","X","X","X","X","X","X","X","X","X","X","X","X","X","X","X","X","X","X","X","X","X","X","X","X"]
[138,6,"X","X","X","X","X","X","X","X","X","X","X","X","X","X","X","X","X","X","X","X","X","X","X","X","X","X","X","X","X","X","X","X","X","X","X","X","X","X","X","X","X","X","X","X","X","X","X","X","X","X","X","X","X","X","X","X","X","X","X","X","X","X","X","X","X","X","X","X","X","X","X","X","X","X","X","X","X","X","X","X","X","X","X","X","X","X","X","X","X","X","X","X","X","X","X","X","X","X","X","X","X","X","X","X","X","X","X","X","X","X","X","X","X","X","X","X","X","X","X","X","X","X","X","X","X","X","X","X","X","X","X","X","X"]
[139,7,"X","X","X","X","X","X","X","X","X","X","X","X","X","X","X","X","X","X","X","X","X","X","X","X","X","X","X","X","X","X","X","X","X","X","X","X","X","X","X","X","X","X","X","X","X","X","X","X","X","X","X","X","X","X","X","X","X","X","X","X","X","X","X","X","X","X","X","X","X","X","X","X","X","X","X","X","X","X","X","X","X","X","X","X","X","X","X","X","X","X","X","X","X","X","X","X","X","X","X","X","X","X","X","X","X","X","X","X","X","X","X","X","X","X","X","X","X","X","X","X","X","X","X","X","X","X","X","X","X","X","X","X","X"]
[140,8,"X","X","X","X","X","X","X","X","X","X","X","X","X","X","X","X","X","X","X","X","X","X","X","X","X","X","X","X","X","X","X","X","X","X","X","X","X","X","X","X","X","X","X","X","X","X","X","X","X","X","X","X","X","X","X","X","X","X","X","X","X","X","X","X","X","X","X","X","X","X","X","X","X","X","X","X","X","X","X","X","X","X","X","X","X","X","X","X","X","X","X","X","X","X","X","X","X","X","X","X","X","X","X","X","X","X","X","X","X","X","X","X","X","X","X","X","X","X","X","X","X","X","X","X","X","X","X","X","X","X","X","X","X"]
[141,9,"X","X","X","X","X","X","X","X","X","X","X","X","X","X","X","X","X","X","X","X","X","X","X","X","X","X","X","X","X","X","X","X","X","X","X","X","X","X","X","X","X","X","X","X","X","X","X","X","X","X","X","X","X","X","X","X","X","X","X","X","X","X","X","X","X","X","X","X","X","X","X","X","X","X","X","X","X","X","X","X","X","X","X","X","X","X","X","X","X","X","X","X","X","X","X","X","X","X","X","X","X","X","X","X","X","X","X","X","X","X","X","X","X","X","X","X","X","X","X","X","X","X","X","X","X","X","X","X","X","X","X","X","X"]
[142,10,"X","X","X","X","X","X","X","X","X","X","X","X","X","X","X","X","X","X","X","X","X","X","X","X","X","X","X","X","X","X","X","X","X","X","X","X","X","X","X","X","X","X","X","X","X","X","X","X","X","X","X","X","X","X","X","X","X","X","X","X","X","X","X","X","X","X","X","X","X","X","X","X","X","X","X","X","X","X","X","X","X","X","X","X","X","X","X","X","X","X","X","X","X","X","X","X","X","X","X","X","X","X","X","X","X","X","X","X","X","X","X","X","X","X","X","X","X","X","X","X","X","X","X","X","X","X","X","X","X","X","X","X","X"]
[143,11,"X","X","X","X","X","X","X","X","X","X","X","X","X","X","X","X","X","X","X","X","X","X","X","X","X","X","X","X","X","X","X","X","X","X","X","X","X","X","X","X","X","X","X","X","X","X","X","X","X","X","X","X","X","X","X","X","X","X","X","X","X","X","X","X","X","X","X","X","X","X","X","X","X","X","X","X","X","X","X","X","X","X","X","X","X","X","X","X","X","X","X","X","X","X","X","X","X","X","X","X","X","X","X","X","X","X","X","X","X","X","X","X","X","X","X","X","X","X","X","X","X","X","X","X","X","X","X","X","X","X","X","X","X"]
[144,12,"X","X","X","X","X","X","X","X","X","X","X","X","X","X","X","X","X","X","X","X","X","X","X","X","X","X","X","X","X","X","X","X","X","X","X","X","X","X","X","X","X","X","X","X","X","X","X","X","X","X","X","X","X","X","X","X","X","X","X","X","X","X","X","X","X","X","X","X","X","X","X","X","X","X","X","X","X","X","X","X","X","X","X","X","X","X","X","X","X","X","X","X","X","X","X","X","X","X","X","X","X","X","X","X","X","X","X","X","X","X","X","X","X","X","X","X","X","X","X","X","X","X","X","X","X","X","X","X","X","X","X","X","X"]
[145,1,"X","X","X","X","X","X","X","X","X","X","X","X","X","X","X","X","X","X","X","X","X","X","X","X","X","X","X","X","X","X","X","X","X","X","X","X","X","X","X","X","X","X","X","X","X","X","X","X","X","X","X","X","X","X","X","X","X","X","X","X","X","X","X","X","X","X","X","X","X","X","X","X","X","X","X","X","X","X","X","X","X","X","X","X","X","X","X","X","X","X","X","X","X","X","X","X","X","X","X","X","X","X","X","X","X","X","X","X","X","X","X","X","X","X","X","X","X","X","X","X","X","X","X","X","X","X","X","X","X","X","X","X","X"]
[146,2,"X","X","X","X","X","X","X","X","X","X","X","X","X","X","X","X","X","X","X","X","X","X","X","X","X","X","X","X","X","X","X","X","X","X","X","X","X","X","X","X","X","X","X","X","X","X","X","X","X","X","X","X","X","X","X","X","X","X","X","X","X","X","X","X","X","X","X","X","X","X","X","X","X","X","X","X","X","X","X","X","X","X","X","X","X","X","X","X","X","X","X","X","X","X","X","X","X","X","X","X","X","X","X","X","X","X","X","X","X","X","X","X","X","X","X","X","X","X","X","X","X","X","X","X","X","X","X","X","X","X","X","X","X"]
[147,3,"X","X","X","X","X","X","X","X","X","X","X","X","X","X","X","X","X","X","X","X","X","X","X","X","X","X","X","X","X","X","X","X","X","X","X","X","X","X","X","X","X","X","X","X","X","X","X","X","X","X","X","X","X","X","X","X","X","X","X","X","X","X","X","X","X","X","X","X","X","X","X","X","X","X","X","X","X","X","X","X","X","X","X","X","X","X","X","X","X","X","X","X","X","X","X","X","X","X","X","X","X","X","X","X","X","X","X","X","X","X","X","X","X","X","X","X","X","X","X","X","X","X","X","X","X","X","X","X","X","X","X","X","X"]
[148,4,"X","X","X","X","X","X","X","X","X","X","X","X","X","X","X","X","X","X","X","X","X","X","X","X","X","X","X","X","X","X","X","X","X","X","X","X","X","X","X","X","X","X","X","X","X","X","X","X","X","X","X","X","X","X","X","X","X","X","X","X","X","X","X","X","X","X","X","X","X","X","X","X","X","X","X","X","X","X","X","X","X","X","X","X","X","X","X","X","X","X","X","X","X","X","X","X","X","X","X","X","X","X","X","X","X","X","X","X","X","X","X","X","X","X","X","X","X","X","X","X","X","X","X","X","X","X","X","X","X","X","X","X","X"]
[149,5,"X","X","X","X","X","X","X","X","X","X","X","X","X","X","X","X","X","X","X","X","X","X","X","X","X","X","X","X","X","X","X","X","X","X","X","X","X","X","X","X","X","X","X","X","X","X","X","X","X","X","X","X","X","X","X","X","X","X","X","X","X","X","X","X","X","X","X","X","X","X","X","X","X","X","X","X","X","X","X","X","X","X","X","X","X","X","X","X","X","X","X","X","X","X","X","X","X","X","X","X","X","X","X","X","X","X","X","X","X","X","X","X","X","X","X","X","X","X","X","X","X","X","X","X","X","X","X","X","X","X","X","X","X"]
[150,6,"X","X","X","X","X","X","X","X","X","X","X","X","X","X","X","X","X","X","X","X","X","X","X","X","X","X","X","X","X","X","X","X","X","X","X","X","X","X","X","X","X","X","X","X","X","X","X","X","X","X","X","X","X","X","X","X","X","X","X","X","X","X","X","X","X","X","X","X","X","X","X","X","X","X","X","X","X","X","X","X","X","X","X","X","X","X","X","X","X","X","X","X","X","X","X","X","X","X","X","X","X","X","X","X","X","X","X","X","X","X","X","X","X","X","X","X","X","X","X","X","X","X","X","X","X","X","X","X","X","X","X","X","X"]
[151,7,"X","X","X","X","X","X","X","X","X","X","X","X","X","X","X","X","X","X","X","X","X","X","X","X","X","X","X","X","X","X","X","X","X","X","X","X","X","X","X","X","X","X","X","X","X","X","X","X","X","X","X","X","X","X","X","X","X","X","X","X","X","X","X","X","X","X","X","X","X","X","X","X","X","X","X","X","X","X","X","X","X","X","X","X","X","X","X","X","X","X","X","X","X","X","X","X","X","X","X","X","X","X","X","X","X","X","X","X","X","X","X","X","X","X","X","X","X","X","X","X","X","X","X","X","X","X","X","X","X","X","X","X","X"]
[152,8,"X","X","X","X","X","X","X","X","X","X","X","X","X","X","X","X","X","X","X","X","X","X","X","X","X","X","X","X","X","X","X","X","X","X","X","X","X","X","X","X","X","X","X","X","X","X","X","X","X","X","X","X","X","X","X","X","X","X","X","X","X","X","X","X","X","X","X","X","X","X","X","X","X","X","X","X","X","X","X","X","X","X","X","X","X","X","X","X","X","X","X","X","X","X","X","X","X","X","X","X","X","X","X","X","X","X","X","X","X","X","X","X","X","X","X","X","X","X","X","X","X","X","X","X","X","X","X","X","X","X","X","X","X"]
[153,9,"X","X","X","X","X","X","X","X","X","X","X","X","X","X","X","X","X","X","X","X","X","X","X","X","X","X","X","X","X","X","X","X","X","X","X","X","X","X","X","X","X","X","X","X","X","X","X","X","X","X","X","X","X","X","X","X","X","X","X","X","X","X","X","X","X","X","X","X","X","X","X","X","X","X","X","X","X","X","X","X","X","X","X","X","X","X","X","X","X","X","X","X","X","X","X","X","X","X","X","X","X","X","X","X","X","X","X","X","X","X","X","X","X","X","X","X","X","X","X","X","X","X","X","X","X","X","X","X","X","X","X","X","X"]
[154,10,"X","X","X","X","X","X","X","X","X","X","X","X","X","X","X","X","X","X","X","X","X","X","X","X","X","X","X","X","X","X","X","X","X","X","X","X","X","X","X","X","X","X","X","X","X","X","X","X","X","X","X","X","X","X","X","X","X","X","X","X","X","X","X","X","X","X","X","X","X","X","X","X","X","X","X","X","X","X","X","X","X","X","X","X","X","X","X","X","X","X","X","X","X","X","X","X","X","X","X","X","X","X","X","X","X","X","X","X","X","X","X","X","X","X","X","X","X","X","X","X","X","X","X","X","X","X","X","X","X","X","X","X","X"]
[155,11,"X","X","X","X","X","X","X","X","X","X","X","X","X","X","X","X","X","X","X","X","X","X","X","X","X","X","X","X","X","X","X","X","X","X","X","X","X","X","X","X","X","X","X","X","X","X","X","X","X","X","X","X","X","X","X","X","X","X","X","X","X","X","X","X","X","X","X","X","X","X","X","X","X","X","X","X","X","X","X","X","X","X","X","X","X","X","X","X","X","X","X","X","X","X","X","X","X","X","X","X","X","X","X","X","X","X","X","X","X","X","X","X","X","X","X","X","X","X","X","X","X","X","X","X","X","X","X","X","X","X","X","X","X"]
[156,12,"X","X","X","X","X","X","X","X","X","X","X","X","X","X","X","X","X","X","X","X","X","X","X","X","X","X","X","X","X","X","X","X","X","X","X","X","X","X","X","X","X","X","X","X","X","X","X","X","X","X","X","X","X","X","X","X","X","X","X","X","X","X","X","X","X","X","X","X","X","X","X","X","X","X","X","X","X","X","X","X","X","X","X","X","X","X","X","X","X","X","X","X","X","X","X","X","X","X","X","X","X","X","X","X","X","X","X","X","X","X","X","X","X","X","X","X","X","X","X","X","X","X","X","X","X","X","X","X","X","X","X","X","X"]
[157,1,"X","X","X","X","X","X","X","X","X","X","X","X","X","X","X","X","X","X","X","X","X","X","X","X","X","X","X","X","X","X","X","X","X","X","X","X","X","X","X","X","X","X","X","X","X","X","X","X","X","X","X","X","X","X","X","X","X","X","X","X","X","X","X","X","X","X","X","X","X","X","X","X","X","X","X","X","X","X","X","X","X","X","X","X","X","X","X","X","X","X","X","X","X","X","X","X","X","X","X","X","X","X","X","X","X","X","X","X","X","X","X","X","X","X","X","X","X","X","X","X","X","X","X","X","X","X","X","X","X","X","X","X","X"]
[158,2,"X","X","X","X","X","X","X","X","X","X","X","X","X","X","X","X","X","X","X","X","X","X","X","X","X","X","X","X","X","X","X","X","X","X","X","X","X","X","X","X","X","X","X","X","X","X","X","X","X","X","X","X","X","X","X","X","X","X","X","X","X","X","X","X","X","X","X","X","X","X","X","X","X","X","X","X","X","X","X","X","X","X","X","X","X","X","X","X","X","X","X","X","X","X","X","X","X","X","X","X","X","X","X","X","X","X","X","X","X","X","X","X","X","X","X","X","X","X","X","X","X","X","X","X","X","X","X","X","X","X","X","X","X"]
[159,3,"X","X","X","X","X","X","X","X","X","X","X","X","X","X","X","X","X","X","X","X","X","X","X","X","X","X","X","X","X","X","X","X","X","X","X","X","X","X","X","X","X","X","X","X","X","X","X","X","X","X","X","X","X","X","X","X","X","X","X","X","X","X","X","X","X","X","X","X","X","X","X","X","X","X","X","X","X","X","X","X","X","X","X","X","X","X","X","X","X","X","X","X","X","X","X","X","X","X","X","X","X","X","X","X","X","X","X","X","X","X","X","X","X","X","X","X","X","X","X","X","X","X","X","X","X","X","X","X","X","X","X","X","X"]
[160,4,"X","X","X","X","X","X","X","X","X","X","X","X","X","X","X","X","X","X","X","X","X","X","X","X","X","X","X","X","X","X","X","X","X","X","X","X","X","X","X","X","X","X","X","X","X","X","X","X","X","X","X","X","X","X","X","X","X","X","X","X","X","X","X","X","X","X","X","X","X","X","X","X","X","X","X","X","X","X","X","X","X","X","X","X","X","X","X","X","X","X","X","X","X","X","X","X","X","X","X","X","X","X","X","X","X","X","X","X","X","X","X","X","X","X","X","X","X","X","X","X","X","X","X","X","X","X","X","X","X","X","X","X","X"]
[161,5,"X","X","X","X","X","X","X","X","X","X","X","X","X","X","X","X","X","X","X","X","X","X","X","X","X","X","X","X","X","X","X","X","X","X","X","X","X","X","X","X","X","X","X","X","X","X","X","X","X","X","X","X","X","X","X","X","X","X","X","X","X","X","X","X","X","X","X","X","X","X","X","X","X","X","X","X","X","X","X","X","X","X","X","X","X","X","X","X","X","X","X","X","X","X","X","X","X","X","X","X","X","X","X","X","X","X","X","X","X","X","X","X","X","X","X","X","X","X","X","X","X","X","X","X","X","X","X","X","X","X","X","X","X"]
[162,6,"X","X","X","X","X","X","X","X","X","X","X","X","X","X","X","X","X","X","X","X","X","X","X","X","X","X","X","X","X","X","X","X","X","X","X","X","X","X","X","X","X","X","X","X","X","X","X","X","X","X","X","X","X","X","X","X","X","X","X","X","X","X","X","X","X","X","X","X","X","X","X","X","X","X","X","X","X","X","X","X","X","X","X","X","X","X","X","X","X","X","X","X","X","X","X","X","X","X","X","X","X","X","X","X","X","X","X","X","X","X","X","X","X","X","X","X","X","X","X","X","X","X","X","X","X","X","X","X","X","X","X","X","X"]
[163,7,"X","X","X","X","X","X","X","X","X","X","X","X","X","X","X","X","X","X","X","X","X","X","X","X","X","X","X","X","X","X","X","X","X","X","X","X","X","X","X","X","X","X","X","X","X","X","X","X","X","X","X","X","X","X","X","X","X","X","X","X","X","X","X","X","X","X","X","X","X","X","X","X","X","X","X","X","X","X","X","X","X","X","X","X","X","X","X","X","X","X","X","X","X","X","X","X","X","X","X","X","X","X","X","X","X","X","X","X","X","X","X","X","X","X","X","X","X","X","X","X","X","X","X","X","X","X","X","X","X","X","X","X","X"]
[164,8,"X","X","X","X","X","X","X","X","X","X","X","X","X","X","X","X","X","X","X","X","X","X","X","X","X","X","X","X","X","X","X","X","X","X","X","X","X","X","X","X","X","X","X","X","X","X","X","X","X","X","X","X","X","X","X","X","X","X","X","X","X","X","X","X","X","X","X","X","X","X","X","X","X","X","X","X","X","X","X","X","X","X","X","X","X","X","X","X","X","X","X","X","X","X","X","X","X","X","X","X","X","X","X","X","X","X","X","X","X","X","X","X","X","X","X","X","X","X","X","X","X","X","X","X","X","X","X","X","X","X","X","X","X"]
[165,9,"X","X","X","X","X","X","X","X","X","X","X","X","X","X","X","X","X","X","X","X","X","X","X","X","X","X","X","X","X","X","X","X","X","X","X","X","X","X","X","X","X","X","X","X","X","X","X","X","X","X","X","X","X","X","X","X","X","X","X","X","X","X","X","X","X","X","X","X","X","X","X","X","X","X","X","X","X","X","X","X","X","X","X","X","X","X","X","X","X","X","X","X","X","X","X","X","X","X","X","X","X","X","X","X","X","X","X","X","X","X","X","X","X","X","X","X","X","X","X","X","X","X","X","X","X","X","X","X","X","X","X","X","X"]
[166,10,"X","X","X","X","X","X","X","X","X","X","X","X","X","X","X","X","X","X","X","X","X","X","X","X","X","X","X","X","X","X","X","X","X","X","X","X","X","X","X","X","X","X","X","X","X","X","X","X","X","X","X","X","X","X","X","X","X","X","X","X","X","X","X","X","X","X","X","X","X","X","X","X","X","X","X","X","X","X","X","X","X","X","X","X","X","X","X","X","X","X","X","X","X","X","X","X","X","X","X","X","X","X","X","X","X","X","X","X","X","X","X","X","X","X","X","X","X","X","X","X","X","X","X","X","X","X","X","X","X","X","X","X","X"]
[167,11,"X","X","X","X","X","X","X","X","X","X","X","X","X","X","X","X","X","X","X","X","X","X","X","X","X","X","X","X","X","X","X","X","X","X","X","X","X","X","X","X","X","X","X","X","X","X","X","X","X","X","X","X","X","X","X","X","X","X","X","X","X","X","X","X","X","X","X","X","X","X","X","X","X","X","X","X","X","X","X","X","X","X","X","X","X","X","X","X","X","X","X","X","X","X","X","X","X","X","X","X","X","X","X","X","X","X","X","X","X","X","X","X","X","X","X","X","X","X","X","X","X","X","X","X","X","X","X","X","X","X","X","X","X"]
[168,12,"X","X","X","X","X","X","X","X","X","X","X","X","X","X","X","X","X","X","X","X","X","X","X","X","X","X","X","X","X","X","X","X","X","X","X","X","X","X","X","X","X","X","X","X","X","X","X","X","X","X","X","X","X","X","X","X","X","X","X","X","X","X","X","X","X","X","X","X","X","X","X","X","X","X","X","X","X","X","X","X","X","X","X","X","X","X","X","X","X","X","X","X","X","X","X","X","X","X","X","X","X","X","X","X","X","X","X","X","X","X","X","X","X","X","X","X","X","X","X","X","X","X","X","X","X","X","X","X","X","X","X","X","X"]
[169,1,"X","X","X","X","X","X","X","X","X","X","X","X","X","X","X","X","X","X","X","X","X","X","X","X","X","X","X","X","X","X","X","X","X","X","X","X","X","X","X","X","X","X","X","X","X","X","X","X","X","X","X","X","X","X","X","X","X","X","X","X","X","X","X","X","X","X","X","X","X","X","X","X","X","X","X","X","X","X","X","X","X","X","X","X","X","X","X","X","X","X","X","X","X","X","X","X","X","X","X","X","X","X","X","X","X","X","X","X","X","X","X","X","X","X","X","X","X","X","X","X","X","X","X","X","X","X","X","X","X","X","X","X","X"]
[170,2,"X","X","X","X","X","X","X","X","X","X","X","X","X","X","X","X","X","X","X","X","X","X","X","X","X","X","X","X","X","X","X","X","X","X","X","X","X","X","X","X","X","X","X","X","X","X","X","X","X","X","X","X","X","X","X","X","X","X","X","X","X","X","X","X","X","X","X","X","X","X","X","X","X","X","X","X","X","X","X","X","X","X","X","X","X","X","X","X","X","X","X","X","X","X","X","X","X","X","X","X","X","X","X","X","X","X","X","X","X","X","X","X","X","X","X","X","X","X","X","X","X","X","X","X","X","X","X","X","X","X","X","X","X"]
[171,3,"X","X","X","X","X","X","X","X","X","X","X","X","X","X","X","X","X","X","X","X","X","X","X","X","X","X","X","X","X","X","X","X","X","X","X","X","X","X","X","X","X","X","X","X","X","X","X","X","X","X","X","X","X","X","X","X","X","X","X","X","X","X","X","X","X","X","X","X","X","X","X","X","X","X","X","X","X","X","X","X","X","X","X","X","X","X","X","X","X","X","X","X","X","X","X","X","X","X","X","X","X","X","X","X","X","X","X","X","X","X","X","X","X","X","X","X","X","X","X","X","X","X","X","X","X","X","X","X","X","X","X","X","X"]
[172,4,"X","X","X","X","X","X","X","X","X","X","X","X","X","X","X","X","X","X","X","X","X","X","X","X","X","X","X","X","X","X","X","X","X","X","X","X","X","X","X","X","X","X","X","X","X","X","X","X","X","X","X","X","X","X","X","X","X","X","X","X","X","X","X","X","X","X","X","X","X","X","X","X","X","X","X","X","X","X","X","X","X","X","X","X","X","X","X","X","X","X","X","X","X","X","X","X","X","X","X","X","X","X","X","X","X","X","X","X","X","X","X","X","X","X","X","X","X","X","X","X","X","X","X","X","X","X","X","X","X","X","X","X","X"]
[173,5,"X","X","X","X","X","X","X","X","X","X","X","X","X","X","X","X","X","X","X","X","X","X","X","X","X","X","X","X","X","X","X","X","X","X","X","X","X","X","X","X","X","X","X","X","X","X","X","X","X","X","X","X","X","X","X","X","X","X","X","X","X","X","X","X","X","X","X","X","X","X","X","X","X","X","X","X","X","X","X","X","X","X","X","X","X","X","X","X","X","X","X","X","X","X","X","X","X","X","X","X","X","X","X","X","X","X","X","X","X","X","X","X","X","X","X","X","X","X","X","X","X","X","X","X","X","X","X","X","X","X","X","X","X"]
[174,6,"X","X","X","X","X","X","X","X","X","X","X","X","X","X","X","X","X","X","X","X","X","X","X","X","X","X","X","X","X","X","X","X","X","X","X","X","X","X","X","X","X","X","X","X","X","X","X","X","X","X","X","X","X","X","X","X","X","X","X","X","X","X","X","X","X","X","X","X","X","X","X","X","X","X","X","X","X","X","X","X","X","X","X","X","X","X","X","X","X","X","X","X","X","X","X","X","X","X","X","X","X","X","X","X","X","X","X","X","X","X","X","X","X","X","X","X","X","X","X","X","X","X","X","X","X","X","X","X","X","X","X","X","X"]
[175,7,"X","X","X","X","X","X","X","X","X","X","X","X","X","X","X","X","X","X","X","X","X","X","X","X","X","X","X","X","X","X","X","X","X","X","X","X","X","X","X","X","X","X","X","X","X","X","X","X","X","X","X","X","X","X","X","X","X","X","X","X","X","X","X","X","X","X","X","X","X","X","X","X","X","X","X","X","X","X","X","X","X","X","X","X","X","X","X","X","X","X","X","X","X","X","X","X","X","X","X","X","X","X","X","X","X","X","X","X","X","X","X","X","X","X","X","X","X","X","X","X","X","X","X","X","X","X","X","X","X","X","X","X","X"]
[176,8,"X","X","X","X","X","X","X","X","X","X","X","X","X","X","X","X","X","X","X","X","X","X","X","X","X","X","X","X","X","X","X","X","X","X","X","X","X","X","X","X","X","X","X","X","X","X","X","X","X","X","X","X","X","X","X","X","X","X","X","X","X","X","X","X","X","X","X","X","X","X","X","X","X","X","X","X","X","X","X","X","X","X","X","X","X","X","X","X","X","X","X","X","X","X","X","X","X","X","X","X","X","X","X","X","X","X","X","X","X","X","X","X","X","X","X","X","X","X","X","X","X","X","X","X","X","X","X","X","X","X","X","X","X"]
[177,9,"X","X","X","X","X","X","X","X","X","X","X","X","X","X","X","X","X","X","X","X","X","X","X","X","X","X","X","X","X","X","X","X","X","X","X","X","X","X","X","X","X","X","X","X","X","X","X","X","X","X","X","X","X","X","X","X","X","X","X","X","X","X","X","X","X","X","X","X","X","X","X","X","X","X","X","X","X","X","X","X","X","X","X","X","X","X","X","X","X","X","X","X","X","X","X","X","X","X","X","X","X","X","X","X","X","X","X","X","X","X","X","X","X","X","X","X","X","X","X","X","X","X","X","X","X","X","X","X","X","X","X","X","X"]
[178,10,"X","X","X","X","X","X","X","X","X","X","X","X","X","X","X","X","X","X","X","X","X","X","X","X","X","X","X","X","X","X","X","X","X","X","X","X","X","X","X","X","X","X","X","X","X","X","X","X","X","X","X","X","X","X","X","X","X","X","X","X","X","X","X","X","X","X","X","X","X","X","X","X","X","X","X","X","X","X","X","X","X","X","X","X","X","X","X","X","X","X","X","X","X","X","X","X","X","X","X","X","X","X","X","X","X","X","X","X","X","X","X","X","X","X","X","X","X","X","X","X","X","X","X","X","X","X","X","X","X","X","X","X","X"]
[179,11,"X","X","X","X","X","X","X","X","X","X","X","X","X","X","X","X","X","X","X","X","X","X","X","X","X","X","X","X","X","X","X","X","X","X","X","X","X","X","X","X","X","X","X","X","X","X","X","X","X","X","X","X","X","X","X","X","X","X","X","X","X","X","X","X","X","X","X","X","X","X","X","X","X","X","X","X","X","X","X","X","X","X","X","X","X","X","X","X","X","X","X","X","X","X","X","X","X","X","X","X","X","X","X","X","X","X","X","X","X","X","X","X","X","X","X","X","X","X","X","X","X","X","X","X","X","X","X","X","X","X","X","X","X"]
[180,12,"X","X","X","X","X","X","X","X","X","X","X","X","X","X","X","X","X","X","X","X","X","X","X","X","X","X","X","X","X","X","X","X","X","X","X","X","X","X","X","X","X","X","X","X","X","X","X","X","X","X","X","X","X","X","X","X","X","X","X","X","X","X","X","X","X","X","X","X","X","X","X","X","X","X","X","X","X","X","X","X","X","X","X","X","X","X","X","X","X","X","X","X","X","X","X","X","X","X","X","X","X","X","X","X","X","X","X","X","X","X","X","X","X","X","X","X","X","X","X","X","X","X","X","X","X","X","X","X","X","X","X","X","X"]
[181,1,"X","X","X","X","X","X","X","X","X","X","X","X","X","X","X","X","X","X","X","X","X","X","X","X","X","X","X","X","X","X","X","X","X","X","X","X","X","X","X","X","X","X","X","X","X","X","X","X","X","X","X","X","X","X","X","X","X","X","X","X","X","X","X","X","X","X","X","X","X","X","X","X","X","X","X","X","X","X","X","X","X","X","X","X","X","X","X","X","X","X","X","X","X","X","X","X","X","X","X","X","X","X","X","X","X","X","X","X","X","X","X","X","X","X","X","X","X","X","X","X","X","X","X","X","X","X","X","X","X","X","X","X","X"]
[182,2,"X","X","X","X","X","X","X","X","X","X","X","X","X","X","X","X","X","X","X","X","X","X","X","X","X","X","X","X","X","X","X","X","X","X","X","X","X","X","X","X","X","X","X","X","X","X","X","X","X","X","X","X","X","X","X","X","X","X","X","X","X","X","X","X","X","X","X","X","X","X","X","X","X","X","X","X","X","X","X","X","X","X","X","X","X","X","X","X","X","X","X","X","X","X","X","X","X","X","X","X","X","X","X","X","X","X","X","X","X","X","X","X","X","X","X","X","X","X","X","X","X","X","X","X","X","X","X","X","X","X","X","X","X"]
[183,3,"X","X","X","X","X","X","X","X","X","X","X","X","X","X","X","X","X","X","X","X","X","X","X","X","X","X","X","X","X","X","X","X","X","X","X","X","X","X","X","X","X","X","X","X","X","X","X","X","X","X","X","X","X","X","X","X","X","X","X","X","X","X","X","X","X","X","X","X","X","X","X","X","X","X","X","X","X","X","X","X","X","X","X","X","X","X","X","X","X","X","X","X","X","X","X","X","X","X","X","X","X","X","X","X","X","X","X","X","X","X","X","X","X","X","X","X","X","X","X","X","X","X","X","X","X","X","X","X","X","X","X","X","X"]
[184,4,"X","X","X","X","X","X","X","X","X","X","X","X","X","X","X","X","X","X","X","X","X","X","X","X","X","X","X","X","X","X","X","X","X","X","X","X","X","X","X","X","X","X","X","X","X","X","X","X","X","X","X","X","X","X","X","X","X","X","X","X","X","X","X","X","X","X","X","X","X","X","X","X","X","X","X","X","X","X","X","X","X","X","X","X","X","X","X","X","X","X","X","X","X","X","X","X","X","X","X","X","X","X","X","X","X","X","X","X","X","X","X","X","X","X","X","X","X","X","X","X","X","X","X","X","X","X","X","X","X","X","X","X","X"]
[185,5,"X","X","X","X","X","X","X","X","X","X","X","X","X","X","X","X","X","X","X","X","X","X","X","X","X","X","X","X","X","X","X","X","X","X","X","X","X","X","X","X","X","X","X","X","X","X","X","X","X","X","X","X","X","X","X","X","X","X","X","X","X","X","X","X","X","X","X","X","X","X","X","X","X","X","X","X","X","X","X","X","X","X","X","X","X","X","X","X","X","X","X","X","X","X","X","X","X","X","X","X","X","X","X","X","X","X","X","X","X","X","X","X","X","X","X","X","X","X","X","X","X","X","X","X","X","X","X","X","X","X","X","X","X"]
[186,6,"X","X","X","X","X","X","X","X","X","X","X","X","X","X","X","X","X","X","X","X","X","X","X","X","X","X","X","X","X","X","X","X","X","X","X","X","X","X","X","X","X","X","X","X","X","X","X","X","X","X","X","X","X","X","X","X","X","X","X","X","X","X","X","X","X","X","X","X","X","X","X","X","X","X","X","X","X","X","X","X","X","X","X","X","X","X","X","X","X","X","X","X","X","X","X","X","X","X","X","X","X","X","X","X","X","X","X","X","X","X","X","X","X","X","X","X","X","X","X","X","X","X","X","X","X","X","X","X","X","X","X","X","X"]
[187,7,"X","X","X","X","X","X","X","X","X","X","X","X","X","X","X","X","X","X","X","X","X","X","X","X","X","X","X","X","X","X","X","X","X","X","X","X","X","X","X","X","X","X","X","X","X","X","X","X","X","X","X","X","X","X","X","X","X","X","X","X","X","X","X","X","X","X","X","X","X","X","X","X","X","X","X","X","X","X","X","X","X","X","X","X","X","X","X","X","X","X","X","X","X","X","X","X","X","X","X","X","X","X","X","X","X","X","X","X","X","X","X","X","X","X","X","X","X","X","X","X","X","X","X","X","X","X","X","X","X","X","X","X","X"]
[188,8,"X","X","X","X","X","X","X","X","X","X","X","X","X","X","X","X","X","X","X","X","X","X","X","X","X","X","X","X","X","X","X","X","X","X","X","X","X","X","X","X","X","X","X","X","X","X","X","X","X","X","X","X","X","X","X","X","X","X","X","X","X","X","X","X","X","X","X","X","X","X","X","X","X","X","X","X","X","X","X","X","X","X","X","X","X","X","X","X","X","X","X","X","X","X","X","X","X","X","X","X","X","X","X","X","X","X","X","X","X","X","X","X","X","X","X","X","X","X","X","X","X","X","X","X","X","X","X","X","X","X","X","X","X"]
[189,9,"X","X","X","X","X","X","X","X","X","X","X","X","X","X","X","X","X","X","X","X","X","X","X","X","X","X","X","X","X","X","X","X","X","X","X","X","X","X","X","X","X","X","X","X","X","X","X","X","X","X","X","X","X","X","X","X","X","X","X","X","X","X","X","X","X","X","X","X","X","X","X","X","X","X","X","X","X","X","X","X","X","X","X","X","X","X","X","X","X","X","X","X","X","X","X","X","X","X","X","X","X","X","X","X","X","X","X","X","X","X","X","X","X","X","X","X","X","X","X","X","X","X","X","X","X","X","X","X","X","X","X","X","X"]
[190,10,"X","X","X","X","X","X","X","X","X","X","X","X","X","X","X","X","X","X","X","X","X","X","X","X","X","X","X","X","X","X","X","X","X","X","X","X","X","X","X","X","X","X","X","X","X","X","X","X","X","X","X","X","X","X","X","X","X","X","X","X","X","X","X","X","X","X","X","X","X","X","X","X","X","X","X","X","X","X","X","X","X","X","X","X","X","X","X","X","X","X","X","X","X","X","X","X","X","X","X","X","X","X","X","X","X","X","X","X","X","X","X","X","X","X","X","X","X","X","X","X","X","X","X","X","X","X","X","X","X","X","X","X","X"]
[191,11,"X","X","X","X","X","X","X","X","X","X","X","X","X","X","X","X","X","X","X","X","X","X","X","X","X","X","X","X","X","X","X","X","X","X","X","X","X","X","X","X","X","X","X","X","X","X","X","X","X","X","X","X","X","X","X","X","X","X","X","X","X","X","X","X","X","X","X","X","X","X","X","X","X","X","X","X","X","X","X","X","X","X","X","X","X","X","X","X","X","X","X","X","X","X","X","X","X","X","X","X","X","X","X","X","X","X","X","X","X","X","X","X","X","X","X","X","X","X","X","X","X","X","X","X","X","X","X","X","X","X","X","X","X"]
[192,12,"X","X","X","X","X","X","X","X","X","X","X","X","X","X","X","X","X","X","X","X","X","X","X","X","X","X","X","X","X","X","X","X","X","X","X","X","X","X","X","X","X","X","X","X","X","X","X","X","X","X","X","X","X","X","X","X","X","X","X","X","X","X","X","X","X","X","X","X","X","X","X","X","X","X","X","X","X","X","X","X","X","X","X","X","X","X","X","X","X","X","X","X","X","X","X","X","X","X","X","X","X","X","X","X","X","X","X","X","X","X","X","X","X","X","X","X","X","X","X","X","X","X","X","X","X","X","X","X","X","X","X","X","X"]
[193,1,"X","X","X","X","X","X","X","X","X","X","X","X","X","X","X","X","X","X","X","X","X","X","X","X","X","X","X","X","X","X","X","X","X","X","X","X","X","X","X","X","X","X","X","X","X","X","X","X","X","X","X","X","X","X","X","X","X","X","X","X","X","X","X","X","X","X","X","X","X","X","X","X","X","X","X","X","X","X","X","X","X","X","X","X","X","X","X","X","X","X","X","X","X","X","X","X","X","X","X","X","X","X","X","X","X","X","X","X","X","X","X","X","X","X","X","X","X","X","X","X","X","X","X","X","X","X","X","X","X","X","X","X","X"]
[194,2,"X","X","X","X","X","X","X","X","X","X","X","X","X","X","X","X","X","X","X","X","X","X","X","X","X","X","X","X","X","X","X","X","X","X","X","X","X","X","X","X","X","X","X","X","X","X","X","X","X","X","X","X","X","X","X","X","X","X","X","X","X","X","X","X","X","X","X","X","X","X","X","X","X","X","X","X","X","X","X","X","X","X","X","X","X","X","X","X","X","X","X","X","X","X","X","X","X","X","X","X","X","X","X","X","X","X","X","X","X","X","X","X","X","X","X","X","X","X","X","X","X","X","X","X","X","X","X","X","X","X","X","X","X"]
[195,3,"X","X","X","X","X","X","X","X","X","X","X","X","X","X","X","X","X","X","X","X","X","X","X","X","X","X","X","X","X","X","X","X","X","X","X","X","X","X","X","X","X","X","X","X","X","X","X","X","X","X","X","X","X","X","X","X","X","X","X","X","X","X","X","X","X","X","X","X","X","X","X","X","X","X","X","X","X","X","X","X","X","X","X","X","X","X","X","X","X","X","X","X","X","X","X","X","X","X","X","X","X","X","X","X","X","X","X","X","X","X","X","X","X","X","X","X","X","X","X","X","X","X","X","X","X","X","X","X","X","X","X","X","X"]
[196,4,"X","X","X","X","X","X","X","X","X","X","X","X","X","X","X","X","X","X","X","X","X","X","X","X","X","X","X","X","X","X","X","X","X","X","X","X","X","X","X","X","X","X","X","X","X","X","X","X","X","X","X","X","X","X","X","X","X","X","X","X","X","X","X","X","X","X","X","X","X","X","X","X","X","X","X","X","X","X","X","X","X","X","X","X","X","X","X","X","X","X","X","X","X","X","X","X","X","X","X","X","X","X","X","X","X","X","X","X","X","X","X","X","X","X","X","X","X","X","X","X","X","X","X","X","X","X","X","X","X","X","X","X","X"]
[197,5,"X","X","X","X","X","X","X","X","X","X","X","X","X","X","X","X","X","X","X","X","X","X","X","X","X","X","X","X","X","X","X","X","X","X","X","X","X","X","X","X","X","X","X","X","X","X","X","X","X","X","X","X","X","X","X","X","X","X","X","X","X","X","X","X","X","X","X","X","X","X","X","X","X","X","X","X","X","X","X","X","X","X","X","X","X","X","X","X","X","X","X","X","X","X","X","X","X","X","X","X","X","X","X","X","X","X","X","X","X","X","X","X","X","X","X","X","X","X","X","X","X","X","X","X","X","X","X","X","X","X","X","X","X"]
[198,6,"X","X","X","X","X","X","X","X","X","X","X","X","X","X","X","X","X","X","X","X","X","X","X","X","X","X","X","X","X","X","X","X","X","X","X","X","X","X","X","X","X","X","X","X","X","X","X","X","X","X","X","X","X","X","X","X","X","X","X","X","X","X","X","X","X","X","X","X","X","X","X","X","X","X","X","X","X","X","X","X","X","X","X","X","X","X","X","X","X","X","X","X","X","X","X","X","X","X","X","X","X","X","X","X","X","X","X","X","X","X","X","X","X","X","X","X","X","X","X","X","X","X","X","X","X","X","X","X","X","X","X","X","X"]
[199,7,"X","X","X","X","X","X","X","X","X","X","X","X","X","X","X","X","X","X","X","X","X","X","X","X","X","X","X","X","X","X","X","X","X","X","X","X","X","X","X","X","X","X","X","X","X","X","X","X","X","X","X","X","X","X","X","X","X","X","X","X","X","X","X","X","X","X","X","X","X","X","X","X","X","X","X","X","X","X","X","X","X","X","X","X","X","X","X","X","X","X","X","X","X","X","X","X","X","X","X","X","X","X","X","X","X","X","X","X","X","X","X","X","X","X","X","X","X","X","X","X","X","X","X","X","X","X","X","X","X","X","X","X","X"]
[200,8,"X","X","X","X","X","X","X","X","X","X","X","X","X","X","X","X","X","X","X","X","X","X","X","X","X","X","X","X","X","X","X","X","X","X","X","X","X","X","X","X","X","X","X","X","X","X","X","X","X","X","X","X","X","X","X","X","X","X","X","X","X","X","X","X","X","X","X","X","X","X","X","X","X","X","X","X","X","X","X","X","X","X","X","X","X","X","X","X","X","X","X","X","X","X","X","X","X","X","X","X","X","X","X","X","X","X","X","X","X","X","X","X","X","X","X","X","X","X","X","X","X","X","X","X","X","X","X","X","X","X","X","X","X"]
[201,9,"X","X","X","X","X","X","X","X","X","X","X","X","X","X","X","X","X","X","X","X","X","X","X","X","X","X","X","X","X","X","X","X","X","X","X","X","X","X","X","X","X","X","X","X","X","X","X","X","X","X","X","X","X","X","X","X","X","X","X","X","X","X","X","X","X","X","X","X","X","X","X","X","X","X","X","X","X","X","X","X","X","X","X","X","X","X","X","X","X","X","X","X","X","X","X","X","X","X","X","X","X","X","X","X","X","X","X","X","X","X","X","X","X","X","X","X","X","X","X","X","X","X","X","X","X","X","X","X","X","X","X","X","X"]
[202,10,"X","X","X","X","X","X","X","X","X","X","X","X","X","X","X","X","X","X","X","X","X","X","X","X","X","X","X","X","X","X","X","X","X","X","X","X","X","X","X","X","X","X","X","X","X","X","X","X","X","X","X","X","X","X","X","X","X","X","X","X","X","X","X","X","X","X","X","X","X","X","X","X","X","X","X","X","X","X","X","X","X","X","X","X","X","X","X","X","X","X","X","X","X","X","X","X","X","X","X","X","X","X","X","X","X","X","X","X","X","X","X","X","X","X","X","X","X","X","X","X","X","X","X","X","X","X","X","X","X","X","X","X","X"]
[203,11,"X","X","X","X","X","X","X","X","X","X","X","X","X","X","X","X","X","X","X","X","X","X","X","X","X","X","X","X","X","X","X","X","X","X","X","X","X","X","X","X","X","X","X","X","X","X","X","X","X","X","X","X","X","X","X","X","X","X","X","X","X","X","X","X","X","X","X","X","X","X","X","X","X","X","X","X","X","X","X","X","X","X","X","X","X","X","X","X","X","X","X","X","X","X","X","X","X","X","X","X","X","X","X","X","X","X","X","X","X","X","X","X","X","X","X","X","X","X","X","X","X","X","X","X","X","X","X","X","X","X","X","X","X"]
[204,12,"X","X","X","X","X","X","X","X","X","X","X","X","X","X","X","X","X","X","X","X","X","X","X","X","X","X","X","X","X","X","X","X","X","X","X","X","X","X","X","X","X","X","X","X","X","X","X","X","X","X","X","X","X","X","X","X","X","X","X","X","X","X","X","X","X","X","X","X","X","X","X","X","X","X","X","X","X","X","X","X","X","X","X","X","X","X","X","X","X","X","X","X","X","X","X","X","X","X","X","X","X","X","X","X","X","X","X","X","X","X","X","X","X","X","X","X","X","X","X","X","X","X","X","X","X","X","X","X","X","X","X","X","X"]
[205,1,"X","X","X","X","X","X","X","X","X","X","X","X","X","X","X","X","X","X","X","X","X","X","X","X","X","X","X","X","X","X","X","X","X","X","X","X","X","X","X","X","X","X","X","X","X","X","X","X","X","X","X","X","X","X","X","X","X","X","X","X","X","X","X","X","X","X","X","X","X","X","X","X","X","X","X","X","X","X","X","X","X","X","X","X","X","X","X","X","X","X","X","X","X","X","X","X","X","X","X","X","X","X","X","X","X","X","X","X","X","X","X","X","X","X","X","X","X","X","X","X","X","X","X","X","X","X","X","X","X","X","X","X","X"]
[206,2,"X","X","X","X","X","X","X","X","X","X","X","X","X","X","X","X","X","X","X","X","X","X","X","X","X","X","X","X","X","X","X","X","X","X","X","X","X","X","X","X","X","X","X","X","X","X","X","X","X","X","X","X","X","X","X","X","X","X","X","X","X","X","X","X","X","X","X","X","X","X","X","X","X","X","X","X","X","X","X","X","X","X","X","X","X","X","X","X","X","X","X","X","X","X","X","X","X","X","X","X","X","X","X","X","X","X","X","X","X","X","X","X","X","X","X","X","X","X","X","X","X","X","X","X","X","X","X","X","X","X","X","X","X"]
[207,3,"X","X","X","X","X","X","X","X","X","X","X","X","X","X","X","X","X","X","X","X","X","X","X","X","X","X","X","X","X","X","X","X","X","X","X","X","X","X","X","X","X","X","X","X","X","X","X","X","X","X","X","X","X","X","X","X","X","X","X","X","X","X","X","X","X","X","X","X","X","X","X","X","X","X","X","X","X","X","X","X","X","X","X","X","X","X","X","X","X","X","X","X","X","X","X","X","X","X","X","X","X","X","X","X","X","X","X","X","X","X","X","X","X","X","X","X","X","X","X","X","X","X","X","X","X","X","X","X","X","X","X","X","X"]
[208,4,"X","X","X","X","X","X","X","X","X","X","X","X","X","X","X","X","X","X","X","X","X","X","X","X","X","X","X","X","X","X","X","X","X","X","X","X","X","X","X","X","X","X","X","X","X","X","X","X","X","X","X","X","X","X","X","X","X","X","X","X","X","X","X","X","X","X","X","X","X","X","X","X","X","X","X","X","X","X","X","X","X","X","X","X","X","X","X","X","X","X","X","X","X","X","X","X","X","X","X","X","X","X","X","X","X","X","X","X","X","X","X","X","X","X","X","X","X","X","X","X","X","X","X","X","X","X","X","X","X","X","X","X","X"]
[209,5,"X","X","X","X","X","X","X","X","X","X","X","X","X","X","X","X","X","X","X","X","X","X","X","X","X","X","X","X","X","X","X","X","X","X","X","X","X","X","X","X","X","X","X","X","X","X","X","X","X","X","X","X","X","X","X","X","X","X","X","X","X","X","X","X","X","X","X","X","X","X","X","X","X","X","X","X","X","X","X","X","X","X","X","X","X","X","X","X","X","X","X","X","X","X","X","X","X","X","X","X","X","X","X","X","X","X","X","X","X","X","X","X","X","X","X","X","X","X","X","X","X","X","X","X","X","X","X","X","X","X","X","X","X"]
[210,6,"X","X","X","X","X","X","X","X","X","X","X","X","X","X","X","X","X","X","X","X","X","X","X","X","X","X","X","X","X","X","X","X","X","X","X","X","X","X","X","X","X","X","X","X","X","X","X","X","X","X","X","X","X","X","X","X","X","X","X","X","X","X","X","X","X","X","X","X","X","X","X","X","X","X","X","X","X","X","X","X","X","X","X","X","X","X","X","X","X","X","X","X","X","X","X","X","X","X","X","X","X","X","X","X","X","X","X","X","X","X","X","X","X","X","X","X","X","X","X","X","X","X","X","X","X","X","X","X","X","X","X","X","X"]
[211,7,"X","X","X","X","X","X","X","X","X","X","X","X","X","X","X","X","X","X","X","X","X","X","X","X","X","X","X","X","X","X","X","X","X","X","X","X","X","X","X","X","X","X","X","X","X","X","X","X","X","X","X","X","X","X","X","X","X","X","X","X","X","X","X","X","X","X","X","X","X","X","X","X","X","X","X","X","X","X","X","X","X","X","X","X","X","X","X","X","X","X","X","X","X","X","X","X","X","X","X","X","X","X","X","X","X","X","X","X","X","X","X","X","X","X","X","X","X","X","X","X","X","X","X","X","X","X","X","X","X","X","X","X","X"]
[212,8,"X","X","X","X","X","X","X","X","X","X","X","X","X","X","X","X","X","X","X","X","X","X","X","X","X","X","X","X","X","X","X","X","X","X","X","X","X","X","X","X","X","X","X","X","X","X","X","X","X","X","X","X","X","X","X","X","X","X","X","X","X","X","X","X","X","X","X","X","X","X","X","X","X","X","X","X","X","X","X","X","X","X","X","X","X","X","X","X","X","X","X","X","X","X","X","X","X","X","X","X","X","X","X","X","X","X","X","X","X","X","X","X","X","X","X","X","X","X","X","X","X","X","X","X","X","X","X","X","X","X","X","X","X"]
[213,9,"X","X","X","X","X","X","X","X","X","X","X","X","X","X","X","X","X","X","X","X","X","X","X","X","X","X","X","X","X","X","X","X","X","X","X","X","X","X","X","X","X","X","X","X","X","X","X","X","X","X","X","X","X","X","X","X","X","X","X","X","X","X","X","X","X","X","X","X","X","X","X","X","X","X","X","X","X","X","X","X","X","X","X","X","X","X","X","X","X","X","X","X","X","X","X","X","X","X","X","X","X","X","X","X","X","X","X","X","X","X","X","X","X","X","X","X","X","X","X","X","X","X","X","X","X","X","X","X","X","X","X","X","X"]
[214,10,"X","X","X","X","X","X","X","X","X","X","X","X","X","X","X","X","X","X","X","X","X","X","X","X","X","X","X","X","X","X","X","X","X","X","X","X","X","X","X","X","X","X","X","X","X","X","X","X","X","X","X","X","X","X","X","X","X","X","X","X","X","X","X","X","X","X","X","X","X","X","X","X","X","X","X","X","X","X","X","X","X","X","X","X","X","X","X","X","X","X","X","X","X","X","X","X","X","X","X","X","X","X","X","X","X","X","X","X","X","X","X","X","X","X","X","X","X","X","X","X","X","X","X","X","X","X","X","X","X","X","X","X","X"]
[215,11,"X","X","X","X","X","X","X","X","X","X","X","X","X","X","X","X","X","X","X","X","X","X","X","X","X","X","X","X","X","X","X","X","X","X","X","X","X","X","X","X","X","X","X","X","X","X","X","X","X","X","X","X","X","X","X","X","X","X","X","X","X","X","X","X","X","X","X","X","X","X","X","X","X","X","X","X","X","X","X","X","X","X","X","X","X","X","X","X","X","X","X","X","X","X","X","X","X","X","X","X","X","X","X","X","X","X","X","X","X","X","X","X","X","X","X","X","X","X","X","X","X","X","X","X","X","X","X","X","X","X","X","X","X"]
[216,12,"X","X","X","X","X","X","X","X","X","X","X","X","X","X","X","X","X","X","X","X","X","X","X","X","X","X","X","X","X","X","X","X","X","X","X","X","X","X","X","X","X","X","X","X","X","X","X","X","X","X","X","X","X","X","X","X","X","X","X","X","X","X","X","X","X","X","X","X","X","X","X","X","X","X","X","X","X","X","X","X","X","X","X","X","X","X","X","X","X","X","X","X","X","X","X","X","X","X","X","X","X","X","X","X","X","X","X","X","X","X","X","X","X","X","X","X","X","X","X","X","X","X","X","X","X","X","X","X","X","X","X","X","X"]
[217,1,"X","X","X","X","X","X","X","X","X","X","X","X","X","X","X","X","X","X","X","X","X","X","X","X","X","X","X","X","X","X","X","X","X","X","X","X","X","X","X","X","X","X","X","X","X","X","X","X","X","X","X","X","X","X","X","X","X","X","X","X","X","X","X","X","X","X","X","X","X","X","X","X","X","X","X","X","X","X","X","X","X","X","X","X","X","X","X","X","X","X","X","X","X","X","X","X","X","X","X","X","X","X","X","X","X","X","X","X","X","X","X","X","X","X","X","X","X","X","X","X","X","X","X","X","X","X","X","X","X","X","X","X","X"]
[218,2,"X","X","X","X","X","X","X","X","X","X","X","X","X","X","X","X","X","X","X","X","X","X","X","X","X","X","X","X","X","X","X","X","X","X","X","X","X","X","X","X","X","X","X","X","X","X","X","X","X","X","X","X","X","X","X","X","X","X","X","X","X","X","X","X","X","X","X","X","X","X","X","X","X","X","X","X","X","X","X","X","X","X","X","X","X","X","X","X","X","X","X","X","X","X","X","X","X","X","X","X","X","X","X","X","X","X","X","X","X","X","X","X","X","X","X","X","X","X","X","X","X","X","X","X","X","X","X","X","X","X","X","X","X"]
[219,3,"X","X","X","X","X","X","X","X","X","X","X","X","X","X","X","X","X","X","X","X","X","X","X","X","X","X","X","X","X","X","X","X","X","X","X","X","X","X","X","X","X","X","X","X","X","X","X","X","X","X","X","X","X","X","X","X","X","X","X","X","X","X","X","X","X","X","X","X","X","X","X","X","X","X","X","X","X","X","X","X","X","X","X","X","X","X","X","X","X","X","X","X","X","X","X","X","X","X","X","X","X","X","X","X","X","X","X","X","X","X","X","X","X","X","X","X","X","X","X","X","X","X","X","X","X","X","X","X","X","X","X","X","X"]
[220,4,"X","X","X","X","X","X","X","X","X","X","X","X","X","X","X","X","X","X","X","X","X","X","X","X","X","X","X","X","X","X","X","X","X","X","X","X","X","X","X","X","X","X","X","X","X","X","X","X","X","X","X","X","X","X","X","X","X","X","X","X","X","X","X","X","X","X","X","X","X","X","X","X","X","X","X","X","X","X","X","X","X","X","X","X","X","X","X","X","X","X","X","X","X","X","X","X","X","X","X","X","X","X","X","X","X","X","X","X","X","X","X","X","X","X","X","X","X","X","X","X","X","X","X","X","X","X","X","X","X","X","X","X","X"]
[221,5,"X","X","X","X","X","X","X","X","X","X","X","X","X","X","X","X","X","X","X","X","X","X","X","X","X","X","X","X","X","X","X","X","X","X","X","X","X","X","X","X","X","X","X","X","X","X","X","X","X","X","X","X","X","X","X","X","X","X","X","X","X","X","X","X","X","X","X","X","X","X","X","X","X","X","X","X","X","X","X","X","X","X","X","X","X","X","X","X","X","X","X","X","X","X","X","X","X","X","X","X","X","X","X","X","X","X","X","X","X","X","X","X","X","X","X","X","X","X","X","X","X","X","X","X","X","X","X","X","X","X","X","X","X"]
[222,6,"X","X","X","X","X","X","X","X","X","X","X","X","X","X","X","X","X","X","X","X","X","X","X","X","X","X","X","X","X","X","X","X","X","X","X","X","X","X","X","X","X","X","X","X","X","X","X","X","X","X","X","X","X","X","X","X","X","X","X","X","X","X","X","X","X","X","X","X","X","X","X","X","X","X","X","X","X","X","X","X","X","X","X","X","X","X","X","X","X","X","X","X","X","X","X","X","X","X","X","X","X","X","X","X","X","X","X","X","X","X","X","X","X","X","X","X","X","X","X","X","X","X","X","X","X","X","X","X","X","X","X","X","X"]
[223,7,"X","X","X","X","X","X","X","X","X","X","X","X","X","X","X","X","X","X","X","X","X","X","X","X","X","X","X","X","X","X","X","X","X","X","X","X","X","X","X","X","X","X","X","X","X","X","X","X","X","X","X","X","X","X","X","X","X","X","X","X","X","X","X","X","X","X","X","X","X","X","X","X","X","X","X","X","X","X","X","X","X","X","X","X","X","X","X","X","X","X","X","X","X","X","X","X","X","X","X","X","X","X","X","X","X","X","X","X","X","X","X","X","X","X","X","X","X","X","X","X","X","X","X","X","X","X","X","X","X","X","X","X","X"]
[224,8,"X","X","X","X","X","X","X","X","X","X","X","X","X","X","X","X","X","X","X","X","X","X","X","X","X","X","X","X","X","X","X","X","X","X","X","X","X","X","X","X","X","X","X","X","X","X","X","X","X","X","X","X","X","X","X","X","X","X","X","X","X","X","X","X","X","X","X","X","X","X","X","X","X","X","X","X","X","X","X","X","X","X","X","X","X","X","X","X","X","X","X","X","X","X","X","X","X","X","X","X","X","X","X","X","X","X","X","X","X","X","X","X","X","X","X","X","X","X","X","X","X","X","X","X","X","X","X","X","X","X","X","X","X"]
[225,9,"X","X","X","X","X","X","X","X","X","X","X","X","X","X","X","X","X","X","X","X","X","X","X","X","X","X","X","X","X","X","X","X","X","X","X","X","X","X","X","X","X","X","X","X","X","X","X","X","X","X","X","X","X","X","X","X","X","X","X","X","X","X","X","X","X","X","X","X","X","X","X","X","X","X","X","X","X","X","X","X","X","X","X","X","X","X","X","X","X","X","X","X","X","X","X","X","X","X","X","X","X","X","X","X","X","X","X","X","X","X","X","X","X","X","X","X","X","X","X","X","X","X","X","X","X","X","X","X","X","X","X","X","X"]
[226,10,"X","X","X","X","X","X","X","X","X","X","X","X","X","X","X","X","X","X","X","X","X","X","X","X","X","X","X","X","X","X","X","X","X","X","X","X","X","X","X","X","X","X","X","X","X","X","X","X","X","X","X","X","X","X","X","X","X","X","X","X","X","X","X","X","X","X","X","X","X","X","X","X","X","X","X","X","X","X","X","X","X","X","X","X","X","X","X","X","X","X","X","X","X","X","X","X","X","X","X","X","X","X","X","X","X","X","X","X","X","X","X","X","X","X","X","X","X","X","X","X","X","X","X","X","X","X","X","X","X","X","X","X","X"]
[227,11,"X","X","X","X","X","X","X","X","X","X","X","X","X","X","X","X","X","X","X","X","X","X","X","X","X","X","X","X","X","X","X","X","X","X","X","X","X","X","X","X","X","X","X","X","X","X","X","X","X","X","X","X","X","X","X","X","X","X","X","X","X","X","X","X","X","X","X","X","X","X","X","X","X","X","X","X","X","X","X","X","X","X","X","X","X","X","X","X","X","X","X","X","X","X","X","X","X","X","X","X","X","X","X","X","X","X","X","X","X","X","X","X","X","X","X","X","X","X","X","X","X","X","X","X","X","X","X","X","X","X","X","X","X"]
[228,12,"X","X","X","X","X","X","X","X","X","X","X","X","X","X","X","X","X","X","X","X","X","X","X","X","X","X","X","X","X","X","X","X","X","X","X","X","X","X","X","X","X","X","X","X","X","X","X","X","X","X","X","X","X","X","X","X","X","X","X","X","X","X","X","X","X","X","X","X","X","X","X","X","X","X","X","X","X","X","X","X","X","X","X","X","X","X","X","X","X","X","X","X","X","X","X","X","X","X","X","X","X","X","X","X","X","X","X","X","X","X","X","X","X","X","X","X","X","X","X","X","X","X","X","X","X","X","X","X","X","X","X","X","X"]
[229,1,"X","X","X","X","X","X","X","X","X","X","X","X","X","X","X","X","X","X","X","X","X","X","X","X","X","X","X","X","X","X","X","X","X","X","X","X","X","X","X","X","X","X","X","X","X","X","X","X","X","X","X","X","X","X","X","X","X","X","X","X","X","X","X","X","X","X","X","X","X","X","X","X","X","X","X","X","X","X","X","X","X","X","X","X","X","X","X","X","X","X","X","X","X","X","X","X","X","X","X","X","X","X","X","X","X","X","X","X","X","X","X","X","X","X","X","X","X","X","X","X","X","X","X","X","X","X","X","X","X","X","X","X","X"]
[230,2,"X","X","X","X","X","X","X","X","X","X","X","X","X","X","X","X","X","X","X","X","X","X","X","X","X","X","X","X","X","X","X","X","X","X","X","X","X","X","X","X","X","X","X","X","X","X","X","X","X","X","X","X","X","X","X","X","X","X","X","X","X","X","X","X","X","X","X","X","X","X","X","X","X","X","X","X","X","X","X","X","X","X","X","X","X","X","X","X","X","X","X","X","X","X","X","X","X","X","X","X","X","X","X","X","X","X","X","X","X","X","X","X","X","X","X","X","X","X","X","X","X","X","X","X","X","X","X","X","X","X","X","X","X"]
[231,3,"X","X","X","X","X","X","X","X","X","X","X","X","X","X","X","X","X","X","X","X","X","X","X","X","X","X","X","X","X","X","X","X","X","X","X","X","X","X","X","X","X","X","X","X","X","X","X","X","X","X","X","X","X","X","X","X","X","X","X","X","X","X","X","X","X","X","X","X","X","X","X","X","X","X","X","X","X","X","X","X","X","X","X","X","X","X","X","X","X","X","X","X","X","X","X","X","X","X","X","X","X","X","X","X","X","X","X","X","X","X","X","X","X","X","X","X","X","X","X","X","X","X","X","X","X","X","X","X","X","X","X","X","X"]
[232,4,"X","X","X","X","X","X","X","X","X","X","X","X","X","X","X","X","X","X","X","X","X","X","X","X","X","X","X","X","X","X","X","X","X","X","X","X","X","X","X","X","X","X","X","X","X","X","X","X","X","X","X","X","X","X","X","X","X","X","X","X","X","X","X","X","X","X","X","X","X","X","X","X","X","X","X","X","X","X","X","X","X","X","X","X","X","X","X","X","X","X","X","X","X","X","X","X","X","X","X","X","X","X","X","X","X","X","X","X","X","X","X","X","X","X","X","X","X","X","X","X","X","X","X","X","X","X","X","X","X","X","X","X","X"]
[233,5,"X","X","X","X","X","X","X","X","X","X","X","X","X","X","X","X","X","X","X","X","X","X","X","X","X","X","X","X","X","X","X","X","X","X","X","X","X","X","X","X","X","X","X","X","X","X","X","X","X","X","X","X","X","X","X","X","X","X","X","X","X","X","X","X","X","X","X","X","X","X","X","X","X","X","X","X","X","X","X","X","X","X","X","X","X","X","X","X","X","X","X","X","X","X","X","X","X","X","X","X","X","X","X","X","X","X","X","X","X","X","X","X","X","X","X","X","X","X","X","X","X","X","X","X","X","X","X","X","X","X","X","X","X"]
[234,6,"X","X","X","X","X","X","X","X","X","X","X","X","X","X","X","X","X","X","X","X","X","X","X","X","X","X","X","X","X","X","X","X","X","X","X","X","X","X","X","X","X","X","X","X","X","X","X","X","X","X","X","X","X","X","X","X","X","X","X","X","X","X","X","X","X","X","X","X","X","X","X","X","X","X","X","X","X","X","X","X","X","X","X","X","X","X","X","X","X","X","X","X","X","X","X","X","X","X","X","X","X","X","X","X","X","X","X","X","X","X","X","X","X","X","X","X","X","X","X","X","X","X","X","X","X","X","X","X","X","X","X","X","X"]
[235,7,"X","X","X","X","X","X","X","X","X","X","X","X","X","X","X","X","X","X","X","X","X","X","X","X","X","X","X","X","X","X","X","X","X","X","X","X","X","X","X","X","X","X","X","X","X","X","X","X","X","X","X","X","X","X","X","X","X","X","X","X","X","X","X","X","X","X","X","X","X","X","X","X","X","X","X","X","X","X","X","X","X","X","X","X","X","X","X","X","X","X","X","X","X","X","X","X","X","X","X","X","X","X","X","X","X","X","X","X","X","X","X","X","X","X","X","X","X","X","X","X","X","X","X","X","X","X","X","X","X","X","X","X","X"]
[236,8,"X","X","X","X","X","X","X","X","X","X","X","X","X","X","X","X","X","X","X","X","X","X","X","X","X","X","X","X","X","X","X","X","X","X","X","X","X","X","X","X","X","X","X","X","X","X","X","X","X","X","X","X","X","X","X","X","X","X","X","X","X","X","X","X","X","X","X","X","X","X","X","X","X","X","X","X","X","X","X","X","X","X","X","X","X","X","X","X","X","X","X","X","X","X","X","X","X","X","X","X","X","X","X","X","X","X","X","X","X","X","X","X","X","X","X","X","X","X","X","X","X","X","X","X","X","X","X","X","X","X","X","X","X"]
[237,9,"X","X","X","X","X","X","X","X","X","X","X","X","X","X","X","X","X","X","X","X","X","X","X","X","X","X","X","X","X","X","X","X","X","X","X","X","X","X","X","X","X","X","X","X","X","X","X","X","X","X","X","X","X","X","X","X","X","X","X","X","X","X","X","X","X","X","X","X","X","X","X","X","X","X","X","X","X","X","X","X","X","X","X","X","X","X","X","X","X","X","X","X","X","X","X","X","X","X","X","X","X","X","X","X","X","X","X","X","X","X","X","X","X","X","X","X","X","X","X","X","X","X","X","X","X","X","X","X","X","X","X","X","X"]
[238,10,"X","X","X","X","X","X","X","X","X","X","X","X","X","X","X","X","X","X","X","X","X","X","X","X","X","X","X","X","X","X","X","X","X","X","X","X","X","X","X","X","X","X","X","X","X","X","X","X","X","X","X","X","X","X","X","X","X","X","X","X","X","X","X","X","X","X","X","X","X","X","X","X","X","X","X","X","X","X","X","X","X","X","X","X","X","X","X","X","X","X","X","X","X","X","X","X","X","X","X","X","X","X","X","X","X","X","X","X","X","X","X","X","X","X","X","X","X","X","X","X","X","X","X","X","X","X","X","X","X","X","X","X","X"]
[239,11,"X","X","X","X","X","X","X","X","X","X","X","X","X","X","X","X","X","X","X","X","X","X","X","X","X","X","X","X","X","X","X","X","X","X","X","X","X","X","X","X","X","X","X","X","X","X","X","X","X","X","X","X","X","X","X","X","X","X","X","X","X","X","X","X","X","X","X","X","X","X","X","X","X","X","X","X","X","X","X","X","X","X","X","X","X","X","X","X","X","X","X","X","X","X","X","X","X","X","X","X","X","X","X","X","X","X","X","X","X","X","X","X","X","X","X","X","X","X","X","X","X","X","X","X","X","X","X","X","X","X","X","X","X"]
[240,12,"X","X","X","X","X","X","X","X","X","X","X","X","X","X","X","X","X","X","X","X","X","X","X","X","X","X","X","X","X","X","X","X","X","X","X","X","X","X","X","X","X","X","X","X","X","X","X","X","X","X","X","X","X","X","X","X","X","X","X","X","X","X","X","X","X","X","X","X","X","X","X","X","X","X","X","X","X","X","X","X","X","X","X","X","X","X","X","X","X","X","X","X","X","X","X","X","X","X","X","X","X","X","X","X","X","X","X","X","X","X","X","X","X","X","X","X","X","X","X","X","X","X","X","X","X","X","X","X","X","X","X","X","X"]
[241,1,"X","X","X","X","X","X","X","X","X","X","X","X","X","X","X","X","X","X","X","X","X","X","X","X","X","X","X","X","X","X","X","X","X","X","X","X","X","X","X","X","X","X","X","X","X","X","X","X","X","X","X","X","X","X","X","X","X","X","X","X","X","X","X","X","X","X","X","X","X","X","X","X","X","X","X","X","X","X","X","X","X","X","X","X","X","X","X","X","X","X","X","X","X","X","X","X","X","X","X","X","X","X","X","X","X","X","X","X","X","X","X","X","X","X","X","X","X","X","X","X","X","X","X","X","X","X","X","X","X","X","X","X","X"]
[242,2,"X","X","X","X","X","X","X","X","X","X","X","X","X","X","X","X","X","X","X","X","X","X","X","X","X","X","X","X","X","X","X","X","X","X","X","X","X","X","X","X","X","X","X","X","X","X","X","X","X","X","X","X","X","X","X","X","X","X","X","X","X","X","X","X","X","X","X","X","X","X","X","X","X","X","X","X","X","X","X","X","X","X","X","X","X","X","X","X","X","X","X","X","X","X","X","X","X","X","X","X","X","X","X","X","X","X","X","X","X","X","X","X","X","X","X","X","X","X","X","X","X","X","X","X","X","X","X","X","X","X","X","X","X"]
[243,3,"X","X","X","X","X","X","X","X","X","X","X","X","X","X","X","X","X","X","X","X","X","X","X","X","X","X","X","X","X","X","X","X","X","X","X","X","X","X","X","X","X","X","X","X","X","X","X","X","X","X","X","X","X","X","X","X","X","X","X","X","X","X","X","X","X","X","X","X","X","X","X","X","X","X","X","X","X","X","X","X","X","X","X","X","X","X","X","X","X","X","X","X","X","X","X","X","X","X","X","X","X","X","X","X","X","X","X","X","X","X","X","X","X","X","X","X","X","X","X","X","X","X","X","X","X","X","X","X","X","X","X","X","X"]
[244,4,"X","X","X","X","X","X","X","X","X","X","X","X","X","X","X","X","X","X","X","X","X","X","X","X","X","X","X","X","X","X","X","X","X","X","X","X","X","X","X","X","X","X","X","X","X","X","X","X","X","X","X","X","X","X","X","X","X","X","X","X","X","X","X","X","X","X","X","X","X","X","X","X","X","X","X","X","X","X","X","X","X","X","X","X","X","X","X","X","X","X","X","X","X","X","X","X","X","X","X","X","X","X","X","X","X","X","X","X","X","X","X","X","X","X","X","X","X","X","X","X","X","X","X","X","X","X","X","X","X","X","X","X","X"]
[245,5,"X","X","X","X","X","X","X","X","X","X","X","X","X","X","X","X","X","X","X","X","X","X","X","X","X","X","X","X","X","X","X","X","X","X","X","X","X","X","X","X","X","X","X","X","X","X","X","X","X","X","X","X","X","X","X","X","X","X","X","X","X","X","X","X","X","X","X","X","X","X","X","X","X","X","X","X","X","X","X","X","X","X","X","X","X","X","X","X","X","X","X","X","X","X","X","X","X","X","X","X","X","X","X","X","X","X","X","X","X","X","X","X","X","X","X","X","X","X","X","X","X","X","X","X","X","X","X","X","X","X","X","X","X"]
[246,6,"X","X","X","X","X","X","X","X","X","X","X","X","X","X","X","X","X","X","X","X","X","X","X","X","X","X","X","X","X","X","X","X","X","X","X","X","X","X","X","X","X","X","X","X","X","X","X","X","X","X","X","X","X","X","X","X","X","X","X","X","X","X","X","X","X","X","X","X","X","X","X","X","X","X","X","X","X","X","X","X","X","X","X","X","X","X","X","X","X","X","X","X","X","X","X","X","X","X","X","X","X","X","X","X","X","X","X","X","X","X","X","X","X","X","X","X","X","X","X","X","X","X","X","X","X","X","X","X","X","X","X","X","X"]
[247,7,"X","X","X","X","X","X","X","X","X","X","X","X","X","X","X","X","X","X","X","X","X","X","X","X","X","X","X","X","X","X","X","X","X","X","X","X","X","X","X","X","X","X","X","X","X","X","X","X","X","X","X","X","X","X","X","X","X","X","X","X","X","X","X","X","X","X","X","X","X","X","X","X","X","X","X","X","X","X","X","X","X","X","X","X","X","X","X","X","X","X","X","X","X","X","X","X","X","X","X","X","X","X","X","X","X","X","X","X","X","X","X","X","X","X","X","X","X","X","X","X","X","X","X","X","X","X","X","X","X","X","X","X","X"]
[248,8,"X","X","X","X","X","X","X","X","X","X","X","X","X","X","X","X","X","X","X","X","X","X","X","X","X","X","X","X","X","X","X","X","X","X","X","X","X","X","X","X","X","X","X","X","X","X","X","X","X","X","X","X","X","X","X","X","X","X","X","X","X","X","X","X","X","X","X","X","X","X","X","X","X","X","X","X","X","X","X","X","X","X","X","X","X","X","X","X","X","X","X","X","X","X","X","X","X","X","X","X","X","X","X","X","X","X","X","X","X","X","X","X","X","X","X","X","X","X","X","X","X","X","X","X","X","X","X","X","X","X","X","X","X"]
[249,9,"X","X","X","X","X","X","X","X","X","X","X","X","X","X","X","X","X","X","X","X","X","X","X","X","X","X","X","X","X","X","X","X","X","X","X","X","X","X","X","X","X","X","X","X","X","X","X","X","X","X","X","X","X","X","X","X","X","X","X","X","X","X","X","X","X","X","X","X","X","X","X","X","X","X","X","X","X","X","X","X","X","X","X","X","X","X","X","X","X","X","X","X","X","X","X","X","X","X","X","X","X","X","X","X","X","X","X","X","X","X","X","X","X","X","X","X","X","X","X","X","X","X","X","X","X","X","X","X","X","X","X","X","X"]
[250,10,"X","X","X","X","X","X","X","X","X","X","X","X","X","X","X","X","X","X","X","X","X","X","X","X","X","X","X","X","X","X","X","X","X","X","X","X","X","X","X","X","X","X","X","X","X","X","X","X","X","X","X","X","X","X","X","X","X","X","X","X","X","X","X","X","X","X","X","X","X","X","X","X","X","X","X","X","X","X","X","X","X","X","X","X","X","X","X","X","X","X","X","X","X","X","X","X","X","X","X","X","X","X","X","X","X","X","X","X","X","X","X","X","X","X","X","X","X","X","X","X","X","X","X","X","X","X","X","X","X","X","X","X","X"]
[251,11,"X","X","X","X","X","X","X","X","X","X","X","X","X","X","X","X","X","X","X","X","X","X","X","X","X","X","X","X","X","X","X","X","X","X","X","X","X","X","X","X","X","X","X","X","X","X","X","X","X","X","X","X","X","X","X","X","X","X","X","X","X","X","X","X","X","X","X","X","X","X","X","X","X","X","X","X","X","X","X","X","X","X","X","X","X","X","X","X","X","X","X","X","X","X","X","X","X","X","X","X","X","X","X","X","X","X","X","X","X","X","X","X","X","X","X","X","X","X","X","X","X","X","X","X","X","X","X","X","X","X","X","X","X"]
[252,12,"X","X","X","X","X","X","X","X","X","X","X","X","X","X","X","X","X","X","X","X","X","X","X","X","X","X","X","X","X","X","X","X","X","X","X","X","X","X","X","X","X","X","X","X","X","X","X","X","X","X","X","X","X","X","X","X","X","X","X","X","X","X","X","X","X","X","X","X","X","X","X","X","X","X","X","X","X","X","X","X","X","X","X","X","X","X","X","X","X","X","X","X","X","X","X","X","X","X","X","X","X","X","X","X","X","X","X","X","X","X","X","X","X","X","X","X","X","X","X","X","X","X","X","X","X","X","X","X","X","X","X","X","X"]
[253,1,"X","X","X","X","X","X","X","X","X","X","X","X","X","X","X","X","X","X","X","X","X","X","X","X","X","X","X","X","X","X","X","X","X","X","X","X","X","X","X","X","X","X","X","X","X","X","X","X","X","X","X","X","X","X","X","X","X","X","X","X","X","X","X","X","X","X","X","X","X","X","X","X","X","X","X","X","X","X","X","X","X","X","X","X","X","X","X","X","X","X","X","X","X","X","X","X","X","X","X","X","X","X","X","X","X","X","X","X","X","X","X","X","X","X","X","X","X","X","X","X","X","X","X","X","X","X","X","X","X","X","X","X","X"]
[254,2,"X","X","X","X","X","X","X","X","X","X","X","X","X","X","X","X","X","X","X","X","X","X","X","X","X","X","X","X","X","X","X","X","X","X","X","X","X","X","X","X","X","X","X","X","X","X","X","X","X","X","X","X","X","X","X","X","X","X","X","X","X","X","X","X","X","X","X","X","X","X","X","X","X","X","X","X","X","X","X","X","X","X","X","X","X","X","X","X","X","X","X","X","X","X","X","X","X","X","X","X","X","X","X","X","X","X","X","X","X","X","X","X","X","X","X","X","X","X","X","X","X","X","X","X","X","X","X","X","X","X","X","X","X"]
[255,3,"X","X","X","X","X","X","X","X","X","X","X","X","X","X","X","X","X","X","X","X","X","X","X","X","X","X","X","X","X","X","X","X","X","X","X","X","X","X","X","X","X","X","X","X","X","X","X","X","X","X","X","X","X","X","X","X","X","X","X","X","X","X","X","X","X","X","X","X","X","X","X","X","X","X","X","X","X","X","X","X","X","X","X","X","X","X","X","X","X","X","X","X","X","X","X","X","X","X","X","X","X","X","X","X","X","X","X","X","X","X","X","X","X","X","X","X","X","X","X","X","X","X","X","X","X","X","X","X","X","X","X","X","X"]
[256,4,"X","X","X","X","X","X","X","X","X","X","X","X","X","X","X","X","X","X","X","X","X","X","X","X","X","X","X","X","X","X","X","X","X","X","X","X","X","X","X","X","X","X","X","X","X","X","X","X","X","X","X","X","X","X","X","X","X","X","X","X","X","X","X","X","X","X","X","X","X","X","X","X","X","X","X","X","X","X","X","X","X","X","X","X","X","X","X","X","X","X","X","X","X","X","X","X","X","X","X","X","X","X","X","X","X","X","X","X","X","X","X","X","X","X","X","X","X","X","X","X","X","X","X","X","X","X","X","X","X","X","X","X","X"]
[257,5,"X","X","X","X","X","X","X","X","X","X","X","X","X","X","X","X","X","X","X","X","X","X","X","X","X","X","X","X","X","X","X","X","X","X","X","X","X","X","X","X","X","X","X","X","X","X","X","X","X","X","X","X","X","X","X","X","X","X","X","X","X","X","X","X","X","X","X","X","X","X","X","X","X","X","X","X","X","X","X","X","X","X","X","X","X","X","X","X","X","X","X","X","X","X","X","X","X","X","X","X","X","X","X","X","X","X","X","X","X","X","X","X","X","X","X","X","X","X","X","X","X","X","X","X","X","X","X","X","X","X","X","X","X"]
[258,6,"X","X","X","X","X","X","X","X","X","X","X","X","X","X","X","X","X","X","X","X","X","X","X","X","X","X","X","X","X","X","X","X","X","X","X","X","X","X","X","X","X","X","X","X","X","X","X","X","X","X","X","X","X","X","X","X","X","X","X","X","X","X","X","X","X","X","X","X","X","X","X","X","X","X","X","X","X","X","X","X","X","X","X","X","X","X","X","X","X","X","X","X","X","X","X","X","X","X","X","X","X","X","X","X","X","X","X","X","X","X","X","X","X","X","X","X","X","X","X","X","X","X","X","X","X","X","X","X","X","X","X","X","X"]
[259,7,"X","X","X","X","X","X","X","X","X","X","X","X","X","X","X","X","X","X","X","X","X","X","X","X","X","X","X","X","X","X","X","X","X","X","X","X","X","X","X","X","X","X","X","X","X","X","X","X","X","X","X","X","X","X","X","X","X","X","X","X","X","X","X","X","X","X","X","X","X","X","X","X","X","X","X","X","X","X","X","X","X","X","X","X","X","X","X","X","X","X","X","X","X","X","X","X","X","X","X","X","X","X","X","X","X","X","X","X","X","X","X","X","X","X","X","X","X","X","X","X","X","X","X","X","X","X","X","X","X","X","X","X","X"]
[260,8,"X","X","X","X","X","X","X","X","X","X","X","X","X","X","X","X","X","X","X","X","X","X","X","X","X","X","X","X","X","X","X","X","X","X","X","X","X","X","X","X","X","X","X","X","X","X","X","X","X","X","X","X","X","X","X","X","X","X","X","X","X","X","X","X","X","X","X","X","X","X","X","X","X","X","X","X","X","X","X","X","X","X","X","X","X","X","X","X","X","X","X","X","X","X","X","X","X","X","X","X","X","X","X","X","X","X","X","X","X","X","X","X","X","X","X","X","X","X","X","X","X","X","X","X","X","X","X","X","X","X","X","X","X"]
[261,9,"X","X","X","X","X","X","X","X","X","X","X","X","X","X","X","X","X","X","X","X","X","X","X","X","X","X","X","X","X","X","X","X","X","X","X","X","X","X","X","X","X","X","X","X","X","X","X","X","X","X","X","X","X","X","X","X","X","X","X","X","X","X","X","X","X","X","X","X","X","X","X","X","X","X","X","X","X","X","X","X","X","X","X","X","X","X","X","X","X","X","X","X","X","X","X","X","X","X","X","X","X","X","X","X","X","X","X","X","X","X","X","X","X","X","X","X","X","X","X","X","X","X","X","X","X","X","X","X","X","X","X","X","X"]
[262,10,"X","X","X","X","X","X","X","X","X","X","X","X","X","X","X","X","X","X","X","X","X","X","X","X","X","X","X","X","X","X","X","X","X","X","X","X","X","X","X","X","X","X","X","X","X","X","X","X","X","X","X","X","X","X","X","X","X","X","X","X","X","X","X","X","X","X","X","X","X","X","X","X","X","X","X","X","X","X","X","X","X","X","X","X","X","X","X","X","X","X","X","X","X","X","X","X","X","X","X","X","X","X","X","X","X","X","X","X","X","X","X","X","X","X","X","X","X","X","X","X","X","X","X","X","X","X","X","X","X","X","X","X","X"]
[263,11,"X","X","X","X","X","X","X","X","X","X","X","X","X","X","X","X","X","X","X","X","X","X","X","X","X","X","X","X","X","X","X","X","X","X","X","X","X","X","X","X","X","X","X","X","X","X","X","X","X","X","X","X","X","X","X","X","X","X","X","X","X","X","X","X","X","X","X","X","X","X","X","X","X","X","X","X","X","X","X","X","X","X","X","X","X","X","X","X","X","X","X","X","X","X","X","X","X","X","X","X","X","X","X","X","X","X","X","X","X","X","X","X","X","X","X","X","X","X","X","X","X","X","X","X","X","X","X","X","X","X","X","X","X"]
[264,12,"X","X","X","X","X","X","X","X","X","X","X","X","X","X","X","X","X","X","X","X","X","X","X","X","X","X","X","X","X","X","X","X","X","X","X","X","X","X","X","X","X","X","X","X","X","X","X","X","X","X","X","X","X","X","X","X","X","X","X","X","X","X","X","X","X","X","X","X","X","X","X","X","X","X","X","X","X","X","X","X","X","X","X","X","X","X","X","X","X","X","X","X","X","X","X","X","X","X","X","X","X","X","X","X","X","X","X","X","X","X","X","X","X","X","X","X","X","X","X","X","X","X","X","X","X","X","X","X","X","X","X","X","X"]
[265,1,"X","X","X","X","X","X","X","X","X","X","X","X","X","X","X","X","X","X","X","X","X","X","X","X","X","X","X","X","X","X","X","X","X","X","X","X","X","X","X","X","X","X","X","X","X","X","X","X","X","X","X","X","X","X","X","X","X","X","X","X","X","X","X","X","X","X","X","X","X","X","X","X","X","X","X","X","X","X","X","X","X","X","X","X","X","X","X","X","X","X","X","X","X","X","X","X","X","X","X","X","X","X","X","X","X","X","X","X","X","X","X","X","X","X","X","X","X","X","X","X","X","X","X","X","X","X","X","X","X","X","X","X","X"]
[266,2,"X","X","X","X","X","X","X","X","X","X","X","X","X","X","X","X","X","X","X","X","X","X","X","X","X","X","X","X","X","X","X","X","X","X","X","X","X","X","X","X","X","X","X","X","X","X","X","X","X","X","X","X","X","X","X","X","X","X","X","X","X","X","X","X","X","X","X","X","X","X","X","X","X","X","X","X","X","X","X","X","X","X","X","X","X","X","X","X","X","X","X","X","X","X","X","X","X","X","X","X","X","X","X","X","X","X","X","X","X","X","X","X","X","X","X","X","X","X","X","X","X","X","X","X","X","X","X","X","X","X","X","X","X"]
[267,3,"X","X","X","X","X","X","X","X","X","X","X","X","X","X","X","X","X","X","X","X","X","X","X","X","X","X","X","X","X","X","X","X","X","X","X","X","X","X","X","X","X","X","X","X","X","X","X","X","X","X","X","X","X","X","X","X","X","X","X","X","X","X","X","X","X","X","X","X","X","X","X","X","X","X","X","X","X","X","X","X","X","X","X","X","X","X","X","X","X","X","X","X","X","X","X","X","X","X","X","X","X","X","X","X","X","X","X","X","X","X","X","X","X","X","X","X","X","X","X","X","X","X","X","X","X","X","X","X","X","X","X","X","X"]
[268,4,"X","X","X","X","X","X","X","X","X","X","X","X","X","X","X","X","X","X","X","X","X","X","X","X","X","X","X","X","X","X","X","X","X","X","X","X","X","X","X","X","X","X","X","X","X","X","X","X","X","X","X","X","X","X","X","X","X","X","X","X","X","X","X","X","X","X","X","X","X","X","X","X","X","X","X","X","X","X","X","X","X","X","X","X","X","X","X","X","X","X","X","X","X","X","X","X","X","X","X","X","X","X","X","X","X","X","X","X","X","X","X","X","X","X","X","X","X","X","X","X","X","X","X","X","X","X","X","X","X","X","X","X","X"]
[269,5,"X","X","X","X","X","X","X","X","X","X","X","X","X","X","X","X","X","X","X","X","X","X","X","X","X","X","X","X","X","X","X","X","X","X","X","X","X","X","X","X","X","X","X","X","X","X","X","X","X","X","X","X","X","X","X","X","X","X","X","X","X","X","X","X","X","X","X","X","X","X","X","X","X","X","X","X","X","X","X","X","X","X","X","X","X","X","X","X","X","X","X","X","X","X","X","X","X","X","X","X","X","X","X","X","X","X","X","X","X","X","X","X","X","X","X","X","X","X","X","X","X","X","X","X","X","X","X","X","X","X","X","X","X"]
[270,6,"X","X","X","X","X","X","X","X","X","X","X","X","X","X","X","X","X","X","X","X","X","X","X","X","X","X","X","X","X","X","X","X","X","X","X","X","X","X","X","X","X","X","X","X","X","X","X","X","X","X","X","X","X","X","X","X","X","X","X","X","X","X","X","X","X","X","X","X","X","X","X","X","X","X","X","X","X","X","X","X","X","X","X","X","X","X","X","X","X","X","X","X","X","X","X","X","X","X","X","X","X","X","X","X","X","X","X","X","X","X","X","X","X","X","X","X","X","X","X","X","X","X","X","X","X","X","X","X","X","X","X","X","X"]
[271,7,"X","X","X","X","X","X","X","X","X","X","X","X","X","X","X","X","X","X","X","X","X","X","X","X","X","X","X","X","X","X","X","X","X","X","X","X","X","X","X","X","X","X","X","X","X","X","X","X","X","X","X","X","X","X","X","X","X","X","X","X","X","X","X","X","X","X","X","X","X","X","X","X","X","X","X","X","X","X","X","X","X","X","X","X","X","X","X","X","X","X","X","X","X","X","X","X","X","X","X","X","X","X","X","X","X","X","X","X","X","X","X","X","X","X","X","X","X","X","X","X","X","X","X","X","X","X","X","X","X","X","X","X","X"]
[272,8,"X","X","X","X","X","X","X","X","X","X","X","X","X","X","X","X","X","X","X","X","X","X","X","X","X","X","X","X","X","X","X","X","X","X","X","X","X","X","X","X","X","X","X","X","X","X","X","X","X","X","X","X","X","X","X","X","X","X","X","X","X","X","X","X","X","X","X","X","X","X","X","X","X","X","X","X","X","X","X","X","X","X","X","X","X","X","X","X","X","X","X","X","X","X","X","X","X","X","X","X","X","X","X","X","X","X","X","X","X","X","X","X","X","X","X","X","X","X","X","X","X","X","X","X","X","X","X","X","X","X","X","X","X"]
[273,9,"X","X","X","X","X","X","X","X","X","X","X","X","X","X","X","X","X","X","X","X","X","X","X","X","X","X","X","X","X","X","X","X","X","X","X","X","X","X","X","X","X","X","X","X","X","X","X","X","X","X","X","X","X","X","X","X","X","X","X","X","X","X","X","X","X","X","X","X","X","X","X","X","X","X","X","X","X","X","X","X","X","X","X","X","X","X","X","X","X","X","X","X","X","X","X","X","X","X","X","X","X","X","X","X","X","X","X","X","X","X","X","X","X","X","X","X","X","X","X","X","X","X","X","X","X","X","X","X","X","X","X","X","X"]
[274,10,"X","X","X","X","X","X","X","X","X","X","X","X","X","X","X","X","X","X","X","X","X","X","X","X","X","X","X","X","X","X","X","X","X","X","X","X","X","X","X","X","X","X","X","X","X","X","X","X","X","X","X","X","X","X","X","X","X","X","X","X","X","X","X","X","X","X","X","X","X","X","X","X","X","X","X","X","X","X","X","X","X","X","X","X","X","X","X","X","X","X","X","X","X","X","X","X","X","X","X","X","X","X","X","X","X","X","X","X","X","X","X","X","X","X","X","X","X","X","X","X","X","X","X","X","X","X","X","X","X","X","X","X","X"]
[275,11,"X","X","X","X","X","X","X","X","X","X","X","X","X","X","X","X","X","X","X","X","X","X","X","X","X","X","X","X","X","X","X","X","X","X","X","X","X","X","X","X","X","X","X","X","X","X","X","X","X","X","X","X","X","X","X","X","X","X","X","X","X","X","X","X","X","X","X","X","X","X","X","X","X","X","X","X","X","X","X","X","X","X","X","X","X","X","X","X","X","X","X","X","X","X","X","X","X","X","X","X","X","X","X","X","X","X","X","X","X","X","X","X","X","X","X","X","X","X","X","X","X","X","X","X","X","X","X","X","X","X","X","X","X"]
[276,12,"X","X","X","X","X","X","X","X","X","X","X","X","X","X","X","X","X","X","X","X","X","X","X","X","X","X","X","X","X","X","X","X","X","X","X","X","X","X","X","X","X","X","X","X","X","X","X","X","X","X","X","X","X","X","X","X","X","X","X","X","X","X","X","X","X","X","X","X","X","X","X","X","X","X","X","X","X","X","X","X","X","X","X","X","X","X","X","X","X","X","X","X","X","X","X","X","X","X","X","X","X","X","X","X","X","X","X","X","X","X","X","X","X","X","X","X","X","X","X","X","X","X","X","X","X","X","X","X","X","X","X","X","X"]
[277,1,"X","X","X","X","X","X","X","X","X","X","X","X","X","X","X","X","X","X","X","X","X","X","X","X","X","X","X","X","X","X","X","X","X","X","X","X","X","X","X","X","X","X","X","X","X","X","X","X","X","X","X","X","X","X","X","X","X","X","X","X","X","X","X","X","X","X","X","X","X","X","X","X","X","X","X","X","X","X","X","X","X","X","X","X","X","X","X","X","X","X","X","X","X","X","X","X","X","X","X","X","X","X","X","X","X","X","X","X","X","X","X","X","X","X","X","X","X","X","X","X","X","X","X","X","X","X","X","X","X","X","X","X","X"]
[278,2,"X","X","X","X","X","X","X","X","X","X","X","X","X","X","X","X","X","X","X","X","X","X","X","X","X","X","X","X","X","X","X","X","X","X","X","X","X","X","X","X","X","X","X","X","X","X","X","X","X","X","X","X","X","X","X","X","X","X","X","X","X","X","X","X","X","X","X","X","X","X","X","X","X","X","X","X","X","X","X","X","X","X","X","X","X","X","X","X","X","X","X","X","X","X","X","X","X","X","X","X","X","X","X","X","X","X","X","X","X","X","X","X","X","X","X","X","X","X","X","X","X","X","X","X","X","X","X","X","X","X","X","X","X"]
[279,3,"X","X","X","X","X","X","X","X","X","X","X","X","X","X","X","X","X","X","X","X","X","X","X","X","X","X","X","X","X","X","X","X","X","X","X","X","X","X","X","X","X","X","X","X","X","X","X","X","X","X","X","X","X","X","X","X","X","X","X","X","X","X","X","X","X","X","X","X","X","X","X","X","X","X","X","X","X","X","X","X","X","X","X","X","X","X","X","X","X","X","X","X","X","X","X","X","X","X","X","X","X","X","X","X","X","X","X","X","X","X","X","X","X","X","X","X","X","X","X","X","X","X","X","X","X","X","X","X","X","X","X","X","X"]
[280,4,"X","X","X","X","X","X","X","X","X","X","X","X","X","X","X","X","X","X","X","X","X","X","X","X","X","X","X","X","X","X","X","X","X","X","X","X","X","X","X","X","X","X","X","X","X","X","X","X","X","X","X","X","X","X","X","X","X","X","X","X","X","X","X","X","X","X","X","X","X","X","X","X","X","X","X","X","X","X","X","X","X","X","X","X","X","X","X","X","X","X","X","X","X","X","X","X","X","X","X","X","X","X","X","X","X","X","X","X","X","X","X","X","X","X","X","X","X","X","X","X","X","X","X","X","X","X","X","X","X","X","X","X","X"]
[281,5,"X","X","X","X","X","X","X","X","X","X","X","X","X","X","X","X","X","X","X","X","X","X","X","X","X","X","X","X","X","X","X","X","X","X","X","X","X","X","X","X","X","X","X","X","X","X","X","X","X","X","X","X","X","X","X","X","X","X","X","X","X","X","X","X","X","X","X","X","X","X","X","X","X","X","X","X","X","X","X","X","X","X","X","X","X","X","X","X","X","X","X","X","X","X","X","X","X","X","X","X","X","X","X","X","X","X","X","X","X","X","X","X","X","X","X","X","X","X","X","X","X","X","X","X","X","X","X","X","X","X","X","X","X"]
[282,6,"X","X","X","X","X","X","X","X","X","X","X","X","X","X","X","X","X","X","X","X","X","X","X","X","X","X","X","X","X","X","X","X","X","X","X","X","X","X","X","X","X","X","X","X","X","X","X","X","X","X","X","X","X","X","X","X","X","X","X","X","X","X","X","X","X","X","X","X","X","X","X","X","X","X","X","X","X","X","X","X","X","X","X","X","X","X","X","X","X","X","X","X","X","X","X","X","X","X","X","X","X","X","X","X","X","X","X","X","X","X","X","X","X","X","X","X","X","X","X","X","X","X","X","X","X","X","X","X","X","X","X","X","X"]
[283,7,"X","X","X","X","X","X","X","X","X","X","X","X","X","X","X","X","X","X","X","X","X","X","X","X","X","X","X","X","X","X","X","X","X","X","X","X","X","X","X","X","X","X","X","X","X","X","X","X","X","X","X","X","X","X","X","X","X","X","X","X","X","X","X","X","X","X","X","X","X","X","X","X","X","X","X","X","X","X","X","X","X","X","X","X","X","X","X","X","X","X","X","X","X","X","X","X","X","X","X","X","X","X","X","X","X","X","X","X","X","X","X","X","X","X","X","X","X","X","X","X","X","X","X","X","X","X","X","X","X","X","X","X","X"]
[284,8,"X","X","X","X","X","X","X","X","X","X","X","X","X","X","X","X","X","X","X","X","X","X","X","X","X","X","X","X","X","X","X","X","X","X","X","X","X","X","X","X","X","X","X","X","X","X","X","X","X","X","X","X","X","X","X","X","X","X","X","X","X","X","X","X","X","X","X","X","X","X","X","X","X","X","X","X","X","X","X","X","X","X","X","X","X","X","X","X","X","X","X","X","X","X","X","X","X","X","X","X","X","X","X","X","X","X","X","X","X","X","X","X","X","X","X","X","X","X","X","X","X","X","X","X","X","X","X","X","X","X","X","X","X"]
[285,9,"X","X","X","X","X","X","X","X","X","X","X","X","X","X","X","X","X","X","X","X","X","X","X","X","X","X","X","X","X","X","X","X","X","X","X","X","X","X","X","X","X","X","X","X","X","X","X","X","X","X","X","X","X","X","X","X","X","X","X","X","X","X","X","X","X","X","X","X","X","X","X","X","X","X","X","X","X","X","X","X","X","X","X","X","X","X","X","X","X","X","X","X","X","X","X","X","X","X","X","X","X","X","X","X","X","X","X","X","X","X","X","X","X","X","X","X","X","X","X","X","X","X","X","X","X","X","X","X","X","X","X","X","X"]
[286,10,"X","X","X","X","X","X","X","X","X","X","X","X","X","X","X","X","X","X","X","X","X","X","X","X","X","X","X","X","X","X","X","X","X","X","X","X","X","X","X","X","X","X","X","X","X","X","X","X","X","X","X","X","X","X","X","X","X","X","X","X","X","X","X","X","X","X","X","X","X","X","X","X","X","X","X","X","X","X","X","X","X","X","X","X","X","X","X","X","X","X","X","X","X","X","X","X","X","X","X","X","X","X","X","X","X","X","X","X","X","X","X","X","X","X","X","X","X","X","X","X","X","X","X","X","X","X","X","X","X","X","X","X","X"]
[287,11,"X","X","X","X","X","X","X","X","X","X","X","X","X","X","X","X","X","X","X","X","X","X","X","X","X","X","X","X","X","X","X","X","X","X","X","X","X","X","X","X","X","X","X","X","X","X","X","X","X","X","X","X","X","X","X","X","X","X","X","X","X","X","X","X","X","X","X","X","X","X","X","X","X","X","X","X","X","X","X","X","X","X","X","X","X","X","X","X","X","X","X","X","X","X","X","X","X","X","X","X","X","X","X","X","X","X","X","X","X","X","X","X","X","X","X","X","X","X","X","X","X","X","X","X","X","X","X","X","X","X","X","X","X"]
[288,12,"X","X","X","X","X","X","X","X","X","X","X","X","X","X","X","X","X","X","X","X","X","X","X","X","X","X","X","X","X","X","X","X","X","X","X","X","X","X","X","X","X","X","X","X","X","X","X","X","X","X","X","X","X","X","X","X","X","X","X","X","X","X","X","X","X","X","X","X","X","X","X","X","X","X","X","X","X","X","X","X","X","X","X","X","X","X","X","X","X","X","X","X","X","X","X","X","X","X","X","X","X","X","X","X","X","X","X","X","X","X","X","X","X","X","X","X","X","X","X","X","X","X","X","X","X","X","X","X","X","X","X","X","X"]
[289,1,"X","X","X","X","X","X","X","X","X","X","X","X","X","X","X","X","X","X","X","X","X","X","X","X","X","X","X","X","X","X","X","X","X","X","X","X","X","X","X","X","X","X","X","X","X","X","X","X","X","X","X","X","X","X","X","X","X","X","X","X","X","X","X","X","X","X","X","X","X","X","X","X","X","X","X","X","X","X","X","X","X","X","X","X","X","X","X","X","X","X","X","X","X","X","X","X","X","X","X","X","X","X","X","X","X","X","X","X","X","X","X","X","X","X","X","X","X","X","X","X","X","X","X","X","X","X","X","X","X","X","X","X","X"]
[290,2,"X","X","X","X","X","X","X","X","X","X","X","X","X","X","X","X","X","X","X","X","X","X","X","X","X","X","X","X","X","X","X","X","X","X","X","X","X","X","X","X","X","X","X","X","X","X","X","X","X","X","X","X","X","X","X","X","X","X","X","X","X","X","X","X","X","X","X","X","X","X","X","X","X","X","X","X","X","X","X","X","X","X","X","X","X","X","X","X","X","X","X","X","X","X","X","X","X","X","X","X","X","X","X","X","X","X","X","X","X","X","X","X","X","X","X","X","X","X","X","X","X","X","X","X","X","X","X","X","X","X","X","X","X"]
[291,3,"X","X","X","X","X","X","X","X","X","X","X","X","X","X","X","X","X","X","X","X","X","X","X","X","X","X","X","X","X","X","X","X","X","X","X","X","X","X","X","X","X","X","X","X","X","X","X","X","X","X","X","X","X","X","X","X","X","X","X","X","X","X","X","X","X","X","X","X","X","X","X","X","X","X","X","X","X","X","X","X","X","X","X","X","X","X","X","X","X","X","X","X","X","X","X","X","X","X","X","X","X","X","X","X","X","X","X","X","X","X","X","X","X","X","X","X","X","X","X","X","X","X","X","X","X","X","X","X","X","X","X","X","X"]
[292,4,"X","X","X","X","X","X","X","X","X","X","X","X","X","X","X","X","X","X","X","X","X","X","X","X","X","X","X","X","X","X","X","X","X","X","X","X","X","X","X","X","X","X","X","X","X","X","X","X","X","X","X","X","X","X","X","X","X","X","X","X","X","X","X","X","X","X","X","X","X","X","X","X","X","X","X","X","X","X","X","X","X","X","X","X","X","X","X","X","X","X","X","X","X","X","X","X","X","X","X","X","X","X","X","X","X","X","X","X","X","X","X","X","X","X","X","X","X","X","X","X","X","X","X","X","X","X","X","X","X","X","X","X","X"]
[293,5,"X","X","X","X","X","X","X","X","X","X","X","X","X","X","X","X","X","X","X","X","X","X","X","X","X","X","X","X","X","X","X","X","X","X","X","X","X","X","X","X","X","X","X","X","X","X","X","X","X","X","X","X","X","X","X","X","X","X","X","X","X","X","X","X","X","X","X","X","X","X","X","X","X","X","X","X","X","X","X","X","X","X","X","X","X","X","X","X","X","X","X","X","X","X","X","X","X","X","X","X","X","X","X","X","X","X","X","X","X","X","X","X","X","X","X","X","X","X","X","X","X","X","X","X","X","X","X","X","X","X","X","X","X"]
[294,6,"X","X","X","X","X","X","X","X","X","X","X","X","X","X","X","X","X","X","X","X","X","X","X","X","X","X","X","X","X","X","X","X","X","X","X","X","X","X","X","X","X","X","X","X","X","X","X","X","X","X","X","X","X","X","X","X","X","X","X","X","X","X","X","X","X","X","X","X","X","X","X","X","X","X","X","X","X","X","X","X","X","X","X","X","X","X","X","X","X","X","X","X","X","X","X","X","X","X","X","X","X","X","X","X","X","X","X","X","X","X","X","X","X","X","X","X","X","X","X","X","X","X","X","X","X","X","X","X","X","X","X","X","X"]
[295,7,"X","X","X","X","X","X","X","X","X","X","X","X","X","X","X","X","X","X","X","X","X","X","X","X","X","X","X","X","X","X","X","X","X","X","X","X","X","X","X","X","X","X","X","X","X","X","X","X","X","X","X","X","X","X","X","X","X","X","X","X","X","X","X","X","X","X","X","X","X","X","X","X","X","X","X","X","X","X","X","X","X","X","X","X","X","X","X","X","X","X","X","X","X","X","X","X","X","X","X","X","X","X","X","X","X","X","X","X","X","X","X","X","X","X","X","X","X","X","X","X","X","X","X","X","X","X","X","X","X","X","X","X","X"]
[296,8,"X","X","X","X","X","X","X","X","X","X","X","X","X","X","X","X","X","X","X","X","X","X","X","X","X","X","X","X","X","X","X","X","X","X","X","X","X","X","X","X","X","X","X","X","X","X","X","X","X","X","X","X","X","X","X","X","X","X","X","X","X","X","X","X","X","X","X","X","X","X","X","X","X","X","X","X","X","X","X","X","X","X","X","X","X","X","X","X","X","X","X","X","X","X","X","X","X","X","X","X","X","X","X","X","X","X","X","X","X","X","X","X","X","X","X","X","X","X","X","X","X","X","X","X","X","X","X","X","X","X","X","X","X"]
[297,9,"X","X","X","X","X","X","X","X","X","X","X","X","X","X","X","X","X","X","X","X","X","X","X","X","X","X","X","X","X","X","X","X","X","X","X","X","X","X","X","X","X","X","X","X","X","X","X","X","X","X","X","X","X","X","X","X","X","X","X","X","X","X","X","X","X","X","X","X","X","X","X","X","X","X","X","X","X","X","X","X","X","X","X","X","X","X","X","X","X","X","X","X","X","X","X","X","X","X","X","X","X","X","X","X","X","X","X","X","X","X","X","X","X","X","X","X","X","X","X","X","X","X","X","X","X","X","X","X","X","X","X","X","X"]
[298,10,"X","X","X","X","X","X","X","X","X","X","X","X","X","X","X","X","X","X","X","X","X","X","X","X","X","X","X","X","X","X","X","X","X","X","X","X","X","X","X","X","X","X","X","X","X","X","X","X","X","X","X","X","X","X","X","X","X","X","X","X","X","X","X","X","X","X","X","X","X","X","X","X","X","X","X","X","X","X","X","X","X","X","X","X","X","X","X","X","X","X","X","X","X","X","X","X","X","X","X","X","X","X","X","X","X","X","X","X","X","X","X","X","X","X","X","X","X","X","X","X","X","X","X","X","X","X","X","X","X","X","X","X","X"]
[299,11,"X","X","X","X","X","X","X","X","X","X","X","X","X","X","X","X","X","X","X","X","X","X","X","X","X","X","X","X","X","X","X","X","X","X","X","X","X","X","X","X","X","X","X","X","X","X","X","X","X","X","X","X","X","X","X","X","X","X","X","X","X","X","X","X","X","X","X","X","X","X","X","X","X","X","X","X","X","X","X","X","X","X","X","X","X","X","X","X","X","X","X","X","X","X","X","X","X","X","X","X","X","X","X","X","X","X","X","X","X","X","X","X","X","X","X","X","X","X","X","X","X","X","X","X","X","X","X","X","X","X","X","X","X"]
[300,12,"X","X","X","X","X","X","X","X","X","X","X","X","X","X","X","X","X","X","X","X","X","X","X","X","X","X","X","X","X","X","X","X","X","X","X","X","X","X","X","X","X","X","X","X","X","X","X","X","X","X","X","X","X","X","X","X","X","X","X","X","X","X","X","X","X","X","X","X","X","X","X","X","X","X","X","X","X","X","X","X","X","X","X","X","X","X","X","X","X","X","X","X","X","X","X","X","X","X","X","X","X","X","X","X","X","X","X","X","X","X","X","X","X","X","X","X","X","X","X","X","X","X","X","X","X","X","X","X","X","X","X","X","X"]
[1082.1660629999999,1082.166062,1082.166062,"herdlife"]
[580.913229,580.913229,580.913229,"eaa_cyr"]
[1.9925280000000001,1.9925280000000001,1.9925280000000001,"eaa_cwt"]
[580.913229,580.913229,580.913229,"cash_cyr"]
[29154.586609000002,29154.586608000001,29154.586607000001,"milkyield_cyr"]
[100,100,100,"milkyield_cwt"]
[5247.8255900000004,5247.825589,5247.825589,"milksales_cyr"]
[18,18,18,"milksales_cwt"]
[2783.3679969999998,2783.3679969999998,2783.3679969999998,"feedcost_cyr"]
[9.5469299999999997,9.5469299999999997,9.5469299999999997,"feedcost_cwt"]
[539.36269100000004,539.36269200000004,539.36269200000004,"heifercost_cyr"]
[1.8500099999999999,1.8500099999999999,1.8500099999999999,"heifercost_cwt"]
[248.54252399999999,248.54252399999999,248.54252399999999,"cowsales_cyr"]
[0.85249900000000001,0.85249900000000001,0.85249900000000001,"cowsales_cwt"]
[212.62593100000001,212.62593100000001,212.62593100000001,"calfsales_cyr"]
[0.72930499999999998,0.72930499999999998,0.72930499999999998,"calfsales_cwt"]
[290.82016800000002,290.82016800000002,290.82016800000002,"livestockcost_cyr"]
[0.99751100000000004,0.99751100000000004,0.99751100000000004,"livestockcost_cwt"]
[13.432834,13.432834,13.432834,"clvinterval"]
[134.174024,134.174024,134.174024,"daystoconc"]
[0.33710200000000001,0.33710200000000001,0.33710200000000001,"cullrateall"]
[0.20804800000000001,0.20804800000000001,0.20804800000000001,"cullratevol"]
[0.129054,0.129054,0.129054,"cullrateinv"]
[401.36624999999998,401.36624999999998,401.36624999999998,"laborcost_cyr"]
[1.3766830000000001,1.3766830000000001,1.3766830000000001,"laborcost_cwt"]
[80.409976999999998,80.409976999999998,80.409976999999998,"vetcost_cyr"]
[0.275806,0.275806,0.275806,"vetcost_cwt"]
[46.773899,46.773899,46.773899,"breedingsupplycost_cyr"]
[0.16043399999999999,0.16043399999999999,0.16043399999999999,"breedingsupplycost_cwt"]
[0,0,0,"loss_cyr"]
[0,0,0,"loss_cwt"]
[364.8,364.8,364.8,"othercost_cyr"]
[1.251261,1.251261,1.251261,"othercost_cwt"]
[0.202768,0.202768,0.202768,"pregnancyrate0"]
[0.16531599999999999,0.202768,0.202768,"pregnancyrate1"]
[109.674606,109.674606,109.674606,"daysopen"]
[182.4,182.4,182.4,"fixedcost_labor_cyr"]
[0.62563100000000005,0.62563100000000005,0.62563100000000005,"fixedcost_labor_cwt"]
[729.6,729.6,729.6,"fixedcost_other_cyr"]
[2.5025219999999999,2.5025219999999999,2.5025219999999999,"fixedcost_other_cwt"]
[0,0,0,"preglaborcost"]
[54.249268000000001,54.249268000000001,54.249268000000001,"pregsupplycost"]
[46.773899,46.773899,46.773899,"breedingcost_cyr"]
[0.16043399999999999,0.16043399999999999,0.16043399999999999,"breedingcost_cwt"]
[193.05626000000001,193.05626000000001,193.05626000000001,"pv_open"]
[23.224719,23.224719,23.224719,"inseminationvalue"]
[150.45953299999999,150.45953299999999,150.45953299999999,"opendays"]
[8.8042999999999996E-2,8.8042999999999996E-2,8.8042999999999996E-2,"abortrisk"]
[513.42681900000002,513.42681900000002,513.42681900000002,"pv_preg"]
[912,912,912,"feedcostdry_cyr"]
[3045.0367259999998,3045.0367259999998,3045.0367259999998,"feedcostlac_cyr"]
[1594.0539590000001,1594.053958,1594.053958,"cowvalue"]
[223.234309,223.234309,223.234309,"dim"]
[82.375184000000004,82.375184000000004,82.375184000000004,"daysfs"]
[737.29244600000004,737.29244600000004,737.29244600000004,"cullprice","y"]
[72.470380000000006,72.470380000000006,72.470380000000006,"replopen_mlk"]
[6.0854100000000004,6.0854100000000004,6.0854100000000004,"replopen_cur"]
[3.1767059999999998,3.1767059999999998,3.1767059999999998,"replopen_rev"]
[4.4852359999999996,4.4852359999999996,4.4852359999999996,"replopen_iof"]
[-21.204044,-21.204044,-21.204044,"replopen_rpo"]
[221.571012,221.571012,221.571012,"replopen_dim"]
[72.359088999999997,72.359088999999997,72.359088999999997,"dvwp"]
[208.436295,208.436295,208.436295,"dlbm"]
[1.124371,1.124371,1.124371,"daysopen_cost"]
[0.33997699999999997,0.33997699999999997,0.33997699999999997,"dayspreg_cost"]